{"text_format":"1","workbook":"xlsx","n_sheets":36,"sheets":["Intro & Unit Options","EULA","Step 1 ASHP Configuration","Step 2 Choose Indoor Unit Type","Step 3 Design Loads","Step 4 Sizing Approach","Step 5 Identify & Select ASHPs","Step 6 Control Strategy","Step 7 Back-up Heating","Checks and Reminders","GHG, Cost, Energy Use","Summary","Climate Zones","Load %s","Design Load Calcs","Ductless Single Per Table","Ducted Performance Tables","Ductless Multi-split","HP1","HP2","HP3","HP4","HP1 Calcs","HP2 Calcs","HP3 Calcs","HP4 Calcs","Load Lines Graph","Fraction of Total Heat Graph","Control Strategy Calcs","Economic Cutoff","CSA Bin Fraction by clim zone","HP1 - Forecast calculations","HP2 - Forecast calculations","HP3 - Forecast calculations","HP4 - Forecast calculations","Dropdown_Menus"],"not_rendered":{"charts":8,"images":39,"macros":1,"external_links":1,"defined_names":64,"comments":14,"pivot_tables":0},"unopened":[],"bounds":{"document_bytes":16777216,"sheet_cells":100000,"rows_first":2000,"rows_last":500,"rows_between":2000,"halvings":0,"cell_chars":16384,"cell_head_chars":4096},"cells_cut":0,"cells_raw":0,"read":"whole","date_system":"1900"}

{"sheet":"Intro & Unit Options","index":0,"n_rows":12,"n_cols":20,"rows_kept":12,"cut":false,"hidden":false,"merged":[[43,0,43,6],[5,0,6,6],[8,0,9,6],[13,0,16,6],[18,0,21,6],[23,0,26,6],[25,7,25,13],[26,7,26,13],[28,0,31,6],[33,0,36,6],[38,0,41,6]]}
[]
[]
[]
[]
[null,null,null,null,null,null,null,null,null,null,null,null,null,null,null,null,null,null,null,"Metric"]
[null,null,null,null,null,null,null,null,null,null,null,null,null,null,null,null,null,null,null,"Imperial"]
[]
[]
[]
[]
[null,"Unit Options"]
[null,"Imperial"]

{"sheet":"EULA","index":1,"n_rows":72,"n_cols":2,"rows_kept":72,"cut":false,"hidden":false,"merged":[[3,0,4,20],[24,1,24,24],[40,1,40,22],[42,1,42,26],[70,1,70,5]]}
["THIS END-USER LICENCE AGREEMENT (EULA) IS A LEGAL AGREEMENT BETWEEN YOU, THE END-USER, IN YOUR CAPACITY AS AN INDIVIDUAL AND/OR AS AN AGENT FOR YOUR COMPANY, INSTITUTION OR OTHER ENTITY"]
["(hereinafter referred to as the \"Licensee\"), AND HER MAJESTY THE QUEEN IN RIGHT OF CANADA AS REPRESENTED BY THE MINISTER OF NATURAL RESOURCES (hereinafter referred to as \"NRCan\")"]
[]
["WHEREAS NRCAN HAS THE RIGHT TO GRANT A LICENSE FOR THE AIR SOURCE HEAT PUMP SIZING AND SELECTION TOOL V2.0, AN EXCEL SOFTWARE TOOL THAT INTERACTIVELY GUIDES USERS IN APPLYING THE STEP-BY-STEP PROCESS DESCRIBED IN NRCAN’S AIR SOURCE HEAT PUMP SIZING AND SELECTION GUIDE, WHILE PROVIDING ADDITIONAL CHARTING AND PERFORMANCE ANALYSIS FEATURES (hereinafter referred to as the “Software”)"]
[]
[]
["BY DOWNLOADING, INSTALLING, USING OR COPYING THE SOFTWARE THE LICENSEE HEREBY AGREES TO ADHERE TO THE TERMS AND CONDITIONS BELOW:"]
[]
["1       GRANT OF LICENSE"]
[]
["1.1     Upon the terms and conditions hereinafter set forth, NRCan hereby grants to you, the Licensee, a non- exclusive license to use the Software."]
[]
["1.2     The Licensee shall not disclose, modify, sell, sublicense, loan, transfer, reverse-engineer the Software, or otherwise assign any rights under this EULA to any third party."]
[]
["1.3     Subject to Article 8.2, the Licensee shall not make more than one (1) backup copy of the Software. The backup copy shall be held confidential and shall be used only for the purpose of backup."]
[]
["2       TERM"]
[]
["2.1    This EULA shall come into force upon the first instance that the Software is used by the Licensee or comes into the possession of the Licensee, and shall remain in force until the Licensee destroys all copies of the Software"]
[]
[3,"OBLIGATIONS OF THE LICENSEE"]
[]
[3.1,"The Licensee shall not make any statement or representation indicating that NRCan or the Government of Canada endorses or approves any recommendation, study, report, product, service or course of action as a result of the Licensee's use of the Software."]
[]
[3.2,"The Licensee’s publications referring to the Software must state the origin of the Software using the following text: \"The Air Source Heat Pump Sizing and Selection Tool is owned by Her Majesty the Queen in Right of Canada as represented by the Minister of Natural Resources © 2022\". The Licensee shall seek prior written approval  for any other statements concerning NRCan beyond the origin of the Software."]
[]
[4,"MAINTENANCE AND SUPPORT"]
[]
[4.0999999999999996,"The parties understand and agree that while the Licensee may report any bugs or technical malfunctions in the Software to NRCan, NRCan is under no obligation to provide technical support, maintenance services, update services, notices of latent defects, or correction of defects for the Software."]
[]
[5,"TITLE"]
[]
[5.0999999999999996,"The Licensee agrees that the Software is and shall at all times remain the property of NRCan. The Licensee shall have no right, title and interest therein or thereto, except as expressly set forth in this EULA.\n"]
[]
[5.2,"The Licensee acknowledges that the Software is protected under the Copyright Act."]
[]
[6,"WARRANTY AND INDEMNITY"]
[]
[6.1,"The Software is licensed on an \"AS IS\" basis. NRCan makes no guarantees, representations, or warranties respecting the Software, either express or implied, arising by law or otherwise, including but not limited to effectiveness, completeness, accuracy, or fitness for a particular purpose."]
[]
[6.2,"NRCan shall not be liable in respect of any claim, demand or action, irrespective of the nature of the cause of the claim, demand or action alleging any loss, injury or damages, direct or indirect, which may result from the Licensee’s use or possession of the Software. NRCan shall not be liable in any way for loss of revenue or contracts, or any other consequential loss of any kind resulting from the Licensee’s use or possession of the Software."]
[]
[6.3,"The Licensee shall indemnify and defend NRCan, its employees, contractors, agents and suppliers, from and against all claims, demands, losses, damages, costs (including legal fees and costs on a substantial indemnity\nbasis), actions, suits or proceedings brought by any third party, that are in any manner based upon, arising out of, or attributable to the use, possession, or performance of the Software by the Licensee, or it’s employees or agents.\n"]
[]
[]
[7,"TERMINATION"]
[]
[7.1,"Subject to Article 8.2, if the Licensee breaches any obligation under this EULA and fails to remedy the breach within thirty (30) calendar days, the present EULA is deemed to be terminated immediately without any notice."]
[]
[7.2,"Notwithstanding any other provisions in this agreement, Articles 3.1 and 3.2 shall survive termination of this EULA."]
[]
[8,"DESTRUCTION"]
[]
[8.1,"Prior to assigning, selling or otherwise disposing of any media, the Licensee shall completely erase or otherwise destroy any Software contained on such media."]
[]
[8.1999999999999993,"Upon termination or expiration of the Agreement, the Licensee agrees to either:"]
[]
["(1)","Return to NRCan immediately all copies of the Software and any related documentation and completely erase or otherwise destroy the backup copy of the Software provided for under Article 1.3 on the Licensee’s media, or"]
[]
["(2)","Completely erase or otherwise destroy all copies of the Software, including but not limited to the backup copy provided for under Article 1.3, as well as any related documentation on the Licensee’s media."]
[]
[9,"APPLICABLE LAW"]
[]
[9.1,"This EULA shall be interpreted in accordance with the provincial or territorial laws in force in Ontario, Canada."]
[]
[10,"NOTICES"]
[]
[10.1,"All notices, inquiries and other communications hereunder shall be in writing and shall be deemed to have been duly given once confirmation is received after sending to NRCan:"]
[" "]
[]
[null,"Natural Resources Canada \nIntellectual Property Division"]
[null,"NRCan.ipd-dpi.rncan@canada.ca"]

{"sheet":"Step 1 ASHP Configuration","index":2,"n_rows":24,"n_cols":20,"rows_kept":24,"cut":false,"hidden":false,"merged":[[0,0,0,17],[2,0,2,3],[2,5,2,13],[7,5,7,13]]}
["DESIGN STEP 1: Define ASHP Configuration",null,null,null,null,null,null,null,null,null,null,null,null,null,null,null,null,null,"DO NOT TOUCH THESE CELLS"]
[null,null,null,null,null,null,null,null,null,null,null,null,null,null,null,null,null,null,null,"Option A: Centrally Ducted ASHP"]
["Design Step 1 Inputs",null,null,null,null,"Reference",null,null,null,null,null,null,null,null,null,null,null,null,null,"Option B: Ductless Mini-split, Single Zone ASHP"]
[null,null,null,null,null,"This tab is used to define the ASHP configuration in the house or area that is considered for installation. \n",null,null,null,null,null,null,null,null,null,null,null,null,null,"Option C: Ductless Mini-split, Multi-Zone ASHP"]
[null,null,null,null,null,"This includes the installation type and the number of units required. \n",null,null,null,null,null,null,null,null,null,null,null,null,null,"Option D: Ducted Mini-split ASHP"]
["ASHP Configuration","Option A: Centrally Ducted ASHP",null,null,null,"This section refers to pages 5 to 7 of the ASHP Sizing Guide."]
[{"$f":"IF(OR(B6=T3,B6=T5),\"# of Units Required\",IF(B6=T4,\"# of Indoor units\",\"\"))","v":""},1]
[{"$f":"IF(B6=T4,\"# of Outdoor Units\",\"\")","v":""},1,null,null,null,"Upon completing Step 1, you will have:",null,null,null,null,null,null,null,null,null,null,null,null,null,"New HVAC System"]
["Installation Type","Full System Replacement",null,null,null,"Selected the type of ASHP most suited for the application",null,null,null,null,null,null,null,null,null,null,null,null,null,"Full System Replacement"]
[null,null,null,null,null,"For ductless ASHP applications, estimated the number of units required.",null,null,null,null,null,null,null,null,null,null,null,null,null,"Add-on ASHP"]
[null,null,null,null,null,"Recorded the type of installation: New home / Full HVAC replacement / Add-on ASHP."]
[null,null,null,null,null,null,null,null,null,null,null,null,null,null,null,null,null,null,null,1]
[null,null,null,null,null,null,null,null,null,null,null,null,null,null,null,null,null,null,null,2]
[null,null,null,null,null,null,null,null,null,null,null,null,null,null,null,null,null,null,null,3]
[null,null,null,null,null,null,null,null,null,null,null,null,null,null,null,null,null,null,null,4]
[null,null,null,null,null,null,null,null,null,null,null,null,null,null,null,null,null,null,null,5]
[]
["LEGEND"]
[]
["Input","In these cells the user should input a value"]
[]
["Drop-down list","In these cells a drop-down list will provide the user with specific values from which to choose"]
[]
["Internal Calculation / Output","These cells provide the values from internal calculations of the tool - they do not need any input from the user"]

{"sheet":"Step 2 Choose Indoor Unit Type","index":3,"n_rows":10,"n_cols":20,"rows_kept":10,"cut":false,"hidden":false,"merged":[[7,5,7,12],[8,5,8,12],[0,0,0,17],[1,0,1,1],[1,3,1,6],[2,0,2,1],[5,5,5,13],[6,5,6,12]]}
["DESIGN STEP 2:  Choose Indoor Unit Type(s) for use with Ductless ASHP",null,null,null,null,null,null,null,null,null,null,null,null,null,null,null,null,null,"DO NOT TOUCH THESE CELLS"]
[null,null,null,null,null,null,null,null,null,null,null,null,null,null,null,null,null,null,null,{"$f":"IF(OR('Step 1 ASHP Configuration'!B6='Step 1 ASHP Configuration'!T2,'Step 1 ASHP Configuration'!B6='Step 1 ASHP Configuration'!T5),\"NO\", \"YES\")","v":"NO"}]
["Design Step 2 Inputs",null,null,null,null,"Reference"]
[null,null,null,null,null,"Pages 8 to 10 of the ASHP Sizing Guide",null,null,null,null,null,null,null,null,null,null,null,null,null,"Option 2A: Wall mounted"]
[{"$f":"IF(OR('Step 1 ASHP Configuration'!B6='Step 1 ASHP Configuration'!T3,'Step 1 ASHP Configuration'!B6='Step 1 ASHP Configuration'!T4),\"\",\"• No indoor units to select for this ASHP configuration\")","v":"• No indoor units to select for this ASHP configuration"},null,null,null,null,null,null,null,null,null,null,null,null,null,null,null,null,null,null,"Option 2B: Floor mounted"]
["Indoor Unit #1","Option 2C: Ceiling mounted",null,null,null,"Upon completing Step 2, you will have:",null,null,null,null,null,null,null,null,null,null,null,null,null,"Option 2C: Ceiling mounted"]
[{"$f":"IF('Step 1 ASHP Configuration'!$B$7<2,\"\",\"Indoor Unit #2\")","v":""},"Option 2A: Wall mounted",null,null,null,"Estimated the number of indoor unites required for the ductless ASHP application",null,null,null,null,null,null,null,null,null,null,null,null,null,"Option 2D: Horizontally ducted (concealed)"]
[{"$f":"IF('Step 1 ASHP Configuration'!$B$7<3,\"\",\"Indoor Unit #3\")","v":""},"Option 2C: Ceiling mounted",null,null,null,"Selected the type of indoor unit(s) most suited for the application."]
[{"$f":"IF('Step 1 ASHP Configuration'!$B$7<4,\"\",\"Indoor Unit #4\")","v":""},"Option 2B: Floor mounted"]
[{"$f":"IF('Step 1 ASHP Configuration'!$B$7<5,\"\",\"Indoor Unit #5\")","v":""},"Option 2C: Ceiling mounted"]

{"sheet":"Step 3 Design Loads","index":4,"n_rows":39,"n_cols":25,"rows_kept":39,"cut":false,"hidden":false,"merged":[[2,24,2,33],[5,24,5,33],[19,0,19,2],[38,4,38,13],[1,0,1,2],[1,4,1,13],[2,0,2,2],[2,4,2,13]]}
["DESIGN STEP 3: Determine Design Heating and Cooling Load Estimates"]
[null,null,null,null,"Design Step 3 Reference"]
["Design Step 3 Inputs",null,null,null,"Climate Inputs",null,null,null,null,null,null,null,null,null,null,null,null,null,"DO NOT TOUCH THESE CELLS",null,null,null,null,null,"Reference"]
["Climate Inputs",null,null,null,null,null,null,null,null,null,null,null,null,null,null,null,null,null,null,null,null,null,null,null,"Pages 11 to 18 in the ASHP Sizing Guide"]
["Country","CAN",null,null,null,null,null,null,null,null,null,null,null,null,null,null,null,null,null,"Option A: CSA F280 Load Analysis"]
["Province","ON",null,null,null,null,null,null,null,null,null,null,null,null,null,null,null,null,null,"Option B: Post-Retrofit Load Estimate",null,null,null,null,"Upon completing Step 3, you will have:"]
["City","Toronto (city hall)","(Wait 5s before selecting)",null,null,null,null,null,null,null,null,null,null,null,null,null,null,null,null,"Option C: HOT2000 Simulation",null,null,null,null,"Estimated the design heating and cooling loads for the overall house or targeted space."]
["Climate Type",{"$f":"VLOOKUP($B$7,'Climate Zones'!$D$2:$F$1686,3,FALSE)","v":"Cold-Humid"},null,null,null,null,null,null,null,null,null,null,null,null,null,null,null,null,null,"Option D: Loads Estimate from Existing Equipment Capacities",null,null,null,null,"For centrally-ducted retrofit applications, estimated the maximum airflow capacity of the existing ductwork in the house."]
["HDD (Metric)",{"$f":"VLOOKUP($B$7,'Climate Zones'!$D$2:$F$1686,2,FALSE)","v":3520},null,null,null,null,null,null,null,null,null,null,null,null,null,null,null,null,null,null,null,null,null,null,"Created a heating load curve for the overall house or targeted space to assist with ASHP equipment selection."]
["Load Inputs"]
["Load Determination Method ","Option A: CSA F280 Load Analysis",null,null,null,null,null,null,null,null,null,null,null,null,null,null,null,null,null,{"$f":"IF(NOT(A17=\"\"),\"Yes\",\"\")","v":""}]
[{"$f":"IF(OR($B$11=$T$5,$B$11=$T$7),\"Heating Design Load\",IF($B$11=$T$6,\"Heating Load if all building envolpe retrofits were implemented\",IF(B11=T8,\"Heating Equipment Rated Heating Output\",\"\")))","v":"Heating Design Load"},50000,{"$f":"IF('Intro & Unit Options'!$B$12=\"Metric\",\"kW\",\"BTU/h\")","v":"BTU/h"},null,null,null,null,null,null,null,null,null,null,null,null,null,null,null,null,{"$f":"IF(NOT(A17=\"\"),\"No\",\"\")","v":""}]
[{"$f":"IF(OR($B$11=$T$5,$B$11=$T$7),\"Heating Design Temperature\",IF(OR($B$11=$T$6,$B$11=$T$8),\"Heating Design Temperature\",\"\"))","v":"Heating Design Temperature"},{"$f":"IF('Intro & Unit Options'!$B$12=\"Imperial\",ROUND(VLOOKUP($B$7,'Climate Zones'!$D$2:$G$1686,4,FALSE)*(9/5)+32,0),VLOOKUP($B$7,'Climate Zones'!$D$2:$G$1686,4,FALSE))","v":0},{"$f":"IF('Intro & Unit Options'!$B$12=\"Metric\",\"C\",\"F\")","v":"F"}]
[{"$f":"IF(OR($B$11=$T$5,$B$11=$T$7),\"Cooling Design Load\",IF($B$11=$T$6,\"Cooling Load if all building envolpe retrofits were implemented\",IF(B11=T8,\"Cooling Equipment Rated Heating Output\",\"\")))","v":"Cooling Design Load"},30000,{"$f":"IF('Intro & Unit Options'!$B$12=\"Metric\",\"kW\",\"BTU/h\")","v":"BTU/h"}]
[{"$f":"IF(OR($B$11=$T$5,$B$11=$T$7),\"Cooling Design Temperature\",IF(OR($B$11=$T$6,$B$11=$T$8),\"Cooling Design Temperature\",\"\"))","v":"Cooling Design Temperature"},{"$f":"IF('Intro & Unit Options'!$B$12=\"Imperial\",ROUND(VLOOKUP($B$7,'Climate Zones'!$D$2:$H$1686,5,FALSE)*(9/5)+32,0),VLOOKUP($B$7,'Climate Zones'!$D$2:$H$1686,5,FALSE))","v":88},{"$f":"IF('Intro & Unit Options'!$B$12=\"Metric\",\"C\",\"F\")","v":"F"}]
[{"$f":"IF(B11=T6,\"% savings possible by performing all recommended non-space heating upgrades\",\"\")","v":""},12,{"$f":"IF(B11=T6,\"%\",\"\")","v":""},null,null,null,null,null,null,null,null,null,null,null,null,null,null,null,null,"Max",{"$f":"'Design Load Calcs'!O12","v":110},{"$f":"IF(NOT('Intro & Unit Options'!B12=\"Metric\"),CEILING('Step 3 Design Loads'!B12,10000),CEILING('Step 3 Design Loads'!B12,10))","v":50000}]
[{"$f":"IF(B11=T8,\"Existing Comfort Issues/Recent Home Upgrades?\",\"\")","v":""},"Yes",null,null,null,null,null,null,null,null,null,null,null,null,null,null,null,null,null,"Min",{"$f":"'Design Load Calcs'!O6","v":-10},0]
[{"$f":"+IF(B11=T8,\"Assumed over-capacity sizing of existing equipment\", \"\")","v":""},140,null,null,null,null,null,null,null,null,null,null,null,null,null,null,null,null,null,"Major Unit",10,{"$f":"IF(NOT('Intro & Unit Options'!B12=\"Metric\"),10000,2)","v":10000}]
[]
["Design Step 3 Outputs",null,null,null,"Unit Conversion",null,null,null,null,null,null,null,null,null,null,null,null,null,null,"Oversizing",0]
[{"$f":"IFERROR(IF(B11=T8,IF(B18=140,\"Heating assuming 140% over-capacity sizing: \"&ROUND('Design Load Calcs'!B23,IF('Intro & Unit Options'!B12=\"Metric\",1,-2))&\" \"&C12&\" at design temperature of \"&B13&C13,IF(B18=125,\"Heating assuming 125% over-capacity sizing: \"&ROUND('Design Load Calcs'!B23,IF('Intro & Unit Options'!B12=\"Metric\",1,-2))&\" \"&C12&\" at design temperature of \"&B13&C13,IF(B18=0,\"Heating assuming no over-capacity sizing: \"&ROUND('Design Load Calcs'!C23,IF('Intro & Unit Options'!B12=\"Metric\",1,-2))&\" \"&C12&\" at design temperature of \"&B13&C13))),\"Heating assuming no over-capacity sizing: \"&ROUND('Design Load Calcs'!B23,IF('Intro & Unit Options'!B12=\"Metric\",1,-2))&\" \"&C12&\" at design temperature of \"&B13&C13 ),\"\")","v":"Heating assuming no over-capacity sizing: 50000 BTU/h at design temperature of 0F"},null,null,null,null,null,null,null,null,null,null,null,null,null,null,null,null,null,null,null,125]
[{"$f":"IFERROR(IF(B11=T8,IF(B18=140,\"Cooling assuming 140% over-capacity sizing: \"&ROUND('Design Load Calcs'!B25,IF('Intro & Unit Options'!B12=\"Metric\",1,-2))&\" \"&C14&\" at design temperature of \"&B15&C15,IF(B18=125,\"Cooling assuming 125% over-capacity sizing: \"&ROUND('Design Load Calcs'!B25,IF('Intro & Unit Options'!B12=\"Metric\",1,-2))&\" \"&C14&\" at design temperature of \"&B15&C15,IF(B18=0,\"Cooling assuming no over-capacity sizing: \"&ROUND('Design Load Calcs'!C25,IF('Intro & Unit Options'!B12=\"Metric\",1,-2))&\" \"&C14&\" at design temperature of \"&B15&C15))),\"Cooling assuming no over-capacity sizing: \"&ROUND('Design Load Calcs'!B25,IF('Intro & Unit Options'!B12=\"Metric\",1,-2))&\" \"&C14&\" at design temperature of \"&B15&C15 ),\"\")","v":"Cooling assuming no over-capacity sizing: 30000 BTU/h at design temperature of 88F"},null,null,null,null,null,null,null,"Unit Conversion",null,null,null,null,null,null,null,null,null,null,null,140]
[null,null,null,null,null,"°F",null,"°C",null,"BTU/h",null,"kW"]
[null,null,null,null,null,0,null,{"$f":"ROUND((F24-32)*(5/9),0)","v":-18},null,1,null,{"$f":"ROUND(J24/3212.142,0)","v":0},null,null,null,null,null,null,null,null,"Max Flow Capacity"]
["Notes:",null,null,null,null,"°C",null,"°F",null,"kW",null,"BTU/h",null,null,null,null,null,null,null,"Rectangular",{"$f":"(W28*V28+W29*V29+W30*V30+W31*V31+W32*V32+W33*V33)*6.25","v":1475},"Rectangular&Round",{"$f":"ROUND(U25+U26,-1)","v":1480}]
[{"$f":"IF(B11=T8,\"• An energy audit and/or new heating/cooling load calculation should be conducted prior to sizing and selection of the heat pumps\",\"\")","v":""},null,null,null,null,0,null,{"$f":"ROUND((F26*9/5)+32,0)","v":32},null,1,null,{"$f":"ROUND(J26*3412.142,0)","v":3412},null,null,null,null,null,null,null,"Round",{"$f":"((U28^2)+(U29^2)+(U30^2)+(U31^2)+(U32^2)+(U33^2))*4.91","v":0}]
[{"$f":"IF(AND($B$11=$T$8,B17=\"Yes\"),\"• Comfort issues may be a result of items other than undersized equipment, such as defects in the thermal boundary, in the mechanical system or both.\",\"\")","v":""},null,null,null,null,null,null,null,null,null,null,null,null,null,null,null,null,null,null,"Rectangular&Round",{"$f":"IF(Q27=AI26, \"Depth [inches]\",IF(Q27=AI27,\"Diameter [inches]\",\"\"))","v":"Depth [inches]"},{"$f":"IF(Q27=AI26, \"Width [inches]\",IF(Q27=AI27,\"\",\"\"))","v":"Width [inches]"},"Depth (in)"]
[null,null,null,null,null,null,null,null,null,null,null,null,null,null,null,null,null,null,null,1,{"$f":"IF(E32=\"\",0,F32)*IF(OR($B$31=$T$26,AND($B$31=$T$27,J32=\"ROUND\")),1,0)","v":0},{"$f":"IF(E32=\"\",0,IF(OR($B$31=$T$25,AND($B$31=$T$27,$J$32=$T$25)),H32,0))","v":22},{"$f":"IF(E32=\"\",0,IF(OR($B$31=$T$25,AND($B$31=$T$27,$J$32=$T$25)),F32,0))","v":8}]
[null,null,null,null,null,null,null,null,null,null,null,null,null,null,null,null,null,null,null,2,0,{"$f":"IF(E33=\"\",0,IF(OR($B$31=$T$25,AND($B$31=$T$27,$J$33=$T$25)),H33,0))","v":10},{"$f":"IF(E33=\"\",0,IF(OR($B$31=$T$25,AND($B$31=$T$27,$J$33=$T$25)),F33,0))","v":6}]
["Additional Inputs: Estimating Maximum Airflow Capacity of Existing Supply Ducts",null,null,null,null,null,null,null,null,null,null,null,null,null,null,null,null,null,null,3,0,{"$f":"IF(E34=\"\",0,IF(OR($B$31=$T$25,AND($B$31=$T$27,$J$34=$T$25)),H34,0))","v":0},{"$f":"IF(E34=\"\",0,IF(OR($B$31=$T$25,AND($B$31=$T$27,$J$34=$T$25)),F34,0))","v":0}]
["Geometry of the Trunk Ducts?","Rectangular",null,null,null,{"$f":"IF(B31=T25, \"Depth [inches]\",IF(B31=T26,\"Diameter [inches]\",IF(B31=T27,\"Diameter/Depth[inches]\",\"\")))","v":"Depth [inches]"},null,{"$f":"IF(OR(B31=T25,B31=T27), \"Width [inches]\",IF(B31=T26,\"\",\"\"))","v":"Width [inches]"},null,"Type",null,null,null,null,null,null,null,null,null,4,0,{"$f":"IF(E35=\"\",0,IF(OR($B$31=$T$25,AND($B$31=$T$27,$J$35=$T$25)),H35,0))","v":0},{"$f":"IF(E35=\"\",0,IF(OR($B$31=$T$25,AND($B$31=$T$27,$J$35=$T$25)),F35,0))","v":0}]
["How Many Trunk Ducts? ",2,null,null,{"$f":"IF(B32>0,\"Trunk 1\",\"\")","v":"Trunk 1"},8,null,22,null,"Rectangular",null,null,null,null,null,null,null,null,null,5,0,{"$f":"IF(E36=\"\",0,IF(OR($B$31=$T$25,AND($B$31=$T$27,$J$36=$T$25)),H36,0))","v":0},{"$f":"IF(E36=\"\",0,IF(OR($B$31=$T$25,AND($B$31=$T$27,$J$36=$T$25)),F36,0))","v":0}]
["Maximum Airflow Capacity According to HRAI RASD",{"$f":"IF(B31=T25,U25,IF(B31=T26,U26,IF(B31=T27,W25,\"\")))","v":1475},"CFM",null,{"$f":"IF(B32>1,\"Trunk 2\",\"\")","v":"Trunk 2"},6,null,10,null,"Round",null,null,null,null,null,null,null,null,null,6,0,{"$f":"IF(E37=\"\",0,IF(OR($B$31=$T$25,AND($B$31=$T$27,$J$37=$T$25)),H37,0))","v":0},{"$f":"IF(E37=\"\",0,IF(OR($B$31=$T$25,AND($B$31=$T$27,$J$37=$T$25)),F37,0))","v":0}]
[null,null,null,null,{"$f":"IF(B32>2,\"Trunk 3\",\"\")","v":""},6,null,10,null,"Round"]
[null,null,null,null,{"$f":"IF(B32>3,\"Trunk 4\",\"\")","v":""},5,null,4,null,"Round"]
[null,null,null,null,{"$f":"IF(B32>4,\"Trunk 5\",\"\")","v":""},5,null,5,null,"Rectangular"]
[null,null,null,null,{"$f":"IF(B32>5,\"Trunk 6\",\"\")","v":""},6,null,6,null,"Rectangular"]
[null,null,null,null,"Additional Comments"]
[null,null,null,null,"Note: Max airflow capacity as stated by the Heating, Refrigeration and Air Conditioning Institute’s Residential Air Systems Design course materials in order to avoid noise and unacceptable friction loss.  The course material recommends a maximum supply trunk rigid duct velocity of 900 FPM.  The course design targets a total system external static pressure of 0.5\""]

{"sheet":"Step 4 Sizing Approach","index":5,"n_rows":28,"n_cols":22,"rows_kept":28,"cut":false,"hidden":false,"merged":[[27,0,27,6],[0,0,0,17],[1,0,1,6],[2,0,2,6],[11,0,11,6],[18,0,18,6],[19,0,20,16]]}
["DESIGN STEP 4: Determine Sizing Approach and Capacity Requirements of ASHP",null,null,null,null,null,null,null,null,null,null,null,null,null,null,null,null,null,"DO NOT TOUCH THESE CELLS"]
[null,null,null,null,null,null,null,null,null,null,null,null,null,null,null,null,null,null,null,"Option A: Emphasis on Cooling"]
["Design Step 4 Inputs",null,null,null,null,null,null,null,"Design Step Reference",null,null,null,null,null,null,null,null,null,null,"Option B: Emphasis on Balanced Heating/Cooling"]
[null,null,null,null,null,null,null,null,null,null,null,null,null,null,null,null,null,null,null,"Option C: Emphasis on Heating"]
[null,null,null,null,null,null,null,null,"Pages 20-24",null,null,null,null,null,null,null,null,null,null,"Option D: ASHP as Sole Heating Source"]
["Sizing Approach","Option C: Emphasis on Heating"]
[null,null,null,null,null,null,null,null,"Upon completing Step 4, you will have:"]
[{"$f":"IF(OR('Step 1 ASHP Configuration'!B9='Step 1 ASHP Configuration'!T9,'Step 1 ASHP Configuration'!B9='Step 1 ASHP Configuration'!T10),\"Full System Replacement?\",\"\")","v":"Full System Replacement?"},{"$f":"IF('Step 1 ASHP Configuration'!B9=\"Full System Replacement\",\"Yes\",\"No\")","v":"Yes"},null,null,null,null,null,null,"Defined a Target Capacity for heating or cooling at specific outdoor conditions for the application under consideration",null,null,null,null,null,null,null,null,null,null,{"$f":"IF($A$8=\"\",\"\",\"Yes\")","v":"Yes"}]
[null,null,null,null,null,null,null,null,"Defined criteria for selecting the most sutiably sized ASHP models from commercially available equipment to match basic client objectives.",null,null,null,null,null,null,null,null,null,null,{"$f":"IF($A$8=\"\",\"\",\"No\")","v":"No"}]
[{"$f":"IF('Step 1 ASHP Configuration'!$B$6='Step 1 ASHP Configuration'!$T$2,\"Calculated Airflow Capacity\",\"\")","v":"Calculated Airflow Capacity"},{"$f":"'Step 3 Design Loads'!B33","v":1475},"CFM","@",0.5,{"$f":"IF('Intro & Unit Options'!$B$12=\"Metric\",\"mmWG\",\"inches Water Gauge\")","v":"inches Water Gauge"}]
[null,null,null,null,null,null,null,null,null,null,null,null,null,null,null,null,null,null,null,{"$f":"IF($A$9=\"\",\"\",\"Yes\")","v":""}]
["Design Step 3 Outputs",null,null,null,null,null,null,null,null,null,null,null,null,null,null,null,null,null,null,{"$f":"IF($A$9=\"\",\"\",\"No\")","v":""}]
[]
[]
[{"$f":"IF('Step 3 Design Loads'!B11='Step 3 Design Loads'!T8,IF(OR(B6=T2,B6=T3),\"Target Cooling Capacity Range\",IF(OR(B6=T4,B6=T5),\"Target Heating Capacity\",\"\")),IF(OR(B6=T2,B6=T3),\"Target Cooling Capacity Range\",IF(OR(B6=T4,B6=T5),\"Target Heating Capacity\",\"\")))","v":"Target Heating Capacity"},{"$f":"IFERROR(ROUND(IF(A15=\"Target Cooling Capacity Range\",'Design Load Calcs'!C20*0.8,IF(A15=\"Target Cooling Capacity Range LOW\",'Design Load Calcs'!C20*0.8,IF(A15=\"Target Heating Capacity\",IF(B6=T4,'Design Load Calcs'!H15,'Design Load Calcs'!B23),IF(A15=\"Target Heating Capacity LOW\",IF(B6=T4,'Design Load Calcs'!H15,'Design Load Calcs'!C13),\"\")))),IF('Intro & Unit Options'!B12=\"Metric\",1,-2)),\"\")","v":35800},{"$f":"IF(OR(A15=\"Target Cooling Capacity Range\",A15=\"Target Cooling Capacity Range LOW\"),\"to\",IF(OR(A15=\"Target Heating Capacity\",A15=\"Target Heating Capacity LOW\"),IF('Intro & Unit Options'!$B$12=\"Metric\",\"kW\",\"BTU/h\"),\"\"))","v":"BTU/h"},{"$f":"IFERROR(ROUND(IF(A15=\"Target Cooling Capacity Range\",'Design Load Calcs'!C20*1.25,IF(A15=\"Target Cooling Capacity Range LOW\",'Design Load Calcs'!C20*1.25,\"\")),IF('Intro & Unit Options'!B12=\"Metric\",1,-2)),\"\")","v":""},{"$f":"IF(D15=\"\",\"\",IF(OR(A15=\"Target Heating Capacity\",A15=\"Target Heating Capacity LOW\"),\"\",IF('Intro & Unit Options'!$B$12=\"Metric\",\"kW\",\"BTU/h\")))","v":""},null,null,null,null,null,null,null,null,null,null,null,null,null,null,null,"X-axis","Y-axis"]
[{"$f":"IF('Step 3 Design Loads'!B11='Step 3 Design Loads'!T8,IF(OR(B6=T2,B6=T3),\"\",IF(OR(B6=T4,B6=T5),\"\",\"\")),\"\")","v":""},{"$f":"IF(A16=\"Target Cooling Capacity Range HIGH\",'Design Load Calcs'!C16*0.8,IF(A16=\"Target Heating Capacity HIGH\",IF(B6=T4,'Design Load Calcs'!J25,'Design Load Calcs'!C14),\"\"))","v":""},{"$f":"IF(A16=\"Target Cooling Capacity Range HIGH\",\"to\",IF(A16=\"Target Heating Capacity HIGH\",IF('Intro & Unit Options'!$B$12=\"Metric\",\"kW\",\"BTU/h\"),\"\"))","v":""},{"$f":"IF(A16=\"Target Cooling Capacity Range HIGH\",'Design Load Calcs'!C16*1.25,\"\")","v":""},{"$f":"IF(OR(A16=\"Target Heating Capacity HIGH\",A16=\"\"),\"\",IF('Intro & Unit Options'!$B$12=\"Metric\",\"kW\",\"BTU/h\"))","v":""},null,null,null,null,null,null,null,null,null,null,null,null,null,null,"Max",{"$f":"'Design Load Calcs'!O12","v":110},{"$f":"IF(NOT('Intro & Unit Options'!B12=\"Metric\"),CEILING('Step 3 Design Loads'!B12,10000),CEILING('Step 3 Design Loads'!B12,10))","v":50000}]
[{"$f":"\"Building Heating at \"&IF('Intro & Unit Options'!B12=\"Metric\",\"-8.3C\",\"17F\")","v":"Building Heating at 17F"},null,null,null,null,null,null,null,null,null,null,null,null,null,null,null,null,null,null,"Min",{"$f":"'Design Load Calcs'!O6","v":-10},0]
["Building Heating Load at Heating Design Temperature",null,null,null,null,null,null,null,null,null,null,null,null,null,null,null,null,null,null,"Major Unit",10,{"$f":"IF(NOT('Intro & Unit Options'!B12=\"Metric\"),10000,2)","v":10000}]
["Additional Notes"]
["• Cooling Capacities at 95 oF (35 oC) outdoor temperature may be used for initial screening purposes as this information is commonly available from manufacturer data. If extended performance data is available, use capacity ratings at an outdoor temperature close to the design temperature for the site."]
[]
[{"$f":"IF(B6=T2,\"• For Two-Stage and Variable Capacity Units, ASHP capacity should be selected at the HIGH stage\",IF(B6=T3,\"• For Two-Stage and Variable Capacity Units, ASHP capacity should be selected at the LOW stage\",IF(AND(NOT('Step 1 ASHP Configuration'!B9=\"New HVAC System\"),B9=\"Yes\",'Design Load Calcs'!B30>('Step 4 Sizing Approach'!B10+200),B10<>\"\",B8=\"No\"),\"Notes: \",\"\")))","v":""}]
[{"$f":"IF(AND(NOT('Step 1 ASHP Configuration'!B9=\"New HVAC System\"),B9=\"Yes\",'Design Load Calcs'!B30>'Design Load Calcs'!B31,B10<>\"\",B8=\"No\"),\"• Existing ductwork may not be adequately sized for HP system. User should confirm suitability of existing ductwork before system installation.\",\"\")","v":""}]
[]
[]
[]
[]
["Graphs"]

{"sheet":"Step 5 Identify & Select ASHPs","index":6,"n_rows":111,"n_cols":35,"rows_kept":111,"cut":false,"hidden":false,"merged":[[98,18,98,21],[99,18,99,21],[100,18,100,21],[87,11,90,11],[91,11,94,11],[98,9,98,13],[100,9,100,13],[99,14,99,17],[98,14,98,17],[103,0,105,0],[107,0,108,0],[106,9,106,13],[107,9,107,13],[108,1,108,4],[108,5,108,8],[108,9,108,13],[104,5,104,8],[105,5,105,8],[103,5,103,8],[102,5,102,8],[108,18,108,21],[102,9,102,13],[103,9,103,13],[104,9,104,13],[105,9,105,13],[101,1,101,4],[102,1,102,4],[103,1,103,4],[104,1,104,4],[105,1,105,4],[107,1,107,4],[106,18,106,21],[103,18,103,21],[104,18,104,21],[105,18,105,21],[101,18,101,21],[101,9,101,13],[107,18,107,21],[102,18,102,21],[105,14,105,17],[39,1,56,1],[98,1,98,4],[58,1,75,1],[77,1,94,1],[99,1,99,4],[100,1,100,4],[99,5,99,8],[108,14,108,17],[102,14,102,17],[106,14,106,17],[107,14,107,17],[107,5,107,8],[100,5,100,8],[101,5,101,8],[99,9,99,13],[100,14,100,17],[101,14,101,17],[53,11,56,11],[49,11,52,11],[59,11,62,11],[63,11,66,11],[103,14,103,17],[104,14,104,17],[78,11,81,11],[0,0,0,16],[1,0,1,16],[2,0,2,6],[2,10,2,34],[4,1,4,7],[9,1,9,3],[10,1,10,2],[20,1,37,1],[20,2,20,5],[20,6,20,9],[11,10,11,34],[15,10,15,34],[16,10,16,34],[30,11,33,11],[34,11,37,11],[21,11,24,11],[25,11,28,11],[29,6,29,9],[5,1,5,2],[5,3,5,4],[5,5,5,6],[6,1,6,2],[7,1,7,2],[29,11,29,14],[20,11,20,14],[48,11,48,14],[39,11,39,14],[98,5,98,8],[86,11,86,14],[77,2,77,5],[77,6,77,9],[58,2,58,5],[39,2,39,5],[39,6,39,9],[48,6,48,9],[40,11,43,11],[44,11,47,11],[86,6,86,9],[58,6,58,9],[67,6,67,9],[67,11,67,14],[58,11,58,14],[77,11,77,14],[82,11,85,11],[72,11,75,11],[68,11,71,11]]}
["DESIGN STEP 5: Identify & Select ASHP Matching Key Requirements"]
["Climate Inputs"]
["Analysis Parameters",null,null,null,null,null,null,null,null,null,"Notes:"]
[]
[null,"Climate Summary (Selected in Step 3)",null,null,null,null,null,null,null,null,"All data entry points must  be completed in order of descending outdoor temperature"]
[null,"Location",null,{"$f":"'Step 3 Design Loads'!B7","v":"Toronto (city hall)"},null,{"$f":"'Step 3 Design Loads'!B6","v":"ON"},null,{"$f":"'Step 3 Design Loads'!B5","v":"CAN"},null,null,"Attention: Be sure to select the HP type before starting to fill the Data Entry Type and the Performance Data sections.  "]
[null,"Climate Zone",null,{"$f":"'Step 3 Design Loads'!B8","v":"Cold-Humid"},null,null,null,null,null,null,"Attention: Reset buttons will zero all inputs in the performance data points section. "]
[null,"HDD (metric)",null,{"$f":"'Step 3 Design Loads'!B9","v":3520},null,null,null,null,null,null,"Use reset only if changing heat pump type, inputting data for different HP model, changing of data entry type or switching between entering Power or COP/EER"]
[]
[null,"Selection: HPs to Examine"]
[null,"# of HP to examine",null,4]
[null,null,null,null,null,null,null,null,null,null,"Reference to Guide"]
[null,"Indoor Conditions for Heat Pump Selection:"]
[null,"Heating:",null,{"$f":"IF('Intro & Unit Options'!B12=\"Metric\",21.1,70)&'Step 3 Design Loads'!C13&\" dry bulb temperature\"","v":"70F dry bulb temperature"},null,null,null,null,null,null,"Pages 25-33"]
[null,"Cooling:",null,{"$f":"IF('Intro & Unit Options'!B12=\"Metric\",24,75)&'Step 3 Design Loads'!C13&\" dry bulb temperature\"","v":"75F dry bulb temperature"}]
[null,null,null,{"$f":"IF('Intro & Unit Options'!B12=\"Metric\",17,63)&'Step 3 Design Loads'!C13&\" wet bulb temperature\"","v":"63F wet bulb temperature"},null,null,null,null,null,null,"Upon completing Step 5, you will have:"]
[null,null,null,null,null,null,null,null,null,null,"Selected a specific model and size of ASHP(s) that ''Best Fits'' the application requirements and client expectations as defined by the options selected in Steps 1 through 4."]
[]
["Heat Pump Inputs"]
[]
[null,"Heat Pump #1","Global Information",null,null,null,"Data Entry Type",null,null,null,null,"High Stage"]
[null,null,null,null,null,null,null,null,null,null,null,"HEAT",{"$f":"\"Temperature\"&IF('Intro & Unit Options'!$B$12=Dropdown_Menus!F1,\" [°C]\",\" [°F]\")","v":"Temperature [°F]"},47,17]
[null,null,null,null,null,null,null,null,null,null,null,null,{"$f":"\"Heating Cap.\"&IF('Intro & Unit Options'!$B$12=Dropdown_Menus!F1,\" [kW]\",\" [BTU/h]\")","v":"Heating Cap. [BTU/h]"}]
[null,null,null,null,null,null,null,null,true,null,null,null,"Heating Power [kW]"]
[null,null,null,null,null,null,null,null,false,null,null,null,"Heating COP [-]",{"$f":"IF($N$24=\"\",\"\",IF('Intro & Unit Options'!B12=\"METRIC\",$N$23/$N$24,$N$23*0.00029307103866/$N$24))","v":""},{"$f":"IF($O$24=\"\",\"\",IF('Intro & Unit Options'!B12=\"METRIC\",$O$23/$O$24,$O$23*0.00029307103866/$O$24))","v":""},null,null,null,null,null,null,null,null,null,null,null,null,null,null,null,null,null,null,{"$f":"IF($AH$24=\"\",\"\",IF('Intro & Unit Options'!B12=\"METRIC\",$AH$23/$AH$24,$AH$23*0.00029307103866/$AH$24))","v":""},{"$f":"IF($AI$24=\"\",\"\",IF('Intro & Unit Options'!B12=\"METRIC\",$AI$23/$AI$24,$AI$23*0.00029307103866/$AI$24))","v":""}]
[null,null,null,"Reference Name",null,null,null,null,false,null,null,"COOL",{"$f":"\"Temperature\"&IF('Intro & Unit Options'!$B$12=Dropdown_Menus!F1,\" [°C]\",\" [°F]\")","v":"Temperature [°F]"},95]
[null,null,null,"Indoor Unit Model Name",null,null,null,null,false,null,null,null,{"$f":"\"Cooling Cap.\"&IF('Intro & Unit Options'!$B$12=Dropdown_Menus!F1,\" [W]\",\" [BTU/h]\")","v":"Cooling Cap. [BTU/h]"}]
[null,null,null,"Outdoor Unit Model Name",null,null,null,null,null,null,null,null,"Cooling Power [kW]"]
[null,null,null,"Noise Rating [dB(A)]",null,null,null,null,null,null,null,null,"Cooling EER [-]",{"$f":"IF($N$28=\"\",\"\",IF('Intro & Unit Options'!B12=\"METRIC\",$N$27/0.00029307103866/(1000*$N$28),$N$27/($N$28*1000)))","v":""},null,null,null,null,null,null,null,null,null,null,null,null,null,null,null,null,null,null,null,{"$f":"IF($AH$28=\"\",\"\",IF('Intro & Unit Options'!B12=\"METRIC\",$AH$27/0.00029307103866/(1000*$AH$28),$AH$27/($AH$28*1000)))","v":""},{"$f":"IF($AI$28=\"\",\"\",IF('Intro & Unit Options'!B12=\"METRIC\",$AI$27/0.00029307103866/(1000*$AI$28),$AI$27/($AI$28*1000)))","v":""}]
[null,null,null,"Rated Airflow [CFM]",null,null,"Performance Data ",null,null,null,null,"Low Stage "]
[null,null,null,"Cut-Off Temperature [°F]",null,null,null,null,null,null,null,"HEAT",{"$f":"\"Temperature\"&IF('Intro & Unit Options'!$B$12=Dropdown_Menus!F1,\" [°C]\",\" [°F]\")","v":"Temperature [°F]"},47,17,null,null,null,null,null,null,null,null,null,null,null,null,null,null,null,null,null,null,{"$f":"IF($AH$22=\"\",\"\",$AH$22)","v":""},{"$f":"IF($AI$22=\"\",\"\",$AI$22)","v":""}]
[null,null,null,"HP Integration",{"$f":"IF('Step 1 ASHP Configuration'!B6='Step 1 ASHP Configuration'!T2,\"Centrally Ducted\",IF('Step 1 ASHP Configuration'!B6='Step 1 ASHP Configuration'!T3,\"Single Split Ductless\",IF('Step 1 ASHP Configuration'!B6='Step 1 ASHP Configuration'!T4,\"Multi-split Ductless\",IF('Step 1 ASHP Configuration'!B6='Step 1 ASHP Configuration'!T5,\"Ducted Mini-split\",\"\"))))","v":"Centrally Ducted"},null,null,null,null,null,null,null,{"$f":"\"Heating Cap.\"&IF('Intro & Unit Options'!$B$12=Dropdown_Menus!F1,\" [kW]\",\" [BTU/h]\")","v":"Heating Cap. [BTU/h]"}]
[null,null,null,"HP Type","Variable",null,null,null,null,null,null,null,"Heating Power [kW]"]
[null,null,null,null,null,null,null,null,null,null,null,null,"Heating COP [-]",{"$f":"IF($N$33=\"\",\"\",IF('Intro & Unit Options'!B12=\"METRIC\",$N$32/$N$33,$N$32*0.00029307103866/$N$33))","v":""},{"$f":"IF($O$33=\"\",\"\",IF('Intro & Unit Options'!B12=\"METRIC\",$O$32/$O$33,$O$32*0.00029307103866/$O$33))","v":""},null,null,null,null,null,null,null,null,null,null,null,null,null,null,null,null,null,null,{"$f":"IF($AH$33=\"\",\"\",IF('Intro & Unit Options'!B12=\"METRIC\",$AH$32/$AH$33,$AH$32*0.00029307103866/$AH$33))","v":""},{"$f":"IF($AI$33=\"\",\"\",IF('Intro & Unit Options'!B12=\"METRIC\",$AI$32/$AI$33,$AI$32*0.00029307103866/$AI$33))","v":""}]
[null,null,null,null,null,null,null,"Heating Power/COP","Power",null,null,"COOL",{"$f":"\"Temperature\"&IF('Intro & Unit Options'!$B$12=Dropdown_Menus!F1,\" [°C]\",\" [°F]\")","v":"Temperature [°F]"},95,null,null,null,null,null,null,null,null,null,null,null,null,null,null,null,null,null,null,null,{"$f":"IF($AH$26=\"\",\"\",$AH$26)","v":""},{"$f":"IF($AI$26=\"\",\"\",$AI$26)","v":""}]
[null,null,null,null,null,null,null,"Cooling Power/EER","Power",null,null,null,{"$f":"\"Cooling Cap.\"&IF('Intro & Unit Options'!$B$12=Dropdown_Menus!F1,\" [kW]\",\" [BTU/h]\")","v":"Cooling Cap. [BTU/h]"}]
[null,null,null,null,null,null,null,null,null,null,null,null,"Cooling Power [kW]"]
[null,null,null,null,null,null,null,null,null,null,null,null,"Cooling EER [-]",{"$f":"IF($N$37=\"\",\"\",IF('Intro & Unit Options'!B12=\"METRIC\",$N$36/0.00029307103866/(1000*$N$37),$N$36/($N$37*1000)))","v":""},null,null,null,null,null,null,null,null,null,null,null,null,null,null,null,null,null,null,null,{"$f":"IF($AH$37=\"\",\"\",IF('Intro & Unit Options'!B12=\"METRIC\",$AH$36/0.00029307103866/(1000*$AH$37),$AH$36/($AH$37*1000)))","v":""},{"$f":"IF($AI$37=\"\",\"\",IF('Intro & Unit Options'!B12=\"METRIC\",$AI$36/0.00029307103866/(1000*$AI$37),$AI$36/($AI$37*1000)))","v":""}]
[]
[null,"Heat Pump #2","Global Information",null,null,null,"Data Entry Type",null,null,null,null,"High Stage"]
[null,null,null,null,null,null,null,null,null,null,null,"HEAT",{"$f":"\"Temperature\"&IF('Intro & Unit Options'!$B$12=Dropdown_Menus!F1,\" [°C]\",\" [°F]\")","v":"Temperature [°F]"},47,17]
[null,null,null,null,null,null,null,null,null,null,null,null,{"$f":"\"Heating Cap.\"&IF('Intro & Unit Options'!$B$12=Dropdown_Menus!F1,\" [kW]\",\" [BTU/h]\")","v":"Heating Cap. [BTU/h]"}]
[null,null,null,null,null,null,null,null,true,null,null,null,"Heating Power [kW]"]
[null,null,null,null,null,null,null,null,false,null,null,null,"Heating COP [-]",{"$f":"IF($N$43=\"\",\"\",IF('Intro & Unit Options'!B12=\"METRIC\",$N$42/$N$43,$N$42*0.00029307103866/$N$43))","v":""},{"$f":"IF($O$43=\"\",\"\",IF('Intro & Unit Options'!B12=\"METRIC\",$O$42/$O$43,$O$42*0.00029307103866/$O$43))","v":""}]
[null,null,null,"Reference Name",null,null,null,null,false,null,null,"COOL",{"$f":"\"Temperature\"&IF('Intro & Unit Options'!$B$12=Dropdown_Menus!F1,\" [°C]\",\" [°F]\")","v":"Temperature [°F]"},95]
[null,null,null,"Indoor Unit Model Name",null,null,null,null,false,null,null,null,{"$f":"\"Cooling Cap.\"&IF('Intro & Unit Options'!$B$12=Dropdown_Menus!F1,\" [kW]\",\" [BTU/h]\")","v":"Cooling Cap. [BTU/h]"}]
[null,null,null,"Outdoor Unit Model Name",null,null,null,null,null,null,null,null,"Cooling Power [kW]"]
[null,null,null,"Noise Rating [dB(A)]",null,null,null,null,null,null,null,null,"Cooling EER [-]",{"$f":"IF($N$47=\"\",\"\",IF('Intro & Unit Options'!B12=\"METRIC\",$N$46/0.00029307103866/(1000*$N$47),$N$46/($N$47*1000)))","v":""}]
[null,null,null,"Rated Airflow [CFM]",null,null,"Performance Data ",null,null,null,null,"Low Stage "]
[null,null,null,"Cut-Off Temperature [°F]",null,null,null,null,null,null,null,"HEAT",{"$f":"\"Temperature\"&IF('Intro & Unit Options'!$B$12=Dropdown_Menus!F1,\" [°C]\",\" [°F]\")","v":"Temperature [°F]"},47,17]
[null,null,null,"HP Integration",{"$f":"IF('Step 1 ASHP Configuration'!B6='Step 1 ASHP Configuration'!T2,\"Centrally Ducted\",IF('Step 1 ASHP Configuration'!B6='Step 1 ASHP Configuration'!T3,\"Single Split Ductless\",IF('Step 1 ASHP Configuration'!B6='Step 1 ASHP Configuration'!T4,\"Multi-split Ductless\",IF('Step 1 ASHP Configuration'!B6='Step 1 ASHP Configuration'!T5,\"Ducted Mini-split\",\"\"))))","v":"Centrally Ducted"},null,null,null,null,null,null,null,{"$f":"\"Heating Cap.\"&IF('Intro & Unit Options'!$B$12=Dropdown_Menus!F1,\" [kW]\",\" [BTU/h]\")","v":"Heating Cap. [BTU/h]"}]
[null,null,null,"HP Type","Variable",null,null,null,null,null,null,null,"Heating Power [kW]"]
[null,null,null,null,null,null,null,null,null,null,null,null,"Heating COP [-]",{"$f":"IF($N$52=\"\",\"\",IF('Intro & Unit Options'!B12=\"METRIC\",$N$51/$N$52,$N$51*0.00029307103866/$N$52))","v":""},{"$f":"IF($O$52=\"\",\"\",IF('Intro & Unit Options'!B12=\"METRIC\",$O$51/$O$52,$O$51*0.00029307103866/$O$52))","v":""}]
[null,null,null,null,null,null,null,"Heating Power/COP","Power",null,null,"COOL",{"$f":"\"Temperature\"&IF('Intro & Unit Options'!$B$12=Dropdown_Menus!F1,\" [°C]\",\" [°F]\")","v":"Temperature [°F]"},95]
[null,null,null,null,null,null,null,"Cooling Power/EER","Power",null,null,null,{"$f":"\"Cooling Cap.\"&IF('Intro & Unit Options'!$B$12=Dropdown_Menus!F1,\" [kW]\",\" [BTU/h]\")","v":"Cooling Cap. [BTU/h]"}]
[null,null,null,null,null,null,null,null,null,null,null,null,"Cooling Power [kW]"]
[null,null,null,null,null,null,null,null,null,null,null,null,"Cooling EER [-]",{"$f":"IF($N$56=\"\",\"\",IF('Intro & Unit Options'!B12=\"METRIC\",$N$55/0.00029307103866/(1000*$N$56),$N$55/($N$56*1000)))","v":""}]
[]
[null,"Heat Pump #3","Global Information",null,null,null,"Data Entry Type",null,null,null,null,"High Stage"]
[null,null,null,null,null,null,null,null,null,null,null,"HEAT",{"$f":"\"Temperature\"&IF('Intro & Unit Options'!$B$12=Dropdown_Menus!F1,\" [°C]\",\" [°F]\")","v":"Temperature [°F]"},47,17]
[null,null,null,null,null,null,null,null,null,null,null,null,{"$f":"\"Heating Cap.\"&IF('Intro & Unit Options'!$B$12=Dropdown_Menus!F1,\" [kW]\",\" [BTU/h]\")","v":"Heating Cap. [BTU/h]"}]
[null,null,null,null,null,null,null,null,true,null,null,null,"Heating Power [kW]"]
[null,null,null,null,null,null,null,null,false,null,null,null,"Heating COP [-]",{"$f":"IF($N$62=\"\",\"\",IF('Intro & Unit Options'!B12=\"METRIC\",$N$61/$N$62,$N$61*0.00029307103866/$N$62))","v":""},{"$f":"IF($O$62=\"\",\"\",IF('Intro & Unit Options'!B12=\"METRIC\",$O$61/$O$62,$O$61*0.00029307103866/$O$62))","v":""}]
[null,null,null,"Reference Name",null,null,null,null,false,null,null,"COOL",{"$f":"\"Temperature\"&IF('Intro & Unit Options'!$B$12=Dropdown_Menus!F1,\" [°C]\",\" [°F]\")","v":"Temperature [°F]"},95]
[null,null,null,"Indoor Unit Model Name",null,null,null,null,false,null,null,null,{"$f":"\"Cooling Cap.\"&IF('Intro & Unit Options'!$B$12=Dropdown_Menus!F1,\" [kW]\",\" [BTU/h]\")","v":"Cooling Cap. [BTU/h]"}]
[null,null,null,"Outdoor Unit Model Name",null,null,null,null,null,null,null,null,"Cooling Power [kW]"]
[null,null,null,"Noise Rating [dB(A)]",null,null,null,null,null,null,null,null,"Cooling EER [-]",{"$f":"IF($N$66=\"\",\"\",IF('Intro & Unit Options'!B12=\"METRIC\",$N$65/0.00029307103866/(1000*$N$66),$N$65/($N$66*1000)))","v":""}]
[null,null,null,"Rated Airflow [CFM]",null,null,"Performance Data ",null,null,null,null,"Low Stage "]
[null,null,null,"Cut-Off Temperature [°F]",null,null,null,null,null,null,null,"HEAT",{"$f":"\"Temperature\"&IF('Intro & Unit Options'!$B$12=Dropdown_Menus!F1,\" [°C]\",\" [°F]\")","v":"Temperature [°F]"},47,17]
[null,null,null,"HP Integration",{"$f":"IF('Step 1 ASHP Configuration'!B6='Step 1 ASHP Configuration'!T2,\"Centrally Ducted\",IF('Step 1 ASHP Configuration'!B6='Step 1 ASHP Configuration'!T3,\"Single Split Ductless\",IF('Step 1 ASHP Configuration'!B6='Step 1 ASHP Configuration'!T4,\"Multi-split Ductless\",IF('Step 1 ASHP Configuration'!B6='Step 1 ASHP Configuration'!T5,\"Ducted Mini-split\",\"\"))))","v":"Centrally Ducted"},null,null,null,null,null,null,null,{"$f":"\"Heating Cap.\"&IF('Intro & Unit Options'!$B$12=Dropdown_Menus!F1,\" [kW]\",\" [BTU/h]\")","v":"Heating Cap. [BTU/h]"}]
[null,null,null,"HP Type","Two-Stage",null,null,null,null,null,null,null,"Heating Power [kW]"]
[null,null,null,null,null,null,null,null,null,null,null,null,"Heating COP [-]",{"$f":"IF($N$71=\"\",\"\",IF('Intro & Unit Options'!B12=\"METRIC\",$N$70/$N$71,$N$70*0.00029307103866/$N$71))","v":""},{"$f":"IF($O$71=\"\",\"\",IF('Intro & Unit Options'!B12=\"METRIC\",$O$70/$O$71,$O$70*0.00029307103866/$O$71))","v":""}]
[null,null,null,null,null,null,null,"Heating Power/COP","Power",null,null,"COOL",{"$f":"\"Temperature\"&IF('Intro & Unit Options'!$B$12=Dropdown_Menus!F1,\" [°C]\",\" [°F]\")","v":"Temperature [°F]"},95]
[null,null,null,null,null,null,null,"Cooling Power/EER","Power",null,null,null,{"$f":"\"Cooling Cap.\"&IF('Intro & Unit Options'!$B$12=Dropdown_Menus!F1,\" [kW]\",\" [BTU/h]\")","v":"Cooling Cap. [BTU/h]"}]
[null,null,null,null,null,null,null,null,null,null,null,null,"Cooling Power [kW]"]
[null,null,null,null,null,null,null,null,null,null,null,null,"Cooling EER [-]",{"$f":"IF($N$75=\"\",\"\",IF('Intro & Unit Options'!B12=\"METRIC\",$N$74/0.00029307103866/(1000*$N$75),$N$74/($N$75*1000)))","v":""}]
[]
[null,"Heat Pump #4","Global Information",null,null,null,"Data Entry Type",null,null,null,null,"High Stage"]
[null,null,null,null,null,null,null,null,null,null,null,"HEAT",{"$f":"\"Temperature\"&IF('Intro & Unit Options'!$B$12=Dropdown_Menus!$F$1,\" [°C]\",\" [°F]\")","v":"Temperature [°F]"},47,17]
[null,null,null,null,null,null,null,null,null,null,null,null,{"$f":"\"Heating Cap.\"&IF('Intro & Unit Options'!$B$12=Dropdown_Menus!$F$1,\" [kW]\",\" [BTU/h]\")","v":"Heating Cap. [BTU/h]"}]
[null,null,null,null,null,null,null,null,true,null,null,null,"Heating Power [kW]"]
[null,null,null,null,null,null,null,null,false,null,null,null,"Heating COP [-]",{"$f":"IF($N$81=\"\",\"\",IF('Intro & Unit Options'!B12=\"METRIC\",$N$80/$N$81,$N$80*0.00029307103866/$N$81))","v":""},{"$f":"IF($O$81=\"\",\"\",IF('Intro & Unit Options'!B12=\"METRIC\",$O$80/$O$81,$O$80*0.00029307103866/$O$81))","v":""}]
[null,null,null,"Reference Name",null,null,null,null,false,null,null,"COOL",{"$f":"\"Temperature\"&IF('Intro & Unit Options'!$B$12=Dropdown_Menus!$F$1,\" [°C]\",\" [°F]\")","v":"Temperature [°F]"},95]
[null,null,null,"Indoor Unit Model Name",null,null,null,null,false,null,null,null,{"$f":"\"Cooling Cap.\"&IF('Intro & Unit Options'!$B$12=Dropdown_Menus!$F$1,\" [kW]\",\" [BTU/h]\")","v":"Cooling Cap. [BTU/h]"}]
[null,null,null,"Outdoor Unit Model Name",null,null,null,null,null,null,null,null,"Cooling Power [kW]"]
[null,null,null,"Noise Rating [dB(A)]",null,null,null,null,null,null,null,null,"Cooling EER [-]",{"$f":"IF($N$85=\"\",\"\",IF('Intro & Unit Options'!B12=\"METRIC\",$N$84/0.00029307103866/(1000*$N$85),$N$84/($N$85*1000)))","v":""}]
[null,null,null,"Rated Airflow [CFM]",null,null,"Performance Data ",null,null,null,null,"Low Stage "]
[null,null,null,"Cut-Off Temperature [°F]",null,null,null,null,null,null,null,"HEAT",{"$f":"\"Temperature\"&IF('Intro & Unit Options'!$B$12=Dropdown_Menus!$F$1,\" [°C]\",\" [°F]\")","v":"Temperature [°F]"},47,17]
[null,null,null,"HP Integration",{"$f":"IF('Step 1 ASHP Configuration'!B6='Step 1 ASHP Configuration'!T2,\"Centrally Ducted\",IF('Step 1 ASHP Configuration'!B6='Step 1 ASHP Configuration'!T3,\"Single Split Ductless\",IF('Step 1 ASHP Configuration'!B6='Step 1 ASHP Configuration'!T4,\"Multi-split Ductless\",IF('Step 1 ASHP Configuration'!B6='Step 1 ASHP Configuration'!T5,\"Ducted Mini-split\",\"\"))))","v":"Centrally Ducted"},null,null,null,null,null,null,null,{"$f":"\"Heating Cap.\"&IF('Intro & Unit Options'!$B$12=Dropdown_Menus!$F$1,\" [kW]\",\" [BTU/h]\")","v":"Heating Cap. [BTU/h]"}]
[null,null,null,"HP Type","Variable",null,null,null,null,null,null,null,"Heating Power [kW]"]
[null,null,null,null,null,null,null,null,null,null,null,null,"Heating COP [-]",{"$f":"IF($N$90=\"\",\"\",IF('Intro & Unit Options'!B12=\"METRIC\",$N$89/$N$90,$N$89*0.00029307103866/$N$90))","v":""},{"$f":"IF($O$90=\"\",\"\",IF('Intro & Unit Options'!B12=\"METRIC\",$O$89/$O$90,$O$89*0.00029307103866/$O$90))","v":""}]
[null,null,null,null,null,null,null,"Heating Power/COP","Power",null,null,"COOL",{"$f":"\"Temperature\"&IF('Intro & Unit Options'!$B$12=Dropdown_Menus!$F$1,\" [°C]\",\" [°F]\")","v":"Temperature [°F]"},95]
[null,null,null,null,null,null,null,"Cooling Power/EER","Power",null,null,null,{"$f":"\"Cooling Cap.\"&IF('Intro & Unit Options'!$B$12=Dropdown_Menus!$F$1,\" [kW]\",\" [BTU/h]\")","v":"Cooling Cap. [BTU/h]"}]
[null,null,null,null,null,null,null,null,null,null,null,null,"Cooling Power [kW]"]
[null,null,null,null,null,null,null,null,null,null,null,null,"Cooling EER [-]",{"$f":"IF($N$94=\"\",\"\",IF('Intro & Unit Options'!B12=\"METRIC\",$N$93/0.00029307103866/(1000*$N$94),$N$93/($N$94*1000)))","v":""}]
[]
["Outputs"]
[]
[null,null,null,null,null,"Heat Pump #1",null,null,null,"Heat Pump #2",null,null,null,null,"Heat Pump #3",null,null,null,"Heat Pump #4"]
[null,"Design Loads\n(Step 3)",null,null,null,{"$f":"IF('Step 3 Design Loads'!B11='Step 3 Design Loads'!T8, \"Heating: \"&ROUND('Design Load Calcs'!B23,IF('Intro & Unit Options'!B12=\"Metric\",1,-2))&\" \"&'Step 3 Design Loads'!C12&\" at \"&'Step 3 Design Loads'!B13&'Step 3 Design Loads'!C13&\"\nCooling: \"&ROUND('Design Load Calcs'!B25,IF('Intro & Unit Options'!B12=\"Metric\",1,-2))&\" \"&'Step 3 Design Loads'!C14&\" at \"&'Step 3 Design Loads'!B15&'Step 3 Design Loads'!C15, \"Heating: \"&ROUND('Design Load Calcs'!B23,IF('Intro & Unit Options'!B12=\"Metric\",1,-2))&\" \"&'Step 3 Design Loads'!C12&\" at \"&'Step 3 Design Loads'!B13&'Step 3 Design Loads'!C13&\"\nCooling: \"&ROUND('Design Load Calcs'!B25,IF('Intro & Unit Options'!B12=\"Metric\",1,-2))&\" \"&'Step 3 Design Loads'!C14&\" at \"&'Step 3 Design Loads'!B15&'Step 3 Design Loads'!C15)","v":"Heating: 50000 BTU/h at 0F\nCooling: 30000 BTU/h at 88F"},null,null,null,{"$f":"IF('Step 3 Design Loads'!B11='Step 3 Design Loads'!T8, \"Heating: \"&ROUND('Design Load Calcs'!B23,IF('Intro & Unit Options'!B12=\"Metric\",1,-2))&\" \"&'Step 3 Design Loads'!C12&\" at \"&'Step 3 Design Loads'!B13&'Step 3 Design Loads'!C13&\"\nCooling: \"&ROUND('Design Load Calcs'!B25,IF('Intro & Unit Options'!B12=\"Metric\",1,-2))&\" \"&'Step 3 Design Loads'!C14&\" at \"&'Step 3 Design Loads'!B15&'Step 3 Design Loads'!C15, \"Heating: \"&ROUND('Design Load Calcs'!B23,IF('Intro & Unit Options'!B12=\"Metric\",1,-2))&\" \"&'Step 3 Design Loads'!C12&\" at \"&'Step 3 Design Loads'!B13&'Step 3 Design Loads'!C13&\"\nCooling: \"&ROUND('Design Load Calcs'!B25,IF('Intro & Unit Options'!B12=\"Metric\",1,-2))&\" \"&'Step 3 Design Loads'!C14&\" at \"&'Step 3 Design Loads'!B15&'Step 3 Design Loads'!C15)","v":"Heating: 50000 BTU/h at 0F\nCooling: 30000 BTU/h at 88F"},null,null,null,null,{"$f":"IF('Step 3 Design Loads'!B11='Step 3 Design Loads'!T8, \"Heating: \"&ROUND('Design Load Calcs'!B23,IF('Intro & Unit Options'!B12=\"Metric\",1,-2))&\" \"&'Step 3 Design Loads'!C12&\" at \"&'Step 3 Design Loads'!B13&'Step 3 Design Loads'!C13&\"\nCooling: \"&ROUND('Design Load Calcs'!B25,IF('Intro & Unit Options'!B12=\"Metric\",1,-2))&\" \"&'Step 3 Design Loads'!C14&\" at \"&'Step 3 Design Loads'!B15&'Step 3 Design Loads'!C15, \"Heating: \"&ROUND('Design Load Calcs'!B23,IF('Intro & Unit Options'!B12=\"Metric\",1,-2))&\" \"&'Step 3 Design Loads'!C12&\" at \"&'Step 3 Design Loads'!B13&'Step 3 Design Loads'!C13&\"\nCooling: \"&ROUND('Design Load Calcs'!B25,IF('Intro & Unit Options'!B12=\"Metric\",1,-2))&\" \"&'Step 3 Design Loads'!C14&\" at \"&'Step 3 Design Loads'!B15&'Step 3 Design Loads'!C15)","v":"Heating: 50000 BTU/h at 0F\nCooling: 30000 BTU/h at 88F"},null,null,null,{"$f":"IF('Step 3 Design Loads'!B11='Step 3 Design Loads'!T8, \"Heating: \"&ROUND('Design Load Calcs'!B23,IF('Intro & Unit Options'!B12=\"Metric\",1,-2))&\" \"&'Step 3 Design Loads'!C12&\" at \"&'Step 3 Design Loads'!B13&'Step 3 Design Loads'!C13&\"\nCooling: \"&ROUND('Design Load Calcs'!B25,IF('Intro & Unit Options'!B12=\"Metric\",1,-2))&\" \"&'Step 3 Design Loads'!C14&\" at \"&'Step 3 Design Loads'!B15&'Step 3 Design Loads'!C15, \"Heating: \"&ROUND('Design Load Calcs'!B23,IF('Intro & Unit Options'!B12=\"Metric\",1,-2))&\" \"&'Step 3 Design Loads'!C12&\" at \"&'Step 3 Design Loads'!B13&'Step 3 Design Loads'!C13&\"\nCooling: \"&ROUND('Design Load Calcs'!B25,IF('Intro & Unit Options'!B12=\"Metric\",1,-2))&\" \"&'Step 3 Design Loads'!C14&\" at \"&'Step 3 Design Loads'!B15&'Step 3 Design Loads'!C15)","v":"Heating: 50000 BTU/h at 0F\nCooling: 30000 BTU/h at 88F"}]
[null,"Sizing Option\n(Step 4)",null,null,null,{"$f":"'Step 4 Sizing Approach'!B6","v":"Option C: Emphasis on Heating"},null,null,null,{"$f":"'Step 4 Sizing Approach'!B6","v":"Option C: Emphasis on Heating"},null,null,null,null,{"$f":"'Step 4 Sizing Approach'!B6","v":"Option C: Emphasis on Heating"},null,null,null,{"$f":"'Step 4 Sizing Approach'!B6","v":"Option C: Emphasis on Heating"}]
[null,"Selected HP Staging; Heat Capacity; Cool Capacity\n(Step 5)",null,null,null,{"$f":"IFERROR(E33&\";  \n\"&ROUND(IF(I27,'HP1 Calcs'!N20,'HP1'!J12),-2)&\" \"&Dropdown_Menus!F2&\";  \"&ROUND(IF(I27,'HP1 - Forecast calculations'!F30,'HP1'!J52),-2)&\" \"&Dropdown_Menus!F2,\"\")","v":"Variable;  \n0 BTU/h;  0 BTU/h"},null,null,null,{"$f":"IFERROR(E52&\";  \n\"&ROUND(IF(I46,'HP2 Calcs'!N20,'HP2'!J12),-2)&\" \"&Dropdown_Menus!F2&\";  \"&ROUND(IF(I46,'HP2 Calcs'!N55,'HP2'!J52),-2)&\" \"&Dropdown_Menus!F2,\"\")","v":"Variable;  \n0 BTU/h;  0 BTU/h"},null,null,null,null,{"$f":"IFERROR(E71&\";  \n\"&ROUND(IF(I65,'HP3 Calcs'!N20,'HP3'!J12),-2)&\" \"&Dropdown_Menus!F2&\";  \"&ROUND(IF(I65,'HP3 Calcs'!N55,'HP3'!J52),-2)&\" \"&Dropdown_Menus!F2,\"\")","v":"Two-Stage;  \n0 BTU/h;  0 BTU/h"},null,null,null,{"$f":"IFERROR(E90&\";  \n\"&ROUND(IF(I84,'HP4 Calcs'!N20,'HP4'!J12),-2)&\" \"&Dropdown_Menus!F2&\";  \"&ROUND(IF(I84,'HP4 Calcs'!N55,'HP4'!J52),-2)&\" \"&Dropdown_Menus!F2,\"\")","v":"Variable;  \n0 BTU/h;  0 BTU/h"}]
[null,"Heat Pump Cut-Off Temperature",null,null,null,{"$f":"IF(E31=\"\",\"\",E31&\" \"&Dropdown_Menus!F3)","v":""},null,null,null,{"$f":"IF(E50=\"\",\"\",E50&\" \"&Dropdown_Menus!F3)","v":""},null,null,null,null,{"$f":"IF(E69=\"\",\"\",E69&\" \"&Dropdown_Menus!F3)","v":""},null,null,null,{"$f":"IF(E88=\"\",\"\",E88&\" \"&Dropdown_Menus!F3)","v":""}]
["High Stage","Cooling Output at Tdesign,Cool\n(% of Design)",null,null,null,{"$f":"IF(SUMPRODUCT(--(N27:AH27<>\"\"))=0,\"\",ROUND(IF(I27,'HP1 Calcs'!N53,'HP1'!J50),-2)&\" \"&Dropdown_Menus!F2&\"\n (\"&ROUND(IF(I27,'HP1 Calcs'!N54,'HP1'!J51),2)*100&\"%)\")","v":""},null,null,null,{"$f":"IF(SUMPRODUCT(--(N46:AH46<>\"\"))=0,\"\",ROUND(IF(I46,'HP2 Calcs'!N53,'HP2'!J50),-2)&\" \"&Dropdown_Menus!F2&\"\n (\"&ROUND(IF(I46,'HP2 Calcs'!N54,'HP2'!J51),2)*100&\"%)\")","v":""},null,null,null,null,{"$f":"IF(SUMPRODUCT(--(N65:AH65<>\"\"))=0,\"\",ROUND(IF(I65,'HP3 Calcs'!N53,'HP3'!J50),-2)&\" \"&Dropdown_Menus!F2&\"\n (\"&ROUND(IF(I65,'HP3 Calcs'!N54,'HP3'!J51),2)*100&\"%)\")","v":""},null,null,null,{"$f":"IF(SUMPRODUCT(--(N84:AH84<>\"\"))=0,\"\",ROUND(IF(I84,'HP4 Calcs'!N53,'HP4'!J50),-2)&\" \"&Dropdown_Menus!F2&\"\n (\"&ROUND(IF(I84,'HP4 Calcs'!N54,'HP4'!J51),2)*100&\"%)\")","v":""}]
[null,"Thermal Balance Point Temperature (t-BPT)",null,null,null,{"$f":"IF(SUMPRODUCT(--(N23:AH23<>\"\"))=0,\"\",IFERROR(ROUND(IF(I27,'HP1 Calcs'!N15,'HP1'!J9),0)&Dropdown_Menus!F3,\"None\"))","v":""},null,null,null,{"$f":"IF(SUMPRODUCT(--(N42:AH42<>\"\"))=0,\"\",IFERROR(ROUND(IF(I46,'HP2 Calcs'!N15,'HP2'!J9),0)&Dropdown_Menus!F3,\"None\"))","v":""},null,null,null,null,{"$f":"IF(SUMPRODUCT(--(N61:AH61<>\"\"))=0,\"\",IFERROR(ROUND(IF(I65,'HP3 Calcs'!N15,'HP3'!J9),0)&Dropdown_Menus!F3,\"None\"))","v":""},null,null,null,{"$f":"IF(SUMPRODUCT(--(N80:AH80<>\"\"))=0,\"\",IFERROR(ROUND(IF(I84,'HP4 Calcs'!N15,'HP4'!J9),0)&Dropdown_Menus!F3,\"None\"))","v":""}]
[null,"Fraction of Heating above t-BPT",null,null,null,{"$f":"IF(SUMPRODUCT(--(N23:AH23<>\"\"))=0,\"\",IFERROR(ROUND(IF(I27,'HP1 Calcs'!N17,'HP1'!J10),2)*100&\"%\",\"N/A\"))","v":""},null,null,null,{"$f":"IF(SUMPRODUCT(--(N42:AH42<>\"\"))=0,\"\",IFERROR(ROUND(IF(I46,'HP2 Calcs'!N17,'HP2'!J10),2)*100&\"%\",\"N/A\"))","v":""},null,null,null,null,{"$f":"IF(SUMPRODUCT(--(N61:AH61<>\"\"))=0,\"\",IFERROR(ROUND(IF(I65,'HP3 Calcs'!N17,'HP3'!J10),2)*100&\"%\",\"N/A\"))","v":""},null,null,null,{"$f":"IF(SUMPRODUCT(--(N80:AH80<>\"\"))=0,\"\",IFERROR(ROUND(IF(I84,'HP4 Calcs'!N17,'HP4'!J10),2)*100&\"%\",\"N/A\"))","v":""}]
[]
["Low Stage","Cooling Output at Tdesign,Cool\n(% of Design)",null,null,null,{"$f":"IF(E33=\"Single Speed\",\"N/A\",IF(I27,IF(SUMPRODUCT(--(N27:AH27<>\"\"))=0,\"\",ROUND('HP1 Calcs'!AC53,-2)&\" \"&Dropdown_Menus!F5&\"\n(\"&ROUND('HP1 Calcs'!AC54,2)*100&\"%)\"),IF(SUMPRODUCT(--(N36:AH36<>\"\"))=0,\"\",ROUND('HP1'!U50,-2)&\" \"&Dropdown_Menus!F5&\"\n(\"&ROUND('HP1'!U51,2)*100&\"%)\")))","v":""},null,null,null,{"$f":"IF(E52=\"Single Speed\",\"N/A\",IF(I46,IF(SUMPRODUCT(--(N46:AH46<>\"\"))=0,\"\",ROUND('HP2 Calcs'!AC53,-2)&\" \"&Dropdown_Menus!F5&\"\n(\"&ROUND('HP2 Calcs'!AC54,2)*100&\"%)\"),IF(SUMPRODUCT(--(N55:AH55<>\"\"))=0,\"\",ROUND('HP2'!U50,-2)&\" \"&Dropdown_Menus!F5&\"\n(\"&ROUND('HP2'!U51,2)*100&\"%)\")))","v":""},null,null,null,null,{"$f":"IF(E71=\"Single Speed\",\"N/A\",IF(I65,IF(SUMPRODUCT(--(N65:AH65<>\"\"))=0,\"\",ROUND('HP3 Calcs'!AC53,-2)&\" \"&Dropdown_Menus!F5&\"\n(\"&ROUND('HP3 Calcs'!AC54,2)*100&\"%)\"),IF(SUMPRODUCT(--(N74:AH74<>\"\"))=0,\"\",ROUND('HP3'!U50,-2)&\" \"&Dropdown_Menus!F5&\"\n(\"&ROUND('HP3'!U51,2)*100&\"%)\")))","v":""},null,null,null,{"$f":"IF(E90=\"Single Speed\",\"N/A\",IF(I84,IF(SUMPRODUCT(--(N84:AH84<>\"\"))=0,\"\",ROUND('HP4 Calcs'!AC53,-2)&\" \"&Dropdown_Menus!F5&\"\n(\"&ROUND('HP4 Calcs'!AC54,2)*100&\"%)\"),IF(SUMPRODUCT(--(N93:AH93<>\"\"))=0,\"\",ROUND('HP4'!U50,-2)&\" \"&Dropdown_Menus!F5&\"\n(\"&ROUND('HP4'!U51,2)*100&\"%)\")))","v":""}]
[null,"Thermal Balance Point Temperature (t-BPT)",null,null,null,{"$f":"IFERROR(IF(E33=\"Single Speed\",\"N/A\",IF(I27,IF(SUMPRODUCT(--(N23:AH23<>\"\"))=0,\"\",ROUND('HP1 Calcs'!AC15,0)&Dropdown_Menus!F3),IF(SUMPRODUCT(--(N32:AH32<>\"\"))=0,\"\",ROUND('HP1'!U9,0)&Dropdown_Menus!F3))),\"N/A\")","v":""},null,null,null,{"$f":"IFERROR(IF(E52=\"Single Speed\",\"N/A\",IF(I46,IF(SUMPRODUCT(--(N42:AH42<>\"\"))=0,\"\",ROUND('HP2 Calcs'!AC15,0)&Dropdown_Menus!F3),IF(SUMPRODUCT(--(N51:AH51<>\"\"))=0,\"\",ROUND('HP2'!U9,0)&Dropdown_Menus!F3))),\"N/A\")","v":""},null,null,null,null,{"$f":"IFERROR(IF(E71=\"Single Speed\",\"N/A\",IF(I65,IF(SUMPRODUCT(--(N61:AH61<>\"\"))=0,\"\",ROUND('HP3 Calcs'!AC15,0)&Dropdown_Menus!F3),IF(SUMPRODUCT(--(N70:AH70<>\"\"))=0,\"\",ROUND('HP3'!U9,0)&Dropdown_Menus!F3))),\"N/A\")","v":""},null,null,null,{"$f":"IFERROR(IF(E90=\"Single Speed\",\"N/A\",IF(I84,IF(SUMPRODUCT(--(N80:AH80<>\"\"))=0,\"\",ROUND('HP4 Calcs'!AC15,0)&Dropdown_Menus!F3),IF(SUMPRODUCT(--(N89:AH89<>\"\"))=0,\"\",ROUND('HP4'!U9,0)&Dropdown_Menus!F3))),\"N/A\")","v":""}]
[]
["Graphs"]

{"sheet":"Step 6 Control Strategy","index":7,"n_rows":53,"n_cols":8,"rows_kept":53,"cut":false,"hidden":false,"merged":[[0,0,0,6],[2,0,2,5],[2,7,2,14],[5,0,5,1],[5,7,5,14],[12,0,12,1],[12,2,12,3],[12,4,12,5],[52,0,52,1],[52,2,52,3],[30,0,30,1],[30,2,30,3],[30,4,30,5],[31,0,33,3],[39,0,39,1],[39,2,39,3],[39,4,39,5]]}
["DESIGN STEP 6: Define the ASHP Control Strategy"]
[]
["Heat Pump Inputs",null,null,null,null,null,null,"Reference"]
[null,null,null,null,null,null,null,"Pages 34-40"]
[]
["Heat Pump Inputs",null,null,null,null,null,null,"Upon completing Step 6, you will have:"]
[null,null,null,null,null,null,null,"Defined heat pump system control requirements and set-point values for the application."]
["HP Selected","HP#1"]
["Control Strategy","Option B1: ASHP Cut-Off Temperature",null,"(Reselect for Each Design Eval.)"]
["HP Type",{"$f":"IF(B8=Dropdown_Menus!T20,'Step 5 Identify & Select ASHPs'!$E$33,IF(B8=Dropdown_Menus!T21,'Step 5 Identify & Select ASHPs'!$E$52,IF(B8=Dropdown_Menus!T22,'Step 5 Identify & Select ASHPs'!$E$71,'Step 5 Identify & Select ASHPs'!$E$90)))","v":"Variable"}]
[null,{"$f":"IFERROR(ROUND('Control Strategy Calcs'!T14,0),\"\")","v":""},{"$f":"'Step 3 Design Loads'!C13","v":"F"}]
[]
["Economic Inputs (Used in Cost & Energy Calculations)"]
[]
["Backup Heating Type","Natural Gas"]
["Backup System Efficiency",95,"%"]
[]
["Utility Rates: Fuel"]
["Fuel Type",{"$f":"B15","v":"Natural Gas"}]
["Fuel Price",28,"cents/m3"]
[]
["Utility Rates: Electricity"]
["Type of Structure","Time of Use"]
[{"$f":"IF(OR(B23=\"Time of Use\",B23=\"Tiered\"),\"# of Time Periods with Different Rates\",\"\")","v":"# of Time Periods with Different Rates"},3,{"$f":"IF(AND($B$9=Dropdown_Menus!$T$7,OR(B23=Dropdown_Menus!T14,B23=Dropdown_Menus!T13)),\"2 to 5 time periods\",\"\")","v":""}]
[{"$f":"IF(B23=Dropdown_Menus!T12,\"Electricity Rate\",IF(B23=Dropdown_Menus!T13,\"Highest Rate Step/Tier\", IF(B23=Dropdown_Menus!T14,\"On-Peak\",\"\")))","v":"On-Peak"},15,"cents/kWh"]
[{"$f":"IF(OR(B23=Dropdown_Menus!T14,B23=Dropdown_Menus!T13),IF(B24=2,\"Off-Peak\",\"Mid-Peak/Tier\"),\"\")","v":"Mid-Peak/Tier"},10,{"$f":"IF(OR(B23=Dropdown_Menus!T14,B23=Dropdown_Menus!T13),\"cents/kWh\",\"\")","v":"cents/kWh"}]
[{"$f":"IF(OR(B23=Dropdown_Menus!T14,B23=Dropdown_Menus!T13),IF(B24=2,\"\",IF(B24=3,\"Off-Peak/Low Tier\",\"Mid-Peak/Tier\")),\"\")","v":"Off-Peak/Low Tier"},8,{"$f":"IF(AND(OR(B23=Dropdown_Menus!T14,B23=Dropdown_Menus!T13),A27<>\"\"),\"cents/kWh\",\"\")","v":"cents/kWh"}]
[{"$f":"IF(OR(B23=Dropdown_Menus!T14,B23=Dropdown_Menus!T13),IF(B24=2,\"\",IF(B24=3,\"\",IF(B24=4,\"Off-Peak/Low Tier\",\"Mid-Peak/Tier\"))),\"\")","v":""},11,{"$f":"IF(AND(OR(B23=Dropdown_Menus!T14,B23=Dropdown_Menus!T13),A28<>\"\"),\"cents/kWh\",\"\")","v":""}]
[{"$f":"IF(OR(B23=Dropdown_Menus!T14,B23=Dropdown_Menus!T13),IF(OR(B24=2,B24=3,B24=4,),\"\",\"Off-Peak/Low Tier\"),\"\")","v":""},7,{"$f":"IF(AND(OR(B23=Dropdown_Menus!T14,B23=Dropdown_Menus!T13),A29<>\"\"),\"cents/kWh\",\"\")","v":""}]
[]
["Notes"]
["• The price of electricity and fuel includes energy and delivery costs and taxes, but it excludes fixed monthly costs that do not vary with the amount of NG, Propane, Oil, or Electricity consumed."]
[]
[]
[{"$f":"IF(B23=\"Time of Use\",\"•  The time of use calculation uses the winter time prices\",\"\")","v":"•  The time of use calculation uses the winter time prices"}]
[{"$f":"IF(B23=\"Time of Use\",\"Example of Time of Use hours\",\"\")","v":"Example of Time of Use hours"}]
[{"$f":"IF(B23=\"Time of use\",\"•  On-Peak: Weekdays, 11:00AM-5:00PM\",\"\")","v":"•  On-Peak: Weekdays, 11:00AM-5:00PM"}]
[{"$f":"IF(B23=\"Time of use\",\"•  Mid-Peak: Weekdays, 7:00AM-11:00AM, 5:00PM-7:00PM\",\"\")","v":"•  Mid-Peak: Weekdays, 7:00AM-11:00AM, 5:00PM-7:00PM"}]
[{"$f":"IF(B23=\"Time of use\",\"•  Off-Peak: Weekdays, 7:00PM-7:00AM, all weekends and holidays\",\"\")","v":"•  Off-Peak: Weekdays, 7:00PM-7:00AM, all weekends and holidays"}]
["Outputs"]
[{"$f":"IF(OR(B9=\"Option A2: Economic Cut-Off Temperature\", B9=\"Option B2: Economic Cut-Off Temperature\"), \"Output\",\"\")","v":""}]
[{"$f":"IF(OR(B9=\"Option A2: Economic Cut-Off Temperature\", B9=\"Option B2: Economic Cut-Off Temperature\"),IF(B23=\"Time of Use\",\"Economic Cut-Off Temperature (On-Peak)\",IF(B23=\"Tiered\",\"Economic Cut-Off Temperature (Highest Tier)\",\"Economic Cut-Off Temperature\")),\"\")","v":""},{"$f":"IFERROR(ROUND('Control Strategy Calcs'!F25,0)&C11,\"\")","v":""},{"$f":"IF(OR(B9=\"Option B1: ASHP Cut-Off Temperature\",B9=\"Option A1: ASHP Cut-Off Temperature\",B9=\"Option C: No Backup Heating Required\"),\"\",IF(AND(MIN('Control Strategy Calcs'!E2:E18)>IF(B23=\"Time of Use\",'Control Strategy Calcs'!F18,B43),'Step 6 Control Strategy'!B42=\"\",OR(B9=\"Option B2: Economic Cut-Off Temperature\",B9=\"Option A2: Economic Cut-Off Temperature\")),\"Economic cut-off is unnecessary\",IF(AND('Step 6 Control Strategy'!B42=\"\",OR(B9=\"Option B2: Economic Cut-Off Temperature\",B9=\"Option A2: Economic Cut-Off Temperature\")),\"Heat pump does not meet COP requirements\",\"\")))","v":""}]
[{"$f":"IF(AND(OR(B23=\"Time of Use\",B23=\"Tiered\"),OR(B9=\"Option A2: Economic Cut-Off Temperature\",B9=\"Option B2: Economic Cut-Off Temperature\")),IF(B24=2,IF(B23=\"Time of Use\",\"Economic Cut-Off Temperature (Off-Peak)\",\"Economic Cut-Off Temperature (Low-Tier)\"),IF(B23=\"Time of Use\",\"Economic Cut-Off Temperature (Mid-Peak)\",\"Economic Cut-Off Temperature (Mid-Tier)\")),IF(OR(B9=\"Option A1: ASHP Cut-Off Temperature\",B9=\"Option B1: ASHP Cut-Off Temperature\",B9=\"Option C: No Backup Heating Required\"),\"\",\"COPmin\"))","v":""},{"$f":"IFERROR(IF(AND(OR(B23=\"Time of Use\",B23=\"Tiered\"),OR(B9=\"Option A2: Economic Cut-Off Temperature\",B9=\"Option B2: Economic Cut-Off Temperature\")),IFERROR(ROUND('Control Strategy Calcs'!F26,0),NA())&C11,IF(OR(B9=\"Option A1: ASHP Cut-Off Temperature\",B9=\"Option B1: ASHP Cut-Off Temperature\",B9=\"Option C: No Backup Heating Required\"),\"\",ROUND('Control Strategy Calcs'!F18,1))),\"\")","v":""},{"$f":"IF(OR(B9=\"Option B1: ASHP Cut-Off Temperature\",B9=\"Option A1: ASHP Cut-Off Temperature\",B9=\"Option C: No Backup Heating Required\"),\"\",IF(AND(B43=\"\",$B$23=\"Time of Use\",MIN('Control Strategy Calcs'!E2:E18)>'Control Strategy Calcs'!F19),\"Economic cut-off is unnecessary\",IF(AND(B43=\"\",$B$23=\"Time of Use\"),IF(OR(B9=\"Option A1: ASHP Cut-Off Temperature\",B9=\"Option B1: ASHP Cut-Off Temperature\",B9=\"Option C: No Backup Heating Required\"),\"\",\"Heat pump does not meet COP requirements\"),\"\")))","v":""}]
[{"$f":"IF(AND(OR(B23=\"Time of Use\",B23=\"Tiered\"),OR(B9=\"Option A2: Economic Cut-Off Temperature\",B9=\"Option B2: Economic Cut-Off Temperature\")),IF(B24=2,IF(B23=\"Time of Use\",\"COP (On-Peak)\",\"COP(High Tier)\"),IF(B24=3,IF(B23=\"Time of Use\",\"Economic Cut-Off Temperature (Low-Peak)\",\"Economic Cut-Off Temperature (Low-Tier)\"),IF(B23=\"Time of Use\",\"Economic Cut-Off Temperature (Mid-Peak)\",\"Economic Cut-Off Temperature (Mid-Tier)\"))),\"\")","v":""},{"$f":"IF(AND(OR(B23=\"Time of Use\",B23=\"Tiered\"),OR(B9=\"Option A2: Economic Cut-Off Temperature\",B9=\"Option B2: Economic Cut-Off Temperature\")),IF(B24=2,IFERROR(ROUND('Control Strategy Calcs'!F18,1),\"\"),IFERROR(ROUND('Control Strategy Calcs'!F27,0)&C11,\"\")),\"\")","v":""},{"$f":"IF(OR(B9=\"Option B1: ASHP Cut-Off Temperature\",B9=\"Option A1: ASHP Cut-Off Temperature\",B9=\"Option C: No Backup Heating Required\"),\"\",IF(B24=2,\"\",IF(AND(B44=\"\",MIN('Control Strategy Calcs'!E2:E18)>'Control Strategy Calcs'!F20,AND(B23=\"Time of Use\",OR(B9=\"Option A2: Economic Cut-Off Temperature\",B9=\"Option B2: Economic Cut-Off Temperature\"))),\"Economic cut-off is unnecessary\",IF(AND(B44=\"\",AND(B23=\"Time of Use\",OR(B9=\"Option A2: Economic Cut-Off Temperature\",B9=\"Option B2: Economic Cut-Off Temperature\"))),\"Heat pump does not meet COP requirements\",\"\"))))","v":""}]
[{"$f":"IF(AND(OR(B23=\"Time of Use\",B23=\"Tiered\"),OR(B9=\"Option A2: Economic Cut-Off Temperature\",B9=\"Option B2: Economic Cut-Off Temperature\")),IF(B24=2,IF(B23=\"Time of Use\",\"COP (Off-Peak)\",\"COP(Low Tier)\"),IF(B24=3,IF(B23=\"Time of Use\",\"COP (On-Peak)\",\"COP(High Tier)\"),IF(B24=4,IF(B23=\"Time of Use\",\"Economic Cut-Off Temperature (Off-Peak)\",\"Economic Cut-Off Temperature (Low-Tier)\"),IF(B23=\"Time of Use\",\"Economic Cut-Off Temperature (Mid-Peak)\",\"Economic Cut-Off Temperature (Mid-Tier)\")))),\"\")","v":""},{"$f":"IF(AND(OR(B23=\"Time of Use\",B23=\"Tiered\"),OR(B9=\"Option A2: Economic Cut-Off Temperature\",B9=\"Option B2: Economic Cut-Off Temperature\")),IF(B24=2,ROUND('Control Strategy Calcs'!F19,1),IF(B24=3,ROUND('Control Strategy Calcs'!F18,1),IFERROR(ROUND('Control Strategy Calcs'!F28,0)&C11,\"\"))),\"\")","v":""},{"$f":"IF(OR(B9=\"Option B1: ASHP Cut-Off Temperature\",B9=\"Option A1: ASHP Cut-Off Temperature\",B9=\"Option C: No Backup Heating Required\"),\"\",IF(OR(B24=2,B24=3),\"\",IF(AND(B45=\"\",MIN('Control Strategy Calcs'!E2:E18)>'Control Strategy Calcs'!F21,AND(B23=\"Time of Use\",OR(B9=\"Option A2: Economic Cut-Off Temperature\",B9=\"Option B2: Economic Cut-Off Temperature\"))),\"Economic cut-off is unnecessary\",IF(AND(B45=\"\",AND(B23=\"Time of Use\",OR(B9=\"Option A2: Economic Cut-Off Temperature\",B9=\"Option B2: Economic Cut-Off Temperature\"))),\"Heat pump does not meet COP requirements\",\"\"))))","v":""}]
[{"$f":"IF(AND(OR(B23=\"Time of Use\",B23=\"Tiered\"),OR(B9=\"Option A2: Economic Cut-Off Temperature\",B9=\"Option B2: Economic Cut-Off Temperature\")),IF(B24=2,\"\",IF(B24=3,IF(B23=\"Time of Use\",\"COP (Mid-Peak)\",\"COP(Mid Tier)\"),IF(B24=4,IF(B23=\"Time of Use\",\"COP (On-Peak)\",\"COP(High Tier)\"),IF(B24=5,IF(B23=\"Time of Use\",\"Economic Cut-Off Temperature (Off-Peak)\",\"Economic Cut-Off Temperature (Low-Tier)\"))))),\"\")","v":""},{"$f":"IF(AND(OR(B23=\"Time of Use\",B23=\"Tiered\"),OR(B9=\"Option A2: Economic Cut-Off Temperature\",B9=\"Option B2: Economic Cut-Off Temperature\")),IF(B24=2,\"\",IF(B24=3,ROUND('Control Strategy Calcs'!F19,1),IF(B24=4,ROUND('Control Strategy Calcs'!F18,1),IFERROR(ROUND('Control Strategy Calcs'!F29,0)&C11,\"\")))),\"\")","v":""},{"$f":"IF(OR(B9=\"Option B1: ASHP Cut-Off Temperature\",B9=\"Option A1: ASHP Cut-Off Temperature\",B9=\"Option C: No Backup Heating Required\"),\"\",IF(OR(B24=2,B24=3,B24=4),\"\",IF(AND(B46=\"\",MIN('Control Strategy Calcs'!E2:E18)>'Control Strategy Calcs'!F22,AND(B23=\"Time of Use\",OR(B9=\"Option A2: Economic Cut-Off Temperature\",B9=\"Option B2: Economic Cut-Off Temperature\"))),\"Economic cut-off is unnecessary\",IF(AND(B46=\"\",AND(B23=\"Time of Use\",OR(B9=\"Option A2: Economic Cut-Off Temperature\",B9=\"Option B2: Economic Cut-Off Temperature\"))),\"Heat pump does not meet COP requirements\",\"\"))))","v":""}]
[{"$f":"IF(AND(OR(B23=\"Time of Use\",B23=\"Tiered\"),OR(B9=\"Option A2: Economic Cut-Off Temperature\",B9=\"Option B2: Economic Cut-Off Temperature\")),IF(B24=2,\"\",IF(B24=3,IF(B23=\"Time of Use\",\"COP (Off-Peak)\",\"COP(Low Tier)\"),IF(B24=4,IF(B23=\"Time of Use\",\"COP (Mid-Peak)\",\"COP(Mid Tier)\"),IF(B24=5,IF(B23=\"Time of Use\",\"COP (On-Peak)\",\"COP(High Tier)\"))))),\"\")","v":""},{"$f":"IF(AND(OR(B23=\"Time of Use\",B23=\"Tiered\"),OR(B9=\"Option A2: Economic Cut-Off Temperature\",B9=\"Option B2: Economic Cut-Off Temperature\")),IF(B24=2,\"\",IF(B24=3,ROUND('Control Strategy Calcs'!F20,1),IF(B24=4,ROUND('Control Strategy Calcs'!F19,1),ROUND('Control Strategy Calcs'!F18,1)))),\"\")","v":""}]
[{"$f":"IF(AND(OR(B23=\"Time of Use\",B23=\"Tiered\"),OR(B9=\"Option A2: Economic Cut-Off Temperature\",B9=\"Option B2: Economic Cut-Off Temperature\")),IF(B24=2,\"\",IF(B24=3,\"\",IF(B24=4,IF(B23=\"Time of Use\",\"COP (Mid-Peak)\",\"COP(Mid Tier)\"),IF(B24=5,IF(B23=\"Time of Use\",\"COP (Mid-Peak)\",\"COP(Mid Tier)\"))))),\"\")","v":""},{"$f":"IF(AND(OR(B23=\"Time of Use\",B23=\"Tiered\"),OR(B9=\"Option A2: Economic Cut-Off Temperature\",B9=\"Option B2: Economic Cut-Off Temperature\")),IF(OR(B24=2,B24=3),\"\",IF(B24=4,ROUND('Control Strategy Calcs'!F20,1),ROUND('Control Strategy Calcs'!F19,1))),\"\")","v":""}]
[{"$f":"IF(AND(OR(B23=\"Time of Use\",B23=\"Tiered\"),OR(B9=\"Option A2: Economic Cut-Off Temperature\",B9=\"Option B2: Economic Cut-Off Temperature\")),IF(B24=2,\"\",IF(B24=3,\"\",IF(B24=4,IF(B23=\"Time of Use\",\"COP (Off-Peak)\",\"COP(Low Tier)\"),IF(B24=5,IF(B23=\"Time of Use\",\"COP (Mid-Peak)\",\"COP(Mid Tier)\"))))),\"\")","v":""},{"$f":"IF(AND(OR(B23=\"Time of Use\",B23=\"Tiered\"),OR(B9=\"Option A2: Economic Cut-Off Temperature\",B9=\"Option B2: Economic Cut-Off Temperature\")),IF(OR(B24=2,B24=3),\"\",IF(B24=4,ROUND('Control Strategy Calcs'!F21,1),ROUND('Control Strategy Calcs'!F20,1))),\"\")","v":""}]
[{"$f":"IF(AND(OR(B23=\"Time of Use\",B23=\"Tiered\"),OR(B9=\"Option A2: Economic Cut-Off Temperature\",B9=\"Option B2: Economic Cut-Off Temperature\")),IF(B24=2,\"\",IF(B24=3,\"\",IF(B24=4,\"\",IF(B24=5,IF(B23=\"Time of Use\",\"COP (Mid-Peak)\",\"COP(Mid Tier\"))))),\"\")","v":""},{"$f":"IF(AND(OR(B23=\"Time of Use\",B23=\"Tiered\"),OR(B9=\"Option A2: Economic Cut-Off Temperature\",B9=\"Option B2: Economic Cut-Off Temperature\")),IF(OR(B24=2,B24=3,B24=4),\"\",ROUND('Control Strategy Calcs'!F21,1)),\"\")","v":""}]
[{"$f":"IF(AND(OR(B23=\"Time of Use\",B23=\"Tiered\"),OR(B9=\"Option A2: Economic Cut-Off Temperature\",B9=\"Option B2: Economic Cut-Off Temperature\")),IF(B24=2,\"\",IF(B24=3,\"\",IF(B24=4,\"\",IF(B24=5,IF(B23=\"Time of Use\",\"COP (Off-Peak)\",\"COP(Low Tier)\"))))),\"\")","v":""},{"$f":"IF(AND(OR(B23=\"Time of Use\",B23=\"Tiered\"),OR(B9=\"Option A2: Economic Cut-Off Temperature\",B9=\"Option B2: Economic Cut-Off Temperature\")),IF(OR(B24=2,B24=3,B24=4),\"\",ROUND('Control Strategy Calcs'!F22,1)),\"\")","v":""}]
[]
["Output Plots"]

{"sheet":"Step 7 Back-up Heating","index":8,"n_rows":14,"n_cols":19,"rows_kept":14,"cut":false,"hidden":false,"merged":[[13,13,13,14],[12,0,12,1],[12,2,12,3],[12,4,12,6],[12,7,12,8],[12,9,12,12],[12,13,12,14],[13,0,13,1],[13,2,13,3],[13,4,13,6],[13,7,13,8],[13,9,13,12],[0,0,0,10],[4,0,4,5],[4,11,4,14],[8,11,9,14],[10,0,10,5],[10,6,10,9]]}
["DESIGN STEP 7: Define Back-up Heating Requirements"]
[null,null,null,null,null,null,null,null,null,null,null,null,null,null,null,null,null,null,{"$f":"IF(NOT('Step 6 Control Strategy'!B15=\"Electricity\"),\"No\",\"Yes\")","v":"No"}]
[]
[]
["Design Step 7: Inputs",null,null,null,null,null,null,null,null,null,null,"Reference"]
[]
["Oversize Factor",1.1499999999999999,null,null,null,null,null,null,null,null,null,"Pages 41 to 43 in the ASHP Sizing Guide"]
["Simultaneous ASHP & Backup?","No",null,null,"(Note: Unavailable when NG or Oil furnace used as backup/auxiliary)",null,null,null,null,null,null,"Upon completing Step 7, you will have:"]
[null,null,null,null,null,null,null,null,null,null,null,"Defined the backup heating capacity needed to supplement the ASHP equipment in order to satisfy the design heating load of the house or targeted area."]
[]
["Outputs"]
[]
["Sizing Option\n(Step 3)",null,"Control Strategy\n(Step 5)",null,"Simultaneous ASHP & Backup?",null,null,"New Installation/Full System Replacement?",null,"Backup Option",null,null,null,"Backup Size"]
[{"$f":"'Step 4 Sizing Approach'!B6","v":"Option C: Emphasis on Heating"},null,{"$f":"'Step 6 Control Strategy'!B9","v":"Option B1: ASHP Cut-Off Temperature"},null,{"$f":"B8","v":"No"},null,null,{"$f":"IF(OR('Step 1 ASHP Configuration'!B9='Step 1 ASHP Configuration'!T8,'Step 1 ASHP Configuration'!B9='Step 1 ASHP Configuration'!T9),\"Yes\",\"No\")","v":"Yes"},null,{"$f":"IF(A14='Step 4 Sizing Approach'!T5,\"Option D: No New Backup Required\",IF('Step 1 ASHP Configuration'!B9='Step 1 ASHP Configuration'!T10,\"Option C: Existing system will remain\",IF(AND('Step 6 Control Strategy'!B9=\"Option B1: ASHP Cut-Off Temperature\",E14=\"Yes\"),\"Option B: New HVAC system sized for partial loads\",\"Option A: New HVAC system sized for full loads\")))","v":"Option A: New HVAC system sized for full loads"},null,null,null,{"$f":"IF(J14=\"Option A: New HVAC system sized for full loads\",ROUND('Design Load Calcs'!B23*'Step 7 Back-up Heating'!B7,IF('Intro & Unit Options'!B12=\"Metric\",1,-2))&\" \"&'Step 3 Design Loads'!C12&IF('Step 3 Design Loads'!B11='Step 3 Design Loads'!T8,\" LOW    \"&ROUND('Design Load Calcs'!C23*B7,IF('Intro & Unit Options'!B12=\"Metric\",1,-2))&\" \"&'Step 3 Design Loads'!C12&\" HIGH\",\"\"),IF(J14=\"Option B: New HVAC system sized for partial loads\",ROUND(('Design Load Calcs'!B23-'Control Strategy Calcs'!T19)*'Step 7 Back-up Heating'!B7,IF('Intro & Unit Options'!B12=\"Metric\",1,-2))&\" \"&'Step 3 Design Loads'!C12&IF('Step 3 Design Loads'!B11='Step 3 Design Loads'!T8,\" LOW    \"&ROUND(('Design Load Calcs'!C23-'Control Strategy Calcs'!T19)*'Step 7 Back-up Heating'!B7,IF('Intro & Unit Options'!B12=\"Metric\",1,-2))&\" \"&'Step 3 Design Loads'!C12&\" HIGH\",\"\"),IF(J14=\"Option C: Existing system will remain\",\"Existing system will remain\",IF(J14=\"Option D: No New Backup Required\",\"No backup required\",\"\"))))","v":"57500 BTU/h"}]

{"sheet":"Checks and Reminders","index":9,"n_rows":31,"n_cols":25,"rows_kept":31,"cut":false,"hidden":false,"merged":[[0,0,0,19],[1,0,1,7],[3,0,3,7],[9,0,9,7],[12,0,12,7]]}
["CHECKS AND REMINDERS"]
["Summary Output: Existing Heating System Airflow "]
["Maximum Airflow Capacity",{"$f":"'Step 4 Sizing Approach'!$B$10","v":1475},"CFM","@",0.5,{"$f":"IF('Intro & Unit Options'!$B$12=\"Metric\",\"mmWG total external static pressure according to HRAI RASD \",\"inches Water Gauge total external static pressure according to HRAI RASD \")","v":"inches Water Gauge total external static pressure according to HRAI RASD "},null,null,null,null,null,null,null,null,null,null,null,null,null,null,null,null,null,"DO NOT TOUCH THESE CELLS"]
["Summary Output: Candidate Heat Pump Airflow"]
["Maximum Airflow Capacity",{"$f":"INDIRECT(CONCATENATE(\"'Step 5 Identify & Select ASHPs'!$E$\",30+(VALUE(RIGHT('Step 6 Control Strategy'!$B$8,1))-1)*19))","v":0},"CFM","@",0.5,{"$f":"IF('Intro & Unit Options'!$B$12=\"Metric\",\"mmWG\",\"inches Water Gauge\")","v":"inches Water Gauge"},null,null,null,null,null,null,null,null,null,null,null,null,null,null,null,null,null,null,"Yes"]
[null,null,null,null,null,null,null,null,null,null,null,null,null,null,null,null,null,null,null,null,null,null,null,null,"No"]
[]
[{"$f":"IF(AND(AND(NOT('Step 1 ASHP Configuration'!B9=\"New HVAC System\")),AND(B3<B5,B3<>\"\")),\"• Existing ductwork may not be adequately sized for HP system. User should confirm suitability of existing ductwork before system installation.\",\"\")","v":""}]
[]
["Additional Input"]
["Existing Central Cooling System Or Heat Pump Being Replaced?"]
["No"]
["Additional Notes"]
[{"$f":"IF(A12=\"Yes\", \"•If the heat pump being selected exceeds the nominal capacity of the existing air conditioner or heat pump, the user should ensure that the existing electrical panel has a sufficient amperage rating available for the heat pump\",\"•Please assess the existing electrical panel to ensure that a breaker space is available\")","v":"•Please assess the existing electrical panel to ensure that a breaker space is available"}]
["•An upgraded electrical service to the home may be needed"]
[{"$f":"Summary!D21","v":""}]
[]
[{"$f":"IF(AND('Step 5 Identify & Select ASHPs'!$I$27,'Step 5 Identify & Select ASHPs'!$E$31=\"\",VALUE(RIGHT('Step 6 Control Strategy'!$B$8,1))=1),\"Heat Pump #1: Please consult the heat pump manual or the manufacturer for the heat pump that the low temp cut-off was not specified to determine whether a low temp cut-off is stipulated and if it is, note it in the Identify and Select ASHPs tab\",\"\")","v":""}]
[{"$f":"IF(AND('Step 5 Identify & Select ASHPs'!$I$46,'Step 5 Identify & Select ASHPs'!$E$50=\"\",VALUE(RIGHT('Step 6 Control Strategy'!$B$8,1))=2),\"Heat Pump #2: Please consult the heat pump manual or the manufacturer for the heat pump that the low temp cut-off was not specified to determine whether a low temp cut-off is stipulated and if it is, note it in the Identify and Select ASHPs tab\",\"\")","v":""}]
[{"$f":"IF(AND('Step 5 Identify & Select ASHPs'!$I$65,'Step 5 Identify & Select ASHPs'!$E$69=\"\",VALUE(RIGHT('Step 6 Control Strategy'!$B$8,1))=3),\"Heat Pump #3: Please consult the heat pump manual or the manufacturer for the heat pump that the low temp cut-off was not specified to determine whether a low temp cut-off is stipulated and if it is, note it in the Identify and Select ASHPs tab\",\"\")","v":""}]
[{"$f":"IF(AND('Step 5 Identify & Select ASHPs'!$I$84,'Step 5 Identify & Select ASHPs'!$E$88=\"\",VALUE(RIGHT('Step 6 Control Strategy'!$B$8,1))=4),\"Heat Pump #4: Please consult the heat pump manual or the manufacturer for the heat pump that the low temp cut-off was not specified to determine whether a low temp cut-off is stipulated and if it is, note it in the Identify and Select ASHPs tab\",\"\")","v":""}]
[]
[{"$f":"IF(AND('Step 5 Identify & Select ASHPs'!$I$27,VALUE(RIGHT('Step 6 Control Strategy'!$B$8,1))=1),\"Heat Pump # 1: For most accurate results,  obtain performance data from manufacturer for the heat pump number in question\",\"\")","v":""}]
[{"$f":"IF(AND('Step 5 Identify & Select ASHPs'!$I$46,VALUE(RIGHT('Step 6 Control Strategy'!$B$8,1))=2),\"Heat Pump # 2:For most accurate results,  obtain performance data from manufacturer for the heat pump number in question\",\"\")","v":""}]
[{"$f":"IF(AND('Step 5 Identify & Select ASHPs'!$I$65,VALUE(RIGHT('Step 6 Control Strategy'!$B$8,1))= 3),\"Heat Pump # 3: For most accurate results,  obtain performance data from manufacturer for the heat pump number in question\",\"\")","v":""}]
[{"$f":"IF(AND('Step 5 Identify & Select ASHPs'!$I$84,VALUE(RIGHT('Step 6 Control Strategy'!$B$8,1))=4),\"Heat Pump # 4: For most accurate results,  obtain performance data from manufacturer for the heat pump number in question\",\"\")","v":""}]
[]
[{"$f":"IF(AND(OR('Step 5 Identify & Select ASHPs'!$I$24,'Step 5 Identify & Select ASHPs'!$I$25,'Step 5 Identify & Select ASHPs'!$I$26),'Step 5 Identify & Select ASHPs'!E31<>\"\",'HP1'!J19<>1,VALUE(RIGHT('Step 6 Control Strategy'!$B$8,1))=1),\"Heat Pump #1: Capacity at cut-off is estimated. For best results, please input the capacity at the cut-off temperature\",\"\")","v":""}]
[{"$f":"IF(AND(OR('Step 5 Identify & Select ASHPs'!$I$43,'Step 5 Identify & Select ASHPs'!$I$44,'Step 5 Identify & Select ASHPs'!$I$45),'Step 5 Identify & Select ASHPs'!E50<>\"\",'HP2'!J19<>1,VALUE(RIGHT('Step 6 Control Strategy'!$B$8,1))=2),\"Heat Pump #2: Capacity at cut-off is estimated. For best results, please input the capacity at the cut-off temperature\",\"\")","v":""}]
[{"$f":"IF(AND(OR('Step 5 Identify & Select ASHPs'!$I$62,'Step 5 Identify & Select ASHPs'!$I$63,'Step 5 Identify & Select ASHPs'!$I$64),'Step 5 Identify & Select ASHPs'!E69<>\"\",'HP3'!J19<>1,VALUE(RIGHT('Step 6 Control Strategy'!$B$8,1))=3),\"Heat Pump #3: Capacity at cut-off is estimated. For best results, please input the capacity at the cut-off temperature\",\"\")","v":""}]
[{"$f":"IF(AND(OR('Step 5 Identify & Select ASHPs'!$I$81,'Step 5 Identify & Select ASHPs'!$I$82,'Step 5 Identify & Select ASHPs'!$I$83),'Step 5 Identify & Select ASHPs'!E88<>\"\",'HP4'!J19<>1,VALUE(RIGHT('Step 6 Control Strategy'!$B$8,1))=4),\"Heat Pump #4: Capacity at cut-off is estimated. For best results, please input the capacity at the cut-off temperature\",\"\")","v":""}]

{"sheet":"GHG, Cost, Energy Use","index":10,"n_rows":32,"n_cols":20,"rows_kept":32,"cut":false,"hidden":false,"merged":[[0,0,0,16383],[3,0,4,0],[3,7,4,7],[3,14,4,14]]}
["GHG, Cost, Energy Summary"]
[]
["Summary Output: GHG Emissions",null,null,null,null,null,null,"Summary Output: Heating Season Cost",null,null,null,null,null,null,"Summary Output: Heating Season Energy Consumption"]
["Heating Season GHG Emissions (tonneCO2e)","HP1 + Backup","HP2 + backup","HP3 + backup","HP4 + backup","Back-up only",null,"Heating Season Cost ($)","HP1 + backup","HP2 + backup","HP3 + backup","HP4 + backup","Back-up only",null,{"$f":"IF('Intro & Unit Options'!B12=\"Metric\",\"Heating Season Energy Consumption (GJ)\",\"Heating Season Energy Consumption (MBTU)\")","v":"Heating Season Energy Consumption (MBTU)"},"HP1 + backup","HP2 + backup","HP3 + backup","HP4 + backup","Back-up only"]
[null,{"$f":"'HP1 - Forecast calculations'!L53/1000000","v":{"$error":"#DIV/0!"}},{"$f":"IF('Step 5 Identify & Select ASHPs'!$D$11>=2,'HP2 - Forecast calculations'!L53/1000000,NA())","v":{"$error":"#DIV/0!"}},{"$f":"IF('Step 5 Identify & Select ASHPs'!$D$11>=3,'HP3 - Forecast calculations'!L53/1000000,NA())","v":{"$error":"#DIV/0!"}},{"$f":"IF('Step 5 Identify & Select ASHPs'!$D$11>=4,'HP4 - Forecast calculations'!L53/1000000,NA())","v":{"$error":"#DIV/0!"}},{"$f":"'HP1 - Forecast calculations'!L54/1000000","v":3.1528124434042692},null,null,{"$f":"'HP1 - Forecast calculations'!J43","v":{"$error":"#DIV/0!"}},{"$f":"IF('Step 5 Identify & Select ASHPs'!$D$11>=2,'HP2 - Forecast calculations'!J43,NA())","v":{"$error":"#DIV/0!"}},{"$f":"IF('Step 5 Identify & Select ASHPs'!$D$11>=3,'HP3 - Forecast calculations'!J43,NA())","v":{"$error":"#DIV/0!"}},{"$f":"IF('Step 5 Identify & Select ASHPs'!$D$11>=4,'HP4 - Forecast calculations'!J43,NA())","v":{"$error":"#DIV/0!"}},{"$f":"'HP1 - Forecast calculations'!J44","v":440.6979032819421},null,null,{"$f":"IF('Intro & Unit Options'!B12=\"Imperial\",CONVERT('HP1 - Forecast calculations'!L35*1000,\"Wh\",\"BTU\")/1000000,'HP1 - Forecast calculations'!L35*0.0036)","v":{"$error":"#DIV/0!"}},{"$f":"IF('Step 5 Identify & Select ASHPs'!$D$11>=2,IF('Intro & Unit Options'!B12=\"Imperial\",CONVERT('HP2 - Forecast calculations'!L35*1000,\"Wh\",\"BTU\")/1000000,'HP2 - Forecast calculations'!L35*0.0036),NA())","v":{"$error":"#DIV/0!"}},{"$f":"IF('Step 5 Identify & Select ASHPs'!$D$11>=3,IF('Intro & Unit Options'!B12=\"Imperial\",CONVERT('HP3 - Forecast calculations'!L35*1000,\"Wh\",\"BTU\")/1000000,'HP3 - Forecast calculations'!L35*0.0036),NA())","v":{"$error":"#DIV/0!"}},{"$f":"IF('Step 5 Identify & Select ASHPs'!$D$11>=3,IF('Intro & Unit Options'!B12=\"Imperial\",CONVERT('HP4 - Forecast calculations'!L35*1000,\"Wh\",\"BTU\")/1000000,'HP4 - Forecast calculations'!L35*0.0036),NA())","v":{"$error":"#DIV/0!"}},{"$f":"IF('Intro & Unit Options'!B12=\"Imperial\",CONVERT('HP1 - Forecast calculations'!N35*1000,\"Wh\",\"BTU\")/1000000,'HP1 - Forecast calculations'!N35*0.0036)","v":55.637775546558693}]
[]
[]
[]
[]
[]
[]
[]
[]
[]
[]
[]
[]
[]
[]
[]
[]
[]
["Calculation of heating season GHG emissions assumes:",null,null,null,null,null,null,"Calculation of heating season cost assumes:",null,null,null,null,null,null,"Calculation of heating season energy consumption assumes:"]
["Heat pump operates at temperatures > cut-off temperature or COP <1, whichever is occurs at the warmer temperature",null,null,null,null,null,null,"Average cost of electricity (does not consider time of use or tiered rates)",null,null,null,null,null,null,"Heat pump operates until cut-off temperature or COP <1"]
["Heat Pump capacity and COP are based on a linear extrapolation / interpolation of the 47F and 17F data",null,null,null,null,null,null,"Heat pump operates until cut-off temperature or COP <1",null,null,null,null,null,null,"Heat Pump capacity and COP are based on a linear extrapolation / interpolation of the 47F and 17F data"]
["Heating load is based on heating degree days for the Climate Zone (loads are not specific to cities within climate zones)",null,null,null,null,null,null,"Heating load is based on heating degree days for the Climate Zone (loads are not specific to cities within climate zones)",null,null,null,null,null,null,"Heating load is based on heating degree days for the Climate Zone (loads are not specific to cities within climate zones)"]
["GHG emissions are based on 2015 average GHG intensity of electricity generation for the respective province/territory (gCO2e)",null,null,null,null,null,null,"Heat Pump capacity and COP are based on a linear extrapolation / interpolation of the 47F and 17F data",null,null,null,null,null,null,"Backup heating is computed based on heating load - available heat pump capacity"]
["Combustion based emissions factors are as follows:",null,null,null,null,null,null,"Backup heating is computed based on heating load - available heat pump capacity"]
["Fuel type","gCO2e/kWh"]
["Natural Gas",193.35500914448284]
["Oil",276.79944441688576]
["Propane",231.18963839185446]

{"sheet":"Summary","index":11,"n_rows":49,"n_cols":6,"rows_kept":49,"cut":false,"hidden":false,"merged":[[0,0,0,7],[1,0,1,7],[5,0,5,7],[9,0,9,7]]}
["SUMMARY"]
["Location and Design Loads"]
["Location",{"$f":"'Step 5 Identify & Select ASHPs'!D6","v":"Toronto (city hall)"},{"$f":"'Step 5 Identify & Select ASHPs'!F6","v":"ON"},{"$f":"'Step 5 Identify & Select ASHPs'!H6","v":"CAN"}]
["Design Heating Load",{"$f":"'Step 3 Design Loads'!B12","v":50000},{"$f":"'Step 3 Design Loads'!C12","v":"BTU/h"},"at",{"$f":"'Step 3 Design Loads'!B13","v":0},{"$f":"'Step 3 Design Loads'!C13","v":"F"}]
["Design Cooling Load",{"$f":"'Step 3 Design Loads'!B14","v":30000},{"$f":"'Step 3 Design Loads'!C14","v":"BTU/h"},"at",{"$f":"'Step 3 Design Loads'!B15","v":88},{"$f":"'Step 3 Design Loads'!C15","v":"F"}]
["Sizing Approach and Target Capacities"]
["Sizing Approach",{"$f":"'Step 4 Sizing Approach'!B6","v":"Option C: Emphasis on Heating"}]
["Target Capacity"]
[{"$f":"IF(OR(B7=\"Option A: Emphasis on Cooling\",B7=\"Option B: Emphasis on Balanced Heating/Cooling\"),\"Target Cooling Capacity Range\",IF(B7=\"Option C: Emphasis on Heating\",\"Heating Load at 17F (-8.3C)\",\"Heating Load at Design Conditions\"))","v":"Heating Load at 17F (-8.3C)"},{"$f":"'Step 4 Sizing Approach'!B15","v":35800},{"$f":"C4","v":"BTU/h"},{"$f":"IF(OR(B7=\"Option A: Emphasis on Cooling\", B7=\"Option B: Emphasis on Balanced Heating/Cooling\"),\"to\",\"\")","v":""},{"$f":"IF(OR(B7=\"Option A: Emphasis on Cooling\", B7=\"Option B: Emphasis on Balanced Heating/Cooling\"),'Step 4 Sizing Approach'!D15,\"\")","v":""},{"$f":"IF(OR(B7=\"Option A: Emphasis on Cooling\", B7=\"Option B: Emphasis on Balanced Heating/Cooling\"),C5,\"\")","v":""}]
["ASHP Selection"]
["Selected ASHP",{"$f":"'Step 6 Control Strategy'!B8","v":"HP#1"}]
["ASHP Maker & Model",{"$f":"INDIRECT(CONCATENATE(\"'Step 5 Identify & Select ASHPs'!$E$\",26+(RIGHT($B$11,1)-1)*19))","v":0}]
["ASHP Airflow",{"$f":"'Checks and Reminders'!B5","v":0},{"$f":"'Checks and Reminders'!C5","v":"CFM"}]
["Noise Rating",{"$f":"INDIRECT(CONCATENATE(\"'Step 5 Identify & Select ASHPs'!$E$\",29+(RIGHT($B$11,1)-1)*19))","v":0},"dBa"]
[]
["Heating Mode"]
["ASHP Heating Capacity",{"$f":"ROUND(IF(INDIRECT(CONCATENATE(\"'Step 5 Identify & Select ASHPs'!$I$\",27+(RIGHT($B$11,1)-1)*19)),INDIRECT(CONCATENATE(\"'HP\",(RIGHT($B$11,1)),\" Calcs'!G31\")),INDIRECT(CONCATENATE(\"'HP\",(RIGHT($B$11,1)),\"'!J12\"))),-1)","v":0},{"$f":"C4","v":"BTU/h"},{"$f":"IF('Intro & Unit Options'!$B$12=Dropdown_Menus!$F$1,\"@ 8.3C\",\"@ 47F\")","v":"@ 47F"}]
["ASHP Heating COP",{"$f":"ROUND(IF(INDIRECT(CONCATENATE(\"'Step 5 Identify & Select ASHPs'!$I$\",27+(RIGHT($B$11,1)-1)*19)),INDIRECT(CONCATENATE(\"'HP\",(RIGHT($B$11,1)),\" Calcs'!I31\")),IF('Intro & Unit Options'!$B$12=Dropdown_Menus!F1,INDIRECT(CONCATENATE(\"'HP\",(RIGHT($B$11,1)),\"'!J12\"))/INDIRECT(CONCATENATE(\"'HP\",(RIGHT($B$11,1)),\"'!J15\")),INDIRECT(CONCATENATE(\"'HP\",(RIGHT($B$11,1)),\"'!J12\"))*0.00029307/INDIRECT(CONCATENATE(\"'HP\",(RIGHT($B$11,1)),\"'!J15\")))),1)","v":{"$error":"#DIV/0!"}},null,{"$f":"D17","v":"@ 47F"}]
["ASHP Heating Capacity",{"$f":"ROUND(IF(INDIRECT(CONCATENATE(\"'Step 5 Identify & Select ASHPs'!$I$\",27+(RIGHT($B$11,1)-1)*19)),INDIRECT(CONCATENATE(\"'HP\",(RIGHT($B$11,1)),\" Calcs'!G25\")),INDIRECT(CONCATENATE(\"'HP\",(RIGHT($B$11,1)),\"'!J13\"))),-1)","v":0},{"$f":"C17","v":"BTU/h"},{"$f":"IF('Intro & Unit Options'!$B$12=Dropdown_Menus!$F$1,\"@ -8.3C\",\"@ 17F\")","v":"@ 17F"}]
["ASHP Heating COP",{"$f":"ROUND(IF(INDIRECT(CONCATENATE(\"'Step 5 Identify & Select ASHPs'!$I$\",27+(RIGHT($B$11,1)-1)*19)),INDIRECT(CONCATENATE(\"'HP\",(RIGHT($B$11,1)),\" Calcs'!I25\")),IF('Intro & Unit Options'!$B$12=Dropdown_Menus!F3,INDIRECT(CONCATENATE(\"'HP\",(RIGHT($B$11,1)),\"'!J13\"))/INDIRECT(CONCATENATE(\"'HP\",(RIGHT($B$11,1)),\"'!J16\")),INDIRECT(CONCATENATE(\"'HP\",(RIGHT($B$11,1)),\"'!J13\"))*0.00029307/INDIRECT(CONCATENATE(\"'HP\",(RIGHT($B$11,1)),\"'!J16\")))),1)","v":{"$error":"#DIV/0!"}},null,{"$f":"D19","v":"@ 17F"}]
["HP Cut Off Temperature",{"$f":"INDIRECT(CONCATENATE(\"'Step 5 Identify & Select ASHPs'!$E$\",31+(RIGHT($B$11,1)-1)*19))","v":0},{"$f":"F4","v":"F"},{"$f":"IF(AND(B7=\"Option D: ASHP as Sole Heating Source\",E4<B21),\"•Note: ASHP Cut-Off> Heating Design Temperature. Auxiliary Heating Required\",\"\")","v":""}]
[]
["Cooling Mode"]
["ASHP Cooling Capacity",{"$f":"ROUND(IF(INDIRECT(CONCATENATE(\"'Step 5 Identify & Select ASHPs'!$I$\",27+(RIGHT($B$11,1)-1)*19)),INDIRECT(CONCATENATE(\"'HP\",(RIGHT($B$11,1)),\" Calcs'!N55\")),INDIRECT(CONCATENATE(\"'HP\",(RIGHT($B$11,1)),\"'!J52\"))),-1)","v":0},{"$f":"C17","v":"BTU/h"},{"$f":"IF('Intro & Unit Options'!$B$12=Dropdown_Menus!$F$1,\"@ 35C\",\"@ 95F\")","v":"@ 95F"}]
["ASHP Cooling COP",{"$f":"ROUND(IF(INDIRECT(CONCATENATE(\"'Step 5 Identify & Select ASHPs'!$I$\",27+(RIGHT($B$11,1)-1)*19)),INDIRECT(CONCATENATE(\"'HP\",(RIGHT($B$11,1)),\" Calcs'!N57\")),INDIRECT(CONCATENATE(\"'HP\",(RIGHT($B$11,1)),\"'!J53\"))),1)","v":{"$error":"#VALUE!"}},null,{"$f":"D24","v":"@ 95F"}]
["ASHP Performance Metrics"]
["Thermal Balance Point Temperature",{"$f":"ROUND(IF(INDIRECT(CONCATENATE(\"'Step 5 Identify & Select ASHPs'!$I$\",27+(RIGHT($B$11,1)-1)*19)),INDIRECT(CONCATENATE(\"'HP\",(RIGHT($B$11,1)),\" Calcs'!N15\")),INDIRECT(CONCATENATE(\"'HP\",(RIGHT($B$11,1)),\"'!J9\"))),1)","v":{"$error":"#VALUE!"}},{"$f":"F4","v":"F"}]
["% of Heating Above Thermal Balance Point",{"$f":"ROUND(IF(INDIRECT(CONCATENATE(\"'Step 5 Identify & Select ASHPs'!$I$\",27+(RIGHT($B$11,1)-1)*19)),INDIRECT(CONCATENATE(\"'HP\",(RIGHT($B$11,1)),\" Calcs'!N17\")),INDIRECT(CONCATENATE(\"'HP\",(RIGHT($B$11,1)),\"'!J10\"))),2)","v":{"$error":"#N/A"}}]
["% of Cooling at TDesign,Cool",{"$f":"ROUND(IF(INDIRECT(CONCATENATE(\"'Step 5 Identify & Select ASHPs'!$I$\",27+(RIGHT($B$11,1)-1)*19)),INDIRECT(CONCATENATE(\"'HP\",(RIGHT($B$11,1)),\" Calcs'!N54\")),INDIRECT(CONCATENATE(\"'HP\",(RIGHT($B$11,1)),\"'!J51\"))),2)","v":0}]
["Control Strategy"]
["Control Strategy",{"$f":"'Step 6 Control Strategy'!B9","v":"Option B1: ASHP Cut-Off Temperature"},null,{"$f":"IF('Step 6 Control Strategy'!B8<>Summary!B11,\"Error: HP in Control Strategy Analysis different than HP Selected in Summary\",\"\")","v":""}]
["Backup Fuel",{"$f":"'Step 6 Control Strategy'!B19","v":"Natural Gas"}]
[]
[{"$f":"IF(OR('Step 6 Control Strategy'!B9=\"Option A1: ASHP Cut-Off Temperature\",'Step 6 Control Strategy'!B9=\"Option B1: ASHP Cut-Off Temperature\"),\"Temperature for Controls to Switch to Backup\",'Step 6 Control Strategy'!A42)","v":"Temperature for Controls to Switch to Backup"},{"$f":"IF(OR('Step 6 Control Strategy'!B9=\"Option A1: ASHP Cut-Off Temperature\",'Step 6 Control Strategy'!B9=\"Option B1: ASHP Cut-Off Temperature\"),B21,IF('Step 6 Control Strategy'!B42=\"\",'Step 6 Control Strategy'!C42,'Step 6 Control Strategy'!B42))","v":0},{"$f":"IF('Intro & Unit Options'!B12=\"Metric\",\"C\",\"F\")","v":"F"}]
[{"$f":"IF('Step 6 Control Strategy'!A26=\"\",\"\",IF('Step 6 Control Strategy'!B24>1,'Step 6 Control Strategy'!A43,\"\"))","v":""},{"$f":"IF(A35=\"\",\"\",IF('Step 6 Control Strategy'!B43=\"\",'Step 6 Control Strategy'!C43,'Step 6 Control Strategy'!B43))","v":""},{"$f":"C34","v":"F"}]
[{"$f":"IF('Step 6 Control Strategy'!A27=\"\",\"\",IF('Step 6 Control Strategy'!B24>2,'Step 6 Control Strategy'!A44,\"\"))","v":""},{"$f":"IF(A36=\"\",\"\",IF('Step 6 Control Strategy'!B44=\"\",'Step 6 Control Strategy'!C44,'Step 6 Control Strategy'!B44))","v":""},{"$f":"C34","v":"F"}]
[{"$f":"IF('Step 6 Control Strategy'!A28=\"\",\"\",IF('Step 6 Control Strategy'!B24>3,'Step 6 Control Strategy'!A45,\"\"))","v":""},{"$f":"IF(A37=\"\",\"\",IF('Step 6 Control Strategy'!B45=\"\",'Step 6 Control Strategy'!C45,'Step 6 Control Strategy'!B45))","v":""},{"$f":"C35","v":"F"}]
[{"$f":"IF('Step 6 Control Strategy'!A29=\"\",\"\",IF('Step 6 Control Strategy'!B24>4,'Step 6 Control Strategy'!A46,\"\"))","v":""},{"$f":"IF(A38=\"\",\"\",IF('Step 6 Control Strategy'!B46=\"\",'Step 6 Control Strategy'!C46,'Step 6 Control Strategy'!B46))","v":""},"F"]
["GHG, Cost, Energy Use"]
["Heating Season Energy Use",{"$f":"IF(B11=\"HP#1\",'GHG, Cost, Energy Use'!P5,1)*IF(B11=\"HP#2\",'GHG, Cost, Energy Use'!Q5,1)*IF(B11=\"HP#3\",'GHG, Cost, Energy Use'!R5,1)*IF(B11=\"HP#4\",'GHG, Cost, Energy Use'!S5,1)","v":{"$error":"#DIV/0!"}},{"$f":"IF('Intro & Unit Options'!B12=\"Metric\",\"GJ\",\"MBTU\")","v":"MBTU"},null,{"$f":"IF(OR(B31=\"Option B2: Economic Cut-Off Temperature\",B31=\"Option A2: Economic Cut-Off Temperature\"),\"Note: GHG and Cost calculations do not take into account economic cut-off\",\"\")","v":""}]
["Heating Season Utility Cost",{"$f":"IF(B11=\"HP#1\",'GHG, Cost, Energy Use'!I5,1)*IF(B11=\"HP#2\",'GHG, Cost, Energy Use'!J5,1)*IF(B11=\"HP#3\",'GHG, Cost, Energy Use'!K5,1)*IF(B11=\"HP#4\",'GHG, Cost, Energy Use'!L5,1)","v":{"$error":"#DIV/0!"}}]
["Heating Season GHG Emissions",{"$f":"IF(B11=\"HP#1\",'GHG, Cost, Energy Use'!B5,1)*IF(B11=\"HP#2\",'GHG, Cost, Energy Use'!C5,1)*IF(B11=\"HP#3\",'GHG, Cost, Energy Use'!D5,1)*IF(B11=\"HP#4\",'GHG, Cost, Energy Use'!E5,1)","v":{"$error":"#DIV/0!"}},"tonne CO2e"]
["Airflow"]
[{"$f":"'Checks and Reminders'!A3","v":"Maximum Airflow Capacity"},{"$f":"'Checks and Reminders'!B3","v":1475},{"$f":"'Checks and Reminders'!C3","v":"CFM"},"@",{"$f":"'Checks and Reminders'!E3","v":0.5},{"$f":"'Checks and Reminders'!F3","v":"inches Water Gauge total external static pressure according to HRAI RASD "}]
[{"$f":"IF(AND(AND(NOT('Step 1 ASHP Configuration'!B9=\"New HVAC System\")),AND(B44<B13,B44<>\"\")),\"• Existing ductwork may not be adequately sized for HP system. User should confirm suitability of existing ductwork before system installation.\",\"\")","v":""}]
["Additional Notes"]
["Existing Central Cooling System Or Heat Pump Being Replaced?",{"$f":"'Checks and Reminders'!A12","v":"No"}]
[{"$f":"IF(B47=\"Yes\", \"•If the heat pump being selected exceeds the nominal capacity of the existing air conditioner or heat pump, the user should ensure that the existing electrical panel has a sufficient amperage rating available for the heat pump\",\"•Please assess the existing electrical panel to ensure that a breaker space is available\")","v":"•Please assess the existing electrical panel to ensure that a breaker space is available"}]
["•An upgraded electrical service to the home may be needed"]

{"sheet":"Climate Zones","index":12,"n_rows":1686,"n_cols":24,"rows_kept":1686,"cut":false,"hidden":true,"merged":[[0,10,0,12]]}
["Seq","Country","Region","City","DegDay","Climate Zone","DHDBT","DCDBT",null,null,"DO NOT TOUCH THESE CELLS",null,null,"User Choice","Country","Province","City",null,"A--->Z",null,{"$f":"INDEX($T$2:$T$231,MATCH(FALSE,ISNONTEXT($T$2:$T$231),0))","v":"Ailsa Craig"},{"$f":"U1","v":"Ailsa Craig"},null,"Source: Data for Canadian locations adapted from the Canadian Standards Association, CSA F280-12, \"Determining the required capacity of residential space heating and cooling appliances\"."]
[1,"CAN","AB","Athabasca",6000,"Very-Cold",-35,27,null,null,13,50,null,{"$f":"'Step 3 Design Loads'!B5","v":"CAN"},"CAN",{"$f":"_xlfn.IFNA(LOOKUP(2, 1/((COUNTIF($P$1:P1, $C$2:$C$1686)=0)*($N$2=$B$2:$B$1686)), $C$2:$C$1686),\"\")","v":"YT"},{"$f":"_xlfn.IFNA(LOOKUP(2, 1/((COUNTIF($Q$1:Q1, $D$2:$D$1686)=0)*($N$3=$C$2:$C$1686)), $D$2:$D$1686),\"\")","v":"Wyoming"},{"$f":"IF($N$2=$O$2,K2,IF($N$2=$O$3,L2))","v":13},{"$f":"INDEX($P$2:$P$51,R2)","v":"AB"},{"$f":"IFERROR(INDEX($Q$2:$Q$231,MATCH(ROWS($Q$2:Q2),COUNTIF($Q$2:$Q$231,\"<=\"&$Q$2:$Q$231),0)),0)","v":"Ailsa Craig"},{"$f":"MATCH(U1,T1:T231,0)","v":2},{"$f":"IFERROR(INDEX($T$2:$T$231,U2,1),\"\")","v":"Ajax"},null,"Source: Data for locations in the United States of America adapted from the Canadian Standards Association, CSA EXP-07, \"Energy performance of split-system and single-package air conditioners and heat pumps\"."]
[2,"CAN","AB","Banff",5500,"Very-Cold",-31,27,null,null,{"$f":"K2-1","v":12},{"$f":"L2-1","v":49},null,{"$f":"'Step 3 Design Loads'!B6","v":"ON"},"US",{"$f":"_xlfn.IFNA(LOOKUP(2, 1/((COUNTIF($P$1:P2, $C$2:$C$1686)=0)*($N$2=$B$2:$B$1686)), $C$2:$C$1686),\"\")","v":"SK"},{"$f":"_xlfn.IFNA(LOOKUP(2, 1/((COUNTIF($Q$1:Q2, $D$2:$D$1686)=0)*($N$3=$C$2:$C$1686)), $D$2:$D$1686),\"\")","v":"Woodstock"},{"$f":"IF($N$2=$O$2,K3,IF($N$2=$O$3,L3))","v":12},{"$f":"INDEX($P$2:$P$51,R3)","v":"BC"},{"$f":"IFERROR(INDEX($Q$2:$Q$231,MATCH(ROWS($Q$2:Q3),COUNTIF($Q$2:$Q$231,\"<=\"&$Q$2:$Q$231),0)),0)","v":"Ajax"},{"$f":"U2+1","v":3},{"$f":"IFERROR(INDEX($T$2:$T$231,U3,1),\"\")","v":"Alexandria"},null,"F280 weather data for Spreadsheet project (Interpreted from CSA_F280_Table 5_Final_2012-01-03.xls by Philip Jarrett Environment Canada)"]
[3,"CAN","AB","Barrhead",5740,"Very-Cold",-33,27,null,null,{"$f":"K3-1","v":11},48,null,null,null,{"$f":"_xlfn.IFNA(LOOKUP(2, 1/((COUNTIF($P$1:P3, $C$2:$C$1686)=0)*($N$2=$B$2:$B$1686)), $C$2:$C$1686),\"\")","v":"QC"},{"$f":"_xlfn.IFNA(LOOKUP(2, 1/((COUNTIF($Q$1:Q3, $D$2:$D$1686)=0)*($N$3=$C$2:$C$1686)), $D$2:$D$1686),\"\")","v":"Wingham"},11,"MB",{"$f":"IFERROR(INDEX($Q$2:$Q$231,MATCH(ROWS($Q$2:Q4),COUNTIF($Q$2:$Q$231,\"<=\"&$Q$2:$Q$231),0)),0)","v":"Alexandria"},{"$f":"U3+1","v":4},"Alliston"]
[4,"CAN","AB","Beaverlodge",5700,"Very-Cold",-36,28,null,null,10,47,null,null,null,{"$f":"_xlfn.IFNA(LOOKUP(2, 1/((COUNTIF($P$1:P4, $C$2:$C$1686)=0)*($N$2=$B$2:$B$1686)), $C$2:$C$1686),\"\")","v":"PE"},{"$f":"_xlfn.IFNA(LOOKUP(2, 1/((COUNTIF($Q$1:Q4, $D$2:$D$1686)=0)*($N$3=$C$2:$C$1686)), $D$2:$D$1686),\"\")","v":"Windsor"},10,"NB",{"$f":"IFERROR(INDEX($Q$2:$Q$231,MATCH(ROWS($Q$2:Q5),COUNTIF($Q$2:$Q$231,\"<=\"&$Q$2:$Q$231),0)),0)","v":"Alliston"},5,"Almonte"]
[5,"CAN","AB","Brooks",4880,"Very-Cold",-32,32,null,null,9,46,null,null,null,{"$f":"_xlfn.IFNA(LOOKUP(2, 1/((COUNTIF($P$1:P5, $C$2:$C$1686)=0)*($N$2=$B$2:$B$1686)), $C$2:$C$1686),\"\")","v":"ON"},{"$f":"_xlfn.IFNA(LOOKUP(2, 1/((COUNTIF($Q$1:Q5, $D$2:$D$1686)=0)*($N$3=$C$2:$C$1686)), $D$2:$D$1686),\"\")","v":"Wiarton"},9,"NL",{"$f":"IFERROR(INDEX($Q$2:$Q$231,MATCH(ROWS($Q$2:Q6),COUNTIF($Q$2:$Q$231,\"<=\"&$Q$2:$Q$231),0)),0)","v":"Almonte"},6,"Armstrong"]
[6,"CAN","AB","Calgary",5000,"Very-Cold",-30,28,null,null,8,45,null,null,null,{"$f":"_xlfn.IFNA(LOOKUP(2, 1/((COUNTIF($P$1:P6, $C$2:$C$1686)=0)*($N$2=$B$2:$B$1686)), $C$2:$C$1686),\"\")","v":"NU"},{"$f":"_xlfn.IFNA(LOOKUP(2, 1/((COUNTIF($Q$1:Q6, $D$2:$D$1686)=0)*($N$3=$C$2:$C$1686)), $D$2:$D$1686),\"\")","v":"White River"},8,"NS",{"$f":"IFERROR(INDEX($Q$2:$Q$231,MATCH(ROWS($Q$2:Q7),COUNTIF($Q$2:$Q$231,\"<=\"&$Q$2:$Q$231),0)),0)","v":"Armstrong"},7,"Arnprior"]
[7,"CAN","AB","Campsie",5750,"Very-Cold",-33,27,null,null,7,44,null,null,null,{"$f":"_xlfn.IFNA(LOOKUP(2, 1/((COUNTIF($P$1:P7, $C$2:$C$1686)=0)*($N$2=$B$2:$B$1686)), $C$2:$C$1686),\"\")","v":"NT"},{"$f":"_xlfn.IFNA(LOOKUP(2, 1/((COUNTIF($Q$1:Q7, $D$2:$D$1686)=0)*($N$3=$C$2:$C$1686)), $D$2:$D$1686),\"\")","v":"Whitby (Brooklin)"},7,"NT",{"$f":"IFERROR(INDEX($Q$2:$Q$231,MATCH(ROWS($Q$2:Q8),COUNTIF($Q$2:$Q$231,\"<=\"&$Q$2:$Q$231),0)),0)","v":"Arnprior"},8,"Atikokan"]
[8,"CAN","AB","Camrose",5500,"Very-Cold",-33,29,null,null,6,43,null,null,null,{"$f":"_xlfn.IFNA(LOOKUP(2, 1/((COUNTIF($P$1:P8, $C$2:$C$1686)=0)*($N$2=$B$2:$B$1686)), $C$2:$C$1686),\"\")","v":"NS"},{"$f":"_xlfn.IFNA(LOOKUP(2, 1/((COUNTIF($Q$1:Q8, $D$2:$D$1686)=0)*($N$3=$C$2:$C$1686)), $D$2:$D$1686),\"\")","v":"Whitby"},6,"NU",{"$f":"IFERROR(INDEX($Q$2:$Q$231,MATCH(ROWS($Q$2:Q9),COUNTIF($Q$2:$Q$231,\"<=\"&$Q$2:$Q$231),0)),0)","v":"Atikokan"},9,"Attawapiskat"]
[9,"CAN","AB","Canmore",5400,"Very-Cold",-31,28,null,null,5,42,null,null,null,{"$f":"_xlfn.IFNA(LOOKUP(2, 1/((COUNTIF($P$1:P9, $C$2:$C$1686)=0)*($N$2=$B$2:$B$1686)), $C$2:$C$1686),\"\")","v":"NL"},{"$f":"_xlfn.IFNA(LOOKUP(2, 1/((COUNTIF($Q$1:Q9, $D$2:$D$1686)=0)*($N$3=$C$2:$C$1686)), $D$2:$D$1686),\"\")","v":"West Lorne"},5,"ON",{"$f":"IFERROR(INDEX($Q$2:$Q$231,MATCH(ROWS($Q$2:Q10),COUNTIF($Q$2:$Q$231,\"<=\"&$Q$2:$Q$231),0)),0)","v":"Attawapiskat"},10,"Aurora"]
[10,"CAN","AB","Cardston",4700,"Very-Cold",-29,30,null,null,4,41,null,null,null,{"$f":"_xlfn.IFNA(LOOKUP(2, 1/((COUNTIF($P$1:P10, $C$2:$C$1686)=0)*($N$2=$B$2:$B$1686)), $C$2:$C$1686),\"\")","v":"NB"},{"$f":"_xlfn.IFNA(LOOKUP(2, 1/((COUNTIF($Q$1:Q10, $D$2:$D$1686)=0)*($N$3=$C$2:$C$1686)), $D$2:$D$1686),\"\")","v":"Welland"},4,"PE",{"$f":"IFERROR(INDEX($Q$2:$Q$231,MATCH(ROWS($Q$2:Q11),COUNTIF($Q$2:$Q$231,\"<=\"&$Q$2:$Q$231),0)),0)","v":"Aurora"},11,"Bancroft"]
[11,"CAN","AB","Claresholm",4680,"Very-Cold",-30,30,null,null,3,40,null,null,null,{"$f":"_xlfn.IFNA(LOOKUP(2, 1/((COUNTIF($P$1:P11, $C$2:$C$1686)=0)*($N$2=$B$2:$B$1686)), $C$2:$C$1686),\"\")","v":"MB"},{"$f":"_xlfn.IFNA(LOOKUP(2, 1/((COUNTIF($Q$1:Q11, $D$2:$D$1686)=0)*($N$3=$C$2:$C$1686)), $D$2:$D$1686),\"\")","v":"Wawa"},3,"QC",{"$f":"IFERROR(INDEX($Q$2:$Q$231,MATCH(ROWS($Q$2:Q12),COUNTIF($Q$2:$Q$231,\"<=\"&$Q$2:$Q$231),0)),0)","v":"Bancroft"},12,"Barrie"]
[12,"CAN","AB","Cold Lake",5860,"Very-Cold",-35,28,null,null,2,39,null,null,null,{"$f":"_xlfn.IFNA(LOOKUP(2, 1/((COUNTIF($P$1:P12, $C$2:$C$1686)=0)*($N$2=$B$2:$B$1686)), $C$2:$C$1686),\"\")","v":"BC"},{"$f":"_xlfn.IFNA(LOOKUP(2, 1/((COUNTIF($Q$1:Q12, $D$2:$D$1686)=0)*($N$3=$C$2:$C$1686)), $D$2:$D$1686),\"\")","v":"Watford"},2,"SK",{"$f":"IFERROR(INDEX($Q$2:$Q$231,MATCH(ROWS($Q$2:Q13),COUNTIF($Q$2:$Q$231,\"<=\"&$Q$2:$Q$231),0)),0)","v":"Barrie"},13,"Barriefield"]
[13,"CAN","AB","Coleman",5210,"Very-Cold",-31,29,null,null,1,38,null,null,null,{"$f":"_xlfn.IFNA(LOOKUP(2, 1/((COUNTIF($P$1:P13, $C$2:$C$1686)=0)*($N$2=$B$2:$B$1686)), $C$2:$C$1686),\"\")","v":"AB"},{"$f":"_xlfn.IFNA(LOOKUP(2, 1/((COUNTIF($Q$1:Q13, $D$2:$D$1686)=0)*($N$3=$C$2:$C$1686)), $D$2:$D$1686),\"\")","v":"Waterloo"},1,"YT",{"$f":"IFERROR(INDEX($Q$2:$Q$231,MATCH(ROWS($Q$2:Q14),COUNTIF($Q$2:$Q$231,\"<=\"&$Q$2:$Q$231),0)),0)","v":"Barriefield"},14,"Beaverton"]
[14,"CAN","AB","Coronation",5640,"Very-Cold",-32,30,null,null,0,37,null,null,null,{"$f":"_xlfn.IFNA(LOOKUP(2, 1/((COUNTIF($P$1:P14, $C$2:$C$1686)=0)*($N$2=$B$2:$B$1686)), $C$2:$C$1686),\"\")","v":""},{"$f":"_xlfn.IFNA(LOOKUP(2, 1/((COUNTIF($Q$1:Q14, $D$2:$D$1686)=0)*($N$3=$C$2:$C$1686)), $D$2:$D$1686),\"\")","v":"Wallaceburg"},0,"",{"$f":"IFERROR(INDEX($Q$2:$Q$231,MATCH(ROWS($Q$2:Q15),COUNTIF($Q$2:$Q$231,\"<=\"&$Q$2:$Q$231),0)),0)","v":"Beaverton"},15,"Belleville"]
[15,"CAN","AB","Cowley",4810,"Very-Cold",-29,29,null,null,0,36,null,null,null,{"$f":"_xlfn.IFNA(LOOKUP(2, 1/((COUNTIF($P$1:P15, $C$2:$C$1686)=0)*($N$2=$B$2:$B$1686)), $C$2:$C$1686),\"\")","v":""},{"$f":"_xlfn.IFNA(LOOKUP(2, 1/((COUNTIF($Q$1:Q15, $D$2:$D$1686)=0)*($N$3=$C$2:$C$1686)), $D$2:$D$1686),\"\")","v":"Walkerton"},0,"",{"$f":"IFERROR(INDEX($Q$2:$Q$231,MATCH(ROWS($Q$2:Q16),COUNTIF($Q$2:$Q$231,\"<=\"&$Q$2:$Q$231),0)),0)","v":"Belleville"},16,"Belmont"]
[16,"CAN","AB","Drumheller",5050,"Very-Cold",-32,30,null,null,0,35,null,null,null,{"$f":"_xlfn.IFNA(LOOKUP(2, 1/((COUNTIF($P$1:P16, $C$2:$C$1686)=0)*($N$2=$B$2:$B$1686)), $C$2:$C$1686),\"\")","v":""},{"$f":"_xlfn.IFNA(LOOKUP(2, 1/((COUNTIF($Q$1:Q16, $D$2:$D$1686)=0)*($N$3=$C$2:$C$1686)), $D$2:$D$1686),\"\")","v":"Vittoria"},0,"",{"$f":"IFERROR(INDEX($Q$2:$Q$231,MATCH(ROWS($Q$2:Q17),COUNTIF($Q$2:$Q$231,\"<=\"&$Q$2:$Q$231),0)),0)","v":"Belmont"},17,"Bracebridge"]
[17,"CAN","AB","Edmonton",5120,"Very-Cold",-30,28,null,null,0,34,null,null,null,{"$f":"_xlfn.IFNA(LOOKUP(2, 1/((COUNTIF($P$1:P17, $C$2:$C$1686)=0)*($N$2=$B$2:$B$1686)), $C$2:$C$1686),\"\")","v":""},{"$f":"_xlfn.IFNA(LOOKUP(2, 1/((COUNTIF($Q$1:Q17, $D$2:$D$1686)=0)*($N$3=$C$2:$C$1686)), $D$2:$D$1686),\"\")","v":"Vaughan (Woodbridge)"},0,"",{"$f":"IFERROR(INDEX($Q$2:$Q$231,MATCH(ROWS($Q$2:Q18),COUNTIF($Q$2:$Q$231,\"<=\"&$Q$2:$Q$231),0)),0)","v":"Bracebridge"},18,"Bradford"]
[18,"CAN","AB","Edson",5750,"Very-Cold",-34,27,null,null,0,33,null,null,null,{"$f":"_xlfn.IFNA(LOOKUP(2, 1/((COUNTIF($P$1:P18, $C$2:$C$1686)=0)*($N$2=$B$2:$B$1686)), $C$2:$C$1686),\"\")","v":""},{"$f":"_xlfn.IFNA(LOOKUP(2, 1/((COUNTIF($Q$1:Q18, $D$2:$D$1686)=0)*($N$3=$C$2:$C$1686)), $D$2:$D$1686),\"\")","v":"Uxbridge"},0,"",{"$f":"IFERROR(INDEX($Q$2:$Q$231,MATCH(ROWS($Q$2:Q19),COUNTIF($Q$2:$Q$231,\"<=\"&$Q$2:$Q$231),0)),0)","v":"Bradford"},19,"Brampton"]
[19,"CAN","AB","Embarras Portage",7100,"Subarctic",-41,28,null,null,0,{"$f":"L19-1","v":32},null,null,null,{"$f":"_xlfn.IFNA(LOOKUP(2, 1/((COUNTIF($P$1:P19, $C$2:$C$1686)=0)*($N$2=$B$2:$B$1686)), $C$2:$C$1686),\"\")","v":""},{"$f":"_xlfn.IFNA(LOOKUP(2, 1/((COUNTIF($Q$1:Q19, $D$2:$D$1686)=0)*($N$3=$C$2:$C$1686)), $D$2:$D$1686),\"\")","v":"Trout Creek"},0,"",{"$f":"IFERROR(INDEX($Q$2:$Q$231,MATCH(ROWS($Q$2:Q20),COUNTIF($Q$2:$Q$231,\"<=\"&$Q$2:$Q$231),0)),0)","v":"Brampton"},20,"Brantford"]
[20,"CAN","AB","Fairview",5840,"Very-Cold",-37,27,null,null,0,31,null,null,null,{"$f":"_xlfn.IFNA(LOOKUP(2, 1/((COUNTIF($P$1:P20, $C$2:$C$1686)=0)*($N$2=$B$2:$B$1686)), $C$2:$C$1686),\"\")","v":""},{"$f":"_xlfn.IFNA(LOOKUP(2, 1/((COUNTIF($Q$1:Q20, $D$2:$D$1686)=0)*($N$3=$C$2:$C$1686)), $D$2:$D$1686),\"\")","v":"Trenton"},0,"",{"$f":"IFERROR(INDEX($Q$2:$Q$231,MATCH(ROWS($Q$2:Q21),COUNTIF($Q$2:$Q$231,\"<=\"&$Q$2:$Q$231),0)),0)","v":"Brantford"},21,"Brighton"]
[21,"CAN","AB","Fort MacLeod",4600,"Very-Cold",-30,31,null,null,0,30,null,null,null,{"$f":"_xlfn.IFNA(LOOKUP(2, 1/((COUNTIF($P$1:P21, $C$2:$C$1686)=0)*($N$2=$B$2:$B$1686)), $C$2:$C$1686),\"\")","v":""},{"$f":"_xlfn.IFNA(LOOKUP(2, 1/((COUNTIF($Q$1:Q21, $D$2:$D$1686)=0)*($N$3=$C$2:$C$1686)), $D$2:$D$1686),\"\")","v":"Toronto (city hall)"},0,"",{"$f":"IFERROR(INDEX($Q$2:$Q$231,MATCH(ROWS($Q$2:Q22),COUNTIF($Q$2:$Q$231,\"<=\"&$Q$2:$Q$231),0)),0)","v":"Brighton"},22,"Brockville"]
[22,"CAN","AB","Fort McMurray",6250,"Very-Cold",-38,28,null,null,0,29,null,null,null,{"$f":"_xlfn.IFNA(LOOKUP(2, 1/((COUNTIF($P$1:P22, $C$2:$C$1686)=0)*($N$2=$B$2:$B$1686)), $C$2:$C$1686),\"\")","v":""},{"$f":"_xlfn.IFNA(LOOKUP(2, 1/((COUNTIF($Q$1:Q22, $D$2:$D$1686)=0)*($N$3=$C$2:$C$1686)), $D$2:$D$1686),\"\")","v":"Timmins (Porcupine)"},0,"",{"$f":"IFERROR(INDEX($Q$2:$Q$231,MATCH(ROWS($Q$2:Q23),COUNTIF($Q$2:$Q$231,\"<=\"&$Q$2:$Q$231),0)),0)","v":"Brockville"},23,"Burk's Falls"]
[23,"CAN","AB","Fort Saskatchewan",5420,"Very-Cold",-32,28,null,null,0,28,null,null,null,{"$f":"_xlfn.IFNA(LOOKUP(2, 1/((COUNTIF($P$1:P23, $C$2:$C$1686)=0)*($N$2=$B$2:$B$1686)), $C$2:$C$1686),\"\")","v":""},{"$f":"_xlfn.IFNA(LOOKUP(2, 1/((COUNTIF($Q$1:Q23, $D$2:$D$1686)=0)*($N$3=$C$2:$C$1686)), $D$2:$D$1686),\"\")","v":"Timmins"},0,"",{"$f":"IFERROR(INDEX($Q$2:$Q$231,MATCH(ROWS($Q$2:Q24),COUNTIF($Q$2:$Q$231,\"<=\"&$Q$2:$Q$231),0)),0)","v":"Burk's Falls"},24,"Burlington"]
[24,"CAN","AB","Fort Vermilion",6700,"Subarctic",-41,28,null,null,0,27,null,null,null,{"$f":"_xlfn.IFNA(LOOKUP(2, 1/((COUNTIF($P$1:P24, $C$2:$C$1686)=0)*($N$2=$B$2:$B$1686)), $C$2:$C$1686),\"\")","v":""},{"$f":"_xlfn.IFNA(LOOKUP(2, 1/((COUNTIF($Q$1:Q24, $D$2:$D$1686)=0)*($N$3=$C$2:$C$1686)), $D$2:$D$1686),\"\")","v":"Tillsonburg"},0,"",{"$f":"IFERROR(INDEX($Q$2:$Q$231,MATCH(ROWS($Q$2:Q25),COUNTIF($Q$2:$Q$231,\"<=\"&$Q$2:$Q$231),0)),0)","v":"Burlington"},25,"Cambridge"]
[25,"CAN","AB","Grande Prairie",5790,"Very-Cold",-36,27,null,null,0,26,null,null,null,{"$f":"_xlfn.IFNA(LOOKUP(2, 1/((COUNTIF($P$1:P25, $C$2:$C$1686)=0)*($N$2=$B$2:$B$1686)), $C$2:$C$1686),\"\")","v":""},{"$f":"_xlfn.IFNA(LOOKUP(2, 1/((COUNTIF($Q$1:Q25, $D$2:$D$1686)=0)*($N$3=$C$2:$C$1686)), $D$2:$D$1686),\"\")","v":"Thunder Bay"},0,"",{"$f":"IFERROR(INDEX($Q$2:$Q$231,MATCH(ROWS($Q$2:Q26),COUNTIF($Q$2:$Q$231,\"<=\"&$Q$2:$Q$231),0)),0)","v":"Cambridge"},26,"Campbellford"]
[26,"CAN","AB","Habay",6750,"Subarctic",-41,28,null,null,0,25,null,null,null,{"$f":"_xlfn.IFNA(LOOKUP(2, 1/((COUNTIF($P$1:P26, $C$2:$C$1686)=0)*($N$2=$B$2:$B$1686)), $C$2:$C$1686),\"\")","v":""},{"$f":"_xlfn.IFNA(LOOKUP(2, 1/((COUNTIF($Q$1:Q26, $D$2:$D$1686)=0)*($N$3=$C$2:$C$1686)), $D$2:$D$1686),\"\")","v":"Thedford"},0,"",{"$f":"IFERROR(INDEX($Q$2:$Q$231,MATCH(ROWS($Q$2:Q27),COUNTIF($Q$2:$Q$231,\"<=\"&$Q$2:$Q$231),0)),0)","v":"Campbellford"},27,"Cannington"]
[27,"CAN","AB","Hardisty",5640,"Very-Cold",-33,30,null,null,0,24,null,null,null,{"$f":"_xlfn.IFNA(LOOKUP(2, 1/((COUNTIF($P$1:P27, $C$2:$C$1686)=0)*($N$2=$B$2:$B$1686)), $C$2:$C$1686),\"\")","v":""},{"$f":"_xlfn.IFNA(LOOKUP(2, 1/((COUNTIF($Q$1:Q27, $D$2:$D$1686)=0)*($N$3=$C$2:$C$1686)), $D$2:$D$1686),\"\")","v":"Thamesford"},0,"",{"$f":"IFERROR(INDEX($Q$2:$Q$231,MATCH(ROWS($Q$2:Q28),COUNTIF($Q$2:$Q$231,\"<=\"&$Q$2:$Q$231),0)),0)","v":"Cannington"},28,"Carleton Place"]
[28,"CAN","AB","High River",4900,"Very-Cold",-31,28,null,null,0,23,null,null,null,{"$f":"_xlfn.IFNA(LOOKUP(2, 1/((COUNTIF($P$1:P28, $C$2:$C$1686)=0)*($N$2=$B$2:$B$1686)), $C$2:$C$1686),\"\")","v":""},{"$f":"_xlfn.IFNA(LOOKUP(2, 1/((COUNTIF($Q$1:Q28, $D$2:$D$1686)=0)*($N$3=$C$2:$C$1686)), $D$2:$D$1686),\"\")","v":"Temagami"},0,"",{"$f":"IFERROR(INDEX($Q$2:$Q$231,MATCH(ROWS($Q$2:Q29),COUNTIF($Q$2:$Q$231,\"<=\"&$Q$2:$Q$231),0)),0)","v":"Carleton Place"},29,"Cavan"]
[29,"CAN","AB","Hinton",5500,"Very-Cold",-34,27,null,null,0,22,null,null,null,{"$f":"_xlfn.IFNA(LOOKUP(2, 1/((COUNTIF($P$1:P29, $C$2:$C$1686)=0)*($N$2=$B$2:$B$1686)), $C$2:$C$1686),\"\")","v":""},{"$f":"_xlfn.IFNA(LOOKUP(2, 1/((COUNTIF($Q$1:Q29, $D$2:$D$1686)=0)*($N$3=$C$2:$C$1686)), $D$2:$D$1686),\"\")","v":"Tavistock"},0,"",{"$f":"IFERROR(INDEX($Q$2:$Q$231,MATCH(ROWS($Q$2:Q30),COUNTIF($Q$2:$Q$231,\"<=\"&$Q$2:$Q$231),0)),0)","v":"Cavan"},30,"Centralia"]
[30,"CAN","AB","Jasper",5300,"Very-Cold",-31,28,null,null,0,21,null,null,null,{"$f":"_xlfn.IFNA(LOOKUP(2, 1/((COUNTIF($P$1:P30, $C$2:$C$1686)=0)*($N$2=$B$2:$B$1686)), $C$2:$C$1686),\"\")","v":""},{"$f":"_xlfn.IFNA(LOOKUP(2, 1/((COUNTIF($Q$1:Q30, $D$2:$D$1686)=0)*($N$3=$C$2:$C$1686)), $D$2:$D$1686),\"\")","v":"Sundridge"},0,"",{"$f":"IFERROR(INDEX($Q$2:$Q$231,MATCH(ROWS($Q$2:Q31),COUNTIF($Q$2:$Q$231,\"<=\"&$Q$2:$Q$231),0)),0)","v":"Centralia"},31,"CFB Borden"]
[31,"CAN","AB","Keg River",6520,"Subarctic",-40,28,null,null,0,20,null,null,null,{"$f":"_xlfn.IFNA(LOOKUP(2, 1/((COUNTIF($P$1:P31, $C$2:$C$1686)=0)*($N$2=$B$2:$B$1686)), $C$2:$C$1686),\"\")","v":""},{"$f":"_xlfn.IFNA(LOOKUP(2, 1/((COUNTIF($Q$1:Q31, $D$2:$D$1686)=0)*($N$3=$C$2:$C$1686)), $D$2:$D$1686),\"\")","v":"Sudbury"},0,"",{"$f":"IFERROR(INDEX($Q$2:$Q$231,MATCH(ROWS($Q$2:Q32),COUNTIF($Q$2:$Q$231,\"<=\"&$Q$2:$Q$231),0)),0)","v":"CFB Borden"},32,"Chapleau"]
[32,"CAN","AB","Lac la Biche",6100,"Very-Cold",-35,28,null,null,0,19,null,null,null,{"$f":"_xlfn.IFNA(LOOKUP(2, 1/((COUNTIF($P$1:P32, $C$2:$C$1686)=0)*($N$2=$B$2:$B$1686)), $C$2:$C$1686),\"\")","v":""},{"$f":"_xlfn.IFNA(LOOKUP(2, 1/((COUNTIF($Q$1:Q32, $D$2:$D$1686)=0)*($N$3=$C$2:$C$1686)), $D$2:$D$1686),\"\")","v":"Sturgeon Falls"},0,"",{"$f":"IFERROR(INDEX($Q$2:$Q$231,MATCH(ROWS($Q$2:Q33),COUNTIF($Q$2:$Q$231,\"<=\"&$Q$2:$Q$231),0)),0)","v":"Chapleau"},33,"Chatham"]
[33,"CAN","AB","Lacombe",5500,"Very-Cold",-33,28,null,null,0,18,null,null,null,{"$f":"_xlfn.IFNA(LOOKUP(2, 1/((COUNTIF($P$1:P33, $C$2:$C$1686)=0)*($N$2=$B$2:$B$1686)), $C$2:$C$1686),\"\")","v":""},{"$f":"_xlfn.IFNA(LOOKUP(2, 1/((COUNTIF($Q$1:Q33, $D$2:$D$1686)=0)*($N$3=$C$2:$C$1686)), $D$2:$D$1686),\"\")","v":"Strathroy"},0,"",{"$f":"IFERROR(INDEX($Q$2:$Q$231,MATCH(ROWS($Q$2:Q34),COUNTIF($Q$2:$Q$231,\"<=\"&$Q$2:$Q$231),0)),0)","v":"Chatham"},34,"Chesley"]
[34,"CAN","AB","Lethbridge",4500,"Very-Cold",-30,31,null,null,0,17,null,null,null,{"$f":"_xlfn.IFNA(LOOKUP(2, 1/((COUNTIF($P$1:P34, $C$2:$C$1686)=0)*($N$2=$B$2:$B$1686)), $C$2:$C$1686),\"\")","v":""},{"$f":"_xlfn.IFNA(LOOKUP(2, 1/((COUNTIF($Q$1:Q34, $D$2:$D$1686)=0)*($N$3=$C$2:$C$1686)), $D$2:$D$1686),\"\")","v":"Stratford"},0,"",{"$f":"IFERROR(INDEX($Q$2:$Q$231,MATCH(ROWS($Q$2:Q35),COUNTIF($Q$2:$Q$231,\"<=\"&$Q$2:$Q$231),0)),0)","v":"Chesley"},35,"Clinton"]
[35,"CAN","AB","Manning",6300,"Very-Cold",-39,27,null,null,0,16,null,null,null,{"$f":"_xlfn.IFNA(LOOKUP(2, 1/((COUNTIF($P$1:P35, $C$2:$C$1686)=0)*($N$2=$B$2:$B$1686)), $C$2:$C$1686),\"\")","v":""},{"$f":"_xlfn.IFNA(LOOKUP(2, 1/((COUNTIF($Q$1:Q35, $D$2:$D$1686)=0)*($N$3=$C$2:$C$1686)), $D$2:$D$1686),\"\")","v":"Stirling"},0,"",{"$f":"IFERROR(INDEX($Q$2:$Q$231,MATCH(ROWS($Q$2:Q36),COUNTIF($Q$2:$Q$231,\"<=\"&$Q$2:$Q$231),0)),0)","v":"Clinton"},36,"Coboconk"]
[36,"CAN","AB","Medicine Hat",4540,"Very-Cold",-31,32,null,null,0,15,null,null,null,{"$f":"_xlfn.IFNA(LOOKUP(2, 1/((COUNTIF($P$1:P36, $C$2:$C$1686)=0)*($N$2=$B$2:$B$1686)), $C$2:$C$1686),\"\")","v":""},{"$f":"_xlfn.IFNA(LOOKUP(2, 1/((COUNTIF($Q$1:Q36, $D$2:$D$1686)=0)*($N$3=$C$2:$C$1686)), $D$2:$D$1686),\"\")","v":"St. Thomas"},0,"",{"$f":"IFERROR(INDEX($Q$2:$Q$231,MATCH(ROWS($Q$2:Q37),COUNTIF($Q$2:$Q$231,\"<=\"&$Q$2:$Q$231),0)),0)","v":"Coboconk"},37,"Cobourg"]
[37,"CAN","AB","Peace River",6050,"Very-Cold",-37,27,null,null,0,14,null,null,null,{"$f":"_xlfn.IFNA(LOOKUP(2, 1/((COUNTIF($P$1:P37, $C$2:$C$1686)=0)*($N$2=$B$2:$B$1686)), $C$2:$C$1686),\"\")","v":""},{"$f":"_xlfn.IFNA(LOOKUP(2, 1/((COUNTIF($Q$1:Q37, $D$2:$D$1686)=0)*($N$3=$C$2:$C$1686)), $D$2:$D$1686),\"\")","v":"St. Mary's"},0,"",{"$f":"IFERROR(INDEX($Q$2:$Q$231,MATCH(ROWS($Q$2:Q38),COUNTIF($Q$2:$Q$231,\"<=\"&$Q$2:$Q$231),0)),0)","v":"Cobourg"},38,"Cochrane"]
[38,"CAN","AB","Pincher Creek",4740,"Very-Cold",-29,29,null,null,0,13,null,null,null,{"$f":"_xlfn.IFNA(LOOKUP(2, 1/((COUNTIF($P$1:P38, $C$2:$C$1686)=0)*($N$2=$B$2:$B$1686)), $C$2:$C$1686),\"\")","v":""},{"$f":"_xlfn.IFNA(LOOKUP(2, 1/((COUNTIF($Q$1:Q38, $D$2:$D$1686)=0)*($N$3=$C$2:$C$1686)), $D$2:$D$1686),\"\")","v":"St. Catharines"},0,"",{"$f":"IFERROR(INDEX($Q$2:$Q$231,MATCH(ROWS($Q$2:Q39),COUNTIF($Q$2:$Q$231,\"<=\"&$Q$2:$Q$231),0)),0)","v":"Cochrane"},39,"Colborne"]
[39,"CAN","AB","Ranfurly",5700,"Very-Cold",-34,29,null,null,0,12,null,null,null,{"$f":"_xlfn.IFNA(LOOKUP(2, 1/((COUNTIF($P$1:P39, $C$2:$C$1686)=0)*($N$2=$B$2:$B$1686)), $C$2:$C$1686),\"\")","v":""},{"$f":"_xlfn.IFNA(LOOKUP(2, 1/((COUNTIF($Q$1:Q39, $D$2:$D$1686)=0)*($N$3=$C$2:$C$1686)), $D$2:$D$1686),\"\")","v":"Southampton"},0,"",{"$f":"IFERROR(INDEX($Q$2:$Q$231,MATCH(ROWS($Q$2:Q40),COUNTIF($Q$2:$Q$231,\"<=\"&$Q$2:$Q$231),0)),0)","v":"Colborne"},40,"Collingwood"]
[40,"CAN","AB","Red Deer",5550,"Very-Cold",-32,28,null,null,0,11,null,null,null,{"$f":"_xlfn.IFNA(LOOKUP(2, 1/((COUNTIF($P$1:P40, $C$2:$C$1686)=0)*($N$2=$B$2:$B$1686)), $C$2:$C$1686),\"\")","v":""},{"$f":"_xlfn.IFNA(LOOKUP(2, 1/((COUNTIF($Q$1:Q40, $D$2:$D$1686)=0)*($N$3=$C$2:$C$1686)), $D$2:$D$1686),\"\")","v":"South River"},0,"",{"$f":"IFERROR(INDEX($Q$2:$Q$231,MATCH(ROWS($Q$2:Q41),COUNTIF($Q$2:$Q$231,\"<=\"&$Q$2:$Q$231),0)),0)","v":"Collingwood"},41,"Cornwall"]
[41,"CAN","AB","Rocky Mountain House",5640,"Very-Cold",-32,27,null,null,0,10,null,null,null,{"$f":"_xlfn.IFNA(LOOKUP(2, 1/((COUNTIF($P$1:P41, $C$2:$C$1686)=0)*($N$2=$B$2:$B$1686)), $C$2:$C$1686),\"\")","v":""},{"$f":"_xlfn.IFNA(LOOKUP(2, 1/((COUNTIF($Q$1:Q41, $D$2:$D$1686)=0)*($N$3=$C$2:$C$1686)), $D$2:$D$1686),\"\")","v":"Smooth Rock Falls"},0,"",{"$f":"IFERROR(INDEX($Q$2:$Q$231,MATCH(ROWS($Q$2:Q42),COUNTIF($Q$2:$Q$231,\"<=\"&$Q$2:$Q$231),0)),0)","v":"Cornwall"},42,"Corunna"]
[42,"CAN","AB","Slave Lake",5850,"Very-Cold",-35,26,null,null,0,9,null,null,null,{"$f":"_xlfn.IFNA(LOOKUP(2, 1/((COUNTIF($P$1:P42, $C$2:$C$1686)=0)*($N$2=$B$2:$B$1686)), $C$2:$C$1686),\"\")","v":""},{"$f":"_xlfn.IFNA(LOOKUP(2, 1/((COUNTIF($Q$1:Q42, $D$2:$D$1686)=0)*($N$3=$C$2:$C$1686)), $D$2:$D$1686),\"\")","v":"Smithville"},0,"",{"$f":"IFERROR(INDEX($Q$2:$Q$231,MATCH(ROWS($Q$2:Q43),COUNTIF($Q$2:$Q$231,\"<=\"&$Q$2:$Q$231),0)),0)","v":"Corunna"},43,"Deep River"]
[43,"CAN","AB","Stettler",5300,"Very-Cold",-32,30,null,null,0,8,null,null,null,{"$f":"_xlfn.IFNA(LOOKUP(2, 1/((COUNTIF($P$1:P43, $C$2:$C$1686)=0)*($N$2=$B$2:$B$1686)), $C$2:$C$1686),\"\")","v":""},{"$f":"_xlfn.IFNA(LOOKUP(2, 1/((COUNTIF($Q$1:Q43, $D$2:$D$1686)=0)*($N$3=$C$2:$C$1686)), $D$2:$D$1686),\"\")","v":"Smiths Falls"},0,"",{"$f":"IFERROR(INDEX($Q$2:$Q$231,MATCH(ROWS($Q$2:Q44),COUNTIF($Q$2:$Q$231,\"<=\"&$Q$2:$Q$231),0)),0)","v":"Deep River"},44,"Deseronto"]
[44,"CAN","AB","Stony Plain",5300,"Very-Cold",-32,28,null,null,0,7,null,null,null,{"$f":"_xlfn.IFNA(LOOKUP(2, 1/((COUNTIF($P$1:P44, $C$2:$C$1686)=0)*($N$2=$B$2:$B$1686)), $C$2:$C$1686),\"\")","v":""},{"$f":"_xlfn.IFNA(LOOKUP(2, 1/((COUNTIF($Q$1:Q44, $D$2:$D$1686)=0)*($N$3=$C$2:$C$1686)), $D$2:$D$1686),\"\")","v":"Sioux Lookout"},0,"",{"$f":"IFERROR(INDEX($Q$2:$Q$231,MATCH(ROWS($Q$2:Q45),COUNTIF($Q$2:$Q$231,\"<=\"&$Q$2:$Q$231),0)),0)","v":"Deseronto"},45,"Dorchester"]
[45,"CAN","AB","Suffield",4770,"Very-Cold",-31,32,null,null,0,6,null,null,null,{"$f":"_xlfn.IFNA(LOOKUP(2, 1/((COUNTIF($P$1:P45, $C$2:$C$1686)=0)*($N$2=$B$2:$B$1686)), $C$2:$C$1686),\"\")","v":""},{"$f":"_xlfn.IFNA(LOOKUP(2, 1/((COUNTIF($Q$1:Q45, $D$2:$D$1686)=0)*($N$3=$C$2:$C$1686)), $D$2:$D$1686),\"\")","v":"Simcoe"},0,"",{"$f":"IFERROR(INDEX($Q$2:$Q$231,MATCH(ROWS($Q$2:Q46),COUNTIF($Q$2:$Q$231,\"<=\"&$Q$2:$Q$231),0)),0)","v":"Dorchester"},46,"Dorion"]
[46,"CAN","AB","Taber",4580,"Very-Cold",-31,31,null,null,0,5,null,null,null,{"$f":"_xlfn.IFNA(LOOKUP(2, 1/((COUNTIF($P$1:P46, $C$2:$C$1686)=0)*($N$2=$B$2:$B$1686)), $C$2:$C$1686),\"\")","v":""},{"$f":"_xlfn.IFNA(LOOKUP(2, 1/((COUNTIF($Q$1:Q46, $D$2:$D$1686)=0)*($N$3=$C$2:$C$1686)), $D$2:$D$1686),\"\")","v":"Shelburne"},0,"",{"$f":"IFERROR(INDEX($Q$2:$Q$231,MATCH(ROWS($Q$2:Q47),COUNTIF($Q$2:$Q$231,\"<=\"&$Q$2:$Q$231),0)),0)","v":"Dorion"},47,"Dresden"]
[47,"CAN","AB","Turner Valley",5220,"Very-Cold",-31,28,null,null,0,4,null,null,null,{"$f":"_xlfn.IFNA(LOOKUP(2, 1/((COUNTIF($P$1:P47, $C$2:$C$1686)=0)*($N$2=$B$2:$B$1686)), $C$2:$C$1686),\"\")","v":""},{"$f":"_xlfn.IFNA(LOOKUP(2, 1/((COUNTIF($Q$1:Q47, $D$2:$D$1686)=0)*($N$3=$C$2:$C$1686)), $D$2:$D$1686),\"\")","v":"Seaforth"},0,"",{"$f":"IFERROR(INDEX($Q$2:$Q$231,MATCH(ROWS($Q$2:Q48),COUNTIF($Q$2:$Q$231,\"<=\"&$Q$2:$Q$231),0)),0)","v":"Dresden"},48,"Dryden"]
[48,"CAN","AB","Valleyview",5600,"Very-Cold",-37,27,null,null,0,3,null,null,null,{"$f":"_xlfn.IFNA(LOOKUP(2, 1/((COUNTIF($P$1:P48, $C$2:$C$1686)=0)*($N$2=$B$2:$B$1686)), $C$2:$C$1686),\"\")","v":""},{"$f":"_xlfn.IFNA(LOOKUP(2, 1/((COUNTIF($Q$1:Q48, $D$2:$D$1686)=0)*($N$3=$C$2:$C$1686)), $D$2:$D$1686),\"\")","v":"Schreiber"},0,"",{"$f":"IFERROR(INDEX($Q$2:$Q$231,MATCH(ROWS($Q$2:Q49),COUNTIF($Q$2:$Q$231,\"<=\"&$Q$2:$Q$231),0)),0)","v":"Dryden"},49,"Dundalk"]
[49,"CAN","AB","Vegreville",5780,"Very-Cold",-34,29,null,null,0,2,null,null,null,{"$f":"_xlfn.IFNA(LOOKUP(2, 1/((COUNTIF($P$1:P49, $C$2:$C$1686)=0)*($N$2=$B$2:$B$1686)), $C$2:$C$1686),\"\")","v":""},{"$f":"_xlfn.IFNA(LOOKUP(2, 1/((COUNTIF($Q$1:Q49, $D$2:$D$1686)=0)*($N$3=$C$2:$C$1686)), $D$2:$D$1686),\"\")","v":"Scarborough"},0,"",{"$f":"IFERROR(INDEX($Q$2:$Q$231,MATCH(ROWS($Q$2:Q50),COUNTIF($Q$2:$Q$231,\"<=\"&$Q$2:$Q$231),0)),0)","v":"Dundalk"},50,"Dunnville"]
[50,"CAN","AB","Vermilion",5740,"Very-Cold",-35,29,null,null,0,{"$f":"L50-1","v":1},null,null,null,{"$f":"_xlfn.IFNA(LOOKUP(2, 1/((COUNTIF($P$1:P50, $C$2:$C$1686)=0)*($N$2=$B$2:$B$1686)), $C$2:$C$1686),\"\")","v":""},{"$f":"_xlfn.IFNA(LOOKUP(2, 1/((COUNTIF($Q$1:Q50, $D$2:$D$1686)=0)*($N$3=$C$2:$C$1686)), $D$2:$D$1686),\"\")","v":"Sault Ste. Marie"},0,"",{"$f":"IFERROR(INDEX($Q$2:$Q$231,MATCH(ROWS($Q$2:Q51),COUNTIF($Q$2:$Q$231,\"<=\"&$Q$2:$Q$231),0)),0)","v":"Dunnville"},51,"Durham"]
[51,"CAN","AB","Wagner",5850,"Very-Cold",-35,26,null,null,null,null,null,null,null,{"$f":"_xlfn.IFNA(LOOKUP(2, 1/((COUNTIF($P$1:P51, $C$2:$C$1686)=0)*($N$2=$B$2:$B$1686)), $C$2:$C$1686),\"\")","v":""},{"$f":"_xlfn.IFNA(LOOKUP(2, 1/((COUNTIF($Q$1:Q51, $D$2:$D$1686)=0)*($N$3=$C$2:$C$1686)), $D$2:$D$1686),\"\")","v":"Sarnia"},null,null,{"$f":"IFERROR(INDEX($Q$2:$Q$231,MATCH(ROWS($Q$2:Q52),COUNTIF($Q$2:$Q$231,\"<=\"&$Q$2:$Q$231),0)),0)","v":"Durham"},52,"Dutton"]
[52,"CAN","AB","Wainwright",5700,"Very-Cold",-33,29,null,null,null,null,null,null,null,{"$f":"_xlfn.IFNA(LOOKUP(2, 1/((COUNTIF($P$1:P52, $C$2:$C$1686)=0)*($N$2=$B$2:$B$1686)), $C$2:$C$1686),\"\")","v":""},{"$f":"_xlfn.IFNA(LOOKUP(2, 1/((COUNTIF($Q$1:Q52, $D$2:$D$1686)=0)*($N$3=$C$2:$C$1686)), $D$2:$D$1686),\"\")","v":"Rockland"},null,null,{"$f":"IFERROR(INDEX($Q$2:$Q$231,MATCH(ROWS($Q$2:Q53),COUNTIF($Q$2:$Q$231,\"<=\"&$Q$2:$Q$231),0)),0)","v":"Dutton"},53,"Earlton"]
[53,"CAN","AB","Wetaskiwin",5500,"Very-Cold",-33,29,null,null,null,null,null,null,null,{"$f":"_xlfn.IFNA(LOOKUP(2, 1/((COUNTIF($P$1:P53, $C$2:$C$1686)=0)*($N$2=$B$2:$B$1686)), $C$2:$C$1686),\"\")","v":""},{"$f":"_xlfn.IFNA(LOOKUP(2, 1/((COUNTIF($Q$1:Q53, $D$2:$D$1686)=0)*($N$3=$C$2:$C$1686)), $D$2:$D$1686),\"\")","v":"Richmond Hill"},null,null,{"$f":"IFERROR(INDEX($Q$2:$Q$231,MATCH(ROWS($Q$2:Q54),COUNTIF($Q$2:$Q$231,\"<=\"&$Q$2:$Q$231),0)),0)","v":"Earlton"},54,"Edison"]
[54,"CAN","AB","Whitecourt",5650,"Very-Cold",-33,27,null,null,null,null,null,null,null,{"$f":"_xlfn.IFNA(LOOKUP(2, 1/((COUNTIF($P$1:P54, $C$2:$C$1686)=0)*($N$2=$B$2:$B$1686)), $C$2:$C$1686),\"\")","v":""},{"$f":"_xlfn.IFNA(LOOKUP(2, 1/((COUNTIF($Q$1:Q54, $D$2:$D$1686)=0)*($N$3=$C$2:$C$1686)), $D$2:$D$1686),\"\")","v":"Renfrew"},null,null,{"$f":"IFERROR(INDEX($Q$2:$Q$231,MATCH(ROWS($Q$2:Q55),COUNTIF($Q$2:$Q$231,\"<=\"&$Q$2:$Q$231),0)),0)","v":"Edison"},55,"Elliot Lake"]
[55,"CAN","AB","Wimborne",5310,"Very-Cold",-31,29,null,null,null,null,null,null,null,{"$f":"_xlfn.IFNA(LOOKUP(2, 1/((COUNTIF($P$1:P55, $C$2:$C$1686)=0)*($N$2=$B$2:$B$1686)), $C$2:$C$1686),\"\")","v":""},{"$f":"_xlfn.IFNA(LOOKUP(2, 1/((COUNTIF($Q$1:Q55, $D$2:$D$1686)=0)*($N$3=$C$2:$C$1686)), $D$2:$D$1686),\"\")","v":"Red Lake"},null,null,{"$f":"IFERROR(INDEX($Q$2:$Q$231,MATCH(ROWS($Q$2:Q56),COUNTIF($Q$2:$Q$231,\"<=\"&$Q$2:$Q$231),0)),0)","v":"Elliot Lake"},56,"Elmvale"]
[56,"CAN","BC","100 Mile House",5030,"Very-Cold",-30,29,null,null,null,null,null,null,null,{"$f":"_xlfn.IFNA(LOOKUP(2, 1/((COUNTIF($P$1:P56, $C$2:$C$1686)=0)*($N$2=$B$2:$B$1686)), $C$2:$C$1686),\"\")","v":""},{"$f":"_xlfn.IFNA(LOOKUP(2, 1/((COUNTIF($Q$1:Q56, $D$2:$D$1686)=0)*($N$3=$C$2:$C$1686)), $D$2:$D$1686),\"\")","v":"Rayside-Balfour (Chelmsford)"},null,null,{"$f":"IFERROR(INDEX($Q$2:$Q$231,MATCH(ROWS($Q$2:Q57),COUNTIF($Q$2:$Q$231,\"<=\"&$Q$2:$Q$231),0)),0)","v":"Elmvale"},57,"Embro"]
[57,"CAN","BC","Abbotsford",2860,"Marine",-8,29,null,null,null,null,null,null,null,{"$f":"_xlfn.IFNA(LOOKUP(2, 1/((COUNTIF($P$1:P57, $C$2:$C$1686)=0)*($N$2=$B$2:$B$1686)), $C$2:$C$1686),\"\")","v":""},{"$f":"_xlfn.IFNA(LOOKUP(2, 1/((COUNTIF($Q$1:Q57, $D$2:$D$1686)=0)*($N$3=$C$2:$C$1686)), $D$2:$D$1686),\"\")","v":"Raith"},null,null,{"$f":"IFERROR(INDEX($Q$2:$Q$231,MATCH(ROWS($Q$2:Q58),COUNTIF($Q$2:$Q$231,\"<=\"&$Q$2:$Q$231),0)),0)","v":"Embro"},58,"Englehart"]
[58,"CAN","BC","Agassiz",2750,"Cold-Humid",-9,31,null,null,null,null,null,null,null,{"$f":"_xlfn.IFNA(LOOKUP(2, 1/((COUNTIF($P$1:P58, $C$2:$C$1686)=0)*($N$2=$B$2:$B$1686)), $C$2:$C$1686),\"\")","v":""},{"$f":"_xlfn.IFNA(LOOKUP(2, 1/((COUNTIF($Q$1:Q58, $D$2:$D$1686)=0)*($N$3=$C$2:$C$1686)), $D$2:$D$1686),\"\")","v":"Princeton"},null,null,{"$f":"IFERROR(INDEX($Q$2:$Q$231,MATCH(ROWS($Q$2:Q59),COUNTIF($Q$2:$Q$231,\"<=\"&$Q$2:$Q$231),0)),0)","v":"Englehart"},59,"Espanola"]
[59,"CAN","BC","Alberni",3100,"Marine",-5,31,null,null,null,null,null,null,null,{"$f":"_xlfn.IFNA(LOOKUP(2, 1/((COUNTIF($P$1:P59, $C$2:$C$1686)=0)*($N$2=$B$2:$B$1686)), $C$2:$C$1686),\"\")","v":""},{"$f":"_xlfn.IFNA(LOOKUP(2, 1/((COUNTIF($Q$1:Q59, $D$2:$D$1686)=0)*($N$3=$C$2:$C$1686)), $D$2:$D$1686),\"\")","v":"Prescott"},null,null,{"$f":"IFERROR(INDEX($Q$2:$Q$231,MATCH(ROWS($Q$2:Q60),COUNTIF($Q$2:$Q$231,\"<=\"&$Q$2:$Q$231),0)),0)","v":"Espanola"},60,"Etobicoke"]
[60,"CAN","BC","Ashcroft",3700,"Cold-Dry",-24,34,null,null,null,null,null,null,null,{"$f":"_xlfn.IFNA(LOOKUP(2, 1/((COUNTIF($P$1:P60, $C$2:$C$1686)=0)*($N$2=$B$2:$B$1686)), $C$2:$C$1686),\"\")","v":""},{"$f":"_xlfn.IFNA(LOOKUP(2, 1/((COUNTIF($Q$1:Q60, $D$2:$D$1686)=0)*($N$3=$C$2:$C$1686)), $D$2:$D$1686),\"\")","v":"Port Stanley"},null,null,{"$f":"IFERROR(INDEX($Q$2:$Q$231,MATCH(ROWS($Q$2:Q61),COUNTIF($Q$2:$Q$231,\"<=\"&$Q$2:$Q$231),0)),0)","v":"Etobicoke"},61,"Exeter"]
[61,"CAN","BC","Bamfield",3080,"Marine",-2,23,null,null,null,null,null,null,null,{"$f":"_xlfn.IFNA(LOOKUP(2, 1/((COUNTIF($P$1:P61, $C$2:$C$1686)=0)*($N$2=$B$2:$B$1686)), $C$2:$C$1686),\"\")","v":""},{"$f":"_xlfn.IFNA(LOOKUP(2, 1/((COUNTIF($Q$1:Q61, $D$2:$D$1686)=0)*($N$3=$C$2:$C$1686)), $D$2:$D$1686),\"\")","v":"Port Perry"},null,null,{"$f":"IFERROR(INDEX($Q$2:$Q$231,MATCH(ROWS($Q$2:Q62),COUNTIF($Q$2:$Q$231,\"<=\"&$Q$2:$Q$231),0)),0)","v":"Exeter"},62,"Fenelon Falls"]
[62,"CAN","BC","Beatton River",6300,"Very-Cold",-37,26,null,null,null,null,null,null,null,{"$f":"_xlfn.IFNA(LOOKUP(2, 1/((COUNTIF($P$1:P62, $C$2:$C$1686)=0)*($N$2=$B$2:$B$1686)), $C$2:$C$1686),\"\")","v":""},{"$f":"_xlfn.IFNA(LOOKUP(2, 1/((COUNTIF($Q$1:Q62, $D$2:$D$1686)=0)*($N$3=$C$2:$C$1686)), $D$2:$D$1686),\"\")","v":"Port Hope"},null,null,{"$f":"IFERROR(INDEX($Q$2:$Q$231,MATCH(ROWS($Q$2:Q63),COUNTIF($Q$2:$Q$231,\"<=\"&$Q$2:$Q$231),0)),0)","v":"Fenelon Falls"},63,"Fergus"]
[63,"CAN","BC","Bella Bella",3180,"Marine",-5,23,null,null,null,null,null,null,null,{"$f":"_xlfn.IFNA(LOOKUP(2, 1/((COUNTIF($P$1:P63, $C$2:$C$1686)=0)*($N$2=$B$2:$B$1686)), $C$2:$C$1686),\"\")","v":""},{"$f":"_xlfn.IFNA(LOOKUP(2, 1/((COUNTIF($Q$1:Q63, $D$2:$D$1686)=0)*($N$3=$C$2:$C$1686)), $D$2:$D$1686),\"\")","v":"Port Elgin"},null,null,{"$f":"IFERROR(INDEX($Q$2:$Q$231,MATCH(ROWS($Q$2:Q64),COUNTIF($Q$2:$Q$231,\"<=\"&$Q$2:$Q$231),0)),0)","v":"Fergus"},64,"Forest"]
[64,"CAN","BC","Bella Coola",3560,"Cold-Humid",-14,27,null,null,null,null,null,null,null,{"$f":"_xlfn.IFNA(LOOKUP(2, 1/((COUNTIF($P$1:P64, $C$2:$C$1686)=0)*($N$2=$B$2:$B$1686)), $C$2:$C$1686),\"\")","v":""},{"$f":"_xlfn.IFNA(LOOKUP(2, 1/((COUNTIF($Q$1:Q64, $D$2:$D$1686)=0)*($N$3=$C$2:$C$1686)), $D$2:$D$1686),\"\")","v":"Port Colborne"},null,null,{"$f":"IFERROR(INDEX($Q$2:$Q$231,MATCH(ROWS($Q$2:Q65),COUNTIF($Q$2:$Q$231,\"<=\"&$Q$2:$Q$231),0)),0)","v":"Forest"},65,"Fort Erie"]
[65,"CAN","BC","Burnaby (Simon Fraser Univ.)",3100,"Marine",-7,25,null,null,null,null,null,null,null,null,{"$f":"_xlfn.IFNA(LOOKUP(2, 1/((COUNTIF($Q$1:Q65, $D$2:$D$1686)=0)*($N$3=$C$2:$C$1686)), $D$2:$D$1686),\"\")","v":"Port Burwell"},null,null,{"$f":"IFERROR(INDEX($Q$2:$Q$231,MATCH(ROWS($Q$2:Q66),COUNTIF($Q$2:$Q$231,\"<=\"&$Q$2:$Q$231),0)),0)","v":"Fort Erie"},66,"Fort Erie (Ridgeway)"]
[66,"CAN","BC","Burns Lake",5450,"Very-Cold",-31,26,null,null,null,null,null,null,null,null,{"$f":"_xlfn.IFNA(LOOKUP(2, 1/((COUNTIF($Q$1:Q66, $D$2:$D$1686)=0)*($N$3=$C$2:$C$1686)), $D$2:$D$1686),\"\")","v":"Point Alexander"},null,null,{"$f":"IFERROR(INDEX($Q$2:$Q$231,MATCH(ROWS($Q$2:Q67),COUNTIF($Q$2:$Q$231,\"<=\"&$Q$2:$Q$231),0)),0)","v":"Fort Erie (Ridgeway)"},67,{"$f":"IFERROR(INDEX($T$2:$T$231,U67,1),\"\")","v":"Fort Frances"}]
[67,"CAN","BC","Cache Creek",3700,"Cold-Dry",-24,34,null,null,null,null,null,null,null,null,{"$f":"_xlfn.IFNA(LOOKUP(2, 1/((COUNTIF($Q$1:Q67, $D$2:$D$1686)=0)*($N$3=$C$2:$C$1686)), $D$2:$D$1686),\"\")","v":"Plattsville"},null,null,{"$f":"IFERROR(INDEX($Q$2:$Q$231,MATCH(ROWS($Q$2:Q68),COUNTIF($Q$2:$Q$231,\"<=\"&$Q$2:$Q$231),0)),0)","v":"Fort Frances"},{"$f":"U67+1","v":68},"Gananoque"]
[68,"CAN","BC","Campbell River",3000,"Marine",-5,26,null,null,null,null,null,null,null,null,{"$f":"_xlfn.IFNA(LOOKUP(2, 1/((COUNTIF($Q$1:Q68, $D$2:$D$1686)=0)*($N$3=$C$2:$C$1686)), $D$2:$D$1686),\"\")","v":"Picton"},null,null,{"$f":"IFERROR(INDEX($Q$2:$Q$231,MATCH(ROWS($Q$2:Q69),COUNTIF($Q$2:$Q$231,\"<=\"&$Q$2:$Q$231),0)),0)","v":"Gananoque"},69,"Geraldton"]
[69,"CAN","BC","Carmi",4750,"Very-Cold",-24,31,null,null,null,null,null,null,null,null,{"$f":"_xlfn.IFNA(LOOKUP(2, 1/((COUNTIF($Q$1:Q69, $D$2:$D$1686)=0)*($N$3=$C$2:$C$1686)), $D$2:$D$1686),\"\")","v":"Pickering (Dunbarton)"},null,null,{"$f":"IFERROR(INDEX($Q$2:$Q$231,MATCH(ROWS($Q$2:Q70),COUNTIF($Q$2:$Q$231,\"<=\"&$Q$2:$Q$231),0)),0)","v":"Geraldton"},70,"Glencoe"]
[70,"CAN","BC","Castlegar",3580,"Cold-Humid",-18,32,null,null,null,null,null,null,null,null,{"$f":"_xlfn.IFNA(LOOKUP(2, 1/((COUNTIF($Q$1:Q70, $D$2:$D$1686)=0)*($N$3=$C$2:$C$1686)), $D$2:$D$1686),\"\")","v":"Petrolia"},null,null,{"$f":"IFERROR(INDEX($Q$2:$Q$231,MATCH(ROWS($Q$2:Q71),COUNTIF($Q$2:$Q$231,\"<=\"&$Q$2:$Q$231),0)),0)","v":"Glencoe"},71,"Goderich"]
[71,"CAN","BC","Chetwynd",5500,"Very-Cold",-35,27,null,null,null,null,null,null,null,null,{"$f":"_xlfn.IFNA(LOOKUP(2, 1/((COUNTIF($Q$1:Q71, $D$2:$D$1686)=0)*($N$3=$C$2:$C$1686)), $D$2:$D$1686),\"\")","v":"Peterborough"},null,null,{"$f":"IFERROR(INDEX($Q$2:$Q$231,MATCH(ROWS($Q$2:Q72),COUNTIF($Q$2:$Q$231,\"<=\"&$Q$2:$Q$231),0)),0)","v":"Goderich"},72,"Gore Bay"]
[72,"CAN","BC","Chilliwack",2780,"Cold-Humid",-9,30,null,null,null,null,null,null,null,null,{"$f":"_xlfn.IFNA(LOOKUP(2, 1/((COUNTIF($Q$1:Q72, $D$2:$D$1686)=0)*($N$3=$C$2:$C$1686)), $D$2:$D$1686),\"\")","v":"Petawawa"},null,null,{"$f":"IFERROR(INDEX($Q$2:$Q$231,MATCH(ROWS($Q$2:Q73),COUNTIF($Q$2:$Q$231,\"<=\"&$Q$2:$Q$231),0)),0)","v":"Gore Bay"},73,"Graham"]
[73,"CAN","BC","Cloverdale",2700,"Marine",-8,29,null,null,null,null,null,null,null,null,{"$f":"_xlfn.IFNA(LOOKUP(2, 1/((COUNTIF($Q$1:Q73, $D$2:$D$1686)=0)*($N$3=$C$2:$C$1686)), $D$2:$D$1686),\"\")","v":"Perth"},null,null,{"$f":"IFERROR(INDEX($Q$2:$Q$231,MATCH(ROWS($Q$2:Q74),COUNTIF($Q$2:$Q$231,\"<=\"&$Q$2:$Q$231),0)),0)","v":"Graham"},74,"Gravenhurst (Muskoka Airport)"]
[74,"CAN","BC","Comox",3100,"Marine",-7,27,null,null,null,null,null,null,null,null,{"$f":"_xlfn.IFNA(LOOKUP(2, 1/((COUNTIF($Q$1:Q74, $D$2:$D$1686)=0)*($N$3=$C$2:$C$1686)), $D$2:$D$1686),\"\")","v":"Penetanguishene"},null,null,{"$f":"IFERROR(INDEX($Q$2:$Q$231,MATCH(ROWS($Q$2:Q75),COUNTIF($Q$2:$Q$231,\"<=\"&$Q$2:$Q$231),0)),0)","v":"Gravenhurst (Muskoka Airport)"},75,"Grimsby"]
[75,"CAN","BC","Courtenay",3100,"Marine",-7,28,null,null,null,null,null,null,null,null,{"$f":"_xlfn.IFNA(LOOKUP(2, 1/((COUNTIF($Q$1:Q75, $D$2:$D$1686)=0)*($N$3=$C$2:$C$1686)), $D$2:$D$1686),\"\")","v":"Pembroke"},null,null,{"$f":"IFERROR(INDEX($Q$2:$Q$231,MATCH(ROWS($Q$2:Q76),COUNTIF($Q$2:$Q$231,\"<=\"&$Q$2:$Q$231),0)),0)","v":"Grimsby"},76,"Guelph"]
[76,"CAN","BC","Cranbrook",4400,"Cold-Dry",-26,32,null,null,null,null,null,null,null,null,{"$f":"_xlfn.IFNA(LOOKUP(2, 1/((COUNTIF($Q$1:Q76, $D$2:$D$1686)=0)*($N$3=$C$2:$C$1686)), $D$2:$D$1686),\"\")","v":"Pelham (Fonthill)"},null,null,{"$f":"IFERROR(INDEX($Q$2:$Q$231,MATCH(ROWS($Q$2:Q77),COUNTIF($Q$2:$Q$231,\"<=\"&$Q$2:$Q$231),0)),0)","v":"Guelph"},77,"Guthrie"]
[77,"CAN","BC","Crescent Valley",3650,"Cold-Humid",-18,31,null,null,null,null,null,null,null,null,{"$f":"_xlfn.IFNA(LOOKUP(2, 1/((COUNTIF($Q$1:Q77, $D$2:$D$1686)=0)*($N$3=$C$2:$C$1686)), $D$2:$D$1686),\"\")","v":"Parry Sound"},null,null,{"$f":"IFERROR(INDEX($Q$2:$Q$231,MATCH(ROWS($Q$2:Q78),COUNTIF($Q$2:$Q$231,\"<=\"&$Q$2:$Q$231),0)),0)","v":"Guthrie"},78,"Haileybury"]
[78,"CAN","BC","Crofton",2880,"Marine",-4,28,null,null,null,null,null,null,null,null,{"$f":"_xlfn.IFNA(LOOKUP(2, 1/((COUNTIF($Q$1:Q78, $D$2:$D$1686)=0)*($N$3=$C$2:$C$1686)), $D$2:$D$1686),\"\")","v":"Parkhill"},null,null,{"$f":"IFERROR(INDEX($Q$2:$Q$231,MATCH(ROWS($Q$2:Q79),COUNTIF($Q$2:$Q$231,\"<=\"&$Q$2:$Q$231),0)),0)","v":"Haileybury"},79,"Haldimand (Caledonia)"]
[79,"CAN","BC","Dawson Creek",5900,"Very-Cold",-38,27,null,null,null,null,null,null,null,null,{"$f":"_xlfn.IFNA(LOOKUP(2, 1/((COUNTIF($Q$1:Q79, $D$2:$D$1686)=0)*($N$3=$C$2:$C$1686)), $D$2:$D$1686),\"\")","v":"Paris"},null,null,{"$f":"IFERROR(INDEX($Q$2:$Q$231,MATCH(ROWS($Q$2:Q80),COUNTIF($Q$2:$Q$231,\"<=\"&$Q$2:$Q$231),0)),0)","v":"Haldimand (Caledonia)"},80,"Haldimand (Hagersville)"]
[80,"CAN","BC","Dease Lake",6730,"Subarctic",-37,24,null,null,null,null,null,null,null,null,{"$f":"_xlfn.IFNA(LOOKUP(2, 1/((COUNTIF($Q$1:Q80, $D$2:$D$1686)=0)*($N$3=$C$2:$C$1686)), $D$2:$D$1686),\"\")","v":"Pagwa River"},null,null,{"$f":"IFERROR(INDEX($Q$2:$Q$231,MATCH(ROWS($Q$2:Q81),COUNTIF($Q$2:$Q$231,\"<=\"&$Q$2:$Q$231),0)),0)","v":"Haldimand (Hagersville)"},81,"Haliburton"]
[81,"CAN","BC","Dog Creek",4800,"Very-Cold",-28,29,null,null,null,null,null,null,null,null,{"$f":"_xlfn.IFNA(LOOKUP(2, 1/((COUNTIF($Q$1:Q81, $D$2:$D$1686)=0)*($N$3=$C$2:$C$1686)), $D$2:$D$1686),\"\")","v":"Owen Sound"},null,null,{"$f":"IFERROR(INDEX($Q$2:$Q$231,MATCH(ROWS($Q$2:Q82),COUNTIF($Q$2:$Q$231,\"<=\"&$Q$2:$Q$231),0)),0)","v":"Haliburton"},82,"Halton Hills (Georgetown)"]
[82,"CAN","BC","Duncan",2980,"Marine",-6,28,null,null,null,null,null,null,null,null,{"$f":"_xlfn.IFNA(LOOKUP(2, 1/((COUNTIF($Q$1:Q82, $D$2:$D$1686)=0)*($N$3=$C$2:$C$1686)), $D$2:$D$1686),\"\")","v":"Ottawa (Orleans)"},null,null,{"$f":"IFERROR(INDEX($Q$2:$Q$231,MATCH(ROWS($Q$2:Q83),COUNTIF($Q$2:$Q$231,\"<=\"&$Q$2:$Q$231),0)),0)","v":"Halton Hills (Georgetown)"},83,"Hamilton"]
[83,"CAN","BC","Elko",4600,"Very-Cold",-28,30,null,null,null,null,null,null,null,null,{"$f":"_xlfn.IFNA(LOOKUP(2, 1/((COUNTIF($Q$1:Q83, $D$2:$D$1686)=0)*($N$3=$C$2:$C$1686)), $D$2:$D$1686),\"\")","v":"Ottawa (M-C Int'l Airport)"},null,null,{"$f":"IFERROR(INDEX($Q$2:$Q$231,MATCH(ROWS($Q$2:Q84),COUNTIF($Q$2:$Q$231,\"<=\"&$Q$2:$Q$231),0)),0)","v":"Hamilton"},84,"Hanover"]
[84,"CAN","BC","Fernie",4750,"Very-Cold",-27,30,null,null,null,null,null,null,null,null,{"$f":"_xlfn.IFNA(LOOKUP(2, 1/((COUNTIF($Q$1:Q84, $D$2:$D$1686)=0)*($N$3=$C$2:$C$1686)), $D$2:$D$1686),\"\")","v":"Ottawa (Kanata)"},null,null,{"$f":"IFERROR(INDEX($Q$2:$Q$231,MATCH(ROWS($Q$2:Q85),COUNTIF($Q$2:$Q$231,\"<=\"&$Q$2:$Q$231),0)),0)","v":"Hanover"},85,"Hastings"]
[85,"CAN","BC","Fort Nelson",6710,"Subarctic",-39,28,null,null,null,null,null,null,null,null,{"$f":"_xlfn.IFNA(LOOKUP(2, 1/((COUNTIF($Q$1:Q85, $D$2:$D$1686)=0)*($N$3=$C$2:$C$1686)), $D$2:$D$1686),\"\")","v":"Ottawa (city hall)"},null,null,{"$f":"IFERROR(INDEX($Q$2:$Q$231,MATCH(ROWS($Q$2:Q86),COUNTIF($Q$2:$Q$231,\"<=\"&$Q$2:$Q$231),0)),0)","v":"Hastings"},86,"Hawkesbury"]
[86,"CAN","BC","Fort St. John",5750,"Very-Cold",-35,26,null,null,null,null,null,null,null,null,{"$f":"_xlfn.IFNA(LOOKUP(2, 1/((COUNTIF($Q$1:Q86, $D$2:$D$1686)=0)*($N$3=$C$2:$C$1686)), $D$2:$D$1686),\"\")","v":"Ottawa (Barrhaven)"},null,null,{"$f":"IFERROR(INDEX($Q$2:$Q$231,MATCH(ROWS($Q$2:Q87),COUNTIF($Q$2:$Q$231,\"<=\"&$Q$2:$Q$231),0)),0)","v":"Hawkesbury"},87,"Hearst"]
[87,"CAN","BC","Glacier",5800,"Very-Cold",-27,27,null,null,null,null,null,null,null,null,{"$f":"_xlfn.IFNA(LOOKUP(2, 1/((COUNTIF($Q$1:Q87, $D$2:$D$1686)=0)*($N$3=$C$2:$C$1686)), $D$2:$D$1686),\"\")","v":"Oshawa"},null,null,{"$f":"IFERROR(INDEX($Q$2:$Q$231,MATCH(ROWS($Q$2:Q88),COUNTIF($Q$2:$Q$231,\"<=\"&$Q$2:$Q$231),0)),0)","v":"Hearst"},88,"Honey Harbour"]
[88,"CAN","BC","Gold River",3230,"Marine",-8,31,null,null,null,null,null,null,null,null,{"$f":"_xlfn.IFNA(LOOKUP(2, 1/((COUNTIF($Q$1:Q88, $D$2:$D$1686)=0)*($N$3=$C$2:$C$1686)), $D$2:$D$1686),\"\")","v":"Orillia"},null,null,{"$f":"IFERROR(INDEX($Q$2:$Q$231,MATCH(ROWS($Q$2:Q89),COUNTIF($Q$2:$Q$231,\"<=\"&$Q$2:$Q$231),0)),0)","v":"Honey Harbour"},89,"Hornepayne"]
[89,"CAN","BC","Golden",4750,"Very-Cold",-27,30,null,null,null,null,null,null,null,null,{"$f":"_xlfn.IFNA(LOOKUP(2, 1/((COUNTIF($Q$1:Q89, $D$2:$D$1686)=0)*($N$3=$C$2:$C$1686)), $D$2:$D$1686),\"\")","v":"Orangeville"},null,null,{"$f":"IFERROR(INDEX($Q$2:$Q$231,MATCH(ROWS($Q$2:Q90),COUNTIF($Q$2:$Q$231,\"<=\"&$Q$2:$Q$231),0)),0)","v":"Hornepayne"},90,"Huntsville"]
[90,"CAN","BC","Grand Forks",3820,"Cold-Dry",-19,34,null,null,null,null,null,null,null,null,{"$f":"_xlfn.IFNA(LOOKUP(2, 1/((COUNTIF($Q$1:Q90, $D$2:$D$1686)=0)*($N$3=$C$2:$C$1686)), $D$2:$D$1686),\"\")","v":"Oakville"},null,null,{"$f":"IFERROR(INDEX($Q$2:$Q$231,MATCH(ROWS($Q$2:Q91),COUNTIF($Q$2:$Q$231,\"<=\"&$Q$2:$Q$231),0)),0)","v":"Huntsville"},91,"Ingersoll"]
[91,"CAN","BC","Greenwood",4100,"Cold-Dry",-20,34,null,null,null,null,null,null,null,null,{"$f":"_xlfn.IFNA(LOOKUP(2, 1/((COUNTIF($Q$1:Q91, $D$2:$D$1686)=0)*($N$3=$C$2:$C$1686)), $D$2:$D$1686),\"\")","v":"Norwood"},null,null,{"$f":"IFERROR(INDEX($Q$2:$Q$231,MATCH(ROWS($Q$2:Q92),COUNTIF($Q$2:$Q$231,\"<=\"&$Q$2:$Q$231),0)),0)","v":"Ingersoll"},92,"Iroquois Falls"]
[92,"CAN","BC","Haney",2840,"Cold-Humid",-9,30,null,null,null,null,null,null,null,null,{"$f":"_xlfn.IFNA(LOOKUP(2, 1/((COUNTIF($Q$1:Q92, $D$2:$D$1686)=0)*($N$3=$C$2:$C$1686)), $D$2:$D$1686),\"\")","v":"North York"},null,null,{"$f":"IFERROR(INDEX($Q$2:$Q$231,MATCH(ROWS($Q$2:Q93),COUNTIF($Q$2:$Q$231,\"<=\"&$Q$2:$Q$231),0)),0)","v":"Iroquois Falls"},93,"Jellicoe"]
[93,"CAN","BC","Hope",3000,"Cold-Humid",-13,31,null,null,null,null,null,null,null,null,{"$f":"_xlfn.IFNA(LOOKUP(2, 1/((COUNTIF($Q$1:Q93, $D$2:$D$1686)=0)*($N$3=$C$2:$C$1686)), $D$2:$D$1686),\"\")","v":"North Bay"},null,null,{"$f":"IFERROR(INDEX($Q$2:$Q$231,MATCH(ROWS($Q$2:Q94),COUNTIF($Q$2:$Q$231,\"<=\"&$Q$2:$Q$231),0)),0)","v":"Jellicoe"},94,"Kapuskasing"]
[94,"CAN","BC","Jordan River",2900,"Marine",-1,22,null,null,null,null,null,null,null,null,{"$f":"_xlfn.IFNA(LOOKUP(2, 1/((COUNTIF($Q$1:Q94, $D$2:$D$1686)=0)*($N$3=$C$2:$C$1686)), $D$2:$D$1686),\"\")","v":"Niagara Falls"},null,null,{"$f":"IFERROR(INDEX($Q$2:$Q$231,MATCH(ROWS($Q$2:Q95),COUNTIF($Q$2:$Q$231,\"<=\"&$Q$2:$Q$231),0)),0)","v":"Kapuskasing"},95,"Kemptville"]
[95,"CAN","BC","Kamloops",3450,"Cold-Dry",-23,34,null,null,null,null,null,null,null,null,{"$f":"_xlfn.IFNA(LOOKUP(2, 1/((COUNTIF($Q$1:Q95, $D$2:$D$1686)=0)*($N$3=$C$2:$C$1686)), $D$2:$D$1686),\"\")","v":"Newmarket"},null,null,{"$f":"IFERROR(INDEX($Q$2:$Q$231,MATCH(ROWS($Q$2:Q96),COUNTIF($Q$2:$Q$231,\"<=\"&$Q$2:$Q$231),0)),0)","v":"Kemptville"},96,"Kenora"]
[96,"CAN","BC","Kaslo",3830,"Cold-Dry",-17,30,null,null,null,null,null,null,null,null,{"$f":"_xlfn.IFNA(LOOKUP(2, 1/((COUNTIF($Q$1:Q96, $D$2:$D$1686)=0)*($N$3=$C$2:$C$1686)), $D$2:$D$1686),\"\")","v":"Newcastle (Bowmanville)"},null,null,{"$f":"IFERROR(INDEX($Q$2:$Q$231,MATCH(ROWS($Q$2:Q97),COUNTIF($Q$2:$Q$231,\"<=\"&$Q$2:$Q$231),0)),0)","v":"Kenora"},97,"Killaloe"]
[97,"CAN","BC","Kelowna",3400,"Cold-Dry",-17,33,null,null,null,null,null,null,null,null,{"$f":"_xlfn.IFNA(LOOKUP(2, 1/((COUNTIF($Q$1:Q97, $D$2:$D$1686)=0)*($N$3=$C$2:$C$1686)), $D$2:$D$1686),\"\")","v":"Newcastle"},null,null,{"$f":"IFERROR(INDEX($Q$2:$Q$231,MATCH(ROWS($Q$2:Q98),COUNTIF($Q$2:$Q$231,\"<=\"&$Q$2:$Q$231),0)),0)","v":"Killaloe"},98,"Kincardine"]
[98,"CAN","BC","Kimberley",4650,"Very-Cold",-25,31,null,null,null,null,null,null,null,null,{"$f":"_xlfn.IFNA(LOOKUP(2, 1/((COUNTIF($Q$1:Q98, $D$2:$D$1686)=0)*($N$3=$C$2:$C$1686)), $D$2:$D$1686),\"\")","v":"New Liskeard"},null,null,{"$f":"IFERROR(INDEX($Q$2:$Q$231,MATCH(ROWS($Q$2:Q99),COUNTIF($Q$2:$Q$231,\"<=\"&$Q$2:$Q$231),0)),0)","v":"Kincardine"},99,"Kingston"]
[99,"CAN","BC","Kitimat Plant",3750,"Cold-Dry",-16,25,null,null,null,null,null,null,null,null,{"$f":"_xlfn.IFNA(LOOKUP(2, 1/((COUNTIF($Q$1:Q99, $D$2:$D$1686)=0)*($N$3=$C$2:$C$1686)), $D$2:$D$1686),\"\")","v":"Napanee"},null,null,{"$f":"IFERROR(INDEX($Q$2:$Q$231,MATCH(ROWS($Q$2:Q100),COUNTIF($Q$2:$Q$231,\"<=\"&$Q$2:$Q$231),0)),0)","v":"Kingston"},100,"Kinmount"]
[100,"CAN","BC","Kitimat Townsite",3900,"Cold-Dry",-16,24,null,null,null,null,null,null,null,null,{"$f":"_xlfn.IFNA(LOOKUP(2, 1/((COUNTIF($Q$1:Q100, $D$2:$D$1686)=0)*($N$3=$C$2:$C$1686)), $D$2:$D$1686),\"\")","v":"Nanticoke (Port Dover)"},null,null,{"$f":"IFERROR(INDEX($Q$2:$Q$231,MATCH(ROWS($Q$2:Q101),COUNTIF($Q$2:$Q$231,\"<=\"&$Q$2:$Q$231),0)),0)","v":"Kinmount"},101,"Kirkland Lake"]
[101,"CAN","BC","Ladner",2600,"Marine",-6,27,null,null,null,null,null,null,null,null,{"$f":"_xlfn.IFNA(LOOKUP(2, 1/((COUNTIF($Q$1:Q101, $D$2:$D$1686)=0)*($N$3=$C$2:$C$1686)), $D$2:$D$1686),\"\")","v":"Nanticoke (Jarvis)"},null,null,{"$f":"IFERROR(INDEX($Q$2:$Q$231,MATCH(ROWS($Q$2:Q102),COUNTIF($Q$2:$Q$231,\"<=\"&$Q$2:$Q$231),0)),0)","v":"Kirkland Lake"},102,"Kitchener"]
[102,"CAN","BC","Ladysmith",3000,"Marine",-7,27,null,null,null,null,null,null,null,null,{"$f":"_xlfn.IFNA(LOOKUP(2, 1/((COUNTIF($Q$1:Q102, $D$2:$D$1686)=0)*($N$3=$C$2:$C$1686)), $D$2:$D$1686),\"\")","v":"Nakina"},null,null,{"$f":"IFERROR(INDEX($Q$2:$Q$231,MATCH(ROWS($Q$2:Q103),COUNTIF($Q$2:$Q$231,\"<=\"&$Q$2:$Q$231),0)),0)","v":"Kitchener"},103,"Kitchenuhmaykoosib"]
[103,"CAN","BC","Langford",2750,"Marine",-4,27,null,null,null,null,null,null,null,null,{"$f":"_xlfn.IFNA(LOOKUP(2, 1/((COUNTIF($Q$1:Q103, $D$2:$D$1686)=0)*($N$3=$C$2:$C$1686)), $D$2:$D$1686),\"\")","v":"Mount Forest"},null,null,{"$f":"IFERROR(INDEX($Q$2:$Q$231,MATCH(ROWS($Q$2:Q104),COUNTIF($Q$2:$Q$231,\"<=\"&$Q$2:$Q$231),0)),0)","v":"Kitchenuhmaykoosib"},104,"Lakefield"]
[104,"CAN","BC","Langley",2700,"Marine",-8,29,null,null,null,null,null,null,null,null,{"$f":"_xlfn.IFNA(LOOKUP(2, 1/((COUNTIF($Q$1:Q104, $D$2:$D$1686)=0)*($N$3=$C$2:$C$1686)), $D$2:$D$1686),\"\")","v":"Morrisburg"},null,null,{"$f":"IFERROR(INDEX($Q$2:$Q$231,MATCH(ROWS($Q$2:Q105),COUNTIF($Q$2:$Q$231,\"<=\"&$Q$2:$Q$231),0)),0)","v":"Lakefield"},105,"Lansdowne House"]
[105,"CAN","BC","Lillooet",3400,"Cold-Dry",-21,34,null,null,null,null,null,null,null,null,{"$f":"_xlfn.IFNA(LOOKUP(2, 1/((COUNTIF($Q$1:Q105, $D$2:$D$1686)=0)*($N$3=$C$2:$C$1686)), $D$2:$D$1686),\"\")","v":"Moosonee"},null,null,{"$f":"IFERROR(INDEX($Q$2:$Q$231,MATCH(ROWS($Q$2:Q106),COUNTIF($Q$2:$Q$231,\"<=\"&$Q$2:$Q$231),0)),0)","v":"Lansdowne House"},106,"Leamington"]
[106,"CAN","BC","Lytton",3300,"Cold-Dry",-17,35,null,null,null,null,null,null,null,null,{"$f":"_xlfn.IFNA(LOOKUP(2, 1/((COUNTIF($Q$1:Q106, $D$2:$D$1686)=0)*($N$3=$C$2:$C$1686)), $D$2:$D$1686),\"\")","v":"Mitchell"},null,null,{"$f":"IFERROR(INDEX($Q$2:$Q$231,MATCH(ROWS($Q$2:Q107),COUNTIF($Q$2:$Q$231,\"<=\"&$Q$2:$Q$231),0)),0)","v":"Leamington"},107,"Lindsay"]
[107,"CAN","BC","Mackenzie",5550,"Very-Cold",-34,27,null,null,null,null,null,null,null,null,{"$f":"_xlfn.IFNA(LOOKUP(2, 1/((COUNTIF($Q$1:Q107, $D$2:$D$1686)=0)*($N$3=$C$2:$C$1686)), $D$2:$D$1686),\"\")","v":"Mississauga (Port Credit)"},null,null,{"$f":"IFERROR(INDEX($Q$2:$Q$231,MATCH(ROWS($Q$2:Q108),COUNTIF($Q$2:$Q$231,\"<=\"&$Q$2:$Q$231),0)),0)","v":"Lindsay"},108,"Lion's Head"]
[108,"CAN","BC","Masset",3700,"Marine",-5,17,null,null,null,null,null,null,null,null,{"$f":"_xlfn.IFNA(LOOKUP(2, 1/((COUNTIF($Q$1:Q108, $D$2:$D$1686)=0)*($N$3=$C$2:$C$1686)), $D$2:$D$1686),\"\")","v":"Mississauga (LBP Int'l Airport)"},null,null,{"$f":"IFERROR(INDEX($Q$2:$Q$231,MATCH(ROWS($Q$2:Q109),COUNTIF($Q$2:$Q$231,\"<=\"&$Q$2:$Q$231),0)),0)","v":"Lion's Head"},109,"Listowel"]
[109,"CAN","BC","McBride",4980,"Very-Cold",-29,29,null,null,null,null,null,null,null,null,{"$f":"_xlfn.IFNA(LOOKUP(2, 1/((COUNTIF($Q$1:Q109, $D$2:$D$1686)=0)*($N$3=$C$2:$C$1686)), $D$2:$D$1686),\"\")","v":"Mississauga"},null,null,{"$f":"IFERROR(INDEX($Q$2:$Q$231,MATCH(ROWS($Q$2:Q110),COUNTIF($Q$2:$Q$231,\"<=\"&$Q$2:$Q$231),0)),0)","v":"Listowel"},110,"London"]
[110,"CAN","BC","McLeod Lake",5450,"Very-Cold",-35,27,null,null,null,null,null,null,null,null,{"$f":"_xlfn.IFNA(LOOKUP(2, 1/((COUNTIF($Q$1:Q110, $D$2:$D$1686)=0)*($N$3=$C$2:$C$1686)), $D$2:$D$1686),\"\")","v":"Minden"},null,null,{"$f":"IFERROR(INDEX($Q$2:$Q$231,MATCH(ROWS($Q$2:Q111),COUNTIF($Q$2:$Q$231,\"<=\"&$Q$2:$Q$231),0)),0)","v":"London"},111,"Lucan"]
[111,"CAN","BC","Merritt",3900,"Cold-Dry",-24,34,null,null,null,null,null,null,null,null,{"$f":"_xlfn.IFNA(LOOKUP(2, 1/((COUNTIF($Q$1:Q111, $D$2:$D$1686)=0)*($N$3=$C$2:$C$1686)), $D$2:$D$1686),\"\")","v":"Milverton"},null,null,{"$f":"IFERROR(INDEX($Q$2:$Q$231,MATCH(ROWS($Q$2:Q112),COUNTIF($Q$2:$Q$231,\"<=\"&$Q$2:$Q$231),0)),0)","v":"Lucan"},112,"Maitland"]
[112,"CAN","BC","Mission City",2850,"Cold-Humid",-9,30,null,null,null,null,null,null,null,null,{"$f":"_xlfn.IFNA(LOOKUP(2, 1/((COUNTIF($Q$1:Q112, $D$2:$D$1686)=0)*($N$3=$C$2:$C$1686)), $D$2:$D$1686),\"\")","v":"Milton"},null,null,{"$f":"IFERROR(INDEX($Q$2:$Q$231,MATCH(ROWS($Q$2:Q113),COUNTIF($Q$2:$Q$231,\"<=\"&$Q$2:$Q$231),0)),0)","v":"Maitland"},113,"Markdale"]
[113,"CAN","BC","Montrose",3600,"Cold-Humid",-16,32,null,null,null,null,null,null,null,null,{"$f":"_xlfn.IFNA(LOOKUP(2, 1/((COUNTIF($Q$1:Q113, $D$2:$D$1686)=0)*($N$3=$C$2:$C$1686)), $D$2:$D$1686),\"\")","v":"Midland"},null,null,{"$f":"IFERROR(INDEX($Q$2:$Q$231,MATCH(ROWS($Q$2:Q114),COUNTIF($Q$2:$Q$231,\"<=\"&$Q$2:$Q$231),0)),0)","v":"Markdale"},114,"Markham"]
[114,"CAN","BC","Nakusp",3560,"Cold-Humid",-20,31,null,null,null,null,null,null,null,null,{"$f":"_xlfn.IFNA(LOOKUP(2, 1/((COUNTIF($Q$1:Q114, $D$2:$D$1686)=0)*($N$3=$C$2:$C$1686)), $D$2:$D$1686),\"\")","v":"Mattawa"},null,null,{"$f":"IFERROR(INDEX($Q$2:$Q$231,MATCH(ROWS($Q$2:Q115),COUNTIF($Q$2:$Q$231,\"<=\"&$Q$2:$Q$231),0)),0)","v":"Markham"},115,"Martin"]
[115,"CAN","BC","Nanaimo",3000,"Marine",-6,27,null,null,null,null,null,null,null,null,{"$f":"_xlfn.IFNA(LOOKUP(2, 1/((COUNTIF($Q$1:Q115, $D$2:$D$1686)=0)*($N$3=$C$2:$C$1686)), $D$2:$D$1686),\"\")","v":"Matheson"},null,null,{"$f":"IFERROR(INDEX($Q$2:$Q$231,MATCH(ROWS($Q$2:Q116),COUNTIF($Q$2:$Q$231,\"<=\"&$Q$2:$Q$231),0)),0)","v":"Martin"},116,"Matheson"]
[116,"CAN","BC","Nelson",3500,"Cold-Humid",-18,31,null,null,null,null,null,null,null,null,{"$f":"_xlfn.IFNA(LOOKUP(2, 1/((COUNTIF($Q$1:Q116, $D$2:$D$1686)=0)*($N$3=$C$2:$C$1686)), $D$2:$D$1686),\"\")","v":"Martin"},null,null,{"$f":"IFERROR(INDEX($Q$2:$Q$231,MATCH(ROWS($Q$2:Q117),COUNTIF($Q$2:$Q$231,\"<=\"&$Q$2:$Q$231),0)),0)","v":"Matheson"},117,"Mattawa"]
[117,"CAN","BC","New Westminster",2800,"Marine",-8,29,null,null,null,null,null,null,null,null,{"$f":"_xlfn.IFNA(LOOKUP(2, 1/((COUNTIF($Q$1:Q117, $D$2:$D$1686)=0)*($N$3=$C$2:$C$1686)), $D$2:$D$1686),\"\")","v":"Markham"},null,null,{"$f":"IFERROR(INDEX($Q$2:$Q$231,MATCH(ROWS($Q$2:Q118),COUNTIF($Q$2:$Q$231,\"<=\"&$Q$2:$Q$231),0)),0)","v":"Mattawa"},118,"Midland"]
[118,"CAN","BC","North Vancouver",2910,"Marine",-7,26,null,null,null,null,null,null,null,null,{"$f":"_xlfn.IFNA(LOOKUP(2, 1/((COUNTIF($Q$1:Q118, $D$2:$D$1686)=0)*($N$3=$C$2:$C$1686)), $D$2:$D$1686),\"\")","v":"Markdale"},null,null,{"$f":"IFERROR(INDEX($Q$2:$Q$231,MATCH(ROWS($Q$2:Q119),COUNTIF($Q$2:$Q$231,\"<=\"&$Q$2:$Q$231),0)),0)","v":"Midland"},119,"Milton"]
[119,"CAN","BC","Ocean Falls",3400,"Cold-Humid",-10,23,null,null,null,null,null,null,null,null,{"$f":"_xlfn.IFNA(LOOKUP(2, 1/((COUNTIF($Q$1:Q119, $D$2:$D$1686)=0)*($N$3=$C$2:$C$1686)), $D$2:$D$1686),\"\")","v":"Maitland"},null,null,{"$f":"IFERROR(INDEX($Q$2:$Q$231,MATCH(ROWS($Q$2:Q120),COUNTIF($Q$2:$Q$231,\"<=\"&$Q$2:$Q$231),0)),0)","v":"Milton"},120,"Milverton"]
[120,"CAN","BC","Osoyoos",3100,"Cold-Humid",-14,35,null,null,null,null,null,null,null,null,{"$f":"_xlfn.IFNA(LOOKUP(2, 1/((COUNTIF($Q$1:Q120, $D$2:$D$1686)=0)*($N$3=$C$2:$C$1686)), $D$2:$D$1686),\"\")","v":"Lucan"},null,null,{"$f":"IFERROR(INDEX($Q$2:$Q$231,MATCH(ROWS($Q$2:Q121),COUNTIF($Q$2:$Q$231,\"<=\"&$Q$2:$Q$231),0)),0)","v":"Milverton"},121,"Minden"]
[121,"CAN","BC","Parksville",3200,"Marine",-6,26,null,null,null,null,null,null,null,null,{"$f":"_xlfn.IFNA(LOOKUP(2, 1/((COUNTIF($Q$1:Q121, $D$2:$D$1686)=0)*($N$3=$C$2:$C$1686)), $D$2:$D$1686),\"\")","v":"London"},null,null,{"$f":"IFERROR(INDEX($Q$2:$Q$231,MATCH(ROWS($Q$2:Q122),COUNTIF($Q$2:$Q$231,\"<=\"&$Q$2:$Q$231),0)),0)","v":"Minden"},122,"Mississauga"]
[122,"CAN","BC","Penticton",3350,"Cold-Dry",-15,33,null,null,null,null,null,null,null,null,{"$f":"_xlfn.IFNA(LOOKUP(2, 1/((COUNTIF($Q$1:Q122, $D$2:$D$1686)=0)*($N$3=$C$2:$C$1686)), $D$2:$D$1686),\"\")","v":"Listowel"},null,null,{"$f":"IFERROR(INDEX($Q$2:$Q$231,MATCH(ROWS($Q$2:Q123),COUNTIF($Q$2:$Q$231,\"<=\"&$Q$2:$Q$231),0)),0)","v":"Mississauga"},123,"Mississauga (LBP Int'l Airport)"]
[123,"CAN","BC","Port Alberni",3100,"Marine",-5,31,null,null,null,null,null,null,null,null,{"$f":"_xlfn.IFNA(LOOKUP(2, 1/((COUNTIF($Q$1:Q123, $D$2:$D$1686)=0)*($N$3=$C$2:$C$1686)), $D$2:$D$1686),\"\")","v":"Lion's Head"},null,null,{"$f":"IFERROR(INDEX($Q$2:$Q$231,MATCH(ROWS($Q$2:Q124),COUNTIF($Q$2:$Q$231,\"<=\"&$Q$2:$Q$231),0)),0)","v":"Mississauga (LBP Int'l Airport)"},124,"Mississauga (Port Credit)"]
[124,"CAN","BC","Port Alice",3010,"Marine",-3,26,null,null,null,null,null,null,null,null,{"$f":"_xlfn.IFNA(LOOKUP(2, 1/((COUNTIF($Q$1:Q124, $D$2:$D$1686)=0)*($N$3=$C$2:$C$1686)), $D$2:$D$1686),\"\")","v":"Lindsay"},null,null,{"$f":"IFERROR(INDEX($Q$2:$Q$231,MATCH(ROWS($Q$2:Q125),COUNTIF($Q$2:$Q$231,\"<=\"&$Q$2:$Q$231),0)),0)","v":"Mississauga (Port Credit)"},125,"Mitchell"]
[125,"CAN","BC","Port Hardy",3440,"Marine",-5,20,null,null,null,null,null,null,null,null,{"$f":"_xlfn.IFNA(LOOKUP(2, 1/((COUNTIF($Q$1:Q125, $D$2:$D$1686)=0)*($N$3=$C$2:$C$1686)), $D$2:$D$1686),\"\")","v":"Leamington"},null,null,{"$f":"IFERROR(INDEX($Q$2:$Q$231,MATCH(ROWS($Q$2:Q126),COUNTIF($Q$2:$Q$231,\"<=\"&$Q$2:$Q$231),0)),0)","v":"Mitchell"},126,"Moosonee"]
[126,"CAN","BC","Port McNeill",3410,"Marine",-5,22,null,null,null,null,null,null,null,null,{"$f":"_xlfn.IFNA(LOOKUP(2, 1/((COUNTIF($Q$1:Q126, $D$2:$D$1686)=0)*($N$3=$C$2:$C$1686)), $D$2:$D$1686),\"\")","v":"Lansdowne House"},null,null,{"$f":"IFERROR(INDEX($Q$2:$Q$231,MATCH(ROWS($Q$2:Q127),COUNTIF($Q$2:$Q$231,\"<=\"&$Q$2:$Q$231),0)),0)","v":"Moosonee"},127,"Morrisburg"]
[127,"CAN","BC","Port Renfrew",2900,"Marine",-3,24,null,null,null,null,null,null,null,null,{"$f":"_xlfn.IFNA(LOOKUP(2, 1/((COUNTIF($Q$1:Q127, $D$2:$D$1686)=0)*($N$3=$C$2:$C$1686)), $D$2:$D$1686),\"\")","v":"Lakefield"},null,null,{"$f":"IFERROR(INDEX($Q$2:$Q$231,MATCH(ROWS($Q$2:Q128),COUNTIF($Q$2:$Q$231,\"<=\"&$Q$2:$Q$231),0)),0)","v":"Morrisburg"},128,"Mount Forest"]
[128,"CAN","BC","Powell River",3100,"Marine",-7,26,null,null,null,null,null,null,null,null,{"$f":"_xlfn.IFNA(LOOKUP(2, 1/((COUNTIF($Q$1:Q128, $D$2:$D$1686)=0)*($N$3=$C$2:$C$1686)), $D$2:$D$1686),\"\")","v":"Kitchenuhmaykoosib"},null,null,{"$f":"IFERROR(INDEX($Q$2:$Q$231,MATCH(ROWS($Q$2:Q129),COUNTIF($Q$2:$Q$231,\"<=\"&$Q$2:$Q$231),0)),0)","v":"Mount Forest"},129,"Nakina"]
[129,"CAN","BC","Prince George",4720,"Very-Cold",-32,28,null,null,null,null,null,null,null,null,{"$f":"_xlfn.IFNA(LOOKUP(2, 1/((COUNTIF($Q$1:Q129, $D$2:$D$1686)=0)*($N$3=$C$2:$C$1686)), $D$2:$D$1686),\"\")","v":"Kitchener"},null,null,{"$f":"IFERROR(INDEX($Q$2:$Q$231,MATCH(ROWS($Q$2:Q130),COUNTIF($Q$2:$Q$231,\"<=\"&$Q$2:$Q$231),0)),0)","v":"Nakina"},130,"Nanticoke (Jarvis)"]
[130,"CAN","BC","Prince Rupert",3900,"Cold-Dry",-13,19,null,null,null,null,null,null,null,null,{"$f":"_xlfn.IFNA(LOOKUP(2, 1/((COUNTIF($Q$1:Q130, $D$2:$D$1686)=0)*($N$3=$C$2:$C$1686)), $D$2:$D$1686),\"\")","v":"Kirkland Lake"},null,null,{"$f":"IFERROR(INDEX($Q$2:$Q$231,MATCH(ROWS($Q$2:Q131),COUNTIF($Q$2:$Q$231,\"<=\"&$Q$2:$Q$231),0)),0)","v":"Nanticoke (Jarvis)"},131,{"$f":"IFERROR(INDEX($T$2:$T$231,U131,1),\"\")","v":"Nanticoke (Port Dover)"}]
[131,"CAN","BC","Princeton",4250,"Cold-Dry",-24,33,null,null,null,null,null,null,null,null,{"$f":"_xlfn.IFNA(LOOKUP(2, 1/((COUNTIF($Q$1:Q131, $D$2:$D$1686)=0)*($N$3=$C$2:$C$1686)), $D$2:$D$1686),\"\")","v":"Kinmount"},null,null,{"$f":"IFERROR(INDEX($Q$2:$Q$231,MATCH(ROWS($Q$2:Q132),COUNTIF($Q$2:$Q$231,\"<=\"&$Q$2:$Q$231),0)),0)","v":"Nanticoke (Port Dover)"},{"$f":"U131+1","v":132},"Napanee"]
[132,"CAN","BC","Qualicum Beach",3200,"Marine",-7,27,null,null,null,null,null,null,null,null,{"$f":"_xlfn.IFNA(LOOKUP(2, 1/((COUNTIF($Q$1:Q132, $D$2:$D$1686)=0)*($N$3=$C$2:$C$1686)), $D$2:$D$1686),\"\")","v":"Kingston"},null,null,{"$f":"IFERROR(INDEX($Q$2:$Q$231,MATCH(ROWS($Q$2:Q133),COUNTIF($Q$2:$Q$231,\"<=\"&$Q$2:$Q$231),0)),0)","v":"Napanee"},133,"New Liskeard"]
[133,"CAN","BC","Queen Charlotte City",3520,"Marine",-6,21,null,null,null,null,null,null,null,null,{"$f":"_xlfn.IFNA(LOOKUP(2, 1/((COUNTIF($Q$1:Q133, $D$2:$D$1686)=0)*($N$3=$C$2:$C$1686)), $D$2:$D$1686),\"\")","v":"Kincardine"},null,null,{"$f":"IFERROR(INDEX($Q$2:$Q$231,MATCH(ROWS($Q$2:Q134),COUNTIF($Q$2:$Q$231,\"<=\"&$Q$2:$Q$231),0)),0)","v":"New Liskeard"},134,"Newcastle"]
[134,"CAN","BC","Quesnel",4650,"Very-Cold",-31,30,null,null,null,null,null,null,null,null,{"$f":"_xlfn.IFNA(LOOKUP(2, 1/((COUNTIF($Q$1:Q134, $D$2:$D$1686)=0)*($N$3=$C$2:$C$1686)), $D$2:$D$1686),\"\")","v":"Killaloe"},null,null,{"$f":"IFERROR(INDEX($Q$2:$Q$231,MATCH(ROWS($Q$2:Q135),COUNTIF($Q$2:$Q$231,\"<=\"&$Q$2:$Q$231),0)),0)","v":"Newcastle"},135,"Newcastle (Bowmanville)"]
[135,"CAN","BC","Revelstoke",4000,"Cold-Dry",-20,31,null,null,null,null,null,null,null,null,{"$f":"_xlfn.IFNA(LOOKUP(2, 1/((COUNTIF($Q$1:Q135, $D$2:$D$1686)=0)*($N$3=$C$2:$C$1686)), $D$2:$D$1686),\"\")","v":"Kenora"},null,null,{"$f":"IFERROR(INDEX($Q$2:$Q$231,MATCH(ROWS($Q$2:Q136),COUNTIF($Q$2:$Q$231,\"<=\"&$Q$2:$Q$231),0)),0)","v":"Newcastle (Bowmanville)"},136,"Newmarket"]
[136,"CAN","BC","Richmond",2800,"Marine",-7,27,null,null,null,null,null,null,null,null,{"$f":"_xlfn.IFNA(LOOKUP(2, 1/((COUNTIF($Q$1:Q136, $D$2:$D$1686)=0)*($N$3=$C$2:$C$1686)), $D$2:$D$1686),\"\")","v":"Kemptville"},null,null,{"$f":"IFERROR(INDEX($Q$2:$Q$231,MATCH(ROWS($Q$2:Q137),COUNTIF($Q$2:$Q$231,\"<=\"&$Q$2:$Q$231),0)),0)","v":"Newmarket"},137,"Niagara Falls"]
[137,"CAN","BC","Salmon Arm",3650,"Cold-Humid",-19,33,null,null,null,null,null,null,null,null,{"$f":"_xlfn.IFNA(LOOKUP(2, 1/((COUNTIF($Q$1:Q137, $D$2:$D$1686)=0)*($N$3=$C$2:$C$1686)), $D$2:$D$1686),\"\")","v":"Kapuskasing"},null,null,{"$f":"IFERROR(INDEX($Q$2:$Q$231,MATCH(ROWS($Q$2:Q138),COUNTIF($Q$2:$Q$231,\"<=\"&$Q$2:$Q$231),0)),0)","v":"Niagara Falls"},138,"North Bay"]
[138,"CAN","BC","Sandspit",3450,"Marine",-4,18,null,null,null,null,null,null,null,null,{"$f":"_xlfn.IFNA(LOOKUP(2, 1/((COUNTIF($Q$1:Q138, $D$2:$D$1686)=0)*($N$3=$C$2:$C$1686)), $D$2:$D$1686),\"\")","v":"Jellicoe"},null,null,{"$f":"IFERROR(INDEX($Q$2:$Q$231,MATCH(ROWS($Q$2:Q139),COUNTIF($Q$2:$Q$231,\"<=\"&$Q$2:$Q$231),0)),0)","v":"North Bay"},139,"North York"]
[139,"CAN","BC","Sechelt",2680,"Marine",-6,27,null,null,null,null,null,null,null,null,{"$f":"_xlfn.IFNA(LOOKUP(2, 1/((COUNTIF($Q$1:Q139, $D$2:$D$1686)=0)*($N$3=$C$2:$C$1686)), $D$2:$D$1686),\"\")","v":"Iroquois Falls"},null,null,{"$f":"IFERROR(INDEX($Q$2:$Q$231,MATCH(ROWS($Q$2:Q140),COUNTIF($Q$2:$Q$231,\"<=\"&$Q$2:$Q$231),0)),0)","v":"North York"},140,"Norwood"]
[140,"CAN","BC","Sidney",2850,"Marine",-4,26,null,null,null,null,null,null,null,null,{"$f":"_xlfn.IFNA(LOOKUP(2, 1/((COUNTIF($Q$1:Q140, $D$2:$D$1686)=0)*($N$3=$C$2:$C$1686)), $D$2:$D$1686),\"\")","v":"Ingersoll"},null,null,{"$f":"IFERROR(INDEX($Q$2:$Q$231,MATCH(ROWS($Q$2:Q141),COUNTIF($Q$2:$Q$231,\"<=\"&$Q$2:$Q$231),0)),0)","v":"Norwood"},141,"Oakville"]
[141,"CAN","BC","Smith River",7100,"Subarctic",-45,26,null,null,null,null,null,null,null,null,{"$f":"_xlfn.IFNA(LOOKUP(2, 1/((COUNTIF($Q$1:Q141, $D$2:$D$1686)=0)*($N$3=$C$2:$C$1686)), $D$2:$D$1686),\"\")","v":"Huntsville"},null,null,{"$f":"IFERROR(INDEX($Q$2:$Q$231,MATCH(ROWS($Q$2:Q142),COUNTIF($Q$2:$Q$231,\"<=\"&$Q$2:$Q$231),0)),0)","v":"Oakville"},142,"Orangeville"]
[142,"CAN","BC","Smithers",5040,"Very-Cold",-29,26,null,null,null,null,null,null,null,null,{"$f":"_xlfn.IFNA(LOOKUP(2, 1/((COUNTIF($Q$1:Q142, $D$2:$D$1686)=0)*($N$3=$C$2:$C$1686)), $D$2:$D$1686),\"\")","v":"Hornepayne"},null,null,{"$f":"IFERROR(INDEX($Q$2:$Q$231,MATCH(ROWS($Q$2:Q143),COUNTIF($Q$2:$Q$231,\"<=\"&$Q$2:$Q$231),0)),0)","v":"Orangeville"},143,"Orillia"]
[143,"CAN","BC","Sooke",2900,"Marine",-1,21,null,null,null,null,null,null,null,null,{"$f":"_xlfn.IFNA(LOOKUP(2, 1/((COUNTIF($Q$1:Q143, $D$2:$D$1686)=0)*($N$3=$C$2:$C$1686)), $D$2:$D$1686),\"\")","v":"Honey Harbour"},null,null,{"$f":"IFERROR(INDEX($Q$2:$Q$231,MATCH(ROWS($Q$2:Q144),COUNTIF($Q$2:$Q$231,\"<=\"&$Q$2:$Q$231),0)),0)","v":"Orillia"},144,"Oshawa"]
[144,"CAN","BC","Squamish",2950,"Cold-Humid",-9,29,null,null,null,null,null,null,null,null,{"$f":"_xlfn.IFNA(LOOKUP(2, 1/((COUNTIF($Q$1:Q144, $D$2:$D$1686)=0)*($N$3=$C$2:$C$1686)), $D$2:$D$1686),\"\")","v":"Hearst"},null,null,{"$f":"IFERROR(INDEX($Q$2:$Q$231,MATCH(ROWS($Q$2:Q145),COUNTIF($Q$2:$Q$231,\"<=\"&$Q$2:$Q$231),0)),0)","v":"Oshawa"},145,"Ottawa (Barrhaven)"]
[145,"CAN","BC","Stewart",4350,"Cold-Dry",-17,25,null,null,null,null,null,null,null,null,{"$f":"_xlfn.IFNA(LOOKUP(2, 1/((COUNTIF($Q$1:Q145, $D$2:$D$1686)=0)*($N$3=$C$2:$C$1686)), $D$2:$D$1686),\"\")","v":"Hawkesbury"},null,null,{"$f":"IFERROR(INDEX($Q$2:$Q$231,MATCH(ROWS($Q$2:Q146),COUNTIF($Q$2:$Q$231,\"<=\"&$Q$2:$Q$231),0)),0)","v":"Ottawa (Barrhaven)"},146,"Ottawa (city hall)"]
[146,"CAN","BC","Surrey (88 Ave & 156 St.)",2750,"Marine",-8,29,null,null,null,null,null,null,null,null,{"$f":"_xlfn.IFNA(LOOKUP(2, 1/((COUNTIF($Q$1:Q146, $D$2:$D$1686)=0)*($N$3=$C$2:$C$1686)), $D$2:$D$1686),\"\")","v":"Hastings"},null,null,{"$f":"IFERROR(INDEX($Q$2:$Q$231,MATCH(ROWS($Q$2:Q147),COUNTIF($Q$2:$Q$231,\"<=\"&$Q$2:$Q$231),0)),0)","v":"Ottawa (city hall)"},147,"Ottawa (Kanata)"]
[147,"CAN","BC","Tahsis",3150,"Marine",-4,26,null,null,null,null,null,null,null,null,{"$f":"_xlfn.IFNA(LOOKUP(2, 1/((COUNTIF($Q$1:Q147, $D$2:$D$1686)=0)*($N$3=$C$2:$C$1686)), $D$2:$D$1686),\"\")","v":"Hanover"},null,null,{"$f":"IFERROR(INDEX($Q$2:$Q$231,MATCH(ROWS($Q$2:Q148),COUNTIF($Q$2:$Q$231,\"<=\"&$Q$2:$Q$231),0)),0)","v":"Ottawa (Kanata)"},148,"Ottawa (M-C Int'l Airport)"]
[148,"CAN","BC","Taylor",5720,"Very-Cold",-35,26,null,null,null,null,null,null,null,null,{"$f":"_xlfn.IFNA(LOOKUP(2, 1/((COUNTIF($Q$1:Q148, $D$2:$D$1686)=0)*($N$3=$C$2:$C$1686)), $D$2:$D$1686),\"\")","v":"Hamilton"},null,null,{"$f":"IFERROR(INDEX($Q$2:$Q$231,MATCH(ROWS($Q$2:Q149),COUNTIF($Q$2:$Q$231,\"<=\"&$Q$2:$Q$231),0)),0)","v":"Ottawa (M-C Int'l Airport)"},149,"Ottawa (Orleans)"]
[149,"CAN","BC","Terrace",4150,"Cold-Dry",-19,27,null,null,null,null,null,null,null,null,{"$f":"_xlfn.IFNA(LOOKUP(2, 1/((COUNTIF($Q$1:Q149, $D$2:$D$1686)=0)*($N$3=$C$2:$C$1686)), $D$2:$D$1686),\"\")","v":"Halton Hills (Georgetown)"},null,null,{"$f":"IFERROR(INDEX($Q$2:$Q$231,MATCH(ROWS($Q$2:Q150),COUNTIF($Q$2:$Q$231,\"<=\"&$Q$2:$Q$231),0)),0)","v":"Ottawa (Orleans)"},150,"Owen Sound"]
[150,"CAN","BC","Tofino",3150,"Marine",-2,20,null,null,null,null,null,null,null,null,{"$f":"_xlfn.IFNA(LOOKUP(2, 1/((COUNTIF($Q$1:Q150, $D$2:$D$1686)=0)*($N$3=$C$2:$C$1686)), $D$2:$D$1686),\"\")","v":"Haliburton"},null,null,{"$f":"IFERROR(INDEX($Q$2:$Q$231,MATCH(ROWS($Q$2:Q151),COUNTIF($Q$2:$Q$231,\"<=\"&$Q$2:$Q$231),0)),0)","v":"Owen Sound"},151,"Pagwa River"]
[151,"CAN","BC","Trail",3600,"Cold-Dry",-14,33,null,null,null,null,null,null,null,null,{"$f":"_xlfn.IFNA(LOOKUP(2, 1/((COUNTIF($Q$1:Q151, $D$2:$D$1686)=0)*($N$3=$C$2:$C$1686)), $D$2:$D$1686),\"\")","v":"Haldimand (Hagersville)"},null,null,{"$f":"IFERROR(INDEX($Q$2:$Q$231,MATCH(ROWS($Q$2:Q152),COUNTIF($Q$2:$Q$231,\"<=\"&$Q$2:$Q$231),0)),0)","v":"Pagwa River"},152,"Paris"]
[152,"CAN","BC","Ucluelet",3120,"Marine",-2,18,null,null,null,null,null,null,null,null,{"$f":"_xlfn.IFNA(LOOKUP(2, 1/((COUNTIF($Q$1:Q152, $D$2:$D$1686)=0)*($N$3=$C$2:$C$1686)), $D$2:$D$1686),\"\")","v":"Haldimand (Caledonia)"},null,null,{"$f":"IFERROR(INDEX($Q$2:$Q$231,MATCH(ROWS($Q$2:Q153),COUNTIF($Q$2:$Q$231,\"<=\"&$Q$2:$Q$231),0)),0)","v":"Paris"},153,"Parkhill"]
[153,"CAN","BC","Vancouver (city hall)",2825,"Marine",-7,28,null,null,null,null,null,null,null,null,{"$f":"_xlfn.IFNA(LOOKUP(2, 1/((COUNTIF($Q$1:Q153, $D$2:$D$1686)=0)*($N$3=$C$2:$C$1686)), $D$2:$D$1686),\"\")","v":"Haileybury"},null,null,{"$f":"IFERROR(INDEX($Q$2:$Q$231,MATCH(ROWS($Q$2:Q154),COUNTIF($Q$2:$Q$231,\"<=\"&$Q$2:$Q$231),0)),0)","v":"Parkhill"},154,"Parry Sound"]
[154,"CAN","BC","Vancouver (Granville & 41 Ave)",2925,"Marine",-6,28,null,null,null,null,null,null,null,null,{"$f":"_xlfn.IFNA(LOOKUP(2, 1/((COUNTIF($Q$1:Q154, $D$2:$D$1686)=0)*($N$3=$C$2:$C$1686)), $D$2:$D$1686),\"\")","v":"Guthrie"},null,null,{"$f":"IFERROR(INDEX($Q$2:$Q$231,MATCH(ROWS($Q$2:Q155),COUNTIF($Q$2:$Q$231,\"<=\"&$Q$2:$Q$231),0)),0)","v":"Parry Sound"},155,"Pelham (Fonthill)"]
[155,"CAN","BC","Vernon",3600,"Cold-Dry",-20,33,null,null,null,null,null,null,null,null,{"$f":"_xlfn.IFNA(LOOKUP(2, 1/((COUNTIF($Q$1:Q155, $D$2:$D$1686)=0)*($N$3=$C$2:$C$1686)), $D$2:$D$1686),\"\")","v":"Guelph"},null,null,{"$f":"IFERROR(INDEX($Q$2:$Q$231,MATCH(ROWS($Q$2:Q156),COUNTIF($Q$2:$Q$231,\"<=\"&$Q$2:$Q$231),0)),0)","v":"Pelham (Fonthill)"},156,"Pembroke"]
[156,"CAN","BC","Victoria",2650,"Marine",-4,24,null,null,null,null,null,null,null,null,{"$f":"_xlfn.IFNA(LOOKUP(2, 1/((COUNTIF($Q$1:Q156, $D$2:$D$1686)=0)*($N$3=$C$2:$C$1686)), $D$2:$D$1686),\"\")","v":"Grimsby"},null,null,{"$f":"IFERROR(INDEX($Q$2:$Q$231,MATCH(ROWS($Q$2:Q157),COUNTIF($Q$2:$Q$231,\"<=\"&$Q$2:$Q$231),0)),0)","v":"Pembroke"},157,"Penetanguishene"]
[157,"CAN","BC","Victoria Gonzales Height",2700,"Marine",-4,24,null,null,null,null,null,null,null,null,{"$f":"_xlfn.IFNA(LOOKUP(2, 1/((COUNTIF($Q$1:Q157, $D$2:$D$1686)=0)*($N$3=$C$2:$C$1686)), $D$2:$D$1686),\"\")","v":"Gravenhurst (Muskoka Airport)"},null,null,{"$f":"IFERROR(INDEX($Q$2:$Q$231,MATCH(ROWS($Q$2:Q158),COUNTIF($Q$2:$Q$231,\"<=\"&$Q$2:$Q$231),0)),0)","v":"Penetanguishene"},158,"Perth"]
[158,"CAN","BC","Victoria Mt Tolmie",2700,"Marine",-6,24,null,null,null,null,null,null,null,null,{"$f":"_xlfn.IFNA(LOOKUP(2, 1/((COUNTIF($Q$1:Q158, $D$2:$D$1686)=0)*($N$3=$C$2:$C$1686)), $D$2:$D$1686),\"\")","v":"Graham"},null,null,{"$f":"IFERROR(INDEX($Q$2:$Q$231,MATCH(ROWS($Q$2:Q159),COUNTIF($Q$2:$Q$231,\"<=\"&$Q$2:$Q$231),0)),0)","v":"Perth"},159,"Petawawa"]
[159,"CAN","BC","West Vancouver",2950,"Marine",-7,28,null,null,null,null,null,null,null,null,{"$f":"_xlfn.IFNA(LOOKUP(2, 1/((COUNTIF($Q$1:Q159, $D$2:$D$1686)=0)*($N$3=$C$2:$C$1686)), $D$2:$D$1686),\"\")","v":"Gore Bay"},null,null,{"$f":"IFERROR(INDEX($Q$2:$Q$231,MATCH(ROWS($Q$2:Q160),COUNTIF($Q$2:$Q$231,\"<=\"&$Q$2:$Q$231),0)),0)","v":"Petawawa"},160,"Peterborough"]
[160,"CAN","BC","Whistler",4180,"Cold-Humid",-17,30,null,null,null,null,null,null,null,null,{"$f":"_xlfn.IFNA(LOOKUP(2, 1/((COUNTIF($Q$1:Q160, $D$2:$D$1686)=0)*($N$3=$C$2:$C$1686)), $D$2:$D$1686),\"\")","v":"Goderich"},null,null,{"$f":"IFERROR(INDEX($Q$2:$Q$231,MATCH(ROWS($Q$2:Q161),COUNTIF($Q$2:$Q$231,\"<=\"&$Q$2:$Q$231),0)),0)","v":"Peterborough"},161,"Petrolia"]
[161,"CAN","BC","White Rock",2620,"Marine",-5,25,null,null,null,null,null,null,null,null,{"$f":"_xlfn.IFNA(LOOKUP(2, 1/((COUNTIF($Q$1:Q161, $D$2:$D$1686)=0)*($N$3=$C$2:$C$1686)), $D$2:$D$1686),\"\")","v":"Glencoe"},null,null,{"$f":"IFERROR(INDEX($Q$2:$Q$231,MATCH(ROWS($Q$2:Q162),COUNTIF($Q$2:$Q$231,\"<=\"&$Q$2:$Q$231),0)),0)","v":"Petrolia"},162,"Pickering (Dunbarton)"]
[162,"CAN","BC","Williams Lake",4400,"Cold-Dry",-30,29,null,null,null,null,null,null,null,null,{"$f":"_xlfn.IFNA(LOOKUP(2, 1/((COUNTIF($Q$1:Q162, $D$2:$D$1686)=0)*($N$3=$C$2:$C$1686)), $D$2:$D$1686),\"\")","v":"Geraldton"},null,null,{"$f":"IFERROR(INDEX($Q$2:$Q$231,MATCH(ROWS($Q$2:Q163),COUNTIF($Q$2:$Q$231,\"<=\"&$Q$2:$Q$231),0)),0)","v":"Pickering (Dunbarton)"},163,"Picton"]
[163,"CAN","BC","Youbou",3050,"Marine",-5,31,null,null,null,null,null,null,null,null,{"$f":"_xlfn.IFNA(LOOKUP(2, 1/((COUNTIF($Q$1:Q163, $D$2:$D$1686)=0)*($N$3=$C$2:$C$1686)), $D$2:$D$1686),\"\")","v":"Gananoque"},null,null,{"$f":"IFERROR(INDEX($Q$2:$Q$231,MATCH(ROWS($Q$2:Q164),COUNTIF($Q$2:$Q$231,\"<=\"&$Q$2:$Q$231),0)),0)","v":"Picton"},164,"Plattsville"]
[164,"CAN","MB","Beausejour",5680,"Very-Cold",-33,29,null,null,null,null,null,null,null,null,{"$f":"_xlfn.IFNA(LOOKUP(2, 1/((COUNTIF($Q$1:Q164, $D$2:$D$1686)=0)*($N$3=$C$2:$C$1686)), $D$2:$D$1686),\"\")","v":"Fort Frances"},null,null,{"$f":"IFERROR(INDEX($Q$2:$Q$231,MATCH(ROWS($Q$2:Q165),COUNTIF($Q$2:$Q$231,\"<=\"&$Q$2:$Q$231),0)),0)","v":"Plattsville"},165,"Point Alexander"]
[165,"CAN","MB","Boissevain",5500,"Very-Cold",-32,30,null,null,null,null,null,null,null,null,{"$f":"_xlfn.IFNA(LOOKUP(2, 1/((COUNTIF($Q$1:Q165, $D$2:$D$1686)=0)*($N$3=$C$2:$C$1686)), $D$2:$D$1686),\"\")","v":"Fort Erie (Ridgeway)"},null,null,{"$f":"IFERROR(INDEX($Q$2:$Q$231,MATCH(ROWS($Q$2:Q166),COUNTIF($Q$2:$Q$231,\"<=\"&$Q$2:$Q$231),0)),0)","v":"Point Alexander"},166,"Port Burwell"]
[166,"CAN","MB","Brandon",5760,"Very-Cold",-33,30,null,null,null,null,null,null,null,null,{"$f":"_xlfn.IFNA(LOOKUP(2, 1/((COUNTIF($Q$1:Q166, $D$2:$D$1686)=0)*($N$3=$C$2:$C$1686)), $D$2:$D$1686),\"\")","v":"Fort Erie"},null,null,{"$f":"IFERROR(INDEX($Q$2:$Q$231,MATCH(ROWS($Q$2:Q167),COUNTIF($Q$2:$Q$231,\"<=\"&$Q$2:$Q$231),0)),0)","v":"Port Burwell"},167,"Port Colborne"]
[167,"CAN","MB","Churchill",8950,"Subarctic",-38,25,null,null,null,null,null,null,null,null,{"$f":"_xlfn.IFNA(LOOKUP(2, 1/((COUNTIF($Q$1:Q167, $D$2:$D$1686)=0)*($N$3=$C$2:$C$1686)), $D$2:$D$1686),\"\")","v":"Forest"},null,null,{"$f":"IFERROR(INDEX($Q$2:$Q$231,MATCH(ROWS($Q$2:Q168),COUNTIF($Q$2:$Q$231,\"<=\"&$Q$2:$Q$231),0)),0)","v":"Port Colborne"},168,"Port Elgin"]
[168,"CAN","MB","Dauphin",5900,"Very-Cold",-33,30,null,null,null,null,null,null,null,null,{"$f":"_xlfn.IFNA(LOOKUP(2, 1/((COUNTIF($Q$1:Q168, $D$2:$D$1686)=0)*($N$3=$C$2:$C$1686)), $D$2:$D$1686),\"\")","v":"Fergus"},null,null,{"$f":"IFERROR(INDEX($Q$2:$Q$231,MATCH(ROWS($Q$2:Q169),COUNTIF($Q$2:$Q$231,\"<=\"&$Q$2:$Q$231),0)),0)","v":"Port Elgin"},169,"Port Hope"]
[169,"CAN","MB","Flin Flon",6440,"Very-Cold",-38,27,null,null,null,null,null,null,null,null,{"$f":"_xlfn.IFNA(LOOKUP(2, 1/((COUNTIF($Q$1:Q169, $D$2:$D$1686)=0)*($N$3=$C$2:$C$1686)), $D$2:$D$1686),\"\")","v":"Fenelon Falls"},null,null,{"$f":"IFERROR(INDEX($Q$2:$Q$231,MATCH(ROWS($Q$2:Q170),COUNTIF($Q$2:$Q$231,\"<=\"&$Q$2:$Q$231),0)),0)","v":"Port Hope"},170,"Port Perry"]
[170,"CAN","MB","Gimli",5800,"Very-Cold",-34,29,null,null,null,null,null,null,null,null,{"$f":"_xlfn.IFNA(LOOKUP(2, 1/((COUNTIF($Q$1:Q170, $D$2:$D$1686)=0)*($N$3=$C$2:$C$1686)), $D$2:$D$1686),\"\")","v":"Exeter"},null,null,{"$f":"IFERROR(INDEX($Q$2:$Q$231,MATCH(ROWS($Q$2:Q171),COUNTIF($Q$2:$Q$231,\"<=\"&$Q$2:$Q$231),0)),0)","v":"Port Perry"},171,"Port Stanley"]
[171,"CAN","MB","Island Lake",6900,"Subarctic",-36,27,null,null,null,null,null,null,null,null,{"$f":"_xlfn.IFNA(LOOKUP(2, 1/((COUNTIF($Q$1:Q171, $D$2:$D$1686)=0)*($N$3=$C$2:$C$1686)), $D$2:$D$1686),\"\")","v":"Etobicoke"},null,null,{"$f":"IFERROR(INDEX($Q$2:$Q$231,MATCH(ROWS($Q$2:Q172),COUNTIF($Q$2:$Q$231,\"<=\"&$Q$2:$Q$231),0)),0)","v":"Port Stanley"},172,"Prescott"]
[172,"CAN","MB","Lac du Bonnet",5730,"Very-Cold",-34,29,null,null,null,null,null,null,null,null,{"$f":"_xlfn.IFNA(LOOKUP(2, 1/((COUNTIF($Q$1:Q172, $D$2:$D$1686)=0)*($N$3=$C$2:$C$1686)), $D$2:$D$1686),\"\")","v":"Espanola"},null,null,{"$f":"IFERROR(INDEX($Q$2:$Q$231,MATCH(ROWS($Q$2:Q173),COUNTIF($Q$2:$Q$231,\"<=\"&$Q$2:$Q$231),0)),0)","v":"Prescott"},173,"Princeton"]
[173,"CAN","MB","Lynn Lake",7770,"Subarctic",-40,27,null,null,null,null,null,null,null,null,{"$f":"_xlfn.IFNA(LOOKUP(2, 1/((COUNTIF($Q$1:Q173, $D$2:$D$1686)=0)*($N$3=$C$2:$C$1686)), $D$2:$D$1686),\"\")","v":"Englehart"},null,null,{"$f":"IFERROR(INDEX($Q$2:$Q$231,MATCH(ROWS($Q$2:Q174),COUNTIF($Q$2:$Q$231,\"<=\"&$Q$2:$Q$231),0)),0)","v":"Princeton"},174,"Raith"]
[174,"CAN","MB","Morden",5400,"Very-Cold",-31,30,null,null,null,null,null,null,null,null,{"$f":"_xlfn.IFNA(LOOKUP(2, 1/((COUNTIF($Q$1:Q174, $D$2:$D$1686)=0)*($N$3=$C$2:$C$1686)), $D$2:$D$1686),\"\")","v":"Embro"},null,null,{"$f":"IFERROR(INDEX($Q$2:$Q$231,MATCH(ROWS($Q$2:Q175),COUNTIF($Q$2:$Q$231,\"<=\"&$Q$2:$Q$231),0)),0)","v":"Raith"},175,"Rayside-Balfour (Chelmsford)"]
[175,"CAN","MB","Neepawa",5760,"Very-Cold",-32,29,null,null,null,null,null,null,null,null,{"$f":"_xlfn.IFNA(LOOKUP(2, 1/((COUNTIF($Q$1:Q175, $D$2:$D$1686)=0)*($N$3=$C$2:$C$1686)), $D$2:$D$1686),\"\")","v":"Elmvale"},null,null,{"$f":"IFERROR(INDEX($Q$2:$Q$231,MATCH(ROWS($Q$2:Q176),COUNTIF($Q$2:$Q$231,\"<=\"&$Q$2:$Q$231),0)),0)","v":"Rayside-Balfour (Chelmsford)"},176,"Red Lake"]
[176,"CAN","MB","Pine Falls",5900,"Very-Cold",-34,28,null,null,null,null,null,null,null,null,{"$f":"_xlfn.IFNA(LOOKUP(2, 1/((COUNTIF($Q$1:Q176, $D$2:$D$1686)=0)*($N$3=$C$2:$C$1686)), $D$2:$D$1686),\"\")","v":"Elliot Lake"},null,null,{"$f":"IFERROR(INDEX($Q$2:$Q$231,MATCH(ROWS($Q$2:Q177),COUNTIF($Q$2:$Q$231,\"<=\"&$Q$2:$Q$231),0)),0)","v":"Red Lake"},177,"Renfrew"]
[177,"CAN","MB","Portage la Prairie",5600,"Very-Cold",-31,30,null,null,null,null,null,null,null,null,{"$f":"_xlfn.IFNA(LOOKUP(2, 1/((COUNTIF($Q$1:Q177, $D$2:$D$1686)=0)*($N$3=$C$2:$C$1686)), $D$2:$D$1686),\"\")","v":"Edison"},null,null,{"$f":"IFERROR(INDEX($Q$2:$Q$231,MATCH(ROWS($Q$2:Q178),COUNTIF($Q$2:$Q$231,\"<=\"&$Q$2:$Q$231),0)),0)","v":"Renfrew"},178,"Richmond Hill"]
[178,"CAN","MB","Rivers",5840,"Very-Cold",-34,29,null,null,null,null,null,null,null,null,{"$f":"_xlfn.IFNA(LOOKUP(2, 1/((COUNTIF($Q$1:Q178, $D$2:$D$1686)=0)*($N$3=$C$2:$C$1686)), $D$2:$D$1686),\"\")","v":"Earlton"},null,null,{"$f":"IFERROR(INDEX($Q$2:$Q$231,MATCH(ROWS($Q$2:Q179),COUNTIF($Q$2:$Q$231,\"<=\"&$Q$2:$Q$231),0)),0)","v":"Richmond Hill"},179,"Rockland"]
[179,"CAN","MB","Sandilands",5650,"Very-Cold",-32,29,null,null,null,null,null,null,null,null,{"$f":"_xlfn.IFNA(LOOKUP(2, 1/((COUNTIF($Q$1:Q179, $D$2:$D$1686)=0)*($N$3=$C$2:$C$1686)), $D$2:$D$1686),\"\")","v":"Dutton"},null,null,{"$f":"IFERROR(INDEX($Q$2:$Q$231,MATCH(ROWS($Q$2:Q180),COUNTIF($Q$2:$Q$231,\"<=\"&$Q$2:$Q$231),0)),0)","v":"Rockland"},180,"Sarnia"]
[180,"CAN","MB","Selkirk",5700,"Very-Cold",-33,29,null,null,null,null,null,null,null,null,{"$f":"_xlfn.IFNA(LOOKUP(2, 1/((COUNTIF($Q$1:Q180, $D$2:$D$1686)=0)*($N$3=$C$2:$C$1686)), $D$2:$D$1686),\"\")","v":"Durham"},null,null,{"$f":"IFERROR(INDEX($Q$2:$Q$231,MATCH(ROWS($Q$2:Q181),COUNTIF($Q$2:$Q$231,\"<=\"&$Q$2:$Q$231),0)),0)","v":"Sarnia"},181,"Sault Ste. Marie"]
[181,"CAN","MB","Split Lake",7900,"Subarctic",-38,27,null,null,null,null,null,null,null,null,{"$f":"_xlfn.IFNA(LOOKUP(2, 1/((COUNTIF($Q$1:Q181, $D$2:$D$1686)=0)*($N$3=$C$2:$C$1686)), $D$2:$D$1686),\"\")","v":"Dunnville"},null,null,{"$f":"IFERROR(INDEX($Q$2:$Q$231,MATCH(ROWS($Q$2:Q182),COUNTIF($Q$2:$Q$231,\"<=\"&$Q$2:$Q$231),0)),0)","v":"Sault Ste. Marie"},182,"Scarborough"]
[182,"CAN","MB","Steinbach",5700,"Very-Cold",-33,29,null,null,null,null,null,null,null,null,{"$f":"_xlfn.IFNA(LOOKUP(2, 1/((COUNTIF($Q$1:Q182, $D$2:$D$1686)=0)*($N$3=$C$2:$C$1686)), $D$2:$D$1686),\"\")","v":"Dundalk"},null,null,{"$f":"IFERROR(INDEX($Q$2:$Q$231,MATCH(ROWS($Q$2:Q183),COUNTIF($Q$2:$Q$231,\"<=\"&$Q$2:$Q$231),0)),0)","v":"Scarborough"},183,"Schreiber"]
[183,"CAN","MB","Swan River",6100,"Very-Cold",-34,29,null,null,null,null,null,null,null,null,{"$f":"_xlfn.IFNA(LOOKUP(2, 1/((COUNTIF($Q$1:Q183, $D$2:$D$1686)=0)*($N$3=$C$2:$C$1686)), $D$2:$D$1686),\"\")","v":"Dryden"},null,null,{"$f":"IFERROR(INDEX($Q$2:$Q$231,MATCH(ROWS($Q$2:Q184),COUNTIF($Q$2:$Q$231,\"<=\"&$Q$2:$Q$231),0)),0)","v":"Schreiber"},184,"Seaforth"]
[184,"CAN","MB","The Pas",6480,"Very-Cold",-36,28,null,null,null,null,null,null,null,null,{"$f":"_xlfn.IFNA(LOOKUP(2, 1/((COUNTIF($Q$1:Q184, $D$2:$D$1686)=0)*($N$3=$C$2:$C$1686)), $D$2:$D$1686),\"\")","v":"Dresden"},null,null,{"$f":"IFERROR(INDEX($Q$2:$Q$231,MATCH(ROWS($Q$2:Q185),COUNTIF($Q$2:$Q$231,\"<=\"&$Q$2:$Q$231),0)),0)","v":"Seaforth"},185,"Shelburne"]
[185,"CAN","MB","Thompson",7600,"Subarctic",-40,27,null,null,null,null,null,null,null,null,{"$f":"_xlfn.IFNA(LOOKUP(2, 1/((COUNTIF($Q$1:Q185, $D$2:$D$1686)=0)*($N$3=$C$2:$C$1686)), $D$2:$D$1686),\"\")","v":"Dorion"},null,null,{"$f":"IFERROR(INDEX($Q$2:$Q$231,MATCH(ROWS($Q$2:Q186),COUNTIF($Q$2:$Q$231,\"<=\"&$Q$2:$Q$231),0)),0)","v":"Shelburne"},186,"Simcoe"]
[186,"CAN","MB","Virden",5620,"Very-Cold",-33,30,null,null,null,null,null,null,null,null,{"$f":"_xlfn.IFNA(LOOKUP(2, 1/((COUNTIF($Q$1:Q186, $D$2:$D$1686)=0)*($N$3=$C$2:$C$1686)), $D$2:$D$1686),\"\")","v":"Dorchester"},null,null,{"$f":"IFERROR(INDEX($Q$2:$Q$231,MATCH(ROWS($Q$2:Q187),COUNTIF($Q$2:$Q$231,\"<=\"&$Q$2:$Q$231),0)),0)","v":"Simcoe"},187,"Sioux Lookout"]
[187,"CAN","MB","Winnipeg",5670,"Very-Cold",-33,30,null,null,null,null,null,null,null,null,{"$f":"_xlfn.IFNA(LOOKUP(2, 1/((COUNTIF($Q$1:Q187, $D$2:$D$1686)=0)*($N$3=$C$2:$C$1686)), $D$2:$D$1686),\"\")","v":"Deseronto"},null,null,{"$f":"IFERROR(INDEX($Q$2:$Q$231,MATCH(ROWS($Q$2:Q188),COUNTIF($Q$2:$Q$231,\"<=\"&$Q$2:$Q$231),0)),0)","v":"Sioux Lookout"},188,"Smiths Falls"]
[188,"CAN","NB","Alma",4500,"Very-Cold",-21,26,null,null,null,null,null,null,null,null,{"$f":"_xlfn.IFNA(LOOKUP(2, 1/((COUNTIF($Q$1:Q188, $D$2:$D$1686)=0)*($N$3=$C$2:$C$1686)), $D$2:$D$1686),\"\")","v":"Deep River"},null,null,{"$f":"IFERROR(INDEX($Q$2:$Q$231,MATCH(ROWS($Q$2:Q189),COUNTIF($Q$2:$Q$231,\"<=\"&$Q$2:$Q$231),0)),0)","v":"Smiths Falls"},189,"Smithville"]
[189,"CAN","NB","Bathurst",5020,"Very-Cold",-23,30,null,null,null,null,null,null,null,null,{"$f":"_xlfn.IFNA(LOOKUP(2, 1/((COUNTIF($Q$1:Q189, $D$2:$D$1686)=0)*($N$3=$C$2:$C$1686)), $D$2:$D$1686),\"\")","v":"Corunna"},null,null,{"$f":"IFERROR(INDEX($Q$2:$Q$231,MATCH(ROWS($Q$2:Q190),COUNTIF($Q$2:$Q$231,\"<=\"&$Q$2:$Q$231),0)),0)","v":"Smithville"},190,"Smooth Rock Falls"]
[190,"CAN","NB","Campbellton",5500,"Very-Cold",-26,29,null,null,null,null,null,null,null,null,{"$f":"_xlfn.IFNA(LOOKUP(2, 1/((COUNTIF($Q$1:Q190, $D$2:$D$1686)=0)*($N$3=$C$2:$C$1686)), $D$2:$D$1686),\"\")","v":"Cornwall"},null,null,{"$f":"IFERROR(INDEX($Q$2:$Q$231,MATCH(ROWS($Q$2:Q191),COUNTIF($Q$2:$Q$231,\"<=\"&$Q$2:$Q$231),0)),0)","v":"Smooth Rock Falls"},191,"South River"]
[191,"CAN","NB","Edmundston",5320,"Very-Cold",-27,28,null,null,null,null,null,null,null,null,{"$f":"_xlfn.IFNA(LOOKUP(2, 1/((COUNTIF($Q$1:Q191, $D$2:$D$1686)=0)*($N$3=$C$2:$C$1686)), $D$2:$D$1686),\"\")","v":"Collingwood"},null,null,{"$f":"IFERROR(INDEX($Q$2:$Q$231,MATCH(ROWS($Q$2:Q192),COUNTIF($Q$2:$Q$231,\"<=\"&$Q$2:$Q$231),0)),0)","v":"South River"},192,"Southampton"]
[192,"CAN","NB","Fredericton",4670,"Very-Cold",-24,29,null,null,null,null,null,null,null,null,{"$f":"_xlfn.IFNA(LOOKUP(2, 1/((COUNTIF($Q$1:Q192, $D$2:$D$1686)=0)*($N$3=$C$2:$C$1686)), $D$2:$D$1686),\"\")","v":"Colborne"},null,null,{"$f":"IFERROR(INDEX($Q$2:$Q$231,MATCH(ROWS($Q$2:Q193),COUNTIF($Q$2:$Q$231,\"<=\"&$Q$2:$Q$231),0)),0)","v":"Southampton"},193,"St. Catharines"]
[193,"CAN","NB","Gagetown",4460,"Cold-Humid",-24,29,null,null,null,null,null,null,null,null,{"$f":"_xlfn.IFNA(LOOKUP(2, 1/((COUNTIF($Q$1:Q193, $D$2:$D$1686)=0)*($N$3=$C$2:$C$1686)), $D$2:$D$1686),\"\")","v":"Cochrane"},null,null,{"$f":"IFERROR(INDEX($Q$2:$Q$231,MATCH(ROWS($Q$2:Q194),COUNTIF($Q$2:$Q$231,\"<=\"&$Q$2:$Q$231),0)),0)","v":"St. Catharines"},194,"St. Mary's"]
[194,"CAN","NB","Grand Falls",5300,"Very-Cold",-27,28,null,null,null,null,null,null,null,null,{"$f":"_xlfn.IFNA(LOOKUP(2, 1/((COUNTIF($Q$1:Q194, $D$2:$D$1686)=0)*($N$3=$C$2:$C$1686)), $D$2:$D$1686),\"\")","v":"Cobourg"},null,null,{"$f":"IFERROR(INDEX($Q$2:$Q$231,MATCH(ROWS($Q$2:Q195),COUNTIF($Q$2:$Q$231,\"<=\"&$Q$2:$Q$231),0)),0)","v":"St. Mary's"},195,{"$f":"IFERROR(INDEX($T$2:$T$231,U195,1),\"\")","v":"St. Thomas"}]
[195,"CAN","NB","Miramichi",4950,"Very-Cold",-24,30,null,null,null,null,null,null,null,null,{"$f":"_xlfn.IFNA(LOOKUP(2, 1/((COUNTIF($Q$1:Q195, $D$2:$D$1686)=0)*($N$3=$C$2:$C$1686)), $D$2:$D$1686),\"\")","v":"Coboconk"},null,null,{"$f":"IFERROR(INDEX($Q$2:$Q$231,MATCH(ROWS($Q$2:Q196),COUNTIF($Q$2:$Q$231,\"<=\"&$Q$2:$Q$231),0)),0)","v":"St. Thomas"},{"$f":"U195+1","v":196},"Stirling"]
[196,"CAN","NB","Moncton",4680,"Very-Cold",-23,28,null,null,null,null,null,null,null,null,{"$f":"_xlfn.IFNA(LOOKUP(2, 1/((COUNTIF($Q$1:Q196, $D$2:$D$1686)=0)*($N$3=$C$2:$C$1686)), $D$2:$D$1686),\"\")","v":"Clinton"},null,null,{"$f":"IFERROR(INDEX($Q$2:$Q$231,MATCH(ROWS($Q$2:Q197),COUNTIF($Q$2:$Q$231,\"<=\"&$Q$2:$Q$231),0)),0)","v":"Stirling"},197,"Stratford"]
[197,"CAN","NB","Oromocto",4650,"Very-Cold",-24,29,null,null,null,null,null,null,null,null,{"$f":"_xlfn.IFNA(LOOKUP(2, 1/((COUNTIF($Q$1:Q197, $D$2:$D$1686)=0)*($N$3=$C$2:$C$1686)), $D$2:$D$1686),\"\")","v":"Chesley"},null,null,{"$f":"IFERROR(INDEX($Q$2:$Q$231,MATCH(ROWS($Q$2:Q198),COUNTIF($Q$2:$Q$231,\"<=\"&$Q$2:$Q$231),0)),0)","v":"Stratford"},198,"Strathroy"]
[198,"CAN","NB","Sackville",4590,"Very-Cold",-22,27,null,null,null,null,null,null,null,null,{"$f":"_xlfn.IFNA(LOOKUP(2, 1/((COUNTIF($Q$1:Q198, $D$2:$D$1686)=0)*($N$3=$C$2:$C$1686)), $D$2:$D$1686),\"\")","v":"Chatham"},null,null,{"$f":"IFERROR(INDEX($Q$2:$Q$231,MATCH(ROWS($Q$2:Q199),COUNTIF($Q$2:$Q$231,\"<=\"&$Q$2:$Q$231),0)),0)","v":"Strathroy"},199,"Sturgeon Falls"]
[199,"CAN","NB","Saint Andrews",4680,"Very-Cold",-22,25,null,null,null,null,null,null,null,null,{"$f":"_xlfn.IFNA(LOOKUP(2, 1/((COUNTIF($Q$1:Q199, $D$2:$D$1686)=0)*($N$3=$C$2:$C$1686)), $D$2:$D$1686),\"\")","v":"Chapleau"},null,null,{"$f":"IFERROR(INDEX($Q$2:$Q$231,MATCH(ROWS($Q$2:Q200),COUNTIF($Q$2:$Q$231,\"<=\"&$Q$2:$Q$231),0)),0)","v":"Sturgeon Falls"},200,"Sudbury"]
[200,"CAN","NB","Saint George",4680,"Very-Cold",-21,25,null,null,null,null,null,null,null,null,{"$f":"_xlfn.IFNA(LOOKUP(2, 1/((COUNTIF($Q$1:Q200, $D$2:$D$1686)=0)*($N$3=$C$2:$C$1686)), $D$2:$D$1686),\"\")","v":"CFB Borden"},null,null,{"$f":"IFERROR(INDEX($Q$2:$Q$231,MATCH(ROWS($Q$2:Q201),COUNTIF($Q$2:$Q$231,\"<=\"&$Q$2:$Q$231),0)),0)","v":"Sudbury"},201,"Sundridge"]
[201,"CAN","NB","Saint John",4570,"Very-Cold",-22,25,null,null,null,null,null,null,null,null,{"$f":"_xlfn.IFNA(LOOKUP(2, 1/((COUNTIF($Q$1:Q201, $D$2:$D$1686)=0)*($N$3=$C$2:$C$1686)), $D$2:$D$1686),\"\")","v":"Centralia"},null,null,{"$f":"IFERROR(INDEX($Q$2:$Q$231,MATCH(ROWS($Q$2:Q202),COUNTIF($Q$2:$Q$231,\"<=\"&$Q$2:$Q$231),0)),0)","v":"Sundridge"},202,"Tavistock"]
[202,"CAN","NB","Shippagan",4930,"Very-Cold",-22,28,null,null,null,null,null,null,null,null,{"$f":"_xlfn.IFNA(LOOKUP(2, 1/((COUNTIF($Q$1:Q202, $D$2:$D$1686)=0)*($N$3=$C$2:$C$1686)), $D$2:$D$1686),\"\")","v":"Cavan"},null,null,{"$f":"IFERROR(INDEX($Q$2:$Q$231,MATCH(ROWS($Q$2:Q203),COUNTIF($Q$2:$Q$231,\"<=\"&$Q$2:$Q$231),0)),0)","v":"Tavistock"},203,"Temagami"]
[203,"CAN","NB","St. Stephen",4700,"Very-Cold",-24,28,null,null,null,null,null,null,null,null,{"$f":"_xlfn.IFNA(LOOKUP(2, 1/((COUNTIF($Q$1:Q203, $D$2:$D$1686)=0)*($N$3=$C$2:$C$1686)), $D$2:$D$1686),\"\")","v":"Carleton Place"},null,null,{"$f":"IFERROR(INDEX($Q$2:$Q$231,MATCH(ROWS($Q$2:Q204),COUNTIF($Q$2:$Q$231,\"<=\"&$Q$2:$Q$231),0)),0)","v":"Temagami"},204,"Thamesford"]
[204,"CAN","NB","Woodstock",4910,"Very-Cold",-26,30,null,null,null,null,null,null,null,null,{"$f":"_xlfn.IFNA(LOOKUP(2, 1/((COUNTIF($Q$1:Q204, $D$2:$D$1686)=0)*($N$3=$C$2:$C$1686)), $D$2:$D$1686),\"\")","v":"Cannington"},null,null,{"$f":"IFERROR(INDEX($Q$2:$Q$231,MATCH(ROWS($Q$2:Q205),COUNTIF($Q$2:$Q$231,\"<=\"&$Q$2:$Q$231),0)),0)","v":"Thamesford"},205,"Thedford"]
[205,"CAN","NL","Argentia",4600,"Very-Cold",-12,21,null,null,null,null,null,null,null,null,{"$f":"_xlfn.IFNA(LOOKUP(2, 1/((COUNTIF($Q$1:Q205, $D$2:$D$1686)=0)*($N$3=$C$2:$C$1686)), $D$2:$D$1686),\"\")","v":"Campbellford"},null,null,{"$f":"IFERROR(INDEX($Q$2:$Q$231,MATCH(ROWS($Q$2:Q206),COUNTIF($Q$2:$Q$231,\"<=\"&$Q$2:$Q$231),0)),0)","v":"Thedford"},206,"Thunder Bay"]
[206,"CAN","NL","Bonavista",5000,"Very-Cold",-14,24,null,null,null,null,null,null,null,null,{"$f":"_xlfn.IFNA(LOOKUP(2, 1/((COUNTIF($Q$1:Q206, $D$2:$D$1686)=0)*($N$3=$C$2:$C$1686)), $D$2:$D$1686),\"\")","v":"Cambridge"},null,null,{"$f":"IFERROR(INDEX($Q$2:$Q$231,MATCH(ROWS($Q$2:Q207),COUNTIF($Q$2:$Q$231,\"<=\"&$Q$2:$Q$231),0)),0)","v":"Thunder Bay"},207,"Tillsonburg"]
[207,"CAN","NL","Buchans",5250,"Very-Cold",-24,27,null,null,null,null,null,null,null,null,{"$f":"_xlfn.IFNA(LOOKUP(2, 1/((COUNTIF($Q$1:Q207, $D$2:$D$1686)=0)*($N$3=$C$2:$C$1686)), $D$2:$D$1686),\"\")","v":"Burlington"},null,null,{"$f":"IFERROR(INDEX($Q$2:$Q$231,MATCH(ROWS($Q$2:Q208),COUNTIF($Q$2:$Q$231,\"<=\"&$Q$2:$Q$231),0)),0)","v":"Tillsonburg"},208,"Timmins"]
[208,"CAN","NL","Cape Harrison",6900,"Subarctic",-29,26,null,null,null,null,null,null,null,null,{"$f":"_xlfn.IFNA(LOOKUP(2, 1/((COUNTIF($Q$1:Q208, $D$2:$D$1686)=0)*($N$3=$C$2:$C$1686)), $D$2:$D$1686),\"\")","v":"Burk's Falls"},null,null,{"$f":"IFERROR(INDEX($Q$2:$Q$231,MATCH(ROWS($Q$2:Q209),COUNTIF($Q$2:$Q$231,\"<=\"&$Q$2:$Q$231),0)),0)","v":"Timmins"},209,"Timmins (Porcupine)"]
[209,"CAN","NL","Cape Race",4900,"Very-Cold",-11,19,null,null,null,null,null,null,null,null,{"$f":"_xlfn.IFNA(LOOKUP(2, 1/((COUNTIF($Q$1:Q209, $D$2:$D$1686)=0)*($N$3=$C$2:$C$1686)), $D$2:$D$1686),\"\")","v":"Brockville"},null,null,{"$f":"IFERROR(INDEX($Q$2:$Q$231,MATCH(ROWS($Q$2:Q210),COUNTIF($Q$2:$Q$231,\"<=\"&$Q$2:$Q$231),0)),0)","v":"Timmins (Porcupine)"},210,"Toronto (city hall)"]
[210,"CAN","NL","Channel-Port aux Basques",5000,"Very-Cold",-13,19,null,null,null,null,null,null,null,null,{"$f":"_xlfn.IFNA(LOOKUP(2, 1/((COUNTIF($Q$1:Q210, $D$2:$D$1686)=0)*($N$3=$C$2:$C$1686)), $D$2:$D$1686),\"\")","v":"Brighton"},null,null,{"$f":"IFERROR(INDEX($Q$2:$Q$231,MATCH(ROWS($Q$2:Q211),COUNTIF($Q$2:$Q$231,\"<=\"&$Q$2:$Q$231),0)),0)","v":"Toronto (city hall)"},211,"Trenton"]
[211,"CAN","NL","Corner Brook",4760,"Very-Cold",-16,26,null,null,null,null,null,null,null,null,{"$f":"_xlfn.IFNA(LOOKUP(2, 1/((COUNTIF($Q$1:Q211, $D$2:$D$1686)=0)*($N$3=$C$2:$C$1686)), $D$2:$D$1686),\"\")","v":"Brantford"},null,null,{"$f":"IFERROR(INDEX($Q$2:$Q$231,MATCH(ROWS($Q$2:Q212),COUNTIF($Q$2:$Q$231,\"<=\"&$Q$2:$Q$231),0)),0)","v":"Trenton"},212,"Trout Creek"]
[212,"CAN","NL","Gander",5110,"Very-Cold",-18,27,null,null,null,null,null,null,null,null,{"$f":"_xlfn.IFNA(LOOKUP(2, 1/((COUNTIF($Q$1:Q212, $D$2:$D$1686)=0)*($N$3=$C$2:$C$1686)), $D$2:$D$1686),\"\")","v":"Brampton"},null,null,{"$f":"IFERROR(INDEX($Q$2:$Q$231,MATCH(ROWS($Q$2:Q213),COUNTIF($Q$2:$Q$231,\"<=\"&$Q$2:$Q$231),0)),0)","v":"Trout Creek"},213,"Uxbridge"]
[213,"CAN","NL","Grand Bank",4550,"Very-Cold",-14,20,null,null,null,null,null,null,null,null,{"$f":"_xlfn.IFNA(LOOKUP(2, 1/((COUNTIF($Q$1:Q213, $D$2:$D$1686)=0)*($N$3=$C$2:$C$1686)), $D$2:$D$1686),\"\")","v":"Bradford"},null,null,{"$f":"IFERROR(INDEX($Q$2:$Q$231,MATCH(ROWS($Q$2:Q214),COUNTIF($Q$2:$Q$231,\"<=\"&$Q$2:$Q$231),0)),0)","v":"Uxbridge"},214,"Vaughan (Woodbridge)"]
[214,"CAN","NL","Grand Falls",5020,"Very-Cold",-26,27,null,null,null,null,null,null,null,null,{"$f":"_xlfn.IFNA(LOOKUP(2, 1/((COUNTIF($Q$1:Q214, $D$2:$D$1686)=0)*($N$3=$C$2:$C$1686)), $D$2:$D$1686),\"\")","v":"Bracebridge"},null,null,{"$f":"IFERROR(INDEX($Q$2:$Q$231,MATCH(ROWS($Q$2:Q215),COUNTIF($Q$2:$Q$231,\"<=\"&$Q$2:$Q$231),0)),0)","v":"Vaughan (Woodbridge)"},215,"Vittoria"]
[215,"CAN","NL","Happy Valley-Goose Bay",6670,"Subarctic",-31,27,null,null,null,null,null,null,null,null,{"$f":"_xlfn.IFNA(LOOKUP(2, 1/((COUNTIF($Q$1:Q215, $D$2:$D$1686)=0)*($N$3=$C$2:$C$1686)), $D$2:$D$1686),\"\")","v":"Belmont"},null,null,{"$f":"IFERROR(INDEX($Q$2:$Q$231,MATCH(ROWS($Q$2:Q216),COUNTIF($Q$2:$Q$231,\"<=\"&$Q$2:$Q$231),0)),0)","v":"Vittoria"},216,"Walkerton"]
[216,"CAN","NL","Labrador City",7710,"Subarctic",-36,24,null,null,null,null,null,null,null,null,{"$f":"_xlfn.IFNA(LOOKUP(2, 1/((COUNTIF($Q$1:Q216, $D$2:$D$1686)=0)*($N$3=$C$2:$C$1686)), $D$2:$D$1686),\"\")","v":"Belleville"},null,null,{"$f":"IFERROR(INDEX($Q$2:$Q$231,MATCH(ROWS($Q$2:Q217),COUNTIF($Q$2:$Q$231,\"<=\"&$Q$2:$Q$231),0)),0)","v":"Walkerton"},217,"Wallaceburg"]
[217,"CAN","NL","St. Anthony",6440,"Very-Cold",-25,22,null,null,null,null,null,null,null,null,{"$f":"_xlfn.IFNA(LOOKUP(2, 1/((COUNTIF($Q$1:Q217, $D$2:$D$1686)=0)*($N$3=$C$2:$C$1686)), $D$2:$D$1686),\"\")","v":"Beaverton"},null,null,{"$f":"IFERROR(INDEX($Q$2:$Q$231,MATCH(ROWS($Q$2:Q218),COUNTIF($Q$2:$Q$231,\"<=\"&$Q$2:$Q$231),0)),0)","v":"Wallaceburg"},218,"Waterloo"]
[218,"CAN","NL","St. John's",4800,"Very-Cold",-15,24,null,null,null,null,null,null,null,null,{"$f":"_xlfn.IFNA(LOOKUP(2, 1/((COUNTIF($Q$1:Q218, $D$2:$D$1686)=0)*($N$3=$C$2:$C$1686)), $D$2:$D$1686),\"\")","v":"Barriefield"},null,null,{"$f":"IFERROR(INDEX($Q$2:$Q$231,MATCH(ROWS($Q$2:Q219),COUNTIF($Q$2:$Q$231,\"<=\"&$Q$2:$Q$231),0)),0)","v":"Waterloo"},219,"Watford"]
[219,"CAN","NL","Stephenville",4850,"Very-Cold",-16,24,null,null,null,null,null,null,null,null,{"$f":"_xlfn.IFNA(LOOKUP(2, 1/((COUNTIF($Q$1:Q219, $D$2:$D$1686)=0)*($N$3=$C$2:$C$1686)), $D$2:$D$1686),\"\")","v":"Barrie"},null,null,{"$f":"IFERROR(INDEX($Q$2:$Q$231,MATCH(ROWS($Q$2:Q220),COUNTIF($Q$2:$Q$231,\"<=\"&$Q$2:$Q$231),0)),0)","v":"Watford"},220,"Wawa"]
[220,"CAN","NL","Twin Falls",7790,"Subarctic",-35,24,null,null,null,null,null,null,null,null,{"$f":"_xlfn.IFNA(LOOKUP(2, 1/((COUNTIF($Q$1:Q220, $D$2:$D$1686)=0)*($N$3=$C$2:$C$1686)), $D$2:$D$1686),\"\")","v":"Bancroft"},null,null,{"$f":"IFERROR(INDEX($Q$2:$Q$231,MATCH(ROWS($Q$2:Q221),COUNTIF($Q$2:$Q$231,\"<=\"&$Q$2:$Q$231),0)),0)","v":"Wawa"},221,"Welland"]
[221,"CAN","NL","Wabana",4750,"Very-Cold",-15,24,null,null,null,null,null,null,null,null,{"$f":"_xlfn.IFNA(LOOKUP(2, 1/((COUNTIF($Q$1:Q221, $D$2:$D$1686)=0)*($N$3=$C$2:$C$1686)), $D$2:$D$1686),\"\")","v":"Aurora"},null,null,{"$f":"IFERROR(INDEX($Q$2:$Q$231,MATCH(ROWS($Q$2:Q222),COUNTIF($Q$2:$Q$231,\"<=\"&$Q$2:$Q$231),0)),0)","v":"Welland"},222,"West Lorne"]
[222,"CAN","NL","Wabush",7710,"Subarctic",-36,24,null,null,null,null,null,null,null,null,{"$f":"_xlfn.IFNA(LOOKUP(2, 1/((COUNTIF($Q$1:Q222, $D$2:$D$1686)=0)*($N$3=$C$2:$C$1686)), $D$2:$D$1686),\"\")","v":"Attawapiskat"},null,null,{"$f":"IFERROR(INDEX($Q$2:$Q$231,MATCH(ROWS($Q$2:Q223),COUNTIF($Q$2:$Q$231,\"<=\"&$Q$2:$Q$231),0)),0)","v":"West Lorne"},223,"Whitby"]
[223,"CAN","NS","Amherst",4500,"Very-Cold",-21,27,null,null,null,null,null,null,null,null,{"$f":"_xlfn.IFNA(LOOKUP(2, 1/((COUNTIF($Q$1:Q223, $D$2:$D$1686)=0)*($N$3=$C$2:$C$1686)), $D$2:$D$1686),\"\")","v":"Atikokan"},null,null,{"$f":"IFERROR(INDEX($Q$2:$Q$231,MATCH(ROWS($Q$2:Q224),COUNTIF($Q$2:$Q$231,\"<=\"&$Q$2:$Q$231),0)),0)","v":"Whitby"},224,"Whitby (Brooklin)"]
[224,"CAN","NS","Antigonish",4510,"Very-Cold",-17,27,null,null,null,null,null,null,null,null,{"$f":"_xlfn.IFNA(LOOKUP(2, 1/((COUNTIF($Q$1:Q224, $D$2:$D$1686)=0)*($N$3=$C$2:$C$1686)), $D$2:$D$1686),\"\")","v":"Arnprior"},null,null,{"$f":"IFERROR(INDEX($Q$2:$Q$231,MATCH(ROWS($Q$2:Q225),COUNTIF($Q$2:$Q$231,\"<=\"&$Q$2:$Q$231),0)),0)","v":"Whitby (Brooklin)"},225,"White River"]
[225,"CAN","NS","Bridgewater",4140,"Cold-Humid",-15,27,null,null,null,null,null,null,null,null,{"$f":"_xlfn.IFNA(LOOKUP(2, 1/((COUNTIF($Q$1:Q225, $D$2:$D$1686)=0)*($N$3=$C$2:$C$1686)), $D$2:$D$1686),\"\")","v":"Armstrong"},null,null,{"$f":"IFERROR(INDEX($Q$2:$Q$231,MATCH(ROWS($Q$2:Q226),COUNTIF($Q$2:$Q$231,\"<=\"&$Q$2:$Q$231),0)),0)","v":"White River"},226,"Wiarton"]
[226,"CAN","NS","Canso",4400,"Cold-Humid",-13,25,null,null,null,null,null,null,null,null,{"$f":"_xlfn.IFNA(LOOKUP(2, 1/((COUNTIF($Q$1:Q226, $D$2:$D$1686)=0)*($N$3=$C$2:$C$1686)), $D$2:$D$1686),\"\")","v":"Almonte"},null,null,{"$f":"IFERROR(INDEX($Q$2:$Q$231,MATCH(ROWS($Q$2:Q227),COUNTIF($Q$2:$Q$231,\"<=\"&$Q$2:$Q$231),0)),0)","v":"Wiarton"},227,"Windsor"]
[227,"CAN","NS","Dartmouth",4100,"Cold-Humid",-16,26,null,null,null,null,null,null,null,null,{"$f":"_xlfn.IFNA(LOOKUP(2, 1/((COUNTIF($Q$1:Q227, $D$2:$D$1686)=0)*($N$3=$C$2:$C$1686)), $D$2:$D$1686),\"\")","v":"Alliston"},null,null,{"$f":"IFERROR(INDEX($Q$2:$Q$231,MATCH(ROWS($Q$2:Q228),COUNTIF($Q$2:$Q$231,\"<=\"&$Q$2:$Q$231),0)),0)","v":"Windsor"},228,"Wingham"]
[228,"CAN","NS","Debert",4500,"Very-Cold",-21,27,null,null,null,null,null,null,null,null,{"$f":"_xlfn.IFNA(LOOKUP(2, 1/((COUNTIF($Q$1:Q228, $D$2:$D$1686)=0)*($N$3=$C$2:$C$1686)), $D$2:$D$1686),\"\")","v":"Alexandria"},null,null,{"$f":"IFERROR(INDEX($Q$2:$Q$231,MATCH(ROWS($Q$2:Q229),COUNTIF($Q$2:$Q$231,\"<=\"&$Q$2:$Q$231),0)),0)","v":"Wingham"},229,"Woodstock"]
[229,"CAN","NS","Digby",4020,"Cold-Humid",-15,25,null,null,null,null,null,null,null,null,{"$f":"_xlfn.IFNA(LOOKUP(2, 1/((COUNTIF($Q$1:Q229, $D$2:$D$1686)=0)*($N$3=$C$2:$C$1686)), $D$2:$D$1686),\"\")","v":"Ajax"},null,null,{"$f":"IFERROR(INDEX($Q$2:$Q$231,MATCH(ROWS($Q$2:Q230),COUNTIF($Q$2:$Q$231,\"<=\"&$Q$2:$Q$231),0)),0)","v":"Woodstock"},230,"Wyoming"]
[230,"CAN","NS","Greenwood (CFB)",4140,"Cold-Humid",-18,29,null,null,null,null,null,null,null,null,{"$f":"_xlfn.IFNA(LOOKUP(2, 1/((COUNTIF($Q$1:Q230, $D$2:$D$1686)=0)*($N$3=$C$2:$C$1686)), $D$2:$D$1686),\"\")","v":"Ailsa Craig"},null,null,{"$f":"IFERROR(INDEX($Q$2:$Q$231,MATCH(ROWS($Q$2:Q231),COUNTIF($Q$2:$Q$231,\"<=\"&$Q$2:$Q$231),0)),0)","v":"Wyoming"},231,""]
[231,"CAN","NS","Halifax",4000,"Cold-Humid",-16,26]
[232,"CAN","NS","Kentville",4130,"Cold-Humid",-18,28]
[233,"CAN","NS","Liverpool",3990,"Cold-Humid",-16,27]
[234,"CAN","NS","Lockeport",4000,"Cold-Humid",-14,25]
[235,"CAN","NS","Louisburg",4530,"Very-Cold",-15,26]
[236,"CAN","NS","Lunenburg",4140,"Cold-Humid",-15,26]
[237,"CAN","NS","New Glasgow",4320,"Cold-Humid",-19,27]
[238,"CAN","NS","North Sydney",4500,"Very-Cold",-16,27]
[239,"CAN","NS","Pictou",4310,"Cold-Humid",-19,27]
[240,"CAN","NS","Port Hawkesbury",4500,"Very-Cold",-17,27]
[241,"CAN","NS","Springhill",4540,"Very-Cold",-20,27]
[242,"CAN","NS","Stewiacke",4400,"Cold-Humid",-20,27]
[243,"CAN","NS","Sydney",4530,"Very-Cold",-16,27]
[244,"CAN","NS","Tatamagouche",4380,"Cold-Humid",-20,27]
[245,"CAN","NS","Truro",4500,"Very-Cold",-20,27]
[246,"CAN","NS","Wolfville",4140,"Cold-Humid",-19,28]
[247,"CAN","NS","Yarmouth",3990,"Cold-Humid",-14,22]
[248,"CAN","NT","Aklavik",9600,"Subarctic",-42,26]
[249,"CAN","NT","Echo Bay / Port Radium",9300,"Subarctic",-42,22]
[250,"CAN","NT","Fort Good Hope",8700,"Subarctic",-43,28]
[251,"CAN","NT","Fort McPherson",9150,"Subarctic",-44,26]
[252,"CAN","NT","Fort Providence",7620,"Subarctic",-40,28]
[253,"CAN","NT","Fort Resolution",7750,"Subarctic",-40,26]
[254,"CAN","NT","Fort Simpson",7660,"Subarctic",-42,28]
[255,"CAN","NT","Fort Smith",7300,"Subarctic",-41,28]
[256,"CAN","NT","Hay River",7550,"Subarctic",-38,27]
[257,"CAN","NT","Inuvik",9600,"Subarctic",-43,26]
[258,"CAN","NT","Mould Bay",12900,"Subarctic",-44,11]
[259,"CAN","NT","Norman Wells",8510,"Subarctic",-43,28]
[260,"CAN","NT","Rae-Edzo",8300,"Subarctic",-42,25]
[261,"CAN","NT","Tungsten",7700,"Subarctic",-49,26]
[262,"CAN","NT","Ulukhaqtuuq / Holman",10700,"Subarctic",-39,18]
[263,"CAN","NT","Wrigley",8050,"Subarctic",-42,28]
[264,"CAN","NT","Yellowknife",8170,"Subarctic",-41,25]
[265,"CAN","NU","Alert",13030,"Subarctic",-43,13]
[266,"CAN","NU","Arctic Bay",11900,"Subarctic",-42,14]
[267,"CAN","NU","Arviat",9850,"Subarctic",-40,22]
[268,"CAN","NU","Baker Lake",10700,"Subarctic",-42,23]
[269,"CAN","NU","Eureka",13500,"Subarctic",-47,12]
[270,"CAN","NU","Igluligaarjuk / Chesterfield Inl",10500,"Subarctic",-40,20]
[271,"CAN","NU","Iqaluit",9980,"Subarctic",-40,17]
[272,"CAN","NU","Iqaluktuuttiaq / Cambridge Bay",11670,"Subarctic",-41,18]
[273,"CAN","NU","Isachsen",13600,"Subarctic",-46,12]
[274,"CAN","NU","Kangiqiniq / Rankin Inlet",10500,"Subarctic",-41,21]
[275,"CAN","NU","Kanngiqtugaapik / Clyde River",11300,"Subarctic",-40,14]
[276,"CAN","NU","Kugluktuk / Coppermine",10300,"Subarctic",-41,23]
[277,"CAN","NU","Nottingham Island",10000,"Subarctic",-37,16]
[278,"CAN","NU","Resolute",12360,"Subarctic",-42,11]
[279,"CAN","NU","Resolution Island",9000,"Subarctic",-32,12]
[280,"CAN","NU","Salliq / Coral Harbour",10720,"Subarctic",-41,20]
[281,"CAN","ON","Ailsa Craig",3840,"Cold-Humid",-17,30]
[282,"CAN","ON","Ajax",3820,"Cold-Humid",-20,30]
[283,"CAN","ON","Alexandria",4600,"Very-Cold",-24,30]
[284,"CAN","ON","Alliston",4200,"Cold-Humid",-23,29]
[285,"CAN","ON","Almonte",4620,"Very-Cold",-26,30]
[286,"CAN","ON","Armstrong",6500,"Subarctic",-37,28]
[287,"CAN","ON","Arnprior",4680,"Very-Cold",-27,30]
[288,"CAN","ON","Atikokan",5750,"Very-Cold",-33,29]
[289,"CAN","ON","Attawapiskat",7100,"Subarctic",-37,28]
[290,"CAN","ON","Aurora",4210,"Cold-Humid",-21,30]
[291,"CAN","ON","Bancroft",4740,"Very-Cold",-28,29]
[292,"CAN","ON","Barrie",4380,"Cold-Humid",-24,29]
[293,"CAN","ON","Barriefield",3990,"Cold-Humid",-22,28]
[294,"CAN","ON","Beaverton",4300,"Cold-Humid",-24,30]
[295,"CAN","ON","Belleville",3910,"Cold-Humid",-22,29]
[296,"CAN","ON","Belmont",3840,"Cold-Humid",-17,30]
[297,"CAN","ON","Bracebridge",4800,"Very-Cold",-26,29]
[298,"CAN","ON","Bradford",4280,"Cold-Humid",-23,30]
[299,"CAN","ON","Brampton",4100,"Cold-Humid",-19,30]
[300,"CAN","ON","Brantford",3900,"Cold-Humid",-18,30]
[301,"CAN","ON","Brighton",4000,"Cold-Humid",-21,29]
[302,"CAN","ON","Brockville",4060,"Cold-Humid",-23,29]
[303,"CAN","ON","Burk's Falls",5020,"Very-Cold",-26,29]
[304,"CAN","ON","Burlington",3740,"Cold-Humid",-17,31]
[305,"CAN","ON","Cambridge",4100,"Cold-Humid",-18,29]
[306,"CAN","ON","Campbellford",4280,"Cold-Humid",-23,30]
[307,"CAN","ON","Cannington",4310,"Cold-Humid",-24,30]
[308,"CAN","ON","Carleton Place",4600,"Very-Cold",-25,30]
[309,"CAN","ON","Cavan",4400,"Cold-Humid",-23,30]
[310,"CAN","ON","Centralia",3800,"Cold-Humid",-17,30]
[311,"CAN","ON","CFB Borden",4300,"Cold-Humid",-23,29]
[312,"CAN","ON","Chapleau",5900,"Very-Cold",-35,27]
[313,"CAN","ON","Chatham",3470,"Cold-Humid",-16,31]
[314,"CAN","ON","Chesley",4320,"Cold-Humid",-19,29]
[315,"CAN","ON","Clinton",4150,"Cold-Humid",-17,29]
[316,"CAN","ON","Coboconk",4500,"Very-Cold",-25,30]
[317,"CAN","ON","Cobourg",3980,"Cold-Humid",-21,29]
[318,"CAN","ON","Cochrane",6200,"Very-Cold",-34,29]
[319,"CAN","ON","Colborne",3980,"Cold-Humid",-21,29]
[320,"CAN","ON","Collingwood",4180,"Cold-Humid",-21,29]
[321,"CAN","ON","Cornwall",4250,"Cold-Humid",-23,30]
[322,"CAN","ON","Corunna",3600,"Cold-Humid",-16,31]
[323,"CAN","ON","Deep River",4900,"Very-Cold",-29,30]
[324,"CAN","ON","Deseronto",4070,"Cold-Humid",-22,29]
[325,"CAN","ON","Dorchester",3900,"Cold-Humid",-18,30]
[326,"CAN","ON","Dorion",5950,"Very-Cold",-33,28]
[327,"CAN","ON","Dresden",3750,"Cold-Humid",-16,31]
[328,"CAN","ON","Dryden",5850,"Very-Cold",-34,28]
[329,"CAN","ON","Dundalk",4700,"Very-Cold",-22,29]
[330,"CAN","ON","Dunnville",3660,"Cold-Humid",-15,30]
[331,"CAN","ON","Durham",4340,"Cold-Humid",-20,29]
[332,"CAN","ON","Dutton",3700,"Cold-Humid",-16,31]
[333,"CAN","ON","Earlton",5730,"Very-Cold",-33,29]
[334,"CAN","ON","Edison",5740,"Very-Cold",-34,28]
[335,"CAN","ON","Elliot Lake",4950,"Very-Cold",-26,29]
[336,"CAN","ON","Elmvale",4200,"Cold-Humid",-24,29]
[337,"CAN","ON","Embro",3950,"Cold-Humid",-19,30]
[338,"CAN","ON","Englehart",5800,"Very-Cold",-33,29]
[339,"CAN","ON","Espanola",4920,"Very-Cold",-25,29]
[340,"CAN","ON","Etobicoke",3800,"Cold-Humid",-20,31]
[341,"CAN","ON","Exeter",3900,"Cold-Humid",-17,30]
[342,"CAN","ON","Fenelon Falls",4440,"Cold-Humid",-25,30]
[343,"CAN","ON","Fergus",4300,"Cold-Humid",-20,29]
[344,"CAN","ON","Forest",3740,"Cold-Humid",-16,31]
[345,"CAN","ON","Fort Erie",3650,"Cold-Humid",-15,30]
[346,"CAN","ON","Fort Erie (Ridgeway)",3600,"Cold-Humid",-15,30]
[347,"CAN","ON","Fort Frances",5440,"Very-Cold",-33,29]
[348,"CAN","ON","Gananoque",4010,"Cold-Humid",-22,28]
[349,"CAN","ON","Geraldton",6450,"Very-Cold",-36,28]
[350,"CAN","ON","Glencoe",3680,"Cold-Humid",-16,31]
[351,"CAN","ON","Goderich",4000,"Cold-Humid",-16,29]
[352,"CAN","ON","Gore Bay",4700,"Very-Cold",-24,28]
[353,"CAN","ON","Graham",5940,"Very-Cold",-35,29]
[354,"CAN","ON","Gravenhurst (Muskoka Airport)",4760,"Very-Cold",-26,29]
[355,"CAN","ON","Grimsby",3520,"Cold-Humid",-16,30]
[356,"CAN","ON","Guelph",4270,"Cold-Humid",-19,29]
[357,"CAN","ON","Guthrie",4300,"Cold-Humid",-24,29]
[358,"CAN","ON","Haileybury",5600,"Very-Cold",-32,30]
[359,"CAN","ON","Haldimand (Caledonia)",3750,"Cold-Humid",-18,30]
[360,"CAN","ON","Haldimand (Hagersville)",3760,"Cold-Humid",-17,30]
[361,"CAN","ON","Haliburton",4840,"Very-Cold",-27,29]
[362,"CAN","ON","Halton Hills (Georgetown)",4200,"Cold-Humid",-19,30]
[363,"CAN","ON","Hamilton",3460,"Cold-Humid",-17,31]
[364,"CAN","ON","Hanover",4300,"Cold-Humid",-19,29]
[365,"CAN","ON","Hastings",4280,"Cold-Humid",-24,30]
[366,"CAN","ON","Hawkesbury",4610,"Very-Cold",-25,30]
[367,"CAN","ON","Hearst",6450,"Very-Cold",-35,29]
[368,"CAN","ON","Honey Harbour",4300,"Cold-Humid",-24,29]
[369,"CAN","ON","Hornepayne",6340,"Very-Cold",-37,28]
[370,"CAN","ON","Huntsville",4850,"Very-Cold",-26,29]
[371,"CAN","ON","Ingersoll",3920,"Cold-Humid",-18,30]
[372,"CAN","ON","Iroquois Falls",6100,"Very-Cold",-33,29]
[373,"CAN","ON","Jellicoe",6400,"Very-Cold",-36,28]
[374,"CAN","ON","Kapuskasing",6250,"Very-Cold",-34,29]
[375,"CAN","ON","Kemptville",4540,"Very-Cold",-25,30]
[376,"CAN","ON","Kenora",5630,"Very-Cold",-33,28]
[377,"CAN","ON","Killaloe",4960,"Very-Cold",-28,30]
[378,"CAN","ON","Kincardine",3890,"Cold-Humid",-17,28]
[379,"CAN","ON","Kingston",4000,"Cold-Humid",-22,28]
[380,"CAN","ON","Kinmount",4600,"Very-Cold",-26,29]
[381,"CAN","ON","Kirkland Lake",6000,"Very-Cold",-33,29]
[382,"CAN","ON","Kitchener",4200,"Cold-Humid",-19,29]
[383,"CAN","ON","Kitchenuhmaykoosib",7450,"Subarctic",-38,26]
[384,"CAN","ON","Lakefield",4330,"Cold-Humid",-24,30]
[385,"CAN","ON","Lansdowne House",7150,"Subarctic",-38,28]
[386,"CAN","ON","Leamington",3400,"Cold-Humid",-15,31]
[387,"CAN","ON","Lindsay",4320,"Cold-Humid",-24,30]
[388,"CAN","ON","Lion's Head",4300,"Cold-Humid",-19,27]
[389,"CAN","ON","Listowel",4300,"Cold-Humid",-19,29]
[390,"CAN","ON","London",3900,"Cold-Humid",-18,30]
[391,"CAN","ON","Lucan",3900,"Cold-Humid",-17,30]
[392,"CAN","ON","Maitland",4080,"Cold-Humid",-23,29]
[393,"CAN","ON","Markdale",4500,"Very-Cold",-20,29]
[394,"CAN","ON","Markham",4000,"Cold-Humid",-21,31]
[395,"CAN","ON","Martin",5900,"Very-Cold",-35,29]
[396,"CAN","ON","Matheson",6080,"Very-Cold",-33,29]
[397,"CAN","ON","Mattawa",5050,"Very-Cold",-29,30]
[398,"CAN","ON","Midland",4200,"Cold-Humid",-24,29]
[399,"CAN","ON","Milton",3920,"Cold-Humid",-18,30]
[400,"CAN","ON","Milverton",4200,"Cold-Humid",-19,29]
[401,"CAN","ON","Minden",4640,"Very-Cold",-27,29]
[402,"CAN","ON","Mississauga",3880,"Cold-Humid",-18,30]
[403,"CAN","ON","Mississauga (LBP Int'l Airport)",3890,"Cold-Humid",-20,31]
[404,"CAN","ON","Mississauga (Port Credit)",3780,"Cold-Humid",-18,29]
[405,"CAN","ON","Mitchell",4100,"Cold-Humid",-18,29]
[406,"CAN","ON","Moosonee",6800,"Subarctic",-36,28]
[407,"CAN","ON","Morrisburg",4370,"Cold-Humid",-23,30]
[408,"CAN","ON","Mount Forest",4700,"Very-Cold",-21,28]
[409,"CAN","ON","Nakina",6500,"Subarctic",-36,28]
[410,"CAN","ON","Nanticoke (Jarvis)",3700,"Cold-Humid",-17,30]
[411,"CAN","ON","Nanticoke (Port Dover)",3600,"Cold-Humid",-15,30]
[412,"CAN","ON","Napanee",4140,"Cold-Humid",-22,29]
[413,"CAN","ON","New Liskeard",5570,"Very-Cold",-32,30]
[414,"CAN","ON","Newcastle",3990,"Cold-Humid",-20,30]
[415,"CAN","ON","Newcastle (Bowmanville)",4000,"Cold-Humid",-20,30]
[416,"CAN","ON","Newmarket",4260,"Cold-Humid",-22,30]
[417,"CAN","ON","Niagara Falls",3600,"Cold-Humid",-16,30]
[418,"CAN","ON","North Bay",5150,"Very-Cold",-28,28]
[419,"CAN","ON","North York",3760,"Cold-Humid",-20,31]
[420,"CAN","ON","Norwood",4320,"Cold-Humid",-24,30]
[421,"CAN","ON","Oakville",3760,"Cold-Humid",-18,30]
[422,"CAN","ON","Orangeville",4450,"Cold-Humid",-21,29]
[423,"CAN","ON","Orillia",4260,"Cold-Humid",-25,29]
[424,"CAN","ON","Oshawa",3860,"Cold-Humid",-19,30]
[425,"CAN","ON","Ottawa (Barrhaven)",4500,"Very-Cold",-25,30]
[426,"CAN","ON","Ottawa (city hall)",4440,"Cold-Humid",-25,30]
[427,"CAN","ON","Ottawa (Kanata)",4520,"Very-Cold",-25,30]
[428,"CAN","ON","Ottawa (M-C Int'l Airport)",4500,"Very-Cold",-25,30]
[429,"CAN","ON","Ottawa (Orleans)",4500,"Very-Cold",-26,30]
[430,"CAN","ON","Owen Sound",4030,"Cold-Humid",-19,29]
[431,"CAN","ON","Pagwa River",6500,"Subarctic",-35,28]
[432,"CAN","ON","Paris",4000,"Cold-Humid",-18,30]
[433,"CAN","ON","Parkhill",3800,"Cold-Humid",-16,31]
[434,"CAN","ON","Parry Sound",4640,"Very-Cold",-24,28]
[435,"CAN","ON","Pelham (Fonthill)",3690,"Cold-Humid",-15,30]
[436,"CAN","ON","Pembroke",4980,"Very-Cold",-28,30]
[437,"CAN","ON","Penetanguishene",4200,"Cold-Humid",-24,29]
[438,"CAN","ON","Perth",4540,"Very-Cold",-25,30]
[439,"CAN","ON","Petawawa",4980,"Very-Cold",-29,30]
[440,"CAN","ON","Peterborough",4400,"Cold-Humid",-23,30]
[441,"CAN","ON","Petrolia",3640,"Cold-Humid",-16,31]
[442,"CAN","ON","Pickering (Dunbarton)",3800,"Cold-Humid",-19,30]
[443,"CAN","ON","Picton",3980,"Cold-Humid",-21,29]
[444,"CAN","ON","Plattsville",4150,"Cold-Humid",-19,29]
[445,"CAN","ON","Point Alexander",4960,"Very-Cold",-29,30]
[446,"CAN","ON","Port Burwell",3800,"Cold-Humid",-15,30]
[447,"CAN","ON","Port Colborne",3600,"Cold-Humid",-15,30]
[448,"CAN","ON","Port Elgin",4100,"Cold-Humid",-17,28]
[449,"CAN","ON","Port Hope",3970,"Cold-Humid",-21,29]
[450,"CAN","ON","Port Perry",4260,"Cold-Humid",-22,30]
[451,"CAN","ON","Port Stanley",3850,"Cold-Humid",-15,31]
[452,"CAN","ON","Prescott",4120,"Cold-Humid",-23,29]
[453,"CAN","ON","Princeton",4000,"Cold-Humid",-18,30]
[454,"CAN","ON","Raith",5900,"Very-Cold",-34,28]
[455,"CAN","ON","Rayside-Balfour (Chelmsford)",5200,"Very-Cold",-28,29]
[456,"CAN","ON","Red Lake",6220,"Very-Cold",-35,28]
[457,"CAN","ON","Renfrew",4900,"Very-Cold",-27,30]
[458,"CAN","ON","Richmond Hill",4000,"Cold-Humid",-21,31]
[459,"CAN","ON","Rockland",4600,"Very-Cold",-26,30]
[460,"CAN","ON","Sarnia",3750,"Cold-Humid",-16,31]
[461,"CAN","ON","Sault Ste. Marie",4960,"Very-Cold",-25,29]
[462,"CAN","ON","Scarborough",3800,"Cold-Humid",-20,31]
[463,"CAN","ON","Schreiber",5960,"Very-Cold",-34,27]
[464,"CAN","ON","Seaforth",4100,"Cold-Humid",-17,30]
[465,"CAN","ON","Shelburne",4700,"Very-Cold",-22,29]
[466,"CAN","ON","Simcoe",3700,"Cold-Humid",-17,30]
[467,"CAN","ON","Sioux Lookout",5950,"Very-Cold",-34,28]
[468,"CAN","ON","Smiths Falls",4540,"Very-Cold",-25,30]
[469,"CAN","ON","Smithville",3650,"Cold-Humid",-16,30]
[470,"CAN","ON","Smooth Rock Falls",6250,"Very-Cold",-34,29]
[471,"CAN","ON","South River",5090,"Very-Cold",-27,29]
[472,"CAN","ON","Southampton",4100,"Cold-Humid",-17,28]
[473,"CAN","ON","St. Catharines",3540,"Cold-Humid",-16,30]
[474,"CAN","ON","St. Mary's",4000,"Cold-Humid",-18,30]
[475,"CAN","ON","St. Thomas",3780,"Cold-Humid",-16,31]
[476,"CAN","ON","Stirling",4220,"Cold-Humid",-23,30]
[477,"CAN","ON","Stratford",4050,"Cold-Humid",-18,29]
[478,"CAN","ON","Strathroy",3780,"Cold-Humid",-17,31]
[479,"CAN","ON","Sturgeon Falls",5200,"Very-Cold",-28,29]
[480,"CAN","ON","Sudbury",5180,"Very-Cold",-28,29]
[481,"CAN","ON","Sundridge",5080,"Very-Cold",-27,29]
[482,"CAN","ON","Tavistock",4100,"Cold-Humid",-19,29]
[483,"CAN","ON","Temagami",5420,"Very-Cold",-30,30]
[484,"CAN","ON","Thamesford",3950,"Cold-Humid",-19,30]
[485,"CAN","ON","Thedford",3710,"Cold-Humid",-16,31]
[486,"CAN","ON","Thunder Bay",5650,"Very-Cold",-31,29]
[487,"CAN","ON","Tillsonburg",3840,"Cold-Humid",-17,30]
[488,"CAN","ON","Timmins",5940,"Very-Cold",-34,29]
[489,"CAN","ON","Timmins (Porcupine)",6000,"Very-Cold",-34,29]
[490,"CAN","ON","Toronto (city hall)",3520,"Cold-Humid",-18,31]
[491,"CAN","ON","Trenton",4110,"Cold-Humid",-22,29]
[492,"CAN","ON","Trout Creek",5100,"Very-Cold",-27,29]
[493,"CAN","ON","Uxbridge",4240,"Cold-Humid",-22,30]
[494,"CAN","ON","Vaughan (Woodbridge)",4100,"Cold-Humid",-20,31]
[495,"CAN","ON","Vittoria",3680,"Cold-Humid",-15,30]
[496,"CAN","ON","Walkerton",4300,"Cold-Humid",-18,30]
[497,"CAN","ON","Wallaceburg",3600,"Cold-Humid",-16,31]
[498,"CAN","ON","Waterloo",4200,"Cold-Humid",-19,29]
[499,"CAN","ON","Watford",3740,"Cold-Humid",-17,31]
[500,"CAN","ON","Wawa",5840,"Very-Cold",-34,26]
[501,"CAN","ON","Welland",3670,"Cold-Humid",-15,30]
[502,"CAN","ON","West Lorne",3700,"Cold-Humid",-16,31]
[503,"CAN","ON","Whitby",3820,"Cold-Humid",-20,30]
[504,"CAN","ON","Whitby (Brooklin)",4010,"Cold-Humid",-20,30]
[505,"CAN","ON","White River",6150,"Very-Cold",-39,28]
[506,"CAN","ON","Wiarton",4300,"Cold-Humid",-19,29]
[507,"CAN","ON","Windsor",3400,"Cold-Humid",-16,32]
[508,"CAN","ON","Wingham",4220,"Cold-Humid",-18,30]
[509,"CAN","ON","Woodstock",3910,"Cold-Humid",-19,30]
[510,"CAN","ON","Wyoming",3700,"Cold-Humid",-16,31]
[511,"CAN","PE","Charlottetown",4460,"Cold-Humid",-20,26]
[512,"CAN","PE","Souris",4550,"Very-Cold",-19,27]
[513,"CAN","PE","Summerside",4600,"Very-Cold",-20,27]
[514,"CAN","PE","Tignish",4770,"Very-Cold",-20,27]
[515,"CAN","QC","Acton-Vale",4620,"Very-Cold",-24,30]
[516,"CAN","QC","Alma",5800,"Very-Cold",-31,28]
[517,"CAN","QC","Amos",6160,"Very-Cold",-34,28]
[518,"CAN","QC","Ancienne-Lorette",5130,"Very-Cold",-25,28]
[519,"CAN","QC","Asbestos",4800,"Very-Cold",-26,29]
[520,"CAN","QC","Aylmer",4520,"Very-Cold",-25,30]
[521,"CAN","QC","Baie-Comeau",6020,"Very-Cold",-27,25]
[522,"CAN","QC","Baie-Saint-Paul",5280,"Very-Cold",-27,28]
[523,"CAN","QC","Beaconsfield",4440,"Cold-Humid",-24,30]
[524,"CAN","QC","Beauport",5100,"Very-Cold",-26,28]
[525,"CAN","QC","Bedford",4420,"Cold-Humid",-24,29]
[526,"CAN","QC","Beloeil",4500,"Very-Cold",-24,30]
[527,"CAN","QC","Brome",4730,"Very-Cold",-25,29]
[528,"CAN","QC","Brossard",4420,"Cold-Humid",-24,30]
[529,"CAN","QC","Buckingham",4880,"Very-Cold",-26,30]
[530,"CAN","QC","Campbell's Bay",4900,"Very-Cold",-28,30]
[531,"CAN","QC","Chambly",4450,"Cold-Humid",-24,30]
[532,"CAN","QC","Coaticook",4750,"Very-Cold",-25,28]
[533,"CAN","QC","Contrecoeur",4500,"Very-Cold",-25,30]
[534,"CAN","QC","Cowansville",4540,"Very-Cold",-25,29]
[535,"CAN","QC","Deux-Montagnes",4440,"Cold-Humid",-25,29]
[536,"CAN","QC","Dolbeau",6250,"Very-Cold",-32,28]
[537,"CAN","QC","Dorval",4400,"Cold-Humid",-24,30]
[538,"CAN","QC","Drummondville",4700,"Very-Cold",-26,30]
[539,"CAN","QC","Farnham",4500,"Very-Cold",-24,29]
[540,"CAN","QC","Fort-Coulonge",4950,"Very-Cold",-28,30]
[541,"CAN","QC","Gagnon",7600,"Subarctic",-34,24]
[542,"CAN","QC","Gaspé",5500,"Very-Cold",-25,26]
[543,"CAN","QC","Gatineau",4600,"Very-Cold",-25,30]
[544,"CAN","QC","Gracefield",5080,"Very-Cold",-28,30]
[545,"CAN","QC","Granby",4500,"Very-Cold",-25,29]
[546,"CAN","QC","Harrington-Harbour",6150,"Very-Cold",-27,19]
[547,"CAN","QC","Havre-St-Pierre",6100,"Very-Cold",-27,22]
[548,"CAN","QC","Hemmingford",4380,"Cold-Humid",-24,30]
[549,"CAN","QC","Hull",4550,"Very-Cold",-25,30]
[550,"CAN","QC","Iberville",4450,"Cold-Humid",-24,29]
[551,"CAN","QC","Inukjuak",9150,"Subarctic",-36,21]
[552,"CAN","QC","Joliette",4720,"Very-Cold",-26,29]
[553,"CAN","QC","Kuujjuaq",8550,"Subarctic",-37,24]
[554,"CAN","QC","Kuujjuarapik",7990,"Subarctic",-36,25]
[555,"CAN","QC","La Pocatière",5160,"Very-Cold",-24,28]
[556,"CAN","QC","Lachute",4640,"Very-Cold",-26,29]
[557,"CAN","QC","Lac-Mégantic",5180,"Very-Cold",-27,27]
[558,"CAN","QC","La-Malbaie",5400,"Very-Cold",-26,28]
[559,"CAN","QC","La-Tuque",5500,"Very-Cold",-30,29]
[560,"CAN","QC","Laval",4500,"Very-Cold",-24,29]
[561,"CAN","QC","Lennoxville",4700,"Very-Cold",-28,29]
[562,"CAN","QC","Léry",4420,"Cold-Humid",-24,29]
[563,"CAN","QC","Lévis",5050,"Very-Cold",-25,28]
[564,"CAN","QC","Loretteville",5200,"Very-Cold",-26,28]
[565,"CAN","QC","Louiseville",4900,"Very-Cold",-25,29]
[566,"CAN","QC","Magog",4730,"Very-Cold",-26,29]
[567,"CAN","QC","Malartic",6200,"Very-Cold",-33,29]
[568,"CAN","QC","Maniwaki",5280,"Very-Cold",-30,29]
[569,"CAN","QC","Masson",4610,"Very-Cold",-26,30]
[570,"CAN","QC","Matane",5510,"Very-Cold",-24,24]
[571,"CAN","QC","Mont-Joli",5370,"Very-Cold",-24,26]
[572,"CAN","QC","Mont-Laurier",5320,"Very-Cold",-29,29]
[573,"CAN","QC","Montmagny",5090,"Very-Cold",-25,28]
[574,"CAN","QC","Montréal (city hall)",4200,"Cold-Humid",-23,30]
[575,"CAN","QC","Montréal-Est",4470,"Cold-Humid",-23,30]
[576,"CAN","QC","Montréal-Nord",4470,"Cold-Humid",-24,30]
[577,"CAN","QC","Nicolet (Gentilly)",4900,"Very-Cold",-25,29]
[578,"CAN","QC","Nitchequon",8100,"Subarctic",-39,23]
[579,"CAN","QC","Noranda",6050,"Very-Cold",-33,29]
[580,"CAN","QC","Outremont",4300,"Cold-Humid",-23,30]
[581,"CAN","QC","Percé",5400,"Very-Cold",-21,25]
[582,"CAN","QC","Pierrefonds",4430,"Cold-Humid",-24,30]
[583,"CAN","QC","Pincourt",4480,"Cold-Humid",-24,29]
[584,"CAN","QC","Plessisville",5100,"Very-Cold",-26,29]
[585,"CAN","QC","Port-Cartier",6060,"Very-Cold",-28,25]
[586,"CAN","QC","Puvinrituq",9200,"Subarctic",-36,23]
[587,"CAN","QC","Québec",5080,"Very-Cold",-25,28]
[588,"CAN","QC","Richmond",4700,"Very-Cold",-25,29]
[589,"CAN","QC","Rimouski",5300,"Very-Cold",-25,26]
[590,"CAN","QC","Rivière-du-Loup",5380,"Very-Cold",-25,26]
[591,"CAN","QC","Roberval",5750,"Very-Cold",-31,28]
[592,"CAN","QC","Rock-Island",4850,"Very-Cold",-25,29]
[593,"CAN","QC","Rosemère",4550,"Very-Cold",-24,29]
[594,"CAN","QC","Rouyn",6050,"Very-Cold",-33,29]
[595,"CAN","QC","Saguenay",5700,"Very-Cold",-30,28]
[596,"CAN","QC","Saguenay (Bagotville)",5700,"Very-Cold",-31,28]
[597,"CAN","QC","Saguenay (Jonquière)",5650,"Very-Cold",-30,28]
[598,"CAN","QC","Saguenay (Kénogami)",5650,"Very-Cold",-30,28]
[599,"CAN","QC","Saint-Eustache",4500,"Very-Cold",-25,29]
[600,"CAN","QC","Saint-Jean-sur-Richelieu",4450,"Cold-Humid",-24,29]
[601,"CAN","QC","Salaberry-de-Valleyfield",4400,"Cold-Humid",-23,29]
[602,"CAN","QC","Schefferville",8550,"Subarctic",-37,24]
[603,"CAN","QC","Senneterre",6180,"Very-Cold",-34,29]
[604,"CAN","QC","Sept-Îles",6200,"Very-Cold",-29,24]
[605,"CAN","QC","Shawinigan",5050,"Very-Cold",-26,29]
[606,"CAN","QC","Shawville",4880,"Very-Cold",-27,30]
[607,"CAN","QC","Sherbrooke",4700,"Very-Cold",-28,29]
[608,"CAN","QC","Sillery",5070,"Very-Cold",-25,28]
[609,"CAN","QC","Sorel",4550,"Very-Cold",-25,29]
[610,"CAN","QC","Ste-Agathe-des-Monts",5390,"Very-Cold",-28,28]
[611,"CAN","QC","Ste-Anne-de-Bellevue",4460,"Cold-Humid",-24,29]
[612,"CAN","QC","Ste-Foy",5100,"Very-Cold",-25,28]
[613,"CAN","QC","St-Félicien",5850,"Very-Cold",-32,28]
[614,"CAN","QC","St-Georges-de-Cacouna",5400,"Very-Cold",-25,26]
[615,"CAN","QC","St-Hubert",4490,"Cold-Humid",-24,30]
[616,"CAN","QC","St-Hubert-de-Rivière-du-Loup",5520,"Very-Cold",-26,26]
[617,"CAN","QC","St-Hyacinthe",4500,"Very-Cold",-24,30]
[618,"CAN","QC","St-Jérôme",4820,"Very-Cold",-26,29]
[619,"CAN","QC","St-Jovite",5250,"Very-Cold",-29,28]
[620,"CAN","QC","St-Lambert",4400,"Cold-Humid",-23,30]
[621,"CAN","QC","St-Laurent",4270,"Cold-Humid",-23,30]
[622,"CAN","QC","St-Lazare-Hudson",4520,"Very-Cold",-24,30]
[623,"CAN","QC","St-Nicolas",4990,"Very-Cold",-25,28]
[624,"CAN","QC","Sutton",4600,"Very-Cold",-25,29]
[625,"CAN","QC","Tadoussac",5450,"Very-Cold",-26,27]
[626,"CAN","QC","Témiscaming",5020,"Very-Cold",-30,30]
[627,"CAN","QC","Terrebonne",4500,"Very-Cold",-25,29]
[628,"CAN","QC","Thetford Mines",5120,"Very-Cold",-26,28]
[629,"CAN","QC","Thurso",4820,"Very-Cold",-26,30]
[630,"CAN","QC","Trois-Rivières",4900,"Very-Cold",-25,29]
[631,"CAN","QC","Val-d'Or",6180,"Very-Cold",-33,29]
[632,"CAN","QC","Varennes",4500,"Very-Cold",-24,30]
[633,"CAN","QC","Verchères",4450,"Cold-Humid",-24,30]
[634,"CAN","QC","Verdun",4200,"Cold-Humid",-23,30]
[635,"CAN","QC","Victoriaville",4900,"Very-Cold",-26,29]
[636,"CAN","QC","Ville-Marie",5550,"Very-Cold",-31,30]
[637,"CAN","QC","Wakefield",4820,"Very-Cold",-27,30]
[638,"CAN","QC","Waterloo",4650,"Very-Cold",-25,29]
[639,"CAN","QC","Windsor",4700,"Very-Cold",-25,29]
[640,"CAN","SK","Assiniboia",5180,"Very-Cold",-32,31]
[641,"CAN","SK","Battrum",5080,"Very-Cold",-32,32]
[642,"CAN","SK","Biggar",5720,"Very-Cold",-34,30]
[643,"CAN","SK","Broadview",5760,"Very-Cold",-34,30]
[644,"CAN","SK","Dafoe",5860,"Very-Cold",-35,29]
[645,"CAN","SK","Dundurn",5600,"Very-Cold",-35,30]
[646,"CAN","SK","Estevan",5340,"Very-Cold",-32,32]
[647,"CAN","SK","Hudson Bay",6280,"Very-Cold",-36,29]
[648,"CAN","SK","Humboldt",6000,"Very-Cold",-36,28]
[649,"CAN","SK","Island Falls",7100,"Subarctic",-39,27]
[650,"CAN","SK","Kamsack",6040,"Very-Cold",-34,29]
[651,"CAN","SK","Kindersley",5550,"Very-Cold",-33,31]
[652,"CAN","SK","Lloydminster",5880,"Very-Cold",-34,28]
[653,"CAN","SK","Maple Creek",4780,"Very-Cold",-31,31]
[654,"CAN","SK","Meadow Lake",6280,"Very-Cold",-38,28]
[655,"CAN","SK","Melfort",6050,"Very-Cold",-36,28]
[656,"CAN","SK","Melville",5880,"Very-Cold",-34,29]
[657,"CAN","SK","Moose Jaw",5270,"Very-Cold",-32,31]
[658,"CAN","SK","Nipawin",6300,"Very-Cold",-37,28]
[659,"CAN","SK","North Battleford",5900,"Very-Cold",-34,29]
[660,"CAN","SK","Prince Albert",6100,"Very-Cold",-37,28]
[661,"CAN","SK","Qu'Appelle",5620,"Very-Cold",-34,30]
[662,"CAN","SK","Regina",5600,"Very-Cold",-34,31]
[663,"CAN","SK","Rosetown",5620,"Very-Cold",-34,31]
[664,"CAN","SK","Saskatoon",5700,"Very-Cold",-35,30]
[665,"CAN","SK","Scott",5960,"Very-Cold",-34,30]
[666,"CAN","SK","Strasbourg",5600,"Very-Cold",-34,30]
[667,"CAN","SK","Swift Current",5150,"Very-Cold",-31,31]
[668,"CAN","SK","Uranium City",7500,"Subarctic",-42,26]
[669,"CAN","SK","Weyburn",5400,"Very-Cold",-33,31]
[670,"CAN","SK","Yorkton",6000,"Very-Cold",-34,29]
[671,"CAN","YT","Aishihik",7500,"Subarctic",-44,23]
[672,"CAN","YT","Dawson",8120,"Subarctic",-50,26]
[673,"CAN","YT","Destruction Bay",7800,"Subarctic",-43,23]
[674,"CAN","YT","Faro",7300,"Subarctic",-46,25]
[675,"CAN","YT","Haines Junction",7100,"Subarctic",-45,24]
[676,"CAN","YT","Snag",8300,"Subarctic",-51,23]
[677,"CAN","YT","Teslin",6770,"Subarctic",-42,24]
[678,"CAN","YT","Watson Lake",7470,"Subarctic",-46,26]
[679,"CAN","YT","Whitehorse",6580,"Subarctic",-41,25]
[{"$f":"A680+1","v":680},"US","AK","ADAK NAS",null,"Very-Cold"]
[{"$f":"A681+1","v":681},"US","AK","AMBLER",null,"Subarctic"]
[682,"US","AK","ANAKTUVUK PASS",null,"Subarctic"]
[683,"US","AK","ANCHORAGE/ELMENDORF",null,"Very-Cold"]
[684,"US","AK","ANCHORAGE INTL AP",null,"Very-Cold"]
[685,"US","AK","ANCHORAGE MERRILL FIELD",null,"Very-Cold"]
[686,"US","AK","ANIAK AIRPORT",null,"Subarctic"]
[687,"US","AK","ANNETTE ISLAND AP",null,"Very-Cold"]
[688,"US","AK","ANVIK",null,"Subarctic"]
[689,"US","AK","BARROW W POST-W ROGERS ARPT [NSA - ARM]",null,"Subarctic"]
[690,"US","AK","BETHEL AIRPORT",null,"Subarctic"]
[691,"US","AK","BETTLES FIELD",null,"Subarctic"]
[692,"US","AK","BIG DELTA ALLEN AAF",null,"Subarctic"]
[693,"US","AK","BIRCHWOOD",null,"Very-Cold"]
[694,"US","AK","CHULITNA",null,"Very-Cold"]
[695,"US","AK","COLD BAY ARPT",null,"Very-Cold"]
[696,"US","AK","CORDOVA",null,"Very-Cold"]
[697,"US","AK","DEADHORSE",null,"Subarctic"]
[698,"US","AK","DILLINGHAM (AMOS)",null,"Subarctic"]
[699,"US","AK","DUTCH HARBOR",null,"Very-Cold"]
[700,"US","AK","EMMONAK",null,"Subarctic"]
[701,"US","AK","FAIRBANKS/EIELSON A",null,"Subarctic"]
[702,"US","AK","FAIRBANKS INTL ARPT",null,"Subarctic"]
[703,"US","AK","FORT YUKON",null,"Subarctic"]
[704,"US","AK","GAMBELL",null,"Subarctic"]
[705,"US","AK","GULKANA INTERMEDIATE FIELD",null,"Very-Cold"]
[706,"US","AK","GUSTAVUS",null,"Very-Cold"]
[707,"US","AK","HAYES RIVER",null,"Very-Cold"]
[708,"US","AK","HEALY RIVER AIRPORT",null,"Very-Cold"]
[709,"US","AK","HOMER ARPT",null,"Very-Cold"]
[710,"US","AK","HOONAH",null,"Very-Cold"]
[711,"US","AK","HOOPER BAY",null,"Subarctic"]
[712,"US","AK","HUSLIA",null,"Subarctic"]
[713,"US","AK","ILIAMNA ARPT",null,"Very-Cold"]
[714,"US","AK","JUNEAU INT'L ARPT",null,"Very-Cold"]
[715,"US","AK","KAKE SEAPLANE BASE",null,"Very-Cold"]
[716,"US","AK","KETCHIKAN INTL AP",null,"Very-Cold"]
[717,"US","AK","KING SALMON ARPT",null,"Very-Cold"]
[718,"US","AK","KODIAK AIRPORT",null,"Very-Cold"]
[719,"US","AK","KOTZEBUE RALPH WEIN MEMORIAL",null,"Subarctic"]
[720,"US","AK","LAKE HOOD SEAPLANE",null,"Very-Cold"]
[721,"US","AK","MCGRATH ARPT",null,"Subarctic"]
[722,"US","AK","MEKORYUK",null,"Subarctic"]
[723,"US","AK","MINCHUMINA",null,"Subarctic"]
[724,"US","AK","NENANA MUNICIPAL AP",null,"Subarctic"]
[725,"US","AK","NOME MUNICIPAL ARPT",null,"Subarctic"]
[726,"US","AK","NORTHWAY AIRPORT",null,"Subarctic"]
[727,"US","AK","PALMER MUNICIPAL",null,"Very-Cold"]
[728,"US","AK","PETERSBURG",null,"Very-Cold"]
[729,"US","AK","POINT HOPE (AWOS)",null,"Subarctic"]
[730,"US","AK","PORT HEIDEN",null,"Very-Cold"]
[731,"US","AK","SAINT MARY`S (AWOS)",null,"Subarctic"]
[732,"US","AK","SAND POINT",null,"Very-Cold"]
[733,"US","AK","SAVOONGA",null,"Subarctic"]
[734,"US","AK","SELAWIK",null,"Subarctic"]
[735,"US","AK","SEWARD",null,"Very-Cold"]
[736,"US","AK","SHEMYA AFB",null,"Very-Cold"]
[737,"US","AK","SHISHMAREF (AWOS)",null,"Subarctic"]
[738,"US","AK","SITKA JAPONSKI AP",null,"Very-Cold"]
[739,"US","AK","SKAGWAY AIRPORT",null,"Very-Cold"]
[740,"US","AK","SOLDOTNA",null,"Very-Cold"]
[741,"US","AK","ST PAUL ISLAND ARPT",null,"Very-Cold"]
[742,"US","AK","TALKEETNA STATE ARPT",null,"Very-Cold"]
[743,"US","AK","TANANA RALPH M CALHOUN MEM AP",null,"Subarctic"]
[744,"US","AK","TOGIAC VILLAGE AWOS",null,"Subarctic"]
[{"$f":"A745+1","v":745},"US","AK","UNALAKLEET FIELD",null,"Subarctic"]
[746,"US","AK","VALDEZ PIONEER FIEL",null,"Very-Cold"]
[747,"US","AK","VALDEZ WSO",null,"Very-Cold"]
[748,"US","AK","WHITTIER",null,"Very-Cold"]
[749,"US","AK","WRANGELL",null,"Very-Cold"]
[750,"US","AK","YAKUTAT STATE ARPT",null,"Very-Cold"]
[751,"US","AL","ANNISTON METROPOLITAN AP",null,"Mixed-Humid"]
[752,"US","AL","AUBURN-OPELIKA APT",null,"Mixed-Humid"]
[753,"US","AL","BIRMINGHAM MUNICIPAL AP",null,"Mixed-Humid"]
[754,"US","AL","CAIRNS FIELD FORT RUCKER",null,"Hot-Humid"]
[755,"US","AL","DOTHAN MUNICIPAL AP",null,"Hot-Humid"]
[756,"US","AL","GADSEN MUNI (AWOS)",null,"Mixed-Humid"]
[757,"US","AL","HUNTSVILLE INTL/JONES FIELD",null,"Mixed-Humid"]
[758,"US","AL","MAXWELL AFB",null,"Hot-Humid"]
[759,"US","AL","MOBILE DOWNTOWN AP",null,"Hot-Humid"]
[760,"US","AL","MOBILE REGIONAL AP",null,"Hot-Humid"]
[761,"US","AL","MONTGOMERY DANNELLY FIELD",null,"Hot-Humid"]
[762,"US","AL","MUSCLE SHOALS REGIONAL AP",null,"Mixed-Humid"]
[763,"US","AL","TROY AF",null,"Hot-Humid"]
[764,"US","AL","TUSCALOOSA MUNICIPAL AP",null,"Mixed-Humid"]
[765,"US","AR","BATESVILLE (AWOS)",null,"Mixed-Humid"]
[766,"US","AR","BENTONVILLE (AWOS)",null,"Mixed-Humid"]
[767,"US","AR","EL DORADO GOODWIN FIELD",null,"Hot-Humid"]
[768,"US","AR","FAYETTEVILLE DRAKE FIELD",null,"Mixed-Humid"]
[769,"US","AR","FLIPPIN (AWOS)",null,"Mixed-Humid"]
[770,"US","AR","FORT SMITH REGIONAL AP",null,"Mixed-Humid"]
[771,"US","AR","HARRISON FAA AP",null,"Mixed-Humid"]
[772,"US","AR","JONESBORO MUNI",null,"Mixed-Humid"]
[773,"US","AR","LITTLE ROCK ADAMS FIELD",null,"Mixed-Humid"]
[774,"US","AR","LITTLE ROCK AFB",null,"Mixed-Humid"]
[775,"US","AR","MEMORIAL FLD",null,"Mixed-Humid"]
[776,"US","AR","PINE BLUFF FAA AP",null,"Mixed-Humid"]
[777,"US","AR","ROGERS (AWOS)",null,"Mixed-Humid"]
[778,"US","AR","SILOAM SPRING(AWOS)",null,"Mixed-Humid"]
[779,"US","AR","SPRINGDALE MUNI",null,"Mixed-Humid"]
[780,"US","AR","STUTTGART (AWOS)",null,"Mixed-Humid"]
[781,"US","AR","TEXARKANA WEBB FIELD",null,"Hot-Humid"]
[782,"US","AR","WALNUT RIDGE (AWOS)",null,"Mixed-Humid"]
[783,"US","AZ","CASA GRANDA (AWOS)",null,"Hot-Dry"]
[784,"US","AZ","DAVIS MONTHAN AFB",null,"Hot-Dry"]
[785,"US","AZ","DEER VALLEY/PHOENIX",null,"Hot-Dry"]
[786,"US","AZ","DOUGLAS BISBEE-DOUGLAS INTL A",null,"Hot-Dry"]
[787,"US","AZ","FLAGSTAFF PULLIAM ARPT",null,"Cold-Dry"]
[788,"US","AZ","GRAND CANYON NATL P",null,"Cold-Dry"]
[789,"US","AZ","KINGMAN (AMOS)",null,"Hot-Dry"]
[790,"US","AZ","LUKE AFB",null,"Hot-Dry"]
[791,"US","AZ","PAGE MUNI (AMOS)",null,"Cold-Dry"]
[792,"US","AZ","PHOENIX SKY HARBOR INTL AP",null,"Hot-Dry"]
[793,"US","AZ","PRESCOTT LOVE FIELD",null,"Hot-Dry"]
[794,"US","AZ","SAFFORD (AMOS)",null,"Hot-Dry"]
[795,"US","AZ","SCOTTSDALE MUNI",null,"Hot-Dry"]
[796,"US","AZ","SHOW LOW MUNICIPAL",null,"Cold-Dry"]
[797,"US","AZ","TUCSON INTERNATIONAL AP",null,"Hot-Dry"]
[798,"US","AZ","WINSLOW MUNICIPAL AP",null,"Cold-Dry"]
[799,"US","AZ","YUMA INTL ARPT",null,"Hot-Dry"]
[800,"US","AZ","YUMA MCAS",null,"Hot-Dry"]
[801,"US","CA","ALTURAS",null,"Cold-Dry"]
[802,"US","CA","ARCATA AIRPORT",null,"Marine"]
[803,"US","CA","BAKERSFIELD MEADOWS FIELD",null,"Hot-Dry"]
[804,"US","CA","BEALE AFB",null,"Hot-Dry"]
[805,"US","CA","BISHOP AIRPORT",null,"Hot-Dry"]
[806,"US","CA","BLUE CANYON AP",null,"Cold-Dry"]
[807,"US","CA","BLYTHE RIVERSIDE CO ARPT",null,"Hot-Dry"]
[808,"US","CA","BURBANK-GLENDALE-PASSADENA AP",null,"Hot-Dry"]
[{"$f":"A809+1","v":809},"US","CA","CAMARILLO (AWOS)",null,"NA"]
[810,"US","CA","CAMP PENDLETON MCAS",null,"Hot-Dry"]
[811,"US","CA","CARLSBAD/PALOMAR",null,"Hot-Dry"]
[812,"US","CA","CHINA LAKE NAF",null,"Hot-Dry"]
[813,"US","CA","CHINO AIRPORT",null,"Hot-Dry"]
[814,"US","CA","CHULA VISTA BROWN FIELD NAAS",null,"Hot-Dry"]
[815,"US","CA","CONCORD CONCORD-BUCHANAN FIEL",null,"Hot-Dry"]
[816,"US","CA","CRESCENT CITY FAA AI",null,"Marine"]
[817,"US","CA","DAGGETT BARSTOW-DAGGETT AP",null,"Hot-Dry"]
[818,"US","CA","EDWARDS AFB",null,"Hot-Dry"]
[819,"US","CA","FRESNO YOSEMITE INTL AP",null,"Hot-Dry"]
[820,"US","CA","FULLERTON MUNICIPAL",null,"Hot-Dry"]
[821,"US","CA","HAYWARD AIR TERM",null,"Marine"]
[822,"US","CA","IMPERIAL",null,"Hot-Dry"]
[823,"US","CA","JACK NORTHROP FLD H",null,"Hot-Dry"]
[824,"US","CA","LANCASTER GEN WM FOX FIELD",null,"Hot-Dry"]
[825,"US","CA","LEMOORE REEVES NAS",null,"Hot-Dry"]
[826,"US","CA","LIVERMORE MUNICIPAL",null,"Marine"]
[827,"US","CA","LOMPOC (AWOS)",null,"NA"]
[828,"US","CA","LONG BEACH DAUGHERTY FLD",null,"Hot-Dry"]
[829,"US","CA","LOS ANGELES INTL ARPT",null,"Hot-Dry"]
[830,"US","CA","MARCH AFB",null,"Hot-Dry"]
[831,"US","CA","MERCED/MACREADY FLD",null,"Hot-Dry"]
[832,"US","CA","MODESTO CITY-COUNTY AP",null,"Hot-Dry"]
[833,"US","CA","MONTAGUE SISKIYOU COUNTY AP",null,"Cold-Dry"]
[834,"US","CA","MONTEREY NAF",null,"Marine"]
[835,"US","CA","MOUNTAIN VIEW MOFFETT FLD NAS",null,"Marine"]
[836,"US","CA","NAPA CO. AIRPORT",null,"Marine"]
[837,"US","CA","NEEDLES AIRPORT",null,"Hot-Dry"]
[838,"US","CA","OAKLAND METROPOLITAN ARPT",null,"Marine"]
[839,"US","CA","OXNARD AIRPORT",null,"NA"]
[840,"US","CA","PALMDALE AIRPORT",null,"Hot-Dry"]
[841,"US","CA","PALM SPRINGS INTL",null,"Hot-Dry"]
[842,"US","CA","PALM SPRINGS THERMAL AP",null,"Hot-Dry"]
[843,"US","CA","PASO ROBLES MUNICIPAL ARPT",null,"NA"]
[844,"US","CA","POINT MUGU NF",null,"NA"]
[845,"US","CA","PORTERVILLE (AWOS)",null,"Hot-Dry"]
[846,"US","CA","RED BLUFF MUNICIPAL ARPT",null,"Hot-Dry"]
[847,"US","CA","REDDING MUNICIPAL ARPT",null,"Hot-Dry"]
[848,"US","CA","RIVERSIDE MUNI",null,"Hot-Dry"]
[849,"US","CA","SACRAMENTO EXECUTIVE ARPT",null,"Hot-Dry"]
[850,"US","CA","SACRAMENTO METROPOLITAN AP",null,"Hot-Dry"]
[851,"US","CA","SALINAS MUNICIPAL AP",null,"Marine"]
[852,"US","CA","SANDBERG",null,"Hot-Dry"]
[853,"US","CA","SAN DIEGO LINDBERGH FIELD",null,"Hot-Dry"]
[854,"US","CA","SAN DIEGO MIRAMAR NAS",null,"Hot-Dry"]
[855,"US","CA","SAN DIEGO/MONTGOMER",null,"Hot-Dry"]
[856,"US","CA","SAN DIEGO NORTH ISLAND NAS",null,"Hot-Dry"]
[857,"US","CA","SAN FRANCISCO INTL AP",null,"Marine"]
[858,"US","CA","SAN JOSE INTL AP",null,"Marine"]
[859,"US","CA","SAN LUIS CO RGNL",null,"NA"]
[860,"US","CA","SANTA ANA JOHN WAYNE AP",null,"Hot-Dry"]
[861,"US","CA","SANTA BARBARA MUNICIPAL AP",null,"NA"]
[862,"US","CA","SANTA MARIA PUBLIC ARPT",null,"NA"]
[863,"US","CA","SANTA MONICA MUNI",null,"Hot-Dry"]
[864,"US","CA","SANTA ROSA (AWOS)",null,"Marine"]
[865,"US","CA","SOUTH LAKE TAHOE",null,"Hot-Dry"]
[866,"US","CA","STOCKTON METROPOLITAN ARPT",null,"Hot-Dry"]
[867,"US","CA","TRAVIS FIELD AFB",null,"Hot-Dry"]
[868,"US","CA","TRUCKEE-TAHOE",null,"Cold-Dry"]
[869,"US","CA","TWENTYNINE PALMS",null,"Hot-Dry"]
[870,"US","CA","UKIAH MUNICIPAL AP",null,"Marine"]
[871,"US","CA","VAN NUYS AIRPORT",null,"Hot-Dry"]
[872,"US","CA","VISALIA MUNI (AWOS)",null,"Hot-Dry"]
[{"$f":"A873+1","v":873},"US","CA","YUBA CO",null,"Hot-Dry"]
[874,"US","CO","AKRON WASHINGTON CO AP",null,"Cold-Dry"]
[875,"US","CO","ALAMOSA SAN LUIS VALLEY RGNL",null,"Cold-Dry"]
[876,"US","CO","ASPEN PITKIN CO SAR",null,"Very-Cold"]
[877,"US","CO","AURORA BUCKLEY FIELD ANGB",null,"Cold-Dry"]
[878,"US","CO","BROOMFIELD/JEFFCO [BOULDER - SURFRAD]",null,"Cold-Dry"]
[879,"US","CO","COLORADO SPRINGS MUNI AP",null,"Cold-Dry"]
[880,"US","CO","CORTEZ/MONTEZUMA CO",null,"Cold-Dry"]
[881,"US","CO","CRAIG-MOFFAT",null,"Cold-Dry"]
[882,"US","CO","DENVER/CENTENNIAL [GOLDEN - NREL]",null,"Cold-Dry"]
[883,"US","CO","DENVER INTL AP",null,"Cold-Dry"]
[884,"US","CO","DURANGO/LA PLATA CO",null,"Cold-Dry"]
[885,"US","CO","EAGLE COUNTY AP",null,"Cold-Dry"]
[886,"US","CO","FORT COLLINS (AWOS)",null,"Cold-Dry"]
[887,"US","CO","GRAND JUNCTION WALKER FIELD",null,"Cold-Dry"]
[888,"US","CO","GREELEY/WELD (AWOS)",null,"Cold-Dry"]
[889,"US","CO","GUNNISON CO. (AWOS)",null,"Very-Cold"]
[890,"US","CO","HAYDEN/YAMPA (AWOS)",null,"Very-Cold"]
[891,"US","CO","LA JUNTA MUNICIPAL AP",null,"Hot-Dry"]
[892,"US","CO","LAMAR MUNICIPAL",null,"Cold-Dry"]
[893,"US","CO","LEADVILLE/LAKE CO.",null,"Very-Cold"]
[894,"US","CO","LIMON",null,"Cold-Dry"]
[895,"US","CO","MONTROSE CO. ARPT",null,"Cold-Dry"]
[896,"US","CO","PUEBLO MEMORIAL AP",null,"Cold-Dry"]
[897,"US","CO","RIFLE/GARFIELD RGNL",null,"Cold-Dry"]
[898,"US","CO","TRINIDAD LAS ANIMAS COUNTY AP",null,"Hot-Dry"]
[899,"US","CT","BRIDGEPORT SIKORSKY MEMORIAL",null,"Cold-Humid"]
[900,"US","CT","DANBURY MUNICIPAL",null,"Cold-Humid"]
[901,"US","CT","GROTON NEW LONDON AP",null,"Cold-Humid"]
[902,"US","CT","HARTFORD BRADLEY INTL AP",null,"Cold-Humid"]
[903,"US","CT","HARTFORD BRAINARD FD",null,"Cold-Humid"]
[904,"US","CT","NEW HAVEN TWEED AIRPORT",null,"Cold-Humid"]
[905,"US","CT","OXFORD (AWOS)",null,"Cold-Humid"]
[906,"US","DE","DOVER AFB",null,"Mixed-Humid"]
[907,"US","DE","WILMINGTON NEW CASTLE CNTY AP",null,"Mixed-Humid"]
[908,"US","FL","CRESTVIEW BOB SIKES AP",null,"Hot-Humid"]
[909,"US","FL","DAYTONA BEACH INTL AP",null,"Hot-Humid"]
[910,"US","FL","FORT LAUDERDALE",null,"Hot-Humid"]
[911,"US","FL","FORT LAUDERDALE HOLLYWOOD INT",null,"Hot-Humid"]
[912,"US","FL","FORT MYERS PAGE FIELD",null,"Hot-Humid"]
[913,"US","FL","GAINESVILLE REGIONAL AP",null,"Hot-Humid"]
[914,"US","FL","HOMESTEAD AFB",null,"Hot-Humid"]
[915,"US","FL","JACKSONVILLE/CRAIG",null,"Hot-Humid"]
[916,"US","FL","JACKSONVILLE INTL ARPT",null,"Hot-Humid"]
[917,"US","FL","JACKSONVILLE NAS",null,"Hot-Humid"]
[918,"US","FL","KEY WEST INTL ARPT",null,"Hot-Humid"]
[919,"US","FL","KEY WEST NAS",null,"Hot-Humid"]
[920,"US","FL","LAKELAND LINDER RGN",null,"Hot-Humid"]
[921,"US","FL","MACDILL AFB",null,"Hot-Humid"]
[922,"US","FL","MARATHON AIRPORT",null,"Hot-Humid"]
[923,"US","FL","MAYPORT NS",null,"Hot-Humid"]
[924,"US","FL","MELBOURNE REGIONAL AP",null,"Hot-Humid"]
[925,"US","FL","MIAMI INTL AP",null,"Hot-Humid"]
[926,"US","FL","MIAMI/KENDALL-TAMIA",null,"Hot-Humid"]
[927,"US","FL","MIAMI/OPA LOCKA",null,"Hot-Humid"]
[928,"US","FL","NAPLES MUNICIPAL",null,"Hot-Humid"]
[929,"US","FL","NASA SHUTTLE FCLTY",null,"Hot-Humid"]
[930,"US","FL","OCALA MUNI (AWOS)",null,"Hot-Humid"]
[931,"US","FL","ORLANDO EXECUTIVE AP",null,"Hot-Humid"]
[932,"US","FL","ORLANDO INTL ARPT",null,"Hot-Humid"]
[933,"US","FL","ORLANDO SANFORD AIRPORT",null,"Hot-Humid"]
[934,"US","FL","PANAMA CITY BAY CO",null,"Hot-Humid"]
[935,"US","FL","PENSACOLA FOREST SHERMAN NAS",null,"Hot-Humid"]
[936,"US","FL","PENSACOLA REGIONAL AP",null,"Hot-Humid"]
[{"$f":"A937+1","v":937},"US","FL","SARASOTA BRADENTON",null,"Hot-Humid"]
[938,"US","FL","SOUTHWEST FLORIDA I",null,"Hot-Humid"]
[939,"US","FL","ST LUCIE CO INTL",null,"Hot-Humid"]
[940,"US","FL","ST PETERSBURG ALBERT WHITTED",null,"Hot-Humid"]
[941,"US","FL","ST PETERSBURG CLEAR",null,"Hot-Humid"]
[942,"US","FL","TALLAHASSEE REGIONAL AP [ISIS]",null,"Hot-Humid"]
[943,"US","FL","TAMPA INTERNATIONAL AP",null,"Hot-Humid"]
[944,"US","FL","TYNDALL AFB",null,"Hot-Humid"]
[945,"US","FL","VALPARAISO ELGIN AFB",null,"Hot-Humid"]
[946,"US","FL","VALPARAISO HURLBURT",null,"Hot-Humid"]
[947,"US","FL","VERO BEACH MUNICIPAL ARPT",null,"Hot-Humid"]
[948,"US","FL","WEST PALM BEACH INTL ARPT",null,"Hot-Humid"]
[949,"US","FL","WHITING FIELD NAAS",null,"Hot-Humid"]
[950,"US","GA","ALBANY DOUGHERTY COUNTY AP",null,"Hot-Humid"]
[951,"US","GA","ALMA BACON COUNTY AP",null,"Hot-Humid"]
[952,"US","GA","ATHENS BEN EPPS AP",null,"Mixed-Humid"]
[953,"US","GA","ATLANTA HARTSFIELD INTL AP",null,"Mixed-Humid"]
[954,"US","GA","AUGUSTA BUSH FIELD",null,"Mixed-Humid"]
[955,"US","GA","BRUNSWICK GOLDEN IS",null,"Hot-Humid"]
[956,"US","GA","BRUNSWICK MALCOLM MCKINNON AP",null,"Hot-Humid"]
[957,"US","GA","COLUMBUS METROPOLITAN ARPT",null,"Mixed-Humid"]
[958,"US","GA","DEKALB PEACHTREE",null,"Mixed-Humid"]
[959,"US","GA","FORT BENNING LAWSON",null,"Hot-Humid"]
[960,"US","GA","FULTON CO ARPT BROW",null,"Mixed-Humid"]
[961,"US","GA","HUNTER AAF",null,"Hot-Humid"]
[962,"US","GA","MACON MIDDLE GA REGIONAL AP",null,"Mixed-Humid"]
[963,"US","GA","MARIETTA DOBBINS AFB",null,"Mixed-Humid"]
[964,"US","GA","MOODY AFB/VALDOSTA",null,"Hot-Humid"]
[965,"US","GA","ROME R B RUSSELL AP",null,"Mixed-Humid"]
[966,"US","GA","SAVANNAH INTL AP",null,"Hot-Humid"]
[967,"US","GA","VALDOSTA WB AIRPORT",null,"Hot-Humid"]
[968,"US","GA","WARNER ROBINS AFB",null,"Hot-Humid"]
[969,"US","HI","BARBERS POINT NAS",null,"Hot-Humid"]
[970,"US","HI","HILO INTERNATIONAL AP",null,"Hot-Humid"]
[971,"US","HI","HONOLULU INTL ARPT",null,"Hot-Humid"]
[972,"US","HI","KAHULUI AIRPORT",null,"Hot-Humid"]
[973,"US","HI","KANEOHE BAY MCAS",null,"Hot-Humid"]
[974,"US","HI","KAPALUA",null,"Hot-Humid"]
[975,"US","HI","KONA INTL AT KEAHOL",null,"Hot-Humid"]
[976,"US","HI","LANAI",null,"Hot-Humid"]
[977,"US","HI","LIHUE AIRPORT",null,"Hot-Humid"]
[978,"US","HI","MOLOKAI (AMOS)",null,"Hot-Humid"]
[979,"US","IA","ALGONA",null,"Cold-Humid"]
[980,"US","IA","ATLANTIC",null,"Cold-Humid"]
[981,"US","IA","BOONE MUNI",null,"Cold-Humid"]
[982,"US","IA","BURLINGTON MUNICIPAL AP",null,"Cold-Humid"]
[983,"US","IA","CARROLL",null,"Cold-Humid"]
[984,"US","IA","CEDAR RAPIDS MUNICIPAL AP",null,"Cold-Humid"]
[985,"US","IA","CHARITON",null,"Cold-Humid"]
[986,"US","IA","CHARLES CITY",null,"Cold-Humid"]
[987,"US","IA","CLARINDA",null,"Cold-Humid"]
[988,"US","IA","CLINTON MUNI (AWOS)",null,"Cold-Humid"]
[989,"US","IA","COUNCIL BLUFFS",null,"Cold-Humid"]
[990,"US","IA","CRESTON",null,"Cold-Humid"]
[991,"US","IA","DECORAH",null,"Cold-Humid"]
[992,"US","IA","DENISON",null,"Cold-Humid"]
[993,"US","IA","DES MOINES INTL AP",null,"Cold-Humid"]
[994,"US","IA","DUBUQUE REGIONAL AP",null,"Cold-Humid"]
[995,"US","IA","ESTHERVILLE MUNI",null,"Cold-Humid"]
[996,"US","IA","FAIR FIELD",null,"Cold-Humid"]
[997,"US","IA","FORT DODGE (AWOS)",null,"Cold-Humid"]
[998,"US","IA","FORT MADISON",null,"Cold-Humid"]
[999,"US","IA","KEOKUK MUNI",null,"Cold-Humid"]
[1000,"US","IA","KNOXVILLE",null,"Cold-Humid"]
[{"$f":"A1001+1","v":1001},"US","IA","LE MARS",null,"Cold-Humid"]
[1002,"US","IA","MASON CITY MUNICIPAL ARPT",null,"Cold-Humid"]
[1003,"US","IA","MONTICELLO MUNI",null,"Cold-Humid"]
[1004,"US","IA","MUSCATINE",null,"Cold-Humid"]
[1005,"US","IA","NEWTON MUNI",null,"Cold-Humid"]
[1006,"US","IA","OELWEN",null,"Cold-Humid"]
[1007,"US","IA","ORANGE CITY",null,"Cold-Humid"]
[1008,"US","IA","OTTUMWA INDUSTRIAL AP",null,"Cold-Humid"]
[1009,"US","IA","RED OAK",null,"Cold-Humid"]
[1010,"US","IA","SHELDON",null,"Cold-Humid"]
[1011,"US","IA","SHENANDOAH MUNI",null,"Cold-Humid"]
[1012,"US","IA","SIOUX CITY SIOUX GATEWAY AP",null,"Cold-Humid"]
[1013,"US","IA","SPENCER",null,"Cold-Humid"]
[1014,"US","IA","STORM LAKE",null,"Cold-Humid"]
[1015,"US","IA","WASHINGTON",null,"Cold-Humid"]
[1016,"US","IA","WATERLOO MUNICIPAL AP",null,"Cold-Humid"]
[1017,"US","IA","WEBSTER CITY",null,"Cold-Humid"]
[1018,"US","ID","BOISE AIR TERMINAL [UO]",null,"Cold-Dry"]
[1019,"US","ID","BURLEY MUNICIPAL ARPT",null,"Cold-Dry"]
[1020,"US","ID","CALDWELL (AWOS)",null,"Cold-Dry"]
[1021,"US","ID","COEUR D`ALENE(AWOS)",null,"Cold-Dry"]
[1022,"US","ID","HAILEY/FRIEDMAN MEM",null,"Cold-Dry"]
[1023,"US","ID","IDAHO FALLS FANNING FIELD",null,"Cold-Dry"]
[1024,"US","ID","JOSLIN FLD MAGIC VA [TWIN FALLS - UO]",null,"Cold-Dry"]
[1025,"US","ID","LEWISTON NEZ PERCE CNTY AP",null,"Cold-Dry"]
[1026,"US","ID","MALAD CITY",null,"Cold-Dry"]
[1027,"US","ID","MOUNTAIN HOME AFB",null,"Cold-Dry"]
[1028,"US","ID","POCATELLO REGIONAL AP",null,"Cold-Dry"]
[1029,"US","ID","SALMON/LEMHI (AWOS)",null,"Cold-Dry"]
[1030,"US","ID","SODA SPRINGS/TIGERT",null,"Cold-Dry"]
[1031,"US","IL","AURORA MUNICIPAL",null,"Cold-Humid"]
[1032,"US","IL","BELLEVILLE SCOTT AFB",null,"Mixed-Humid"]
[1033,"US","IL","CAHOKIA/ST. LOUIS",null,"Mixed-Humid"]
[1034,"US","IL","CENTRAL ILLINOIS RG",null,"Cold-Humid"]
[1035,"US","IL","CHICAGO MIDWAY AP",null,"Cold-Humid"]
[1036,"US","IL","CHICAGO OHARE INTL AP",null,"Cold-Humid"]
[1037,"US","IL","CHICAGO/WAUKEGAN",null,"Cold-Humid"]
[1038,"US","IL","DECATUR",null,"Cold-Humid"]
[1039,"US","IL","MARION REGIONAL",null,"Mixed-Humid"]
[1040,"US","IL","MOLINE QUAD CITY INTL AP",null,"Cold-Humid"]
[1041,"US","IL","MOUNT VERNON (AWOS)",null,"Mixed-Humid"]
[1042,"US","IL","PEORIA GREATER PEORIA AP",null,"Cold-Humid"]
[1043,"US","IL","QUINCY MUNI BALDWIN FLD",null,"Cold-Humid"]
[1044,"US","IL","ROCKFORD GREATER ROCKFORD AP",null,"Cold-Humid"]
[1045,"US","IL","SOUTHERN ILLINOIS",null,"Mixed-Humid"]
[1046,"US","IL","SPRINGFIELD CAPITAL AP",null,"Cold-Humid"]
[1047,"US","IL","STERLING ROCKFALLS",null,"Cold-Humid"]
[1048,"US","IL","UNIV OF ILLINOIS WI [BONDVILLE - SURFRAD]",null,"Cold-Humid"]
[1049,"US","IL","W. CHICAGO/DU PAGE",null,"Cold-Humid"]
[1050,"US","IN","DELAWARE CO JOHNSON",null,"Cold-Humid"]
[1051,"US","IN","EVANSVILLE REGIONAL AP",null,"Mixed-Humid"]
[1052,"US","IN","FORT WAYNE INTL AP",null,"Cold-Humid"]
[1053,"US","IN","GRISSOM ARB",null,"Cold-Humid"]
[1054,"US","IN","HUNTINGBURG",null,"Mixed-Humid"]
[1055,"US","IN","INDIANAPOLIS INTL AP",null,"Cold-Humid"]
[1056,"US","IN","LAFAYETTE PURDUE UNIV AP",null,"Cold-Humid"]
[1057,"US","IN","MONROE CO",null,"Mixed-Humid"]
[1058,"US","IN","SOUTH BEND MICHIANA RGNL AP",null,"Cold-Humid"]
[1059,"US","IN","TERRE HAUTE HULMAN REGIONAL A",null,"Cold-Humid"]
[1060,"US","KS","CHANUTE MARTIN JOHNSON AP",null,"Mixed-Humid"]
[1061,"US","KS","CONCORDIA BLOSSER MUNI AP",null,"Cold-Humid"]
[1062,"US","KS","DODGE CITY REGIONAL AP",null,"Mixed-Humid"]
[1063,"US","KS","EMPORIA MUNICIPAL AP",null,"Mixed-Humid"]
[1064,"US","KS","FORT RILEY MARSHALL AAF",null,"Mixed-Humid"]
[{"$f":"A1065+1","v":1065},"US","KS","GARDEN CITY MUNICIPAL AP",null,"Mixed-Humid"]
[1066,"US","KS","GOODLAND RENNER FIELD",null,"Cold-Humid"]
[1067,"US","KS","GREAT BEND (AWOS)",null,"Mixed-Humid"]
[1068,"US","KS","HAYS MUNI (AWOS)",null,"Cold-Humid"]
[1069,"US","KS","HILL CITY MUNICIPAL AP",null,"Cold-Humid"]
[1070,"US","KS","HUTCHINSON MUNICIPAL AP",null,"Mixed-Humid"]
[1071,"US","KS","LIBERAL MUNI",null,"Mixed-Humid"]
[1072,"US","KS","MANHATTAN RGNL",null,"Mixed-Humid"]
[1073,"US","KS","MCCONNELL AFB",null,"Mixed-Humid"]
[1074,"US","KS","NEWTON (AWOS)",null,"Mixed-Humid"]
[1075,"US","KS","OLATHE/JOHNSON CO.",null,"Mixed-Humid"]
[1076,"US","KS","OLATHE JOHNSON CO INDUSTRIAL",null,"Mixed-Humid"]
[1077,"US","KS","RUSSELL MUNICIPAL AP",null,"Mixed-Humid"]
[1078,"US","KS","SALINA MUNICIPAL AP",null,"Mixed-Humid"]
[1079,"US","KS","TOPEKA FORBES FIELD",null,"Mixed-Humid"]
[1080,"US","KS","TOPEKA MUNICIPAL AP",null,"Mixed-Humid"]
[1081,"US","KS","WICHITA/COL. JABARA",null,"Mixed-Humid"]
[1082,"US","KS","WICHITA MID-CONTINENT AP",null,"Mixed-Humid"]
[1083,"US","KY","BOWLING GREEN WARREN CO AP",null,"Mixed-Humid"]
[1084,"US","KY","CINCINNATI NORTHERN KY AP",null,"Mixed-Humid"]
[1085,"US","KY","FORT CAMPBELL AAF",null,"Mixed-Humid"]
[1086,"US","KY","FORT KNOX GODMAN AAF",null,"Mixed-Humid"]
[1087,"US","KY","HENDERSON CITY",null,"Mixed-Humid"]
[1088,"US","KY","JACKSON JULIAN CARROLL AP",null,"Mixed-Humid"]
[1089,"US","KY","LEXINGTON BLUEGRASS AP",null,"Mixed-Humid"]
[1090,"US","KY","LONDON-CORBIN AP",null,"Mixed-Humid"]
[1091,"US","KY","LOUISVILLE BOWMAN FIELD",null,"Mixed-Humid"]
[1092,"US","KY","LOUISVILLE STANDIFORD FIELD",null,"Mixed-Humid"]
[1093,"US","KY","PADUCAH BARKLEY REGIONAL AP",null,"Mixed-Humid"]
[1094,"US","KY","SOMERSET(AWOS)",null,"Mixed-Humid"]
[1095,"US","LA","ALEXANDRIA ESLER REGIONAL AP",null,"Hot-Humid"]
[1096,"US","LA","BARKSDALE AFB",null,"Hot-Humid"]
[1097,"US","LA","BATON ROUGE RYAN ARPT",null,"Hot-Humid"]
[1098,"US","LA","ENGLAND AFB",null,"Hot-Humid"]
[1099,"US","LA","FORT POLK AAF",null,"Hot-Humid"]
[1100,"US","LA","HOUMA-TERREBONNE",null,"Hot-Humid"]
[1101,"US","LA","LAFAYETTE REGIONAL AP",null,"Hot-Humid"]
[1102,"US","LA","LAKE CHARLES REGIONAL ARPT",null,"Hot-Humid"]
[1103,"US","LA","LAKE CHARLES WB AIRP",null,"Hot-Humid"]
[1104,"US","LA","MONROE REGIONAL AP",null,"Hot-Humid"]
[1105,"US","LA","NEW IBERIA NAAS",null,"Hot-Humid"]
[1106,"US","LA","NEW ORLEANS ALVIN CALLENDER F",null,"Hot-Humid"]
[1107,"US","LA","NEW ORLEANS INTL ARPT",null,"Hot-Humid"]
[1108,"US","LA","NEW ORLEANS LAKEFRONT AP",null,"Hot-Humid"]
[1109,"US","LA","PATTERSON MEMORIAL",null,"Hot-Humid"]
[1110,"US","LA","SHREVEPORT DOWNTOWN",null,"Hot-Humid"]
[1111,"US","LA","SHREVEPORT REGIONAL ARPT",null,"Hot-Humid"]
[1112,"US","MA","BARNSTABLE MUNI BOA",null,"Cold-Humid"]
[1113,"US","MA","BEVERLY MUNI",null,"Cold-Humid"]
[1114,"US","MA","BOSTON LOGAN INT'L ARPT",null,"Cold-Humid"]
[1115,"US","MA","CHICOPEE FALLS WESTO",null,"Cold-Humid"]
[1116,"US","MA","LAWRENCE MUNI",null,"Cold-Humid"]
[1117,"US","MA","MARTHAS VINEYARD",null,"Cold-Humid"]
[1118,"US","MA","NANTUCKET MEMORIAL AP",null,"Cold-Humid"]
[1119,"US","MA","NEW BEDFORD RGNL",null,"Cold-Humid"]
[1120,"US","MA","NORTH ADAMS",null,"Cold-Humid"]
[1121,"US","MA","NORWOOD MEMORIAL",null,"Mixed-Humid"]
[1122,"US","MA","OTIS ANGB",null,"Cold-Humid"]
[1123,"US","MA","PLYMOUTH MUNICIPAL",null,"Cold-Humid"]
[1124,"US","MA","PROVINCETOWN (AWOS)",null,"Cold-Humid"]
[1125,"US","MA","WESTFIELD BARNES MUNI AP",null,"Cold-Humid"]
[1126,"US","MA","WORCHESTER REGIONAL ARPT",null,"Cold-Humid"]
[1127,"US","MD","ANDREWS AFB",null,"Mixed-Humid"]
[1128,"US","MD","BALTIMORE BLT-WASHNGTN INT'L",null,"Mixed-Humid"]
[{"$f":"A1129+1","v":1129},"US","MD","HAGERSTOWN RGNL RIC",null,"Mixed-Humid"]
[1130,"US","MD","PATUXENT RIVER NAS",null,"Mixed-Humid"]
[1131,"US","MD","SALISBURY WICOMICO CO AP",null,"Mixed-Humid"]
[1132,"US","ME","AUBURN-LEWISTON",null,"Cold-Humid"]
[1133,"US","ME","AUGUSTA AIRPORT",null,"Cold-Humid"]
[1134,"US","ME","BANGOR INTERNATIONAL AP",null,"Cold-Humid"]
[1135,"US","ME","BAR HARBOR (AWOS)",null,"Cold-Humid"]
[1136,"US","ME","CARIBOU MUNICIPAL ARPT",null,"Very-Cold"]
[1137,"US","ME","HOULTON INTL ARPT",null,"Very-Cold"]
[1138,"US","ME","MILLINOCKET MUNICIPAL AP",null,"Cold-Humid"]
[1139,"US","ME","NAVAL AIR STATION",null,"Cold-Humid"]
[1140,"US","ME","NORTHERN AROOSTOOK",null,"Very-Cold"]
[1141,"US","ME","PORTLAND INTL JETPORT",null,"Cold-Humid"]
[1142,"US","ME","PRESQUE ISLE MUNICIP",null,"Very-Cold"]
[1143,"US","ME","ROCKLAND/KNOX(AWOS)",null,"Cold-Humid"]
[1144,"US","ME","SANFORD MUNI (AWOS)",null,"Cold-Humid"]
[1145,"US","ME","WATERVILLE (AWOS)",null,"Cold-Humid"]
[1146,"US","ME","WISCASSET",null,"Cold-Humid"]
[1147,"US","MI","ALPENA COUNTY REGIONAL AP",null,"Cold-Humid"]
[1148,"US","MI","ANN ARBOR MUNICIPAL",null,"Cold-Humid"]
[1149,"US","MI","BATTLE CREEK KELLOGG AP",null,"Cold-Humid"]
[1150,"US","MI","BENTON HARBOR/ROSS",null,"Cold-Humid"]
[1151,"US","MI","CADILLAC WEXFORD CO AP",null,"Cold-Humid"]
[1152,"US","MI","CHIPPEWA CO INTL",null,"Very-Cold"]
[1153,"US","MI","DETROIT CITY AIRPORT",null,"Cold-Humid"]
[1154,"US","MI","DETROIT METROPOLITAN ARPT",null,"Cold-Humid"]
[1155,"US","MI","DETROIT WILLOW RUN AP",null,"Cold-Humid"]
[1156,"US","MI","ESCANABA (AWOS)",null,"Cold-Humid"]
[1157,"US","MI","FLINT BISHOP INTL ARPT",null,"Cold-Humid"]
[1158,"US","MI","GRAND RAPIDS KENT COUNTY INT'",null,"Cold-Humid"]
[1159,"US","MI","HANCOCK HOUGHTON CO AP",null,"Very-Cold"]
[1160,"US","MI","HOUGHTON LAKE ROSCOMMON CO AR",null,"Cold-Humid"]
[1161,"US","MI","HOWELL",null,"Cold-Humid"]
[1162,"US","MI","IRON MOUNTAIN/FORD",null,"Cold-Humid"]
[1163,"US","MI","IRONWOOD (AWOS)",null,"Very-Cold"]
[1164,"US","MI","JACKSON REYNOLDS FIELD",null,"Cold-Humid"]
[1165,"US","MI","KALAMAZOO BATTLE CR",null,"Cold-Humid"]
[1166,"US","MI","LANSING CAPITAL CITY ARPT",null,"Cold-Humid"]
[1167,"US","MI","MANISTEE (AWOS)",null,"Cold-Humid"]
[1168,"US","MI","MENOMINEE (AWOS)",null,"Cold-Humid"]
[1169,"US","MI","MOUNT CLEMENS SELFRIDGE FLD",null,"Cold-Humid"]
[1170,"US","MI","MUSKEGON COUNTY ARPT",null,"Cold-Humid"]
[1171,"US","MI","OAKLAND CO INTL",null,"Cold-Humid"]
[1172,"US","MI","OSCODA WURTSMITH AFB",null,"Cold-Humid"]
[1173,"US","MI","PELLSTON EMMET COUNTY AP",null,"Cold-Humid"]
[1174,"US","MI","SAGINAW TRI CITY INTL AP",null,"Cold-Humid"]
[1175,"US","MI","SAULT STE MARIE SANDERSON FIE",null,"Very-Cold"]
[1176,"US","MI","ST.CLAIR COUNTY INT",null,"Cold-Humid"]
[1177,"US","MI","TRAVERSE CITY CHERRY CAPITAL",null,"Cold-Humid"]
[1178,"US","MN","AITKIN NDB(AWOS)",null,"Very-Cold"]
[1179,"US","MN","ALBERT LEA (AWOS)",null,"Cold-Humid"]
[1180,"US","MN","ALEXANDRIA MUNICIPAL AP",null,"Cold-Humid"]
[1181,"US","MN","AUSTIN MUNI",null,"Cold-Humid"]
[1182,"US","MN","BAUDETTE INTERNATIONAL AP",null,"Very-Cold"]
[1183,"US","MN","BEMIDJI MUNICIPAL",null,"Very-Cold"]
[1184,"US","MN","BENSON MUNI",null,"Cold-Humid"]
[1185,"US","MN","BRAINERD/WIELAND",null,"Very-Cold"]
[1186,"US","MN","CAMBRIDGE MUNI",null,"Cold-Humid"]
[1187,"US","MN","CLOQUET (AWOS)",null,"Very-Cold"]
[1188,"US","MN","CRANE LAKE (AWOS)",null,"Very-Cold"]
[1189,"US","MN","CROOKSTON MUNI FLD",null,"Very-Cold"]
[1190,"US","MN","DETROIT LAKES(AWOS)",null,"Very-Cold"]
[1191,"US","MN","DULUTH INTERNATIONAL ARPT",null,"Very-Cold"]
[1192,"US","MN","ELY MUNI",null,"Very-Cold"]
[{"$f":"A1193+1","v":1193},"US","MN","EVELETH MUNI (AWOS)",null,"Very-Cold"]
[1194,"US","MN","FAIRMONT MUNI(AWOS)",null,"Cold-Humid"]
[1195,"US","MN","FARIBAULT MUNI AWOS",null,"Cold-Humid"]
[1196,"US","MN","FERGUS FALLS(AWOS)",null,"Very-Cold"]
[1197,"US","MN","FLYING CLOUD",null,"Cold-Humid"]
[1198,"US","MN","FOSSTON(AWOS)",null,"Very-Cold"]
[1199,"US","MN","GLENWOOD (ASOS)",null,"Cold-Humid"]
[1200,"US","MN","GRAND RAPIDS(AWOS)",null,"Very-Cold"]
[1201,"US","MN","HALLOCK",null,"Very-Cold"]
[1202,"US","MN","HIBBING CHISHOLM-HIBBING AP",null,"Very-Cold"]
[1203,"US","MN","HUTCHINSON (AWOS)",null,"Cold-Humid"]
[1204,"US","MN","INTERNATIONAL FALLS INTL AP",null,"Very-Cold"]
[1205,"US","MN","LITCHFIELD MUNI",null,"Cold-Humid"]
[1206,"US","MN","LITTLE FALLS (AWOS)",null,"Cold-Humid"]
[1207,"US","MN","MANKATO(AWOS)",null,"Cold-Humid"]
[1208,"US","MN","MARSHALL/RYAN(AWOS)",null,"Cold-Humid"]
[1209,"US","MN","MINNEAPOLIS/CRYSTAL",null,"Cold-Humid"]
[1210,"US","MN","MINNEAPOLIS-ST PAUL INT'L ARP",null,"Cold-Humid"]
[1211,"US","MN","MORA MUNI (AWOS)",null,"Very-Cold"]
[1212,"US","MN","MORRIS MUNI (AWOS)",null,"Cold-Humid"]
[1213,"US","MN","NEW ULM MUNI (AWOS)",null,"Cold-Humid"]
[1214,"US","MN","ORR",null,"Very-Cold"]
[1215,"US","MN","OWATONNA (AWOS)",null,"Cold-Humid"]
[1216,"US","MN","PARK RAPIDS MUNICIPAL AP",null,"Very-Cold"]
[1217,"US","MN","PIPESTONE (AWOS)",null,"Cold-Humid"]
[1218,"US","MN","RED WING",null,"Cold-Humid"]
[1219,"US","MN","REDWOOD FALLS MUNI",null,"Cold-Humid"]
[1220,"US","MN","ROCHESTER INTERNATIONAL ARPT",null,"Cold-Humid"]
[1221,"US","MN","ROSEAU MUNI (AWOS)",null,"Very-Cold"]
[1222,"US","MN","SILVER BAY",null,"Very-Cold"]
[1223,"US","MN","SOUTH ST PAUL MUNI",null,"Cold-Humid"]
[1224,"US","MN","ST CLOUD REGIONAL ARPT",null,"Cold-Humid"]
[1225,"US","MN","ST PAUL DOWNTOWN AP",null,"Cold-Humid"]
[1226,"US","MN","THIEF RIVER(AWOS)",null,"Very-Cold"]
[1227,"US","MN","TWO HARBORS",null,"Very-Cold"]
[1228,"US","MN","WHEATON NDB (AWOS)",null,"Cold-Humid"]
[1229,"US","MN","WILLMAR",null,"Cold-Humid"]
[1230,"US","MN","WINONA MUNI (AWOS)",null,"Cold-Humid"]
[1231,"US","MN","WORTHINGTON (AWOS)",null,"Cold-Humid"]
[1232,"US","MO","CAPE GIRARDEAU MUNICIPAL AP",null,"Mixed-Humid"]
[1233,"US","MO","COLUMBIA REGIONAL AIRPORT",null,"Mixed-Humid"]
[1234,"US","MO","FARMINGTON",null,"Mixed-Humid"]
[1235,"US","MO","FT LNRD WD AAF",null,"Mixed-Humid"]
[1236,"US","MO","JEFFERSON CITY MEM",null,"Mixed-Humid"]
[1237,"US","MO","JOPLIN MUNICIPAL AP",null,"Mixed-Humid"]
[1238,"US","MO","KAISER MEM (AWOS)",null,"Mixed-Humid"]
[1239,"US","MO","KANSAS CITY DOWNTOWN AP",null,"Mixed-Humid"]
[1240,"US","MO","KANSAS CITY INT'L ARPT",null,"Mixed-Humid"]
[1241,"US","MO","KIRKSVILLE REGIONAL AP",null,"Cold-Humid"]
[1242,"US","MO","POPLAR BLUFF(AMOS)",null,"Mixed-Humid"]
[1243,"US","MO","SPRINGFIELD REGIONAL ARPT",null,"Mixed-Humid"]
[1244,"US","MO","ST JOSEPH ROSECRANS MEMORIAL",null,"Cold-Humid"]
[1245,"US","MO","ST LOUIS LAMBERT INT'L ARPT",null,"Mixed-Humid"]
[1246,"US","MO","ST LOUIS SPIRIT OF ST LOUIS A",null,"Mixed-Humid"]
[1247,"US","MO","VICHY ROLLA NATL ARPT",null,"Mixed-Humid"]
[1248,"US","MO","WHITEMAN AFB",null,"Mixed-Humid"]
[1249,"US","MS","COLUMBUS AFB",null,"Mixed-Humid"]
[1250,"US","MS","GOLDEN TRI(AWOS)",null,"Mixed-Humid"]
[1251,"US","MS","GREENVILLE MUNICIPAL",null,"Mixed-Humid"]
[1252,"US","MS","GREENWOOD LEFLORE ARPT",null,"Mixed-Humid"]
[1253,"US","MS","GULFPORT BILOXI INT",null,"Mixed-Humid"]
[1254,"US","MS","HATTIESBURG LAUREL",null,"Hot-Humid"]
[1255,"US","MS","JACKSON INTERNATIONAL AP",null,"Hot-Humid"]
[1256,"US","MS","KEESLER AFB",null,"Mixed-Humid"]
[{"$f":"A1257+1","v":1257},"US","MS","MCCOMB PIKE COUNTY AP",null,"Hot-Humid"]
[1258,"US","MS","MERIDIAN KEY FIELD",null,"Mixed-Humid"]
[1259,"US","MS","MERIDIAN NAAS",null,"Mixed-Humid"]
[1260,"US","MS","NATCHEZ/HARDY(AWOS)",null,"Hot-Humid"]
[1261,"US","MS","TUPELO C D LEMONS ARPT",null,"Mixed-Humid"]
[1262,"US","MT","BILLINGS LOGAN INT'L ARPT",null,"Cold-Dry"]
[1263,"US","MT","BOZEMAN GALLATIN FIELD",null,"Cold-Dry"]
[1264,"US","MT","BUTTE BERT MOONEY ARPT",null,"Cold-Dry"]
[1265,"US","MT","CUT BANK MUNI AP",null,"Cold-Dry"]
[1266,"US","MT","GLASGOW INTL ARPT",null,"Cold-Dry"]
[1267,"US","MT","GLENDIVE(AWOS)",null,"Cold-Dry"]
[1268,"US","MT","GREAT FALLS INTL ARPT",null,"Cold-Dry"]
[1269,"US","MT","HAVRE CITY-COUNTY AP",null,"Cold-Dry"]
[1270,"US","MT","HELENA REGIONAL AIRPORT",null,"Cold-Dry"]
[1271,"US","MT","KALISPELL GLACIER PK INT'L AR",null,"Cold-Dry"]
[1272,"US","MT","LEWISTOWN MUNICIPAL ARPT",null,"Cold-Dry"]
[1273,"US","MT","LIVINGSTON MISSION FIELD",null,"Cold-Dry"]
[1274,"US","MT","MILES CITY MUNICIPAL ARPT",null,"Cold-Dry"]
[1275,"US","MT","MISSOULA INTERNATIONAL AP",null,"Cold-Dry"]
[1276,"US","MT","SIDNEY-RICHLAND",null,"Cold-Dry"]
[1277,"US","MT","WOLF POINT INTL [FORT PECK - SURFRAD]",null,"Cold-Dry"]
[1278,"US","NC","ASHEVILLE REGIONAL ARPT",null,"Mixed-Humid"]
[1279,"US","NC","CAPE HATTERAS NWS BLDG",null,"Mixed-Humid"]
[1280,"US","NC","CHARLOTTE DOUGLAS INTL ARPT",null,"Mixed-Humid"]
[1281,"US","NC","CHERRY POINT MCAS",null,"Mixed-Humid"]
[1282,"US","NC","DARE CO RGNL",null,"Mixed-Humid"]
[1283,"US","NC","ELIZABETH CITY COAST GUARD AI [NREL]",null,"Mixed-Humid"]
[1284,"US","NC","FAYETTEVILLE POPE AFB",null,"Mixed-Humid"]
[1285,"US","NC","FAYETTEVILLE RGNL G",null,"Mixed-Humid"]
[1286,"US","NC","FORT BRAGG SIMMONS AAF",null,"Mixed-Humid"]
[1287,"US","NC","GOLDSBORO SEYMOUR JOHNSON AFB",null,"Mixed-Humid"]
[1288,"US","NC","GREENSBORO PIEDMONT TRIAD INT",null,"Mixed-Humid"]
[1289,"US","NC","HICKORY REGIONAL AP",null,"Mixed-Humid"]
[1290,"US","NC","JACKSONVILLE (AWOS)",null,"Hot-Humid"]
[1291,"US","NC","KINSTON STALLINGS AFB",null,"Mixed-Humid"]
[1292,"US","NC","NEW BERN CRAVEN CO REGL AP",null,"Mixed-Humid"]
[1293,"US","NC","NEW RIVER MCAF",null,"Hot-Humid"]
[1294,"US","NC","PITT GREENVILLE ARP",null,"Mixed-Humid"]
[1295,"US","NC","RALEIGH DURHAM INTERNATIONAL",null,"Mixed-Humid"]
[1296,"US","NC","ROCKY MOUNT WILSON",null,"Mixed-Humid"]
[1297,"US","NC","SOUTHERN PINES AWOS",null,"Mixed-Humid"]
[1298,"US","NC","WILMINGTON INTERNATIONAL ARPT",null,"Hot-Humid"]
[1299,"US","NC","WINSTON-SALEM REYNOLDS AP",null,"Mixed-Humid"]
[1300,"US","ND","BISMARCK MUNICIPAL ARPT [ISIS]",null,"Cold-Humid"]
[1301,"US","ND","DEVILS LAKE(AWOS)",null,"Very-Cold"]
[1302,"US","ND","DICKINSON MUNICIPAL AP",null,"Cold-Humid"]
[1303,"US","ND","FARGO HECTOR INTERNATIONAL AP",null,"Very-Cold"]
[1304,"US","ND","GRAND FORKS AF",null,"Very-Cold"]
[1305,"US","ND","GRAND FORKS INTERNATIONAL AP",null,"Very-Cold"]
[1306,"US","ND","JAMESTOWN MUNICIPAL ARPT",null,"Very-Cold"]
[1307,"US","ND","MINOT AFB",null,"Very-Cold"]
[1308,"US","ND","MINOT FAA AP",null,"Very-Cold"]
[1309,"US","ND","WILLISTON SLOULIN INTL AP",null,"Very-Cold"]
[1310,"US","NE","AINSWORTH MUNICIPAL",null,"Cold-Humid"]
[1311,"US","NE","ALLIANCE MUNICIPAL",null,"Cold-Humid"]
[1312,"US","NE","BEATRICE MUNICIPAL",null,"Cold-Humid"]
[1313,"US","NE","BELLEVUE OFFUTT AFB",null,"Cold-Humid"]
[1314,"US","NE","BREWSTER FIELD ARPT",null,"Cold-Humid"]
[1315,"US","NE","BROKEN BOW MUNI",null,"Cold-Humid"]
[1316,"US","NE","CHADRON MUNICIPAL AP",null,"Cold-Humid"]
[1317,"US","NE","COLUMBUS MUNI",null,"Cold-Humid"]
[1318,"US","NE","FALLS CITY/BRENNER",null,"Cold-Humid"]
[1319,"US","NE","FREMONT MUNI ARPT",null,"Cold-Humid"]
[1320,"US","NE","GRAND ISLAND CENTRAL NE REGIO",null,"Cold-Humid"]
[{"$f":"A1321+1","v":1321},"US","NE","HASTINGS MUNICIPAL",null,"Cold-Humid"]
[1322,"US","NE","IMPERIAL FAA AP",null,"Cold-Humid"]
[1323,"US","NE","KEARNEY MUNI (AWOS)",null,"Cold-Humid"]
[1324,"US","NE","LINCOLN MUNICIPAL ARPT",null,"Cold-Humid"]
[1325,"US","NE","MCCOOK MUNICIPAL",null,"Cold-Humid"]
[1326,"US","NE","NORFOLK KARL STEFAN MEM ARPT",null,"Cold-Humid"]
[1327,"US","NE","NORTH PLATTE REGIONAL AP",null,"Cold-Humid"]
[1328,"US","NE","OMAHA EPPLEY AIRFIELD",null,"Cold-Humid"]
[1329,"US","NE","OMAHA WSFO",null,"Cold-Humid"]
[1330,"US","NE","O`NEILL/BAKER FIELD",null,"Cold-Humid"]
[1331,"US","NE","ORD/SHARP FIELD",null,"Cold-Humid"]
[1332,"US","NE","SCOTTSBLUFF W B HEILIG FIELD",null,"Cold-Humid"]
[1333,"US","NE","SIDNEY MUNICIPAL AP",null,"Cold-Humid"]
[1334,"US","NE","TEKAMAH (ASOS)",null,"Cold-Humid"]
[1335,"US","NE","VALENTINE MILLER FIELD",null,"Cold-Humid"]
[1336,"US","NH","BERLIN MUNICIPAL",null,"Cold-Humid"]
[1337,"US","NH","CONCORD MUNICIPAL ARPT",null,"Cold-Humid"]
[1338,"US","NH","DILLANT HOPKINS",null,"Cold-Humid"]
[1339,"US","NH","LACONIA MUNI (AWOS)",null,"Cold-Humid"]
[1340,"US","NH","LEBANON MUNICIPAL",null,"Cold-Humid"]
[1341,"US","NH","MANCHESTER AIRPORT",null,"Cold-Humid"]
[1342,"US","NH","MOUNT WASHINGTON",null,"Cold-Humid"]
[1343,"US","NH","PEASE INTL TRADEPOR",null,"Cold-Humid"]
[1344,"US","NJ","ATLANTIC CITY INTL AP",null,"Mixed-Humid"]
[1345,"US","NJ","BELMAR ASC",null,"Mixed-Humid"]
[1346,"US","NJ","CALDWELL/ESSEX CO.",null,"Mixed-Humid"]
[1347,"US","NJ","CAPE MAY CO",null,"Mixed-Humid"]
[1348,"US","NJ","MCGUIRE AFB",null,"Mixed-Humid"]
[1349,"US","NJ","MILLVILLE MUNICIPAL AP",null,"Mixed-Humid"]
[1350,"US","NJ","NEWARK INTERNATIONAL ARPT",null,"Mixed-Humid"]
[1351,"US","NJ","TETERBORO AIRPORT",null,"Cold-Humid"]
[1352,"US","NJ","TRENTON MERCER COUNTY AP",null,"Cold-Humid"]
[1353,"US","NM","ALBUQUERQUE INTL ARPT [ISIS]",null,"Hot-Dry"]
[1354,"US","NM","CARLSBAD CAVERN CITY AIR TERM",null,"Hot-Dry"]
[1355,"US","NM","CLAYTON MUNICIPAL AIRPARK",null,"Hot-Dry"]
[1356,"US","NM","CLOVIS CANNON AFB",null,"Hot-Dry"]
[1357,"US","NM","CLOVIS MUNI  (AWOS)",null,"Hot-Dry"]
[1358,"US","NM","DEMING MUNI",null,"Hot-Dry"]
[1359,"US","NM","FARMINGTON FOUR CORNERS REGL",null,"Cold-Dry"]
[1360,"US","NM","GALLUP SEN CLARKE FLD",null,"Cold-Dry"]
[1361,"US","NM","HOLLOMAN AFB",null,"Hot-Dry"]
[1362,"US","NM","LAS CRUCES INTL",null,"Hot-Dry"]
[1363,"US","NM","LAS VEGAS MUNICIPAL ARPT",null,"Cold-Dry"]
[1364,"US","NM","ROSWELL INDUSTRIAL AIR PARK",null,"Hot-Dry"]
[1365,"US","NM","SATA FE COUNTY MUNICIPAL AP",null,"Cold-Dry"]
[1366,"US","NM","SIERRA BLANCA RGNL",null,"Hot-Dry"]
[1367,"US","NM","TAOS MUNI APT(AWOS)",null,"Cold-Dry"]
[1368,"US","NM","TRUTH OR CONSEQUENCES MUNI AP",null,"Hot-Dry"]
[1369,"US","NM","TUCUMCARI FAA AP",null,"Hot-Dry"]
[1370,"US","NV","ELKO MUNICIPAL ARPT",null,"Cold-Dry"]
[1371,"US","NV","ELY YELLAND FIELD",null,"Cold-Dry"]
[1372,"US","NV","FALLON NAAS",null,"Cold-Dry"]
[1373,"US","NV","LAS VEGAS MCCARRAN INTL AP",null,"Hot-Dry"]
[1374,"US","NV","LOVELOCK DERBY FIELD",null,"Cold-Dry"]
[1375,"US","NV","MERCURY DESERT ROCK AP [SURFRAD]",null,"Cold-Dry"]
[1376,"US","NV","NELLIS AFB",null,"Hot-Dry"]
[1377,"US","NV","RENO TAHOE INTERNATIONAL AP",null,"Cold-Dry"]
[1378,"US","NV","TONOPAH AIRPORT",null,"Cold-Dry"]
[1379,"US","NV","WINNEMUCCA MUNICIPAL ARPT",null,"Cold-Dry"]
[1380,"US","NY","ADIRONDACK RGNL",null,"Cold-Humid"]
[1381,"US","NY","ALBANY COUNTY AP",null,"Cold-Humid"]
[1382,"US","NY","BINGHAMTON EDWIN A LINK FIELD",null,"Cold-Humid"]
[1383,"US","NY","BUFFALO NIAGARA INTL AP",null,"Cold-Humid"]
[1384,"US","NY","ELMIRA CORNING REGIONAL AP",null,"Cold-Humid"]
[{"$f":"A1385+1","v":1385},"US","NY","FORT DRUM/WHEELER-S",null,"Cold-Humid"]
[1386,"US","NY","GLENS FALLS AP",null,"Cold-Humid"]
[1387,"US","NY","ISLIP LONG ISL MACARTHUR AP",null,"Mixed-Humid"]
[1388,"US","NY","JAMESTOWN (AWOS)",null,"Cold-Humid"]
[1389,"US","NY","MASSENA AP",null,"Cold-Humid"]
[1390,"US","NY","MONTICELLO(AWOS)",null,"Cold-Humid"]
[1391,"US","NY","NEW YORK CENTRAL PRK OBS BELV",null,"Mixed-Humid"]
[1392,"US","NY","NEW YORK J F KENNEDY INT'L AR",null,"Mixed-Humid"]
[1393,"US","NY","NEW YORK LAGUARDIA ARPT",null,"Mixed-Humid"]
[1394,"US","NY","NIAGARA FALLS AF",null,"Cold-Humid"]
[1395,"US","NY","POUGHKEEPSIE DUTCHESS CO AP",null,"Cold-Humid"]
[1396,"US","NY","REPUBLIC",null,"Mixed-Humid"]
[1397,"US","NY","ROCHESTER GREATER ROCHESTER I",null,"Cold-Humid"]
[1398,"US","NY","STEWART FIELD",null,"Cold-Humid"]
[1399,"US","NY","SYRACUSE HANCOCK INT'L ARPT",null,"Cold-Humid"]
[1400,"US","NY","UTICA ONEIDA COUNTY AP",null,"Cold-Humid"]
[1401,"US","NY","WATERTOWN AP",null,"Cold-Humid"]
[1402,"US","NY","WESTHAMPTON GABRESKI AP",null,"Mixed-Humid"]
[1403,"US","NY","WHITE PLAINS WESTCHESTER CO A",null,"Mixed-Humid"]
[1404,"US","OH","AKRON AKRON-CANTON REG AP",null,"Cold-Humid"]
[1405,"US","OH","BURKE LAKEFRONT",null,"Cold-Humid"]
[1406,"US","OH","CINCINNATI MUNICIPAL AP LUNKI",null,"Mixed-Humid"]
[1407,"US","OH","CLEVELAND HOPKINS INTL AP",null,"Cold-Humid"]
[1408,"US","OH","COLUMBUS PORT COLUMBUS INTL A",null,"Cold-Humid"]
[1409,"US","OH","DAYTON INTERNATIONAL AIRPORT",null,"Cold-Humid"]
[1410,"US","OH","DAYTON WRIGHT PATTERSON AFB",null,"Cold-Humid"]
[1411,"US","OH","FINDLAY AIRPORT",null,"Cold-Humid"]
[1412,"US","OH","MANSFIELD LAHM MUNICIPAL ARPT",null,"Cold-Humid"]
[1413,"US","OH","OHIO STATE UNIVERSI",null,"Cold-Humid"]
[1414,"US","OH","TOLEDO EXPRESS AIRPORT",null,"Cold-Humid"]
[1415,"US","OH","YOUNGSTOWN REGIONAL AIRPORT",null,"Cold-Humid"]
[1416,"US","OH","ZANESVILLE MUNICIPAL AP",null,"Cold-Humid"]
[1417,"US","OK","ALTUS AFB",null,"Mixed-Humid"]
[1418,"US","OK","BARTLESVILLE/PHILLI",null,"Mixed-Humid"]
[1419,"US","OK","CLINTON-SHERMAN",null,"Mixed-Humid"]
[1420,"US","OK","FORT SILL POST FIELD AF",null,"Mixed-Humid"]
[1421,"US","OK","GAGE AIRPORT",null,"Mixed-Humid"]
[1422,"US","OK","HOBART MUNICIPAL AP",null,"Mixed-Humid"]
[1423,"US","OK","LAWTON MUNICIPAL",null,"Mixed-Humid"]
[1424,"US","OK","MCALESTER MUNICIPAL AP",null,"Mixed-Humid"]
[1425,"US","OK","OKLAHOMA CITY TINKER AFB",null,"Mixed-Humid"]
[1426,"US","OK","OKLAHOMA CITY/WILEY",null,"Mixed-Humid"]
[1427,"US","OK","OKLAHOMA CITY WILL ROGERS WOR",null,"Mixed-Humid"]
[1428,"US","OK","PONCA CITY MUNICIPAL AP [SGP - ARM]",null,"Mixed-Humid"]
[1429,"US","OK","STILLWATER RGNL",null,"Mixed-Humid"]
[1430,"US","OK","TULSA INTERNATIONAL AIRPORT",null,"Mixed-Humid"]
[1431,"US","OK","VANCE AFB",null,"Mixed-Humid"]
[1432,"US","OR","ASTORIA REGIONAL AIRPORT",null,"Marine"]
[1433,"US","OR","AURORA STATE",null,"Marine"]
[1434,"US","OR","BAKER MUNICIPAL AP",null,"Cold-Dry"]
[1435,"US","OR","BURNS MUNICIPAL ARPT [UO]",null,"Cold-Dry"]
[1436,"US","OR","CORVALLIS MUNI",null,"Marine"]
[1437,"US","OR","EUGENE MAHLON SWEET ARPT [UO]",null,"Marine"]
[1438,"US","OR","KLAMATH FALLS INTL AP [UO]",null,"Cold-Dry"]
[1439,"US","OR","LA GRANDE MUNI AP",null,"Cold-Dry"]
[1440,"US","OR","LAKEVIEW (AWOS)",null,"Cold-Dry"]
[1441,"US","OR","MEDFORD ROGUE VALLEY INTL AP [ASHLAND - UO]",null,"Marine"]
[1442,"US","OR","NORTH BEND MUNI AIRPORT",null,"Marine"]
[1443,"US","OR","PENDLETON E OR REGIONAL AP",null,"Cold-Dry"]
[1444,"US","OR","PORTLAND/HILLSBORO",null,"Marine"]
[1445,"US","OR","PORTLAND INTERNATIONAL AP",null,"Marine"]
[1446,"US","OR","PORTLAND/TROUTDALE",null,"Marine"]
[1447,"US","OR","REDMOND ROBERTS FIELD",null,"Cold-Dry"]
[1448,"US","OR","ROSEBURG REGIONAL AP",null,"Marine"]
[{"$f":"A1449+1","v":1449},"US","OR","SALEM MCNARY FIELD",null,"Marine"]
[1450,"US","OR","SEXTON SUMMIT",null,"Marine"]
[1451,"US","PA","ALLENTOWN LEHIGH VALLEY INTL",null,"Cold-Humid"]
[1452,"US","PA","ALTOONA BLAIR CO ARPT",null,"Cold-Humid"]
[1453,"US","PA","BRADFORD REGIONAL AP",null,"Cold-Humid"]
[1454,"US","PA","BUTLER CO. (AWOS)",null,"Cold-Humid"]
[1455,"US","PA","DUBOIS FAA AP",null,"Cold-Humid"]
[1456,"US","PA","ERIE INTERNATIONAL AP",null,"Cold-Humid"]
[1457,"US","PA","FRANKLIN",null,"Cold-Humid"]
[1458,"US","PA","HARRISBURG CAPITAL CITY ARPT",null,"Mixed-Humid"]
[1459,"US","PA","JOHNSTOWN CAMBRIA COUNTY AP",null,"Cold-Humid"]
[1460,"US","PA","LANCASTER",null,"Cold-Humid"]
[1461,"US","PA","MIDDLETOWN HARRISBURG INTL AP",null,"Cold-Humid"]
[1462,"US","PA","PHILADELPHIA INTERNATIONAL AP",null,"Mixed-Humid"]
[1463,"US","PA","PHILADELPHIA NE PHILADELPHIA",null,"Mixed-Humid"]
[1464,"US","PA","PITTSBURGH ALLEGHENY CO AP",null,"Cold-Humid"]
[1465,"US","PA","PITTSBURGH INTERNATIONAL AP",null,"Cold-Humid"]
[1466,"US","PA","READING SPAATZ FIELD",null,"Cold-Humid"]
[1467,"US","PA","STATE COLLEGE [PENN STATE - SURFRAD]",null,"Cold-Humid"]
[1468,"US","PA","WASHINGTON (AWOS)",null,"Cold-Humid"]
[1469,"US","PA","WILKES-BARRE SCRANTON INTL AP",null,"Cold-Humid"]
[1470,"US","PA","WILLIAMSPORT REGIONAL AP",null,"Cold-Humid"]
[1471,"US","PA","WILLOW GROVE NAS",null,"Mixed-Humid"]
[1472,"US","RI","BLOCK ISLAND STATE ARPT",null,"Cold-Humid"]
[1473,"US","RI","PAWTUCKET (AWOS)",null,"Cold-Humid"]
[1474,"US","RI","PROVIDENCE T F GREEN STATE AR",null,"Cold-Humid"]
[1475,"US","SC","ANDERSON COUNTY AP",null,"Mixed-Humid"]
[1476,"US","SC","BEAUFORT MCAS",null,"Hot-Humid"]
[1477,"US","SC","CHARLESTON INTL ARPT",null,"Hot-Humid"]
[1478,"US","SC","COLUMBIA METRO ARPT",null,"Mixed-Humid"]
[1479,"US","SC","FLORENCE REGIONAL AP",null,"Mixed-Humid"]
[1480,"US","SC","GREENVILLE DOWNTOWN AP",null,"Mixed-Humid"]
[1481,"US","SC","GREER GREENV'L-SPARTANBRG AP",null,"Mixed-Humid"]
[1482,"US","SC","MYRTLE BEACH AFB",null,"Hot-Humid"]
[1483,"US","SC","NORTH MYRTLE BEACH GRAND STRA",null,"Hot-Humid"]
[1484,"US","SC","SUMTER SHAW AFB",null,"Mixed-Humid"]
[1485,"US","SD","ABERDEEN REGIONAL ARPT",null,"Cold-Humid"]
[1486,"US","SD","BROOKINGS (AWOS)",null,"Cold-Humid"]
[1487,"US","SD","CHAN GURNEY MUNI",null,"Cold-Humid"]
[1488,"US","SD","ELLSWORTH AFB",null,"Cold-Humid"]
[1489,"US","SD","HURON REGIONAL ARPT",null,"Cold-Humid"]
[1490,"US","SD","MITCHELL (AWOS)",null,"Cold-Humid"]
[1491,"US","SD","MOBRIDGE",null,"Cold-Humid"]
[1492,"US","SD","PIERRE MUNICIPAL AP",null,"Cold-Humid"]
[1493,"US","SD","RAPID CITY REGIONAL ARPT",null,"Cold-Humid"]
[1494,"US","SD","SIOUX FALLS FOSS FIELD",null,"Cold-Humid"]
[1495,"US","SD","WATERTOWN MUNICIPAL AP",null,"Cold-Humid"]
[1496,"US","TN","BRISTOL TRI CITY AIRPORT",null,"Mixed-Humid"]
[1497,"US","TN","CHATTANOOGA LOVELL FIELD AP",null,"Mixed-Humid"]
[1498,"US","TN","CROSSVILLE MEMORIAL AP",null,"Mixed-Humid"]
[1499,"US","TN","DYERSBURG MUNICIPAL AP",null,"Mixed-Humid"]
[1500,"US","TN","JACKSON MCKELLAR-SIPES REGL A",null,"Mixed-Humid"]
[1501,"US","TN","KNOXVILLE MCGHEE TYSON AP",null,"Mixed-Humid"]
[1502,"US","TN","MEMPHIS INTERNATIONAL AP",null,"Mixed-Humid"]
[1503,"US","TN","NASHVILLE INTERNATIONAL AP",null,"Mixed-Humid"]
[1504,"US","TX","ABILENE DYESS AFB",null,"Hot-Dry"]
[1505,"US","TX","ABILENE REGIONAL AP [UT]",null,"Hot-Dry"]
[1506,"US","TX","ALICE INTL AP",null,"Hot-Humid"]
[1507,"US","TX","AMARILLO INTERNATIONAL AP [CANYON - UT]",null,"Hot-Dry"]
[1508,"US","TX","AUSTIN MUELLER MUNICIPAL AP [UT]",null,"Hot-Humid"]
[1509,"US","TX","BROWNSVILLE S PADRE ISL INTL",null,"Hot-Humid"]
[1510,"US","TX","CAMP MABRY",null,"Hot-Humid"]
[1511,"US","TX","CHILDRESS MUNICIPAL AP",null,"Hot-Dry"]
[1512,"US","TX","COLLEGE STATION EASTERWOOD FL",null,"Hot-Humid"]
[{"$f":"A1513+1","v":1513},"US","TX","CORPUS CHRISTI INTL ARPT [UT]",null,"Hot-Humid"]
[1514,"US","TX","CORPUS CHRISTI NAS",null,"Hot-Humid"]
[1515,"US","TX","COTULLA FAA AP",null,"Hot-Humid"]
[1516,"US","TX","COX FLD",null,"Hot-Humid"]
[1517,"US","TX","DALHART MUNICIPAL AP",null,"Hot-Dry"]
[1518,"US","TX","DALLAS/ADDISON ARPT",null,"Hot-Humid"]
[1519,"US","TX","DALLAS-FORT WORTH INTL AP",null,"Hot-Humid"]
[1520,"US","TX","DALLAS LOVE FIELD",null,"Hot-Humid"]
[1521,"US","TX","DALLAS/REDBIRD ARPT",null,"Hot-Humid"]
[1522,"US","TX","DEL RIO LAUGHLIN AFB",null,"Hot-Humid"]
[1523,"US","TX","DEL RIO [UT]",null,"Hot-Humid"]
[1524,"US","TX","DRAUGHON MILLER CEN",null,"Hot-Humid"]
[1525,"US","TX","EL PASO INTERNATIONAL AP [UT]",null,"Hot-Dry"]
[1526,"US","TX","FORT HOOD",null,"Hot-Humid"]
[1527,"US","TX","FORT WORTH ALLIANCE",null,"Hot-Humid"]
[1528,"US","TX","FORT WORTH MEACHAM",null,"Hot-Humid"]
[1529,"US","TX","FORT WORTH NAS",null,"Hot-Humid"]
[1530,"US","TX","GALVESTON/SCHOLES",null,"Hot-Humid"]
[1531,"US","TX","GEORGETOWN (AWOS)",null,"Hot-Humid"]
[1532,"US","TX","GREENVILLE/MAJORS",null,"Hot-Humid"]
[1533,"US","TX","HARLINGEN RIO GRANDE VALLEY I",null,"Hot-Humid"]
[1534,"US","TX","HONDO MUNICIPAL AP",null,"Hot-Humid"]
[1535,"US","TX","HOUSTON BUSH INTERCONTINENTAL",null,"Hot-Humid"]
[1536,"US","TX","HOUSTON/D.W. HOOKS",null,"Hot-Humid"]
[1537,"US","TX","HOUSTON ELLINGTON AFB [CLEAR LAKE - UT]",null,"Hot-Humid"]
[1538,"US","TX","HOUSTON WILLIAM P HOBBY AP",null,"Hot-Humid"]
[1539,"US","TX","KILLEEN MUNI (AWOS)",null,"Hot-Humid"]
[1540,"US","TX","KINGSVILLE",null,"Hot-Humid"]
[1541,"US","TX","LAREDO INTL AP [UT]",null,"Hot-Humid"]
[1542,"US","TX","LONGVIEW GREGG COUNTY AP [OVERTON - UT]",null,"Hot-Humid"]
[1543,"US","TX","LUBBOCK INTERNATIONAL AP",null,"Hot-Dry"]
[1544,"US","TX","LUFKIN ANGELINA CO",null,"Hot-Humid"]
[1545,"US","TX","MARFA AP",null,"Hot-Dry"]
[1546,"US","TX","MCALLEN MILLER INTL AP [EDINBURG - UT]",null,"Hot-Humid"]
[1547,"US","TX","MC GREGOR (AWOS)",null,"Hot-Humid"]
[1548,"US","TX","MIDLAND INTERNATIONAL AP",null,"Hot-Dry"]
[1549,"US","TX","MINERAL WELLS MUNICIPAL AP",null,"Mixed-Humid"]
[1550,"US","TX","NACOGDOCHES (AWOS)",null,"Hot-Humid"]
[1551,"US","TX","PALACIOS MUNICIPAL AP",null,"Hot-Humid"]
[1552,"US","TX","PORT ARTHUR JEFFERSON COUNTY",null,"Hot-Humid"]
[1553,"US","TX","RANDOLPH AFB",null,"Hot-Humid"]
[1554,"US","TX","ROBERT GRAY AAF",null,"Hot-Humid"]
[1555,"US","TX","ROCKPORT/ARANSAS CO",null,"Hot-Humid"]
[1556,"US","TX","SAN ANGELO MATHIS FIELD",null,"Hot-Dry"]
[1557,"US","TX","SAN ANTONIO INTL AP",null,"Hot-Humid"]
[1558,"US","TX","SAN ANTONIO KELLY FIELD AFB",null,"Hot-Humid"]
[1559,"US","TX","SAN ANTONIO/STINSON",null,"Hot-Humid"]
[1560,"US","TX","TYLER/POUNDS FLD",null,"Hot-Humid"]
[1561,"US","TX","VICTORIA REGIONAL AP",null,"Hot-Humid"]
[1562,"US","TX","WACO REGIONAL AP",null,"Hot-Humid"]
[1563,"US","TX","WICHITA FALLS MUNICIPAL ARPT",null,"Mixed-Humid"]
[1564,"US","TX","WINK WINKLER COUNTY AP",null,"Hot-Dry"]
[1565,"US","UT","BLANDING",null,"Cold-Dry"]
[1566,"US","UT","BRYCE CNYN FAA AP",null,"Cold-Dry"]
[1567,"US","UT","CEDAR CITY MUNICIPAL AP",null,"Cold-Dry"]
[1568,"US","UT","DELTA",null,"Cold-Dry"]
[1569,"US","UT","HANKSVILLE",null,"Cold-Dry"]
[1570,"US","UT","MOAB/CANYONLANDS [UO]",null,"Cold-Dry"]
[1571,"US","UT","OGDEN HILL AFB",null,"Cold-Dry"]
[1572,"US","UT","OGDEN HINKLEY AIRPORT",null,"Cold-Dry"]
[1573,"US","UT","PROVO MUNI (AWOS)",null,"Cold-Dry"]
[1574,"US","UT","SAINT GEORGE (AWOS)",null,"Hot-Dry"]
[1575,"US","UT","SALT LAKE CITY INT'L ARPT [ISIS]",null,"Cold-Dry"]
[1576,"US","UT","VERNAL",null,"Cold-Dry"]
[{"$f":"A1577+1","v":1577},"US","UT","WENDOVER USAF AUXILIARY FIELD",null,"Cold-Dry"]
[1578,"US","VA","ABINGTON",null,"Mixed-Humid"]
[1579,"US","VA","CHARLOTTESVILLE FAA",null,"Mixed-Humid"]
[1580,"US","VA","DANVILLE FAA AP",null,"Mixed-Humid"]
[1581,"US","VA","DAVISON AAF",null,"Mixed-Humid"]
[1582,"US","VA","DINWIDDIE CO",null,"Mixed-Humid"]
[1583,"US","VA","FARMVILLE",null,"Mixed-Humid"]
[1584,"US","VA","FRANKLIN NAAS",null,"Mixed-Humid"]
[1585,"US","VA","HILLSVILLE",null,"Mixed-Humid"]
[1586,"US","VA","HOT SPRINGS/INGALLS",null,"Mixed-Humid"]
[1587,"US","VA","LANGLEY AFB",null,"Mixed-Humid"]
[1588,"US","VA","LEESBURG/GODFREY",null,"Mixed-Humid"]
[1589,"US","VA","LYNCHBURG REGIONAL ARPT",null,"Mixed-Humid"]
[1590,"US","VA","MARION / WYTHEVILLE",null,"Mixed-Humid"]
[1591,"US","VA","MARTINSVILLE",null,"Mixed-Humid"]
[1592,"US","VA","MELFA/ACCOMACK ARPT",null,"Mixed-Humid"]
[1593,"US","VA","NEWPORT NEWS",null,"Mixed-Humid"]
[1594,"US","VA","NORFOLK INTERNATIONAL AP",null,"Mixed-Humid"]
[1595,"US","VA","NORFOLK NAS",null,"Mixed-Humid"]
[1596,"US","VA","OCEANA NAS",null,"Mixed-Humid"]
[1597,"US","VA","PULASKI",null,"Mixed-Humid"]
[1598,"US","VA","QUANTICO MCAS",null,"Mixed-Humid"]
[1599,"US","VA","RICHMOND INTERNATIONAL AP",null,"Mixed-Humid"]
[1600,"US","VA","ROANOKE REGIONAL AP",null,"Mixed-Humid"]
[1601,"US","VA","SHANNON ARPT",null,"Mixed-Humid"]
[1602,"US","VA","STAUNTON/SHENANDOAH",null,"Mixed-Humid"]
[1603,"US","VA","VIRGINIA TECH ARPT",null,"Mixed-Humid"]
[1604,"US","VA","WASHINGTON DC DULLES INT'L AR [STERLING - ISIS]",null,"Mixed-Humid"]
[1605,"US","VA","WASHINGTON DC REAGAN AP",null,"Mixed-Humid"]
[1606,"US","VA","WINCHESTER RGNL",null,"Mixed-Humid"]
[1607,"US","VA","WISE/LONESOME PINE",null,"Mixed-Humid"]
[1608,"US","VT","BURLINGTON INTERNATIONAL AP",null,"Cold-Humid"]
[1609,"US","VT","MONTPELIER AP",null,"Cold-Humid"]
[1610,"US","VT","RUTLAND STATE",null,"Cold-Humid"]
[1611,"US","VT","SPRINGFIELD/HARTNES",null,"Cold-Humid"]
[1612,"US","WA","BELLINGHAM INTL AP",null,"Marine"]
[1613,"US","WA","BREMERTON NATIONAL",null,"Marine"]
[1614,"US","WA","EPHRATA AP FCWOS",null,"Cold-Dry"]
[1615,"US","WA","FAIRCHILD AFB",null,"Cold-Dry"]
[1616,"US","WA","FELTS FLD",null,"Cold-Dry"]
[1617,"US","WA","GRAY AAF",null,"Marine"]
[1618,"US","WA","HANFORD",null,"Cold-Dry"]
[1619,"US","WA","HOQUIAM AP",null,"Marine"]
[1620,"US","WA","KELSO WB AP",null,"Marine"]
[1621,"US","WA","MOSES LAKE GRANT COUNTY AP",null,"Cold-Dry"]
[1622,"US","WA","OLYMPIA AIRPORT",null,"Marine"]
[1623,"US","WA","PASCO",null,"Cold-Dry"]
[1624,"US","WA","PULLMAN/MOSCOW RGNL",null,"Cold-Dry"]
[1625,"US","WA","QUILLAYUTE STATE AIRPORT",null,"Marine"]
[1626,"US","WA","RENTON MUNI",null,"Marine"]
[1627,"US","WA","SEATTLE BOEING FIELD [ISIS]",null,"Marine"]
[1628,"US","WA","SEATTLE SEATTLE-TACOMA INTL A",null,"Marine"]
[1629,"US","WA","SEATTLE SEATTLE-TACOMA INTL A",null,"Marine"]
[1630,"US","WA","SNOHOMISH CO",null,"Marine"]
[1631,"US","WA","SPOKANE INTERNATIONAL AP [CHENEY - UO]",null,"Cold-Dry"]
[1632,"US","WA","STAMPEDE PASS",null,"Cold-Dry"]
[1633,"US","WA","TACOMA MCCHORD AFB",null,"Marine"]
[1634,"US","WA","TACOMA NARROWS",null,"Marine"]
[1635,"US","WA","THE DALLES MUNICIPAL ARPT",null,"Cold-Dry"]
[1636,"US","WA","TOLEDO-WINLOCK MEM",null,"Marine"]
[1637,"US","WA","WALLA WALLA CITY COUNTY AP",null,"Cold-Dry"]
[1638,"US","WA","WENATCHEE/PANGBORN",null,"Cold-Dry"]
[1639,"US","WA","WHIDBEY ISLAND NAS",null,"Cold-Dry"]
[1640,"US","WA","WILLIAM R FAIRCHILD",null,"Marine"]
[{"$f":"A1641+1","v":1641},"US","WA","YAKIMA AIR TERMINAL",null,"Cold-Dry"]
[1642,"US","WI","ANTIGO\\LANG(AWOS)",null,"Cold-Humid"]
[1643,"US","WI","APPLETON/OUTAGAMIE",null,"Cold-Humid"]
[1644,"US","WI","EAU CLAIRE COUNTY AP",null,"Cold-Humid"]
[1645,"US","WI","GREEN BAY AUSTIN STRAUBEL INT",null,"Cold-Humid"]
[1646,"US","WI","JANESVILLE/ROCK CO.",null,"Cold-Humid"]
[1647,"US","WI","LA CROSSE MUNICIPAL ARPT",null,"Cold-Humid"]
[1648,"US","WI","LONE ROCK FAA AP",null,"Cold-Humid"]
[1649,"US","WI","MADISON DANE CO REGIONAL ARPT [ISIS]",null,"Cold-Humid"]
[1650,"US","WI","MANITOWAC MUNI AWOS",null,"Cold-Humid"]
[1651,"US","WI","MARSHFIELD MUNI",null,"Cold-Humid"]
[1652,"US","WI","MILWAUKEE MITCHELL INTL AP",null,"Cold-Humid"]
[1653,"US","WI","MINOCQUA/WOODRUFF",null,"Very-Cold"]
[1654,"US","WI","MOSINEE/CENTRAL WI",null,"Cold-Humid"]
[1655,"US","WI","PHILLIPS/PRICE CO.",null,"Very-Cold"]
[1656,"US","WI","RHINELANDER ONEIDA",null,"Very-Cold"]
[1657,"US","WI","RICE LAKE MUNICIPAL",null,"Cold-Humid"]
[1658,"US","WI","STURGEON BAY",null,"Cold-Humid"]
[1659,"US","WI","WATERTOWN",null,"Cold-Humid"]
[1660,"US","WI","WAUSAU MUNICIPAL ARPT",null,"Cold-Humid"]
[1661,"US","WI","WITTMAN RGNL",null,"Cold-Humid"]
[1662,"US","WV","BECKLEY RALEIGH CO MEM AP",null,"Cold-Humid"]
[1663,"US","WV","BLUEFIELD/MERCER CO [NREL]",null,"Mixed-Humid"]
[1664,"US","WV","CHARLESTON YEAGER ARPT",null,"Mixed-Humid"]
[1665,"US","WV","ELKINS ELKINS-RANDOLPH CO ARP",null,"Cold-Humid"]
[1666,"US","WV","HARRISON MARION RGN",null,"Cold-Humid"]
[1667,"US","WV","HUNTINGTON TRI-STATE ARPT",null,"Mixed-Humid"]
[1668,"US","WV","LEWISBURG/GREENBRIE",null,"Cold-Humid"]
[1669,"US","WV","MARTINSBURG EASTERN WV REG AP",null,"Mixed-Humid"]
[1670,"US","WV","MORGANTOWN HART FIELD",null,"Cold-Humid"]
[1671,"US","WV","PARKERSBURG WOOD COUNTY AP",null,"Mixed-Humid"]
[1672,"US","WV","WHEELING OHIO COUNTY AP",null,"Cold-Humid"]
[1673,"US","WY","CASPER NATRONA CO INTL AP",null,"Cold-Dry"]
[1674,"US","WY","CHEYENNE MUNICIPAL ARPT",null,"Cold-Dry"]
[1675,"US","WY","CODY MUNI (AWOS)",null,"Cold-Dry"]
[1676,"US","WY","EVANSTON/BURNS FLD",null,"Cold-Dry"]
[1677,"US","WY","GILLETTE/GILLETTE-C",null,"Cold-Dry"]
[1678,"US","WY","JACKSON HOLE",null,"Very-Cold"]
[1679,"US","WY","LANDER HUNT FIELD",null,"Cold-Dry"]
[1680,"US","WY","LARAMIE GENERAL BREES FIELD",null,"Cold-Dry"]
[1681,"US","WY","RAWLINS MUNICIPAL AP",null,"Cold-Dry"]
[1682,"US","WY","RIVERTON MUNICIPL AP",null,"Cold-Dry"]
[1683,"US","WY","ROCK SPRINGS ARPT [GREEN RIVER - UO]",null,"Cold-Dry"]
[1684,"US","WY","SHERIDAN COUNTY ARPT",null,"Cold-Dry"]
[1685,"US","WY","WORLAND MUNICIPAL",null,"Cold-Dry"]

{"sheet":"Load %s","index":13,"n_rows":44,"n_cols":22,"rows_kept":44,"cut":false,"hidden":true,"merged":[[5,0,5,2],[5,3,5,10],[6,3,6,10],[1,0,1,2],[2,0,2,2],[2,3,2,6],[2,8,2,10],[3,0,3,2],[4,0,4,2]]}
["Heating Example",null,null,null,null,null,null,null,null,null,null,null,null,null,"Peak Load",1,"kW"]
["Climate Zone",null,null,"Subartic","Very Cold","Cold/Dry","Cold/Humid","Marine","Mixed","Hot/Humid","Hot/Dry",null,null,null,"Subartic","Very Cold","Cold/Dry","Cold/Humid","Marine","Mixed","Hot/Humid","Hot/Dry"]
["Heating test set used:",null,null,"Standard",null,null,null,"Marine","Standard"]
["TODH oF",null,null,-40,-10,4,-1,30,16,33,26]
["N (Hours)",null,null,7758,6340,5017,4808,4630,3299,1199,2162]
["Indoor DB(ref)",null,null,70]
["j","Tj oF","range","Fractional bin hours, nj/N",null,null,null,null,null,null,null,null,null,null,"Column1","Column1","Column1","Column1","Column1","Column1","Column1","Column1"]
[1,{"$f":"IF('Intro & Unit Options'!$B$12=\"Metric\",(A28-32)*(5/9),A28)","v":-23},"<-20.5",4.2999999999999997E-2,4.0000000000000001E-3,"-","-","-","-","-","-",null,null,{"$f":"B8","v":-23},1,1.0000000000000002,1,1.0000000000000002,1.0000000000000002,1.0000000000000002,0.99999999999999989,0.99999999999999978]
[2,{"$f":"IF('Intro & Unit Options'!$B$12=\"Metric\",(A29-32)*(5/9),A29)","v":-18},"-20.5 - -15.5",2.4E-2,6.0000000000000001E-3,1E-3,2E-3,"-","-","-","-",null,null,{"$f":"B9","v":-18},0.90380053908355795,0.98857418178063838,1,1.0000000000000002,1.0000000000000002,1.0000000000000002,0.99999999999999989,0.99999999999999978]
[3,{"$f":"IF('Intro & Unit Options'!$B$12=\"Metric\",(A30-32)*(5/9),A30)","v":-13},"-15.5 - -10.5",2.8000000000000001E-2,8.9999999999999993E-3,2E-3,3.0000000000000001E-3,"-","-","-","-",null,null,-13,0.85334231805929917,0.97246790790515225,0.9968595240971132,0.99424609029212174,1.0000000000000002,1.0000000000000002,0.99999999999999989,0.99999999999999978]
[4,{"$f":"IF('Intro & Unit Options'!$B$12=\"Metric\",(A31-32)*(5/9),A31)","v":-8},"-10.5 - -5.5",3.5999999999999997E-2,1.4999999999999999E-2,4.0000000000000001E-3,7.0000000000000001E-3,"-","-","-","-",null,null,-8,0.79824797843665762,0.94985717727225827,0.99098119740709423,0.98616848627913856,1.0000000000000002,1.0000000000000002,0.99999999999999989,0.99999999999999978]
[5,{"$f":"IF('Intro & Unit Options'!$B$12=\"Metric\",(A32-32)*(5/9),A32)","v":-3},"-5.5 - -0.5",3.7999999999999999E-2,1.9E-2,5.0000000000000001E-3,0.01,"-",1E-3,"-","-",null,null,-3,0.73226415094339614,0.91475375985132701,0.98002979425856585,0.96861168486279159,1.0000000000000002,1.0000000000000002,0.99999999999999989,0.99999999999999978]
[6,{"$f":"IF('Intro & Unit Options'!$B$12=\"Metric\",(A33-32)*(5/9),A33)","v":2},"-0.5 - 4.5",0.05,2.8000000000000001E-2,0.01,0.02,"-",3.0000000000000001E-3,"-",1E-3,null,null,2,0.66773584905660366,0.87355886705441055,0.96734710311229211,0.94537474181174408,1.0000000000000002,0.99703445678779923,0.99999999999999989,0.99999999999999978]
[7,{"$f":"IF('Intro & Unit Options'!$B$12=\"Metric\",(A34-32)*(5/9),A34)","v":7},"4.5 - 9.5",0.05,3.5000000000000003E-2,1.4E-2,2.9000000000000001E-2,"-",7.0000000000000001E-3,"-",2E-3,null,null,7,0.58956873315363867,0.81766872010186897,0.94399484639851827,0.9025892593685455,1.0000000000000002,0.98884390886838669,0.99999999999999989,0.99655990510083015]
[8,{"$f":"IF('Intro & Unit Options'!$B$12=\"Metric\",(A35-32)*(5/9),A35)","v":12},"9.5 - 14.5",5.0999999999999997E-2,4.4999999999999998E-2,2.5000000000000001E-2,4.1000000000000002E-2,"-",1.4999999999999999E-2,1E-3,4.0000000000000001E-3,null,null,12,0.51814016172506727,0.75382868155694005,0.91412006280951796,0.84589849513130733,1.0000000000000002,0.9713801543965358,0.99999999999999989,0.9902728351126926]
[9,{"$f":"IF('Intro & Unit Options'!$B$12=\"Metric\",(A36-32)*(5/9),A36)","v":17},"14.5 - 19.5",6.2E-2,6.0999999999999999E-2,4.7E-2,6.2E-2,2E-3,3.3000000000000002E-2,5.0000000000000001E-3,1.0999999999999999E-2,null,null,17,0.45215633423180585,0.67949203290085025,0.86580504891895149,0.77331071112422556,1.0000000000000002,0.93748823197138043,0.99710965255615092,0.9788849347568207]
[10,{"$f":"IF('Intro & Unit Options'!$B$12=\"Metric\",(A37-32)*(5/9),A37)","v":22},"19.5 - 24.5",5.7000000000000002E-2,6.7000000000000004E-2,6.4000000000000001E-2,7.0999999999999994E-2,5.0000000000000001E-3,4.5999999999999999E-2,1.4999999999999999E-2,2.1999999999999999E-2,null,null,22,0.38029649595687326,0.58922118594486717,0.7844345130249224,0.67497786957804673,0.99431104055037389,0.87069290152513679,0.98416330463057733,0.9508303677342822]
[11,{"$f":"IF('Intro & Unit Options'!$B$12=\"Metric\",(A38-32)*(5/9),A38)","v":27},"24.5 - 29.5",8.8999999999999996E-2,0.10199999999999999,0.12,0.11600000000000001,1.9E-2,9.4E-2,4.9000000000000002E-2,5.3999999999999999E-2,null,null,27,0.32191374663072769,0.50160030285301316,0.68651608487337434,0.57546473886102101,0.98174240920817635,0.78841084541517625,0.94984042873487073,0.90124555160142339]
[12,{"$f":"IF('Intro & Unit Options'!$B$12=\"Metric\",(A39-32)*(5/9),A39)","v":32},"29.5 - 34.5",0.123,0.13600000000000001,0.16200000000000001,0.15,6.0999999999999999E-2,0.13700000000000001,9.8000000000000004E-2,9.2999999999999999E-2,null,null,32,0.2427493261455525,0.38575902536393997,0.52707653903450491,0.43427264679846561,0.94026592577892454,0.642393146300132,0.85247184922020824,0.79555160142348746]
[13,{"$f":"IF('Intro & Unit Options'!$B$12=\"Metric\",(A40-32)*(5/9),A40)","v":37},"34.5 - 39.5",0.114,0.14499999999999999,0.17100000000000001,0.151,0.14699999999999999,0.17100000000000001,0.16500000000000001,0.14499999999999999,null,null,37,0.14991913746630725,0.25470626699246318,0.3444457865281636,0.27935969312481557,0.82728054508169624,0.461824515157221,0.68724032034684157,0.64110320284697497]
[14,{"$f":"IF('Intro & Unit Options'!$B$12=\"Metric\",(A41-32)*(5/9),A41)","v":42},"39.5 - 44.5",7.5999999999999998E-2,0.108,0.125,0.104,0.19900000000000001,0.14699999999999999,0.17299999999999999,0.161,null,null,42,7.9245283018867907E-2,0.13993185807206532,0.18609332850183194,0.15126143405134257,0.60362505788185494,0.27668988890980989,0.45872222556753173,0.44329774614472117]
[15,{"$f":"IF('Intro & Unit Options'!$B$12=\"Metric\",(A42-32)*(5/9),A42)","v":47},"44.5 - 49.5",8.2000000000000003E-2,0.108,0.123,0.114,0.28199999999999997,0.161,0.217,0.218,null,null,47,4.237196765498652E-2,7.3028874281584499E-2,9.5502677457019763E-2,8.2214517556801411E-2,0.36667328173579417,0.15213707399736401,0.27121093514782924,0.27141162514827993]
[16,{"$f":"IF('Intro & Unit Options'!$B$12=\"Metric\",(A43-32)*(5/9),A43)","v":52},"49.5 - 54.5",5.5E-2,7.6999999999999999E-2,7.9000000000000001E-2,7.8E-2,0.20499999999999999,0.11799999999999999,0.17100000000000001,0.17499999999999999,null,null,52,1.3638814016172503E-2,2.4710052655126141E-2,3.1122921447839916E-2,2.7552375331956327E-2,0.12416484752265662,5.3615138392016592E-2,0.10134280724995484,0.10332147093712929]
[17,{"$f":"IF('Intro & Unit Options'!$B$12=\"Metric\",(A44-32)*(5/9),A44)","v":57},">54.5",2.1999999999999999E-2,3.4000000000000002E-2,4.7E-2,4.1000000000000002E-2,7.9000000000000001E-2,6.5000000000000002E-2,0.105,0.114,null,null,57,1.7789757412398919E-3,3.5103417420931289E-3,5.6770141321415635E-3,4.5367365004426088E-3,1.5677713832109547E-2,9.1790623234795747E-3,1.8967905100258926E-2,2.0284697508896797E-2]
[]
[]
[]
[-23]
[-18,null,null,null,null,null,{"$f":"\"HP#1 t-BPT= \"&ROUND(G30,0)&'Step 3 Design Loads'!C13","v":"HP#1 t-BPT= 0F"},null,{"$f":"IFERROR(IF(IFERROR(ROUND(G30,0)=ROUND(I30,0),FALSE),NA(),IF(NOT('Step 5 Identify & Select ASHPs'!B9=1),\"HP#2 t-BPT=\"&ROUND(I30,0)&'Step 3 Design Loads'!C13,\"\")),\"\")","v":""},null,{"$f":"IF(OR(IFERROR(ROUND(K30,0)=ROUND(G30,0),FALSE),IFERROR(ROUND(I30,0)=ROUND(K30,0),FALSE)),NA(),IF(AND(NOT('Step 5 Identify & Select ASHPs'!B9=1),NOT('Step 5 Identify & Select ASHPs'!B9=2)),\"HP#3 t-BPT= \"&ROUND(K30,0)&'Step 3 Design Loads'!C13,\"\"))","v":{"$error":"#N/A"}},null,{"$f":"IF(OR(IFERROR(ROUND(M30,0)=ROUND(G30,0),FALSE),IFERROR(ROUND(I30,0)=ROUND(M30,0),FALSE),IFERROR(ROUND(M30,0)=ROUND(K30,0),FALSE)),NA(),IF(AND(NOT('Step 5 Identify & Select ASHPs'!B9=1),NOT('Step 5 Identify & Select ASHPs'!B9=2),NOT('Step 5 Identify & Select ASHPs'!B9=3)),\"HP#4 t-BPT= \"&ROUND(M30,0)&'Step 3 Design Loads'!C13,\"\"))","v":{"$error":"#N/A"}}]
[-13,null,null,null,null,null,{"$f":"'HP1 Calcs'!AV6","v":0},{"$f":"IF('Step 5 Identify & Select ASHPs'!B24=\"User Input Curve\",'HP1'!L8,'HP1 Calcs'!Z4)","v":0},{"$f":"'HP1 Calcs'!AV10","v":0},{"$error":"#N/A"},{"$f":"'HP1 Calcs'!AV14","v":0},0,{"$f":"'HP1 Calcs'!AV18","v":0},0]
[-8,null,null,null,null,null,{"$f":"G30","v":0},0,{"$f":"I30","v":0},0,{"$f":"K30","v":0},0,{"$f":"M30","v":0},0]
[-3]
[2]
[7]
[12]
[17]
[22]
[27]
[32]
[37]
[42]
[47]
[52]
[57]

{"sheet":"Design Load Calcs","index":14,"n_rows":33,"n_cols":16,"rows_kept":33,"cut":false,"hidden":true,"merged":[]}
[null,null,null,null,null,null,"Load Line",null,null,null,null,null,null,null,"line at 17F"]
["User input",null,null,null,null,null,null,null,null,null,null,null,null,null,{"$f":"IF('Step 4 Sizing Approach'!B6='Step 4 Sizing Approach'!T4,G15,NA())","v":17},{"$f":"IF('Step 4 Sizing Approach'!B6='Step 4 Sizing Approach'!T4,H15,NA())","v":35833.333333333328}]
["Heating Load",{"$f":"IF(OR('Step 3 Design Loads'!$B$11='Step 3 Design Loads'!$T$5,'Step 3 Design Loads'!$B$11='Step 3 Design Loads'!$T$7),'Step 3 Design Loads'!B12,IF('Step 3 Design Loads'!$B$11='Step 3 Design Loads'!$T$6,('Step 3 Design Loads'!B12)/((100-'Step 3 Design Loads'!B16)/100),IF('Step 3 Design Loads'!$B$11='Step 3 Design Loads'!$T$8,'Step 3 Design Loads'!B12,\"-\")))","v":50000},null,null,null,null,{"$f":"IF('Intro & Unit Options'!$B$12=\"Imperial\",\"Outdoor Temperature (°F)\",\"Outdoor Temperature (°C)\")","v":"Outdoor Temperature (°F)"},{"$f":"IF('Intro & Unit Options'!$B$12=\"Imperial\",\"Heating Load (BTU/h)\",\"Heating Load (kW)\")","v":"Heating Load (BTU/h)"},null,null,null,null,null,null,{"$f":"O2","v":17},0]
["Heating temperature",{"$f":"IF(OR('Step 3 Design Loads'!$B$11='Step 3 Design Loads'!$T$5,'Step 3 Design Loads'!$B$11='Step 3 Design Loads'!$T$7),'Step 3 Design Loads'!B13,IF('Step 3 Design Loads'!$B$11='Step 3 Design Loads'!$T$6,'Step 3 Design Loads'!B13,IF('Step 3 Design Loads'!$B$11='Step 3 Design Loads'!$T$8,'Step 3 Design Loads'!B13,\"-\")))","v":0},null,null,null,null,{"$f":"B4","v":0},{"$f":"B23","v":50000},{"$f":"IF(C23=\"\",\"Heating Load Line\",\"Heating Load (140% Oversize)\")","v":"Heating Load Line"},null,"Heating Design Temp and Load",null,null,null,"Design heat load"]
["Cooling Load",{"$f":"IF(OR('Step 3 Design Loads'!$B$11='Step 3 Design Loads'!$T$5,'Step 3 Design Loads'!$B$11='Step 3 Design Loads'!$T$7,'Step 3 Design Loads'!$B$11='Step 3 Design Loads'!$T$6),'Step 3 Design Loads'!B14,IF('Step 3 Design Loads'!$B$11='Step 3 Design Loads'!$T$8,'Step 3 Design Loads'!B14,\"-\"))","v":30000},null,null,null,null,{"$f":"IF('Intro & Unit Options'!B12=\"Metric\",(60-32)*(5/9),60)","v":60},0,null,null,null,null,null,null,{"$f":"G4","v":0},{"$f":"H4","v":50000}]
["Cooling temperature",{"$f":"IF(OR('Step 3 Design Loads'!$B$11='Step 3 Design Loads'!$T$5,'Step 3 Design Loads'!$B$11='Step 3 Design Loads'!$T$7),'Step 3 Design Loads'!B15,IF('Step 3 Design Loads'!$B$11='Step 3 Design Loads'!$T$6,'Step 3 Design Loads'!B15,IF('Step 3 Design Loads'!$B$11='Step 3 Design Loads'!$T$8,'Step 3 Design Loads'!B15,\"-\")))","v":88},null,null,null,null,null,null,null,null,null,null,null,null,{"$f":"IFERROR(IF(O5=FLOOR(O5,10),O5-10,FLOOR(O5,10)),0)","v":-10},{"$f":"H4","v":50000}]
[null,null,null,null,null,null,{"$f":"IF(C23=\"\",NA(),B24)","v":{"$error":"#N/A"}},{"$f":"IF(C23=\"\",NA(),C23)","v":{"$error":"#N/A"}},{"$f":"IF(C23=\"\",\"\",\"Heating Load (125% Oversize)\")","v":""},null,null,null,null,null,"Heating design temperature"]
[null,null,null,null,null,null,{"$f":"IF(C23=\"\",NA(),IF('Intro & Unit Options'!B12=\"Metric\",(60-32)*(5/9),60))","v":{"$error":"#N/A"}},{"$f":"IF(C23=\"\",NA(),0)","v":{"$error":"#N/A"}},null,null,null,null,null,null,{"$f":"G4","v":0},{"$f":"H4","v":50000}]
[null,null,null,null,null,null,null,{"$f":"IF('Intro & Unit Options'!$B$12=\"Imperial\",\"Cooling Load (BTU/h)\",\"Cooling Load (kW)\")","v":"Cooling Load (BTU/h)"},null,null,null,null,null,null,{"$f":"O8","v":0},0]
[null,null,null,null,null,null,{"$f":"B6","v":88},{"$f":"B25","v":30000},{"$f":"IF(C23=\"\",\"Design Cooling Load\",\"Design Cooling Load LOW\")","v":"Design Cooling Load"},null,"Cooling Design T and Load",null,null,null,"Design Cool Load"]
[null,null,null,null,null,null,{"$f":"IF(C23=\"\",NA(),B26)","v":{"$error":"#N/A"}},{"$f":"IF(C23=\"\",NA(),C25)","v":{"$error":"#N/A"}},{"$f":"IF(C23=\"\",\"\",\"Design Cooling Load HIGH\")","v":""},null,null,null,null,null,{"$f":"B6","v":88},{"$f":"H10","v":30000}]
["Option D range:",null,null,null,null,null,null,null,null,null,null,null,null,null,{"$f":"IFERROR(CEILING(O11,10)+10,0)+IF('Intro & Unit Options'!B12=\"Metric\",0,10)","v":110},{"$f":"P11","v":30000}]
["Heating","Low",{"$f":"B3/1.4","v":35714.285714285717},"140% oversize",null,null,null,null,null,null,null,null,null,null,"Design Cool Temperature"]
[null,"High",{"$f":"B3/1.25","v":40000},"125% oversize",null,null,"ASHP Target Heat Capacity (If Option C or D)",null,null,null,null,null,null,null,{"$f":"B6","v":88},{"$f":"H10","v":30000}]
["Cooling","Low",{"$f":"B5/1.4","v":21428.571428571431},"140% oversize",null,null,{"$f":"IF('Step 4 Sizing Approach'!B6='Step 4 Sizing Approach'!T4,IF('Intro & Unit Options'!B12=\"Metric\",(17-32)*(5/9),17),IF('Step 4 Sizing Approach'!B6='Step 4 Sizing Approach'!T5,IF('Intro & Unit Options'!B12=\"Metric\",('Step 3 Design Loads'!$B$13-32)*(5/9),'Step 3 Design Loads'!$B$13),NA()))","v":17},{"$f":"G25","v":35833.333333333328},null,null,null,null,null,null,{"$f":"O14","v":88},0]
[null,"High",{"$f":"B5/1.25","v":24000},"125% oversize"]
[null,null,null,null,null,null,"Target Capacity Range (Option A,B)"]
[null,null,null,null,null,null,{"$f":"IF(OR('Step 4 Sizing Approach'!B6='Step 4 Sizing Approach'!T2,'Step 4 Sizing Approach'!B6='Step 4 Sizing Approach'!T3),B6,NA())","v":{"$error":"#N/A"}},{"$f":"IF(OR('Step 4 Sizing Approach'!B6='Step 4 Sizing Approach'!T2,'Step 4 Sizing Approach'!B6='Step 4 Sizing Approach'!T3),IF(OR('Step 4 Sizing Approach'!B6='Step 4 Sizing Approach'!T5,'Step 4 Sizing Approach'!B6='Step 4 Sizing Approach'!T4),C20*0.8,'Step 4 Sizing Approach'!B15),NA())","v":{"$error":"#N/A"}}]
[null,null,null,null,null,null,{"$f":"G18","v":{"$error":"#N/A"}},{"$f":"IF(OR('Step 4 Sizing Approach'!B6='Step 4 Sizing Approach'!T2,'Step 4 Sizing Approach'!B6='Step 4 Sizing Approach'!T3),IF(OR('Step 4 Sizing Approach'!B6='Step 4 Sizing Approach'!T5,'Step 4 Sizing Approach'!B6='Step 4 Sizing Approach'!T4),C20*1.25,'Step 4 Sizing Approach'!D15),NA())","v":{"$error":"#N/A"}}]
["Cooling Load",null,{"$f":"IF('Step 3 Design Loads'!B11='Step 3 Design Loads'!T8,IF('Step 3 Design Loads'!B18=140,C15, C16),B5)","v":30000}]
[null,null,null,null,null,"Slope line (low or nornal)",null,null,null,"Slope line (high)"]
["Oversize",{"$f":"IF('Step 3 Design Loads'!B18=140,1.4,1.25)","v":1.4},1.25,null,null,null,"a","b",null,"a","b",null,null,null,{"$f":"'Step 3 Design Loads'!#REF!","v":{"$error":"#REF!"}}]
["Heating Load",{"$f":"IF('Step 3 Design Loads'!B11='Step 3 Design Loads'!T8,IF('Step 3 Design Loads'!B18=140,'Design Load Calcs'!C13,'Design Load Calcs'!C14),B3)","v":50000},{"$f":"IF('Step 3 Design Loads'!B11='Step 3 Design Loads'!T8,\"\",\"\")","v":""},null,null,null,{"$f":"(H5-H4)/(G5-G4)","v":-833.33333333333337},{"$f":"H5-(G23*G5)","v":50000},null,{"$f":"(H8-H7)/(G5-G4)","v":{"$error":"#N/A"}},{"$f":"H7-(J23*G7)","v":{"$error":"#N/A"}}]
["Heating temperature",{"$f":"B4","v":0}]
["Cooling Load",{"$f":"IF('Step 3 Design Loads'!B11='Step 3 Design Loads'!T8,IF('Step 3 Design Loads'!B18=140,C15, C16),B5)","v":30000},{"$f":"IF('Step 3 Design Loads'!B11='Step 3 Design Loads'!T8,\"\",\"\")","v":""},null,null,null,{"$f":"G23*G15+H23","v":35833.333333333328},null,null,{"$f":"J23*G15+K23","v":{"$error":"#N/A"}}]
["Cooling temperature",{"$f":"B6","v":88}]
[null,null,null,null,null,null,"Target Capacity Range (Option A,B)"]
[null,null,null,null,null,null,{"$f":"B6","v":88},{"$f":"IF(C23=\"\",NA(),C20*0.8)","v":{"$error":"#N/A"}}]
[null,null,null,null,null,null,{"$f":"G28","v":88},{"$f":"IF(C25=\"\",NA(),C20*1.25)","v":{"$error":"#N/A"}}]
["Target AF",{"$f":"IF('Intro & Unit Options'!B12=\"Metric\",(400*(B25*3412))/12000,(400*(B25))/12000)","v":1000}]
["Max AF+200",{"$f":"'Step 4 Sizing Approach'!B10+200","v":1675}]
[null,null,null,null,null,null,{"$f":"B26","v":88},{"$f":"C20*0.8","v":24000}]
[null,null,null,null,null,null,{"$f":"G32","v":88},{"$f":"B25*1.25","v":37500}]

{"sheet":"Ductless Single Per Table","index":15,"n_rows":141,"n_cols":19,"rows_kept":141,"cut":false,"hidden":true,"merged":[]}
["Ductless, Single Split, Regular",null,"MUZ-HM12NA2"]
["MAX, Heat",null,null,null,{"$f":"'Step 3 Design Loads'!B13","v":0},{"$f":"'Step 3 Design Loads'!B15","v":88},null,null,null,"Min, Heat"]
["Temperature","Normalized Capacity","Normalized Power",null,null,null,null,null,null,"Temperature","Normalized Capacity","Normalized Power"]
[-4,0.48770491803278687,0.70707070707070707,null,null,null,null,null,null,-4,0.13934426229508196,0.20202020202020202]
[0,0.55163934426229511,0.76767676767676762,null,null,null,null,null,null,0,0.15819672131147541,0.22222222222222221]
[5,0.61475409836065575,0.82828282828282829,null,null,null,null,null,null,5,0.17622950819672131,0.23232323232323232]
[10,0.69672131147540983,0.87878787878787878,null,null,null,null,null,null,10,0.19836065573770492,0.25252525252525254]
[15,0.77868852459016391,0.92929292929292928,null,null,null,null,null,null,15,0.22213114754098362,0.25252525252525254]
[20,0.85245901639344257,0.97979797979797978,null,null,null,null,null,null,20,0.2442622950819672,0.28282828282828282]
[25,0.92622950819672134,1.0303030303030303,null,null,null,null,null,null,25,0.26475409836065572,0.29292929292929293]
[30,0.99590163934426235,1.0808080808080809,null,null,null,null,null,null,30,0.28442622950819674,0.31313131313131315]
[35,1.0655737704918034,1.1313131313131313,null,null,null,null,null,null,35,0.30491803278688523,0.31313131313131315]
[40,1.1270491803278688,1.1818181818181819,null,null,null,null,null,null,40,0.32131147540983607,0.33333333333333331]
[43,1.1885245901639345,1.2323232323232323,null,null,null,null,null,null,43,0.33934426229508197,0.35353535353535354]
[45,1.2049180327868851,1.2424242424242424,null,null,null,null,null,null,45,0.34426229508196721,0.35353535353535354]
[50,1.2745901639344261,1.292929292929293,null,null,null,null,null,null,50,0.36393442622950822,0.37373737373737376]
[55,1.3442622950819672,1.3434343434343434,null,null,null,null,null,null,55,0.38360655737704918,0.38383838383838381]
[60,1.4139344262295082,1.393939393939394,null,null,null,null,null,null,60,0.40409836065573773,0.39393939393939392]
[]
[]
["Temperature"]
["Column1","Column2","Column3",null,null,null,null,null,null,"Column1","Column2","Column3",null,null,null,null,null,{"$f":"IF(AND(K23<>\"-\",K21=\"-\",ISNUMBER(K24)),K23,\"-\")","v":"-"},{"$f":"IF(AND(L23<>\"-\",L21=\"-\",ISNUMBER(L24)),L23,\"-\")","v":"-"}]
[-23,"-","-",null,null,null,null,null,null,-23,"-","-",null,null,null,null,null,{"$f":"IF(AND(K24<>\"-\",K23=\"-\",ISNUMBER(K25)),K24,\"-\")","v":"-"},{"$f":"IF(AND(L24<>\"-\",L23=\"-\",ISNUMBER(L25)),L24,\"-\")","v":"-"}]
[-18,"-","-",null,null,null,null,null,null,-18,"-","-",null,null,null,null,null,"-","-"]
[-13,"-","-",null,null,null,null,null,null,-13,"-","-",null,null,null,null,null,"-","-"]
[-8,"-","-",null,null,null,null,null,null,-8,"-","-",null,null,null,null,null,0.14405737704918031,0.20707070707070704]
[-3,{"$f":"((A27-A4)*(B5-B4))/(A5-A4)+B4","v":0.50368852459016389},0.72222222222222221,null,null,null,null,null,null,-3,{"$f":"((J27-J4)*(K5-K4))/(J5-J4)+K4","v":0.14405737704918031},0.20707070707070704,null,null,null,{"$f":"INDEX(J23:J39,MATCH(MIN(R22:R38),R22:R38))","v":-3},{"$f":"INDEX(J23:J39,MATCH(MIN(S22:S38),S22:S38))","v":-3},"-","-"]
[2,0.57688524590163937,0.79191919191919191,null,null,null,null,null,null,2,0.16540983606557377,0.22626262626262625,null,null,null,{"$f":"INDEX(J23:J39,MATCH(MIN(R22:R38),R22:R38)+1)","v":2},{"$f":"INDEX(J23:J39,MATCH(MIN(S22:S38),S22:S38)+1)","v":2},"-","-"]
[7,0.64754098360655743,0.84848484848484851,null,null,null,null,null,null,7,0.18508196721311476,0.24040404040404043,null,null,null,null,null,"-","-"]
[12,0.72950819672131151,0.89898989898989901,null,null,null,null,null,null,12,0.2078688524590164,0.25252525252525254,null,null,null,{"$f":"((INDEX(K23:K39,MATCH(MIN(R22:R38),R22:R38)+1))-INDEX(K23:K39,MATCH(MIN(R22:R38),R22:R38)))/(P28-P27)","v":4.2704918032786922E-3},{"$f":"((INDEX(L23:L39,MATCH(MIN(S22:S38),S22:S38)+1))-INDEX(L23:L39,MATCH(MIN(S22:S38),S22:S38)))/(Q28-Q27)","v":3.838383838383841E-3},"-","-"]
[17,0.80819672131147535,0.9494949494949495,null,null,null,null,null,null,17,0.23098360655737704,0.26464646464646463,null,null,null,{"$f":"INDEX(K23:K39,MATCH(MIN(R22:R38),R22:R38))-P30*P27","v":0.15686885245901638},{"$f":"INDEX(L23:L39,MATCH(MIN(S22:S38),S22:S38))-Q30*Q27","v":0.21858585858585858},"-","-"]
[22,0.88196721311475412,1,null,null,null,null,null,null,22,0.25245901639344259,0.28686868686868683,null,null,null,null,null,"-","-"]
[27,0.95409836065573772,1.0505050505050506,null,null,null,null,null,null,27,0.27262295081967214,0.30101010101010101,null,null,null,null,null,"-","-"]
[32,1.0237704918032788,1.101010101010101,null,null,null,null,null,null,32,0.29262295081967216,0.31313131313131315,null,null,null,null,null,"-","-"]
[37,1.0901639344262295,1.1515151515151514,null,null,null,null,null,null,37,0.31147540983606559,0.32121212121212123,null,null,null,null,null,"-","-"]
[42,1.168032786885246,1.2154882154882156,null,null,null,null,null,null,42,0.33333333333333331,0.34680134680134678,null,null,null,null,null,"-","-"]
[47,{"$f":"((A37-A15)*(B16-B15))/(A16-A15)+B15","v":1.2327868852459016},1.2626262626262628,null,null,null,null,null,null,47,{"$f":"((J37-J15)*(K16-K15))/(J16-J15)+K15","v":0.35213114754098362},0.36161616161616161,null,null,null,null,null,"-","-"]
[52,1.3024590163934426,1.3131313131313131,null,null,null,null,null,null,52,0.37180327868852459,0.37777777777777777,null,null,null,null,null,{"$f":"IF(AND(K39<>\"-\",K38=\"-\",ISNUMBER(#REF!)),K39,\"-\")","v":"-"},{"$f":"IF(AND(L39<>\"-\",L38=\"-\",ISNUMBER(#REF!)),L39,\"-\")","v":"-"}]
[57,1.3721311475409836,1.3636363636363638,null,null,null,null,null,null,57,0.3918032786885246,0.38787878787878788]
[]
[]
[]
["Max, Cool",null,null,null,null,null,null,null,null,"Min, Heat"]
["Temperature","Normalized Capacity","Normalized Power",null,null,null,null,null,null,"Temperature","Normalized Capacity","Normalized Power"]
[70,1.3116666666666668,0.9173553719008265,null,null,null,null,null,null,70,0.38833333333333331,0.28099173553719009]
[75,1.2458333333333333,0.95867768595041325,null,null,null,null,null,null,75,0.37583333333333335,0.28925619834710742]
[80,1.2,1.0082644628099173,null,null,null,null,null,null,80,0.36333333333333334,0.30578512396694213]
[85,1.1608333333333334,1.0578512396694215,null,null,null,null,null,null,85,0.35,0.31404958677685951]
[90,1.1174999999999999,1.0991735537190082,null,null,null,null,null,null,90,0.33666666666666667,0.33057851239669422]
[95,1.0741666666666667,1.140495867768595,null,null,null,null,null,null,95,0.32500000000000001,0.33884297520661155]
[100,1.0375000000000001,1.1818181818181819,null,null,null,null,null,null,100,0.3125,0.35537190082644626]
[105,0.99916666666666665,1.2148760330578512,null,null,null,null,null,null,105,0.30083333333333334,0.37190082644628097]
[110,0.95916666666666661,1.2396694214876034,null,null,null,null,null,null,110,0.28916666666666668,0.37190082644628097]
[115,0.91833333333333333,1.2644628099173554,null,null,null,null,null,null,115,0.27666666666666667,0.38016528925619836]
[]
[]
["Temperature",null,null,null,null,null,null,null,null,"Temperature"]
["Column1","Column2","Column3",null,null,null,null,null,null,"Column1","Column2","Column3"]
[72,{"$f":"((A59-A45)*(B46-B45))/(A46-A45)+B45","v":1.2853333333333334},0.93388429752066116,null,null,null,null,null,null,72,{"$f":"((J59-J45)*(K46-K45))/(J46-J45)+K45","v":0.3833333333333333},0.28429752066115704]
[77,1.2275,0.97851239669421486,null,null,null,null,null,null,77,0.37083333333333335,0.29586776859504132]
[82,1.1843333333333332,1.028099173553719,null,null,null,null,null,null,82,0.35799999999999998,0.30909090909090908]
[87,1.1435,1.0743801652892562,null,null,null,null,null,null,87,0.34466666666666668,0.32066115702479336]
[92,1.1001666666666667,1.1157024793388428,null,null,null,null,null,null,92,0.33200000000000002,0.33388429752066112]
[97,1.0595000000000001,1.1570247933884297,null,null,null,null,null,null,97,0.32,0.34545454545454546]
[102,1.0221666666666667,1.1950413223140497,null,null,null,null,null,null,102,0.30783333333333335,0.36198347107438011]
[107,0.98316666666666663,1.2247933884297522,null,null,null,null,null,null,107,0.29616666666666669,0.37190082644628097]
[112,0.9428333333333333,1.2495867768595041,null,null,null,null,null,null,112,0.28416666666666668,0.37520661157024793]
[]
["Ductless, Single Split, Cold Climate",null,null,"MUZ-FH12HN"]
["MAX, Heat",null,null,null,null,null,null,null,null,"Min, Heat"]
["Temperature","Normalized Capacity","Normalized Power",null,null,null,null,null,null,"Temperature","Normalized Capacity","Normalized Power"]
[-13,0.75735294117647056,1.6842105263157894,null,null,null,null,null,null,-13,0.12867647058823528,0.28421052631578947]
[-10,0.81617647058823528,1.7473684210526317,null,null,null,null,null,null,-10,0.13897058823529412,0.29473684210526313]
[-4,0.875,1.8,null,null,null,null,null,null,-4,0.14852941176470588,0.30526315789473685]
[0,0.95588235294117652,1.8842105263157896,null,null,null,null,null,null,0,0.16250000000000001,0.31578947368421051]
[5,1.0294117647058822,1.9578947368421054,null,null,null,null,null,null,5,0.17499999999999999,0.32631578947368423]
[10,1.1029411764705883,2.0421052631578949,null,null,null,null,null,null,10,0.1875,0.3473684210526316]
[15,1.1764705882352942,2.1157894736842104,null,null,null,null,null,null,15,0.20073529411764707,0.36842105263157893]
[20,1.2536764705882353,2.1894736842105265,null,null,null,null,null,null,20,0.21397058823529411,0.36842105263157893]
[25,1.3308823529411764,2.263157894736842,null,null,null,null,null,null,25,0.22647058823529412,0.38947368421052631]
[30,1.400735294117647,2.3368421052631581,null,null,null,null,null,null,30,0.23897058823529413,0.4]
[35,1.4705882352941178,2.4105263157894736,null,null,null,null,null,null,35,0.25073529411764706,0.41052631578947368]
[40,1.5073529411764706,2.4210526315789473,null,null,null,null,null,null,40,0.25661764705882351,0.41052631578947368]
[43,1.5441176470588236,2.4210526315789473,null,null,null,null,null,null,43,0.26323529411764707,0.41052631578947368]
[45,1.5735294117647058,2.4736842105263159,null,null,null,null,null,null,45,0.2676470588235294,0.42105263157894735]
[50,1.6176470588235294,2.4736842105263159,null,null,null,null,null,null,50,0.27500000000000002,0.42105263157894735]
[55,1.661764705882353,2.4736842105263159,null,null,null,null,null,null,55,0.28308823529411764,0.42105263157894735]
[60,1.7022058823529411,2.4736842105263159,null,null,null,null,null,null,60,0.2897058823529412,0.42105263157894735]
[]
["Temperature",null,null,null,null,null,null,null,null,"Temperature"]
["Column1","Column2","Column3",null,null,null,null,null,null,"Column1","Column2","Column3",null,null,null,null,null,{"$f":"IF(AND(K92<>\"-\",K90=\"-\",ISNUMBER(K93)),K92,\"-\")","v":"-"},{"$f":"IF(AND(L92<>\"-\",L90=\"-\",ISNUMBER(L93)),L92,\"-\")","v":"-"}]
[-23,"-","-",null,null,null,null,null,null,-23,"-","-",null,null,null,null,null,{"$f":"IF(AND(K93<>\"-\",K92=\"-\",ISNUMBER(K94)),K93,\"-\")","v":"-"},{"$f":"IF(AND(L93<>\"-\",L92=\"-\",ISNUMBER(L94)),L93,\"-\")","v":"-"}]
[-18,"-","-",null,null,null,null,null,null,-18,"-","-",null,null,null,null,null,0.12867647058823528,0.28421052631578947]
[-13,{"$f":"B72","v":0.75735294117647056},{"$f":"C72","v":1.6842105263157894},null,null,null,null,null,null,-13,{"$f":"K72","v":0.12867647058823528},{"$f":"L72","v":0.28421052631578947},null,null,null,null,null,"-","-"]
[-8,{"$f":"((A95-A73)*(B74-B73))/(A74-A73)+B73","v":0.83578431372549022},1.7649122807017545,null,null,null,null,null,null,-8,{"$f":"((J95-J73)*(K74-K73))/(J74-J73)+K73","v":0.14215686274509803},0.2982456140350877,null,null,null,null,null,"-","-"]
[-3,0.89522058823529416,1.8210526315789475,null,null,null,null,null,null,-3,0.15202205882352943,0.30789473684210528,null,null,null,{"$f":"INDEX(J92:J108,MATCH(MIN(R91:R107),R91:R107))","v":-13},{"$f":"INDEX(J92:J108,MATCH(MIN(S91:S107),S91:S107))","v":-13},"-","-"]
[2,0.98529411764705876,1.9136842105263159,null,null,null,null,null,null,2,0.16750000000000001,0.32,null,null,null,{"$f":"INDEX(J92:J108,MATCH(MIN(R91:R107),R91:R107)+1)","v":-8},{"$f":"INDEX(J92:J108,MATCH(MIN(S91:S107),S91:S107)+1)","v":-8},"-","-"]
[7,1.0588235294117647,1.9915789473684211,null,null,null,null,null,null,7,0.18,0.33473684210526317,null,null,null,null,null,"-","-"]
[12,1.1323529411764706,2.0715789473684212,null,null,null,null,null,null,12,0.19279411764705884,0.35578947368421054,null,null,null,{"$f":"((INDEX(K92:K108,MATCH(MIN(R91:R107),R91:R107)+1))-INDEX(K92:K108,MATCH(MIN(R91:R107),R91:R107)))/(P97-P96)","v":2.6960784313725507E-3},{"$f":"((INDEX(L92:L108,MATCH(MIN(S91:S107),S91:S107)+1))-INDEX(L92:L108,MATCH(MIN(S91:S107),S91:S107)))/(Q97-Q96)","v":2.8070175438596467E-3},"-","-"]
[17,1.2073529411764705,2.1452631578947368,null,null,null,null,null,null,17,0.20602941176470588,0.36842105263157893,null,null,null,{"$f":"INDEX(K92:K108,MATCH(MIN(R91:R107),R91:R107))-P99*P96","v":0.16372549019607843},{"$f":"INDEX(L92:L108,MATCH(MIN(S91:S107),S91:S107))-Q99*Q96","v":0.32070175438596488},"-","-"]
[22,1.2845588235294116,2.2189473684210528,null,null,null,null,null,null,22,0.21897058823529411,0.37684210526315787,null,null,null,null,null,"-","-"]
[27,1.3588235294117645,2.2926315789473684,null,null,null,null,null,null,27,0.23147058823529412,0.3936842105263158,null,null,null,null,null,"-","-"]
[32,1.4286764705882353,2.3663157894736844,null,null,null,null,null,null,32,0.2436764705882353,0.40421052631578946,null,null,null,null,null,"-","-"]
[37,1.4852941176470589,2.4147368421052633,null,null,null,null,null,null,37,0.25308823529411761,0.41052631578947368,null,null,null,null,null,"-","-"]
[42,1.5318627450980393,2.4210526315789473,null,null,null,null,null,null,42,0.2610294117647059,0.41052631578947368,null,null,null,null,null,"-","-"]
[47,{"$f":"((A106-A85)*(B86-B85))/(A86-A85)+B85","v":1.5911764705882352},2.4736842105263159,null,null,null,null,null,null,47,{"$f":"((J106-J85)*(K86-K85))/(J86-J85)+K85","v":0.27058823529411763},0.42105263157894735,null,null,null,null,null,"-","-"]
[52,1.6352941176470588,2.4736842105263159,null,null,null,null,null,null,52,0.27823529411764708,0.42105263157894735,null,null,null,null,null,{"$f":"IF(AND(K108<>\"-\",K107=\"-\",ISNUMBER(#REF!)),K108,\"-\")","v":"-"},{"$f":"IF(AND(L108<>\"-\",L107=\"-\",ISNUMBER(#REF!)),L108,\"-\")","v":"-"}]
[57,1.6779411764705883,2.4736842105263159,null,null,null,null,null,null,57,0.28573529411764709,0.42105263157894735]
[]
["Max, Cool",null,null,null,null,null,null,null,null,"Min, Heat"]
["Temperature","Normalized Capacity","Normalized Power",null,null,null,null,null,null,"Temperature","Normalized Capacity","Normalized Power"]
[70,1.4358333333333333,1.7321428571428572,null,null,null,null,null,null,70,0.24666666666666667,0.2857142857142857]
[75,1.3883333333333334,1.8214285714285714,null,null,null,null,null,null,75,0.23916666666666667,0.30357142857142855]
[80,1.3408333333333333,1.9107142857142858,null,null,null,null,null,null,80,0.23,0.32142857142857145]
[85,1.2925,1.9821428571428572,null,null,null,null,null,null,85,0.2225,0.32142857142857145]
[90,1.2450000000000001,2.0892857142857144,null,null,null,null,null,null,90,0.21416666666666667,0.3392857142857143]
[95,1.1966666666666668,2.1607142857142856,null,null,null,null,null,null,95,0.20583333333333334,0.3392857142857143]
[100,1.155,2.2321428571428572,null,null,null,null,null,null,100,0.19833333333333333,0.375]
[105,1.1133333333333333,2.2857142857142856,null,null,null,null,null,null,105,0.19166666666666668,0.375]
[110,1.0683333333333334,2.3392857142857144,null,null,null,null,null,null,110,0.18416666666666667,0.375]
[115,1.0233333333333334,2.4107142857142856,null,null,null,null,null,null,115,0.17666666666666667,0.39285714285714285]
[]
[]
["Temperature",null,null,null,null,null,null,null,null,"Temperature"]
["Column1","Column2","Column3",null,null,null,null,null,null,"Column1","Column2","Column3"]
[72,{"$f":"((A126-A112)*(B113-B112))/(A113-A112)+B112","v":1.4168333333333334},1.7678571428571428,null,null,null,null,null,null,72,{"$f":"((J126-J112)*(K113-K112))/(J113-J112)+K112","v":0.24366666666666667},0.29285714285714282]
[77,1.3693333333333333,1.8571428571428574,null,null,null,null,null,null,77,0.23550000000000001,0.31071428571428567]
[82,1.3214999999999999,1.9392857142857145,null,null,null,null,null,null,82,0.22700000000000001,0.32142857142857145]
[87,1.2735000000000001,2.0249999999999999,null,null,null,null,null,null,87,0.21916666666666668,0.32857142857142857]
[92,1.2256666666666667,2.1178571428571429,null,null,null,null,null,null,92,0.21083333333333334,0.3392857142857143]
[97,1.1800000000000002,2.1892857142857141,null,null,null,null,null,null,97,0.20283333333333334,0.35357142857142859]
[102,1.1383333333333334,2.2535714285714286,null,null,null,null,null,null,102,0.19566666666666668,0.375]
[107,1.0953333333333333,2.3071428571428574,null,null,null,null,null,null,107,0.18866666666666668,0.375]
[112,1.0503333333333333,2.3678571428571429,null,null,null,null,null,null,112,0.18116666666666667,0.38214285714285712]
[]
[]
[]
[]
["NOTES"]
["* PLEASE ENSURE WE ARE MULTIPLIYING BY THE DROPER HP FOR CAP, POWER, AND COP"]
["* LINKS IN THIS SPREADSHEET ARE PURELY TO ILLUSTRATE"]

{"sheet":"Ducted Performance Tables","index":16,"n_rows":137,"n_cols":19,"rows_kept":137,"cut":false,"hidden":true,"merged":[]}
["Ducted, Single Stage","25HNB524A* Outdoor Section With FX4DNF025 Indoor Section @ 800 CFM"]
["Heat",null,null,null,{"$f":"'Step 3 Design Loads'!B13","v":0},{"$f":"'Step 3 Design Loads'!B15","v":88}]
["Temperature (F)","Normalized Capacity","Normalized Power"]
[-23,"-","-"]
[-18,"-","-"]
[-13,"-","-"]
[-8,"-","-"]
[-3,0.31124999999999997,0.80790960451977401]
[2,0.36354166666666665,0.83050847457627119]
[7,0.41583333333333333,0.85310734463276838]
[12,0.47666666666666674,0.87288135593220351]
[17,0.53749999999999998,0.89265536723163841]
[22,0.58395833333333336,0.90677966101694918]
[27,0.63041666666666674,0.92090395480225984]
[32,0.70000000000000007,0.9350282485875705]
[37,0.76958333333333329,0.94915254237288127]
[42,0.88479166666666664,0.97457627118644063]
[47,1,1]
[52,1.0877083333333333,1.036723163841808]
[57,1.1754166666666668,1.0734463276836157]
[]
["Cool"]
["Temperature (F)","Normalized Capacity","Normalized Power"]
[72,"-","-"]
[77,1.012,0.80104166666666698]
[82,0.98864141414141404,0.85102062289562319]
[87,0.96494047619047618,0.90277777777777801]
[92,0.94075892857142851,0.95703124999999989]
[97,0.91575066137566141,1.0143849206349207]
[102,0.8895023148148149,1.0763888888888884]
[107,0.86218181818181827,1.1418560606060606]
[112,0.83314141414141407,1.2128787878787883]
[]
[]
[]
[]
[]
[]
[]
["Ducted, Two Stage","25HNB924A @ 800 CFM"]
["HIGH Stage, Heat",null,null,null,null,null,null,null,"LOW Stage, Heat"]
["Temperature (F)","Normalized Capacity","Normalized Power",null,null,null,null,null,"Temperature (F)","Normalized Capacity","Normalized Power"]
[-23,"-","-",null,null,null,null,null,-23,"-","-",{"$f":"'Step 5 Identify & Select ASHPs'!$B$30*'Ducted Performance Tables'!J43","v":{"$error":"#VALUE!"}},{"$f":"'Step 5 Identify & Select ASHPs'!$B$31*'Ducted Performance Tables'!K43","v":{"$error":"#VALUE!"}},{"$f":"(L43/3412)/K43","v":{"$error":"#VALUE!"}},null,null,null,{"$f":"IF(AND(J43<>\"-\",J42=\"-\",ISNUMBER(J44)),J43,\"-\")","v":"-"},{"$f":"IF(AND(K43<>\"-\",K42=\"-\",ISNUMBER(K44)),K43,\"-\")","v":"-"}]
[-18,"-","-",null,null,null,null,null,-18,"-","-",{"$f":"'Step 5 Identify & Select ASHPs'!$B$30*'Ducted Performance Tables'!J44","v":{"$error":"#VALUE!"}},{"$f":"'Step 5 Identify & Select ASHPs'!$B$31*'Ducted Performance Tables'!K44","v":{"$error":"#VALUE!"}},{"$f":"(L44/3412)/K44","v":{"$error":"#VALUE!"}},null,null,null,{"$f":"IF(AND(J44<>\"-\",J43=\"-\",ISNUMBER(J45)),J44,\"-\")","v":"-"},"-"]
[-13,"-","-",null,{"$f":"(($E$2-INDEX('HP1 Calcs'!$A$4:$A$20,MATCH($E$2,'HP1 Calcs'!$A$4:$A$20,1)))*(INDEX(J43:J59,MATCH($E$2,'HP1 Calcs'!$A$4:$A$20,1)+1)-INDEX(J43:J59,MATCH($E$2,'HP1 Calcs'!$A$4:$A$20,1))))/(INDEX('HP1 Calcs'!$A$4:$A$20,MATCH($E$2,'HP1 Calcs'!$A$4:$A$20,1)+1)-INDEX('HP1 Calcs'!$A$4:$A$20,MATCH($E$2,'HP1 Calcs'!$A$4:$A$20,1)))+INDEX(J43:J59,MATCH($E$2,'HP1 Calcs'!$A$4:$A$20,1))","v":{"$error":"#REF!"}},{"$f":"(($E$2-INDEX('HP1 Calcs'!$A$4:$A$20,MATCH($E$2,'HP1 Calcs'!$A$4:$A$20,1)))*(INDEX(K43:K59,MATCH($E$2,'HP1 Calcs'!$A$4:$A$20,1)+1)-INDEX(K43:K59,MATCH($E$2,'HP1 Calcs'!$A$4:$A$20,1))))/(INDEX('HP1 Calcs'!$A$4:$A$20,MATCH($E$2,'HP1 Calcs'!$A$4:$A$20,1)+1)-INDEX('HP1 Calcs'!$A$4:$A$20,MATCH($E$2,'HP1 Calcs'!$A$4:$A$20,1)))+INDEX(K43:K59,MATCH($E$2,'HP1 Calcs'!$A$4:$A$20,1))","v":{"$error":"#REF!"}},null,null,-13,"-","-",{"$f":"'Step 5 Identify & Select ASHPs'!$B$30*'Ducted Performance Tables'!J45","v":{"$error":"#VALUE!"}},{"$f":"'Step 5 Identify & Select ASHPs'!$B$31*'Ducted Performance Tables'!K45","v":{"$error":"#VALUE!"}},{"$error":"#VALUE!"},null,null,null,"-","-"]
[-8,"-","-",null,null,null,null,null,-8,"-","-",{"$f":"'Step 5 Identify & Select ASHPs'!$B$30*'Ducted Performance Tables'!J46","v":{"$error":"#VALUE!"}},{"$f":"'Step 5 Identify & Select ASHPs'!$B$31*'Ducted Performance Tables'!K46","v":{"$error":"#VALUE!"}},{"$error":"#VALUE!"},null,null,null,"-","-"]
[-3,0.33119999999999999,0.81818181818181812,"HP1",{"$f":"IF(OR('Step 5 Identify & Select ASHPs'!$B$37=\"No\",'Step 5 Identify & Select ASHPs'!$B$37=\"Not Sure\"),0,IF(P51<0,INDEX(J43:J59,MATCH(MIN(R43:R59),J43:J59)),'HP1 Calcs'!$A$4*'Ducted Performance Tables'!P51+'Ducted Performance Tables'!P52))","v":0.19483999999999999},{"$f":"IF(OR('Step 5 Identify & Select ASHPs'!$B$37=\"No\",'Step 5 Identify & Select ASHPs'!$B$37=\"Not Sure\"),0,IF(Q51<0,INDEX(K43:K59,MATCH(MIN(S43:S59),K43:K59)),'HP1 Calcs'!$A$4*'Ducted Performance Tables'!Q51+'Ducted Performance Tables'!Q52))","v":0.65056818181818177},null,null,-3,0.158,0.64204545454545447,{"$f":"'Step 5 Identify & Select ASHPs'!$B$30*'Ducted Performance Tables'!J47","v":0},{"$f":"'Step 5 Identify & Select ASHPs'!$B$31*'Ducted Performance Tables'!K47","v":0},0,null,null,null,{"$f":"IF(AND(J47<>\"-\",J46=\"-\",ISNUMBER(J48)),J47,\"-\")","v":0.158},{"$f":"IF(AND(K47<>\"-\",K46=\"-\",ISNUMBER(K48)),K47,\"-\")","v":0.64204545454545447}]
[2,0.38619999999999988,0.83238636363636354,"HP2",{"$f":"IF(OR('Step 5 Identify & Select ASHPs'!$G$37=\"No\",'Step 5 Identify & Select ASHPs'!$G$37=\"Not Sure\"),0,IF(P51<0,INDEX(J43:J59,MATCH(MIN(R43:R59),J43:J59)),'HP1 Calcs'!$A$26*'Ducted Performance Tables'!P51+'Ducted Performance Tables'!P52))","v":0.46499999999999986},{"$f":"IF(OR('Step 5 Identify & Select ASHPs'!$G$37=\"No\",'Step 5 Identify & Select ASHPs'!$G$37=\"Not Sure\"),0,IF(Q51<0,INDEX(K43:K59,MATCH(MIN(S43:S59),K43:K59)),'HP1 Calcs'!$A$26*'Ducted Performance Tables'!Q51+'Ducted Performance Tables'!Q52))","v":0.71306818181818155},null,null,2,0.21939999999999998,0.65624999999999989,{"$f":"'Step 5 Identify & Select ASHPs'!$B$30*'Ducted Performance Tables'!J48","v":0},{"$f":"'Step 5 Identify & Select ASHPs'!$B$31*'Ducted Performance Tables'!K48","v":0},0,null,{"$f":"INDEX(I43:I59,MATCH(MIN(R43:R59),R43:R59))","v":-3},{"$f":"INDEX(I43:I59,MATCH(MIN(S43:S59),S43:S59))","v":-3},"-",{"$f":"IF(AND(K48<>\"-\",K47=\"-\",ISNUMBER(K49)),K48,\"-\")","v":"-"}]
[7,0.44119999999999998,0.84659090909090906,"HP3",{"$f":"IF(OR('Step 5 Identify & Select ASHPs'!$L$37=\"No\",'Step 5 Identify & Select ASHPs'!$L$37=\"Not Sure\"),0,IF(P51<0,INDEX(J43:J59,MATCH(MIN(R43:R59),J43:J59)),'HP1 Calcs'!$A$48*'Ducted Performance Tables'!P51+'Ducted Performance Tables'!P52))","v":0.19483999999999999},{"$f":"IF(OR('Step 5 Identify & Select ASHPs'!$L$37=\"No\",'Step 5 Identify & Select ASHPs'!$L$37=\"Not Sure\"),0,IF(Q51<0,INDEX(K43:K59,MATCH(MIN(S43:S59),K43:K59)),'HP1 Calcs'!$A$48*'Ducted Performance Tables'!Q51+'Ducted Performance Tables'!Q52))","v":0.65056818181818177},null,null,7,0.28079999999999999,0.67045454545454541,{"$f":"'Step 5 Identify & Select ASHPs'!$B$30*'Ducted Performance Tables'!J49","v":0},{"$f":"'Step 5 Identify & Select ASHPs'!$B$31*'Ducted Performance Tables'!K49","v":0},0,null,{"$f":"INDEX(I43:I59,MATCH(MIN(R43:R59),R43:R59)+1)","v":2},{"$f":"INDEX(I43:I59,MATCH(MIN(S43:S59),S43:S59)+1)","v":2},"-","-"]
[12,0.50319999999999998,0.86363636363636365,"HP4",{"$f":"IF(OR('Step 5 Identify & Select ASHPs'!$Q$37=\"No\",'Step 5 Identify & Select ASHPs'!$Q$37=\"Not Sure\"),0,IF(P51<0,INDEX(J43:J59,MATCH(MIN(R43:R59),J43:J59)),'HP1 Calcs'!$A$70*'Ducted Performance Tables'!P51+'Ducted Performance Tables'!P52))","v":0.19483999999999999},{"$f":"IF(OR('Step 5 Identify & Select ASHPs'!$Q$37=\"No\",'Step 5 Identify & Select ASHPs'!$Q$37=\"Not Sure\"),0,IF(Q51<0,INDEX(K43:K59,MATCH(MIN(S43:S59),K43:K59)),'HP1 Calcs'!$A$70*'Ducted Performance Tables'!Q51+'Ducted Performance Tables'!Q52))","v":0.65056818181818177},null,null,12,0.33600000000000002,0.67613636363636365,{"$f":"'Step 5 Identify & Select ASHPs'!$B$30*'Ducted Performance Tables'!J50","v":0},{"$f":"'Step 5 Identify & Select ASHPs'!$B$31*'Ducted Performance Tables'!K50","v":0},0,null,null,null,"-","-"]
[17,0.56520000000000004,0.88068181818181823,null,null,null,null,null,17,0.39119999999999999,0.68181818181818177,{"$f":"'Step 5 Identify & Select ASHPs'!$B$30*'Ducted Performance Tables'!J51","v":0},{"$f":"'Step 5 Identify & Select ASHPs'!$B$31*'Ducted Performance Tables'!K51","v":0},0,null,{"$f":"((INDEX(J43:J59,MATCH(MIN(R43:R59),R43:R59)+1))-INDEX(J43:J59,MATCH(MIN(R43:R59),R43:R59)))/(P49-P48)","v":1.2279999999999996E-2},{"$f":"((INDEX(K43:K59,MATCH(MIN(S43:S59),S43:S59)+1))-INDEX(K43:K59,MATCH(MIN(S43:S59),S43:S59)))/(Q49-Q48)","v":2.8409090909090827E-3},"-","-"]
[22,0.61060000000000003,0.89488636363636376,null,null,null,null,null,22,0.43780000000000002,0.6875,{"$f":"'Step 5 Identify & Select ASHPs'!$B$30*'Ducted Performance Tables'!J52","v":0},{"$f":"'Step 5 Identify & Select ASHPs'!$B$31*'Ducted Performance Tables'!K52","v":0},0,null,{"$f":"INDEX(J43:J59,MATCH(MIN(R43:R59),R43:R59))-P51*P48","v":0.19483999999999999},{"$f":"INDEX(K43:K59,MATCH(MIN(S43:S59),S43:S59))-Q51*Q48","v":0.65056818181818177},"-","-"]
[27,0.65599999999999992,0.90909090909090917,null,null,null,null,null,27,0.4844,0.69318181818181812,{"$f":"'Step 5 Identify & Select ASHPs'!$B$30*'Ducted Performance Tables'!J53","v":0},{"$f":"'Step 5 Identify & Select ASHPs'!$B$31*'Ducted Performance Tables'!K53","v":0},0,null,null,null,"-","-"]
[32,0.72180000000000011,0.93181818181818188,null,null,null,null,null,32,0.54220000000000002,0.69602272727272729,{"$f":"'Step 5 Identify & Select ASHPs'!$B$30*'Ducted Performance Tables'!J54","v":0},{"$f":"'Step 5 Identify & Select ASHPs'!$B$31*'Ducted Performance Tables'!K54","v":0},0,null,null,null,"-","-"]
[37,0.78760000000000008,0.95454545454545447,null,null,null,null,null,37,0.6,0.69886363636363635,{"$f":"'Step 5 Identify & Select ASHPs'!$B$30*'Ducted Performance Tables'!J55","v":0},{"$f":"'Step 5 Identify & Select ASHPs'!$B$31*'Ducted Performance Tables'!K55","v":0},0,null,null,null,"-","-"]
[42,0.89379999999999993,0.97727272727272729,null,null,null,null,null,42,0.67420000000000002,0.69886363636363635,{"$f":"'Step 5 Identify & Select ASHPs'!$B$30*'Ducted Performance Tables'!J56","v":0},{"$f":"'Step 5 Identify & Select ASHPs'!$B$31*'Ducted Performance Tables'!K56","v":0},0,null,null,null,"-","-"]
[47,1,1,null,null,null,null,null,47,0.74840000000000007,0.69886363636363635,{"$f":"'Step 5 Identify & Select ASHPs'!$B$30*'Ducted Performance Tables'!J57","v":0},{"$f":"'Step 5 Identify & Select ASHPs'!$B$31*'Ducted Performance Tables'!K57","v":0},0,null,null,null,"-","-"]
[52,1.0713999999999999,1.03125,null,null,null,null,null,52,0.79139999999999999,0.69886363636363635,{"$f":"'Step 5 Identify & Select ASHPs'!$B$30*'Ducted Performance Tables'!J58","v":0},{"$f":"'Step 5 Identify & Select ASHPs'!$B$31*'Ducted Performance Tables'!K58","v":0},0,null,null,null,"-","-"]
[57,1.1428,1.0625,null,null,null,null,null,57,0.83440000000000003,0.69886363636363635,{"$f":"'Step 5 Identify & Select ASHPs'!$B$30*'Ducted Performance Tables'!J59","v":0},{"$f":"'Step 5 Identify & Select ASHPs'!$B$31*'Ducted Performance Tables'!K59","v":0},0,null,null,null,"-","-"]
[]
["HIGH Stage, Cool",null,null,null,null,null,null,null,"LoW Stage, Cool"]
["Temperature (F)","Normalized Capacity","Normalized Power",null,null,null,null,null,"Temperature (F)","Normalized Capacity","Normalized Power"]
[72,null,null,null,null,null,null,null,72]
[77,1.0652419354838709,0.79673913043478239,null,{"$f":"(($F$2-INDEX('HP1 Calcs'!$H$5:$H$13,MATCH($F$2,'HP1 Calcs'!$H$5:$H$13,1)))*(INDEX(J63:J71,MATCH($F$2,'HP1 Calcs'!$H$5:$H$13,1)+1)-INDEX(J63:J71,MATCH($F$2,'HP1 Calcs'!$H$5:$H$13,1))))/(INDEX('HP1 Calcs'!$H$5:$H$13,MATCH($F$2,'HP1 Calcs'!$H$5:$H$13,1)+1)-INDEX('HP1 Calcs'!$H$5:$H$13,MATCH($F$2,'HP1 Calcs'!$H$5:$H$13,1)))+INDEX(J63:J71,MATCH($F$2,'HP1 Calcs'!$H$5:$H$13,1))","v":{"$error":"#N/A"}},{"$f":"(($F$2-INDEX('HP1 Calcs'!$H$5:$H$13,MATCH($F$2,'HP1 Calcs'!$H$5:$H$13,1)))*(INDEX(K63:K71,MATCH($F$2,'HP1 Calcs'!$H$5:$H$13,1)+1)-INDEX(K63:K71,MATCH($F$2,'HP1 Calcs'!$H$5:$H$13,1))))/(INDEX('HP1 Calcs'!$H$5:$H$13,MATCH($F$2,'HP1 Calcs'!$H$5:$H$13,1)+1)-INDEX('HP1 Calcs'!$H$5:$H$13,MATCH($F$2,'HP1 Calcs'!$H$5:$H$13,1)))+INDEX(K63:K71,MATCH($F$2,'HP1 Calcs'!$H$5:$H$13,1))","v":{"$error":"#N/A"}},null,null,77,0.81612903225806455,0.55760869565217386]
[82,1.0253266536331052,0.8461462450592887,null,null,null,null,null,82,0.78659986966438578,0.60701581027667961]
[87,0.9855414746543778,0.89967218771566626,null,null,null,null,null,87,0.75679083461341512,0.65942028985507262]
[92,0.94593894009216584,0.95898033126294013,null,95,{"$f":"((95-A67)*(B68-B67))/(A68-A67)+B67","v":0.922129416282642},{"$f":"((95-A67)*(C68-C67))/(A68-A67)+C67","v":0.9965062111801245},null,92,0.72658890168970802,0.71603260869565233,null,95,{"$f":"((95-I67)*(J68-J67))/(I68-I67)+J67","v":0.70832373271889393},{"$f":"((95-I67)*(K68-K67))/(I68-I67)+K67","v":0.75194099378881996}]
[97,0.90625640040962607,1.0215234644582474,null,null,null,null,null,97,0.69614695340501787,0.77587991718426508]
[102,0.86645385304659506,1.0889190821256038,null,null,null,null,null,102,0.66534498207885306,0.84057971014492738]
[107,0.8263734115347019,1.1610013175230565,null,null,null,null,null,107,0.63448435972629524,0.91100131752305658]
[112,0.78584718149234278,1.2406016688625383,null,null,null,null,null,112,0.60352965135223202,0.99060166886253842]
[]
["Ducted Variable",null,"(From Daikin DZ20VC 36 Unit)"]
["MAX, Heat",null,null,null,null,null,null,null,"MIN, Heat"]
["Temperature (F)","Normalized Capacity","Normalized Power",null,null,null,null,null,"Temperature (F)","Normalized Capacity","Normalized Power"]
[-10,0.38285714285714284,1.2862903225806452,null,null,null,null,null,-10,0.24571428571428569,0.66935483870967738,{"$f":"'Step 5 Identify & Select ASHPs'!$B$30*'Ducted Performance Tables'!J76","v":0},{"$f":"'Step 5 Identify & Select ASHPs'!$B$31*'Ducted Performance Tables'!K76","v":0},{"$f":"(L76/3412)/K76","v":0}]
[-5,0.46857142857142853,1.3266129032258065,null,null,null,null,null,-5,0.3,0.68548387096774188,{"$f":"'Step 5 Identify & Select ASHPs'!$B$30*'Ducted Performance Tables'!J77","v":0},{"$f":"'Step 5 Identify & Select ASHPs'!$B$31*'Ducted Performance Tables'!K77","v":0},{"$f":"(L77/3412)/K77","v":0}]
[0,0.5485714285714286,1.3669354838709677,null,null,null,null,null,0,0.35142857142857142,0.70564516129032262,{"$f":"'Step 5 Identify & Select ASHPs'!$B$30*'Ducted Performance Tables'!J78","v":0},{"$f":"'Step 5 Identify & Select ASHPs'!$B$31*'Ducted Performance Tables'!K78","v":0},0,null,null,null,"AHRI Rated Capacity","If at 47F. Identical to entry"]
[5,0.63142857142857145,1.403225806451613,null,null,null,null,null,5,0.40285714285714286,0.72177419354838712,{"$f":"'Step 5 Identify & Select ASHPs'!$B$30*'Ducted Performance Tables'!J79","v":0},{"$f":"'Step 5 Identify & Select ASHPs'!$B$31*'Ducted Performance Tables'!K79","v":0},0,null,null,null,null,"If at 17F, use correction formula in slides and example"]
[10,0.71142857142857141,1.4435483870967742,null,null,null,null,null,10,0.45428571428571429,0.74193548387096775,{"$f":"'Step 5 Identify & Select ASHPs'!$B$30*'Ducted Performance Tables'!J80","v":0},{"$f":"'Step 5 Identify & Select ASHPs'!$B$31*'Ducted Performance Tables'!K80","v":0},0]
[15,0.79142857142857137,1.4838709677419355,null,null,null,null,null,15,0.50571428571428567,0.75806451612903225,{"$f":"'Step 5 Identify & Select ASHPs'!$B$30*'Ducted Performance Tables'!J81","v":0},{"$f":"'Step 5 Identify & Select ASHPs'!$B$31*'Ducted Performance Tables'!K81","v":0},0]
[17,0.82285714285714284,1.5,null,null,null,null,null,17,0.52571428571428569,0.7661290322580645,{"$f":"'Step 5 Identify & Select ASHPs'!$B$30*'Ducted Performance Tables'!J82","v":0},{"$f":"'Step 5 Identify & Select ASHPs'!$B$31*'Ducted Performance Tables'!K82","v":0},0]
[20,0.87142857142857144,1.5201612903225807,null,null,null,null,null,20,0.55714285714285716,0.77419354838709675,{"$f":"'Step 5 Identify & Select ASHPs'!$B$30*'Ducted Performance Tables'!J83","v":0},{"$f":"'Step 5 Identify & Select ASHPs'!$B$31*'Ducted Performance Tables'!K83","v":0},0]
[25,0.94571428571428573,1.560483870967742,null,null,null,null,null,25,0.60285714285714287,0.79435483870967738,{"$f":"'Step 5 Identify & Select ASHPs'!$B$30*'Ducted Performance Tables'!J84","v":0},{"$f":"'Step 5 Identify & Select ASHPs'!$B$31*'Ducted Performance Tables'!K84","v":0},0]
[30,1.0257142857142856,1.6008064516129032,null,null,null,null,null,30,0.65428571428571425,0.81048387096774188,{"$f":"'Step 5 Identify & Select ASHPs'!$B$30*'Ducted Performance Tables'!J85","v":0},{"$f":"'Step 5 Identify & Select ASHPs'!$B$31*'Ducted Performance Tables'!K85","v":0},0]
[35,0.83142857142857152,0.95161290322580638,null,null,null,null,null,35,0.6,0.55241935483870974,{"$f":"'Step 5 Identify & Select ASHPs'!$B$30*'Ducted Performance Tables'!J86","v":0},{"$f":"'Step 5 Identify & Select ASHPs'!$B$31*'Ducted Performance Tables'!K86","v":0},0]
[40,0.9,0.97177419354838712,null,null,null,null,null,40,0.64857142857142858,0.56451612903225801,{"$f":"'Step 5 Identify & Select ASHPs'!$B$30*'Ducted Performance Tables'!J87","v":0},{"$f":"'Step 5 Identify & Select ASHPs'!$B$31*'Ducted Performance Tables'!K87","v":0},0]
[45,0.96857142857142853,0.99193548387096775,null,null,null,null,null,45,0.7,0.57258064516129026,{"$f":"'Step 5 Identify & Select ASHPs'!$B$30*'Ducted Performance Tables'!J88","v":0},{"$f":"'Step 5 Identify & Select ASHPs'!$B$31*'Ducted Performance Tables'!K88","v":0},0]
[47,1,1,null,null,null,null,null,47,0.72,0.57661290322580638,{"$f":"'Step 5 Identify & Select ASHPs'!$B$30*'Ducted Performance Tables'!J89","v":0},{"$f":"'Step 5 Identify & Select ASHPs'!$B$31*'Ducted Performance Tables'!K89","v":0},0]
[50,1.0457142857142858,1.0120967741935483,null,null,null,null,null,50,0.75428571428571423,0.58467741935483875,{"$f":"'Step 5 Identify & Select ASHPs'!$B$30*'Ducted Performance Tables'!J90","v":0},{"$f":"'Step 5 Identify & Select ASHPs'!$B$31*'Ducted Performance Tables'!K90","v":0},0]
[55,1.1200000000000001,1.032258064516129,null,null,null,null,null,55,0.80857142857142861,0.592741935483871,{"$f":"'Step 5 Identify & Select ASHPs'!$B$30*'Ducted Performance Tables'!J91","v":0},{"$f":"'Step 5 Identify & Select ASHPs'!$B$31*'Ducted Performance Tables'!K91","v":0},0]
[60,1.1914285714285715,1.0524193548387097,null,null,null,null,null,60,0.8571428571428571,0.60483870967741937,{"$f":"'Step 5 Identify & Select ASHPs'!$B$30*'Ducted Performance Tables'!J92","v":0},{"$f":"'Step 5 Identify & Select ASHPs'!$B$31*'Ducted Performance Tables'!K92","v":0},0]
[65,1.2571428571428571,1.0725806451612905,null,null,null,null,null,65,0.90571428571428569,0.61693548387096775,{"$f":"'Step 5 Identify & Select ASHPs'!$B$30*'Ducted Performance Tables'!J93","v":0},{"$f":"'Step 5 Identify & Select ASHPs'!$B$31*'Ducted Performance Tables'!K93","v":0},0]
[]
["Temperature (F)",null,null,null,null,null,null,null,"Temperature (F)"]
["Column1","Column2","Column3",null,null,null,null,null,"Column1","Column2","Column3",{"$f":"'Step 5 Identify & Select ASHPs'!$B$30*'Ducted Performance Tables'!J97","v":{"$error":"#VALUE!"}},{"$f":"'Step 5 Identify & Select ASHPs'!$B$31*'Ducted Performance Tables'!K97","v":{"$error":"#VALUE!"}},{"$f":"(L96/3412)/K97","v":{"$error":"#VALUE!"}},null,null,null,{"$f":"IF(AND(J97<>\"-\",J95=\"-\",ISNUMBER(J98)),J97,\"-\")","v":"-"},{"$f":"IF(AND(K97<>\"-\",K95=\"-\",ISNUMBER(K98)),K97,\"-\")","v":"-"}]
[-23,"-","-",null,null,null,null,null,-23,"-","-",{"$f":"'Step 5 Identify & Select ASHPs'!$B$30*'Ducted Performance Tables'!J98","v":{"$error":"#VALUE!"}},{"$f":"'Step 5 Identify & Select ASHPs'!$B$31*'Ducted Performance Tables'!K98","v":{"$error":"#VALUE!"}},{"$error":"#VALUE!"},null,null,null,{"$f":"IF(AND(J98<>\"-\",J97=\"-\",ISNUMBER(J99)),J98,\"-\")","v":"-"},"-"]
[-18,"-","-",null,{"$f":"(($E$2-INDEX('HP1 Calcs'!$A$4:$A$20,MATCH($E$2,'HP1 Calcs'!$A$4:$A$20,1)))*(INDEX(J97:J113,MATCH($E$2,'HP1 Calcs'!$A$4:$A$20,1)+1)-INDEX(J97:J113,MATCH($E$2,'HP1 Calcs'!$A$4:$A$20,1))))/(INDEX('HP1 Calcs'!$A$4:$A$20,MATCH($E$2,'HP1 Calcs'!$A$4:$A$20,1)+1)-INDEX('HP1 Calcs'!$A$4:$A$20,MATCH($E$2,'HP1 Calcs'!$A$4:$A$20,1)))+INDEX(J97:J113,MATCH($E$2,'HP1 Calcs'!$A$4:$A$20,1))","v":{"$error":"#REF!"}},{"$f":"(($E$2-INDEX('HP1 Calcs'!$A$4:$A$20,MATCH($E$2,'HP1 Calcs'!$A$4:$A$20,1)))*(INDEX(K97:K113,MATCH($E$2,'HP1 Calcs'!$A$4:$A$20,1)+1)-INDEX(K97:K113,MATCH($E$2,'HP1 Calcs'!$A$4:$A$20,1))))/(INDEX('HP1 Calcs'!$A$4:$A$20,MATCH($E$2,'HP1 Calcs'!$A$4:$A$20,1)+1)-INDEX('HP1 Calcs'!$A$4:$A$20,MATCH($E$2,'HP1 Calcs'!$A$4:$A$20,1)))+INDEX(K97:K113,MATCH($E$2,'HP1 Calcs'!$A$4:$A$20,1))","v":{"$error":"#REF!"}},null,null,-18,"-","-",{"$f":"'Step 5 Identify & Select ASHPs'!$B$30*'Ducted Performance Tables'!J99","v":{"$error":"#VALUE!"}},{"$f":"'Step 5 Identify & Select ASHPs'!$B$31*'Ducted Performance Tables'!K99","v":{"$error":"#VALUE!"}},{"$error":"#VALUE!"},null,null,null,"-","-"]
[-13,"-","-",null,null,null,null,null,-13,"-","-",{"$f":"'Step 5 Identify & Select ASHPs'!$B$30*'Ducted Performance Tables'!J100","v":0},{"$f":"'Step 5 Identify & Select ASHPs'!$B$31*'Ducted Performance Tables'!K100","v":0},0,null,null,null,0.2674285714285714,0.6758064516129032]
[-8,{"$f":"((A100-A76)*(B77-B76))/(A77-A76)+B76","v":0.41714285714285709},1.3024193548387097,"HP1",{"$f":"IF(OR('Step 5 Identify & Select ASHPs'!$B$37=\"No\",'Step 5 Identify & Select ASHPs'!$B$37=\"Not Sure\"),0,IF(P104<0,INDEX(J97:J113,MATCH(MIN(R96:R112),J97:J113)),'HP1 Calcs'!$A$4*'Ducted Performance Tables'!P104+'Ducted Performance Tables'!P105))","v":0.35245714285714286},{"$f":"IF(OR('Step 5 Identify & Select ASHPs'!$B$37=\"No\",'Step 5 Identify & Select ASHPs'!$B$37=\"Not Sure\"),0,IF(Q104<0,INDEX(K97:K113,MATCH(MIN(S96:S112),K97:K113)),'HP1 Calcs'!$A$4*'Ducted Performance Tables'!Q104+'Ducted Performance Tables'!Q105))","v":0.70419354838709669},null,null,-8,{"$f":"((I100-I76)*(J77-J76))/(I77-I76)+J76","v":0.2674285714285714},0.6758064516129032,{"$f":"'Step 5 Identify & Select ASHPs'!$B$30*'Ducted Performance Tables'!J101","v":0},{"$f":"'Step 5 Identify & Select ASHPs'!$B$31*'Ducted Performance Tables'!K101","v":0},0,null,null,null,"-","-"]
[-3,0.50057142857142856,1.342741935483871,"HP2",{"$f":"IF(OR('Step 5 Identify & Select ASHPs'!$G$37=\"No\",'Step 5 Identify & Select ASHPs'!$G$37=\"Not Sure\"),0,IF(P104<0,INDEX(J97:J113,MATCH(MIN(R96:R112),J97:J113)),'HP1 Calcs'!$A$26*'Ducted Performance Tables'!P104+'Ducted Performance Tables'!P105))","v":0.5862857142857143},{"$f":"IF(OR('Step 5 Identify & Select ASHPs'!$G$37=\"No\",'Step 5 Identify & Select ASHPs'!$G$37=\"Not Sure\"),0,IF(Q104<0,INDEX(K97:K113,MATCH(MIN(S96:S112),K97:K113)),'HP1 Calcs'!$A$26*'Ducted Performance Tables'!Q104+'Ducted Performance Tables'!Q105))","v":0.78225806451612878},null,null,-3,0.32057142857142856,0.69354838709677413,{"$f":"'Step 5 Identify & Select ASHPs'!$B$30*'Ducted Performance Tables'!J102","v":0},{"$f":"'Step 5 Identify & Select ASHPs'!$B$31*'Ducted Performance Tables'!K102","v":0},0,null,{"$f":"INDEX(I97:I113,MATCH(MIN(R96:R112),R96:R112))","v":-8},{"$f":"INDEX(I97:I113,MATCH(MIN(S96:S112),S96:S112))","v":-8},"-","-"]
[2,0.58171428571428574,1.3814516129032259,"HP3",{"$f":"IF(OR('Step 5 Identify & Select ASHPs'!$L$37=\"No\",'Step 5 Identify & Select ASHPs'!$L$37=\"Not Sure\"),0,IF(P104<0,INDEX(J97:J113,MATCH(MIN(R96:R112),J97:J113)),'HP1 Calcs'!$A$48*'Ducted Performance Tables'!P104+'Ducted Performance Tables'!P105))","v":0.35245714285714286},{"$f":"IF(OR('Step 5 Identify & Select ASHPs'!$L$37=\"No\",'Step 5 Identify & Select ASHPs'!$L$37=\"Not Sure\"),0,IF(Q104<0,INDEX(K97:K113,MATCH(MIN(S96:S112),K97:K113)),'HP1 Calcs'!$A$48*'Ducted Performance Tables'!Q104+'Ducted Performance Tables'!Q105))","v":0.70419354838709669},null,null,2,0.372,0.71209677419354844,{"$f":"'Step 5 Identify & Select ASHPs'!$B$30*'Ducted Performance Tables'!J103","v":0},{"$f":"'Step 5 Identify & Select ASHPs'!$B$31*'Ducted Performance Tables'!K103","v":0},0,null,{"$f":"INDEX(I97:I113,MATCH(MIN(R96:R112),R96:R112)+1)","v":-3},{"$f":"INDEX(I97:I113,MATCH(MIN(S96:S112),S96:S112)+1)","v":-3},"-","-"]
[7,0.66342857142857148,1.4193548387096775,"HP4",{"$f":"IF(OR('Step 5 Identify & Select ASHPs'!$Q$37=\"No\",'Step 5 Identify & Select ASHPs'!$Q$37=\"Not Sure\"),0,IF(P104<0,INDEX(J97:J113,MATCH(MIN(R96:R112),J97:J113)),'HP1 Calcs'!$A$70*'Ducted Performance Tables'!P104+'Ducted Performance Tables'!P105))","v":0.35245714285714286},{"$f":"IF(OR('Step 5 Identify & Select ASHPs'!$Q$37=\"No\",'Step 5 Identify & Select ASHPs'!$Q$37=\"Not Sure\"),0,IF(Q104<0,INDEX(K97:K113,MATCH(MIN(S96:S112),K97:K113)),'HP1 Calcs'!$A$70*'Ducted Performance Tables'!Q104+'Ducted Performance Tables'!Q105))","v":0.70419354838709669},null,null,7,0.42342857142857143,0.72983870967741937,{"$f":"'Step 5 Identify & Select ASHPs'!$B$30*'Ducted Performance Tables'!J104","v":0},{"$f":"'Step 5 Identify & Select ASHPs'!$B$31*'Ducted Performance Tables'!K104","v":0},0,null,null,null,"-","-"]
[12,0.74342857142857144,1.4596774193548387,null,null,null,null,null,12,0.47485714285714287,0.74838709677419357,{"$f":"'Step 5 Identify & Select ASHPs'!$B$30*'Ducted Performance Tables'!J105","v":0},{"$f":"'Step 5 Identify & Select ASHPs'!$B$31*'Ducted Performance Tables'!K105","v":0},0,null,{"$f":"((INDEX(J97:J113,MATCH(MIN(R96:R112),R96:R112)+1))-INDEX(J97:J113,MATCH(MIN(R96:R112),R96:R112)))/(P102-P101)","v":1.0628571428571432E-2},{"$f":"((INDEX(K97:K113,MATCH(MIN(S96:S112),S96:S112)+1))-INDEX(K97:K113,MATCH(MIN(S96:S112),S96:S112)))/(Q102-Q101)","v":3.548387096774186E-3},"-","-"]
[17,{"$f":"B82","v":0.82285714285714284},{"$f":"C82","v":1.5},null,null,null,null,null,17,{"$f":"J82","v":0.52571428571428569},{"$f":"K82","v":0.7661290322580645},{"$f":"'Step 5 Identify & Select ASHPs'!$B$30*'Ducted Performance Tables'!J106","v":0},{"$f":"'Step 5 Identify & Select ASHPs'!$B$31*'Ducted Performance Tables'!K106","v":0},0,null,{"$f":"INDEX(J97:J113,MATCH(MIN(R96:R112),R96:R112))-P104*P101","v":0.35245714285714286},{"$f":"INDEX(K97:K113,MATCH(MIN(S96:S112),S96:S112))-Q104*Q101","v":0.70419354838709669},"-","-"]
[22,{"$f":"((A106-A83)*(B84-B83))/(A84-A83)+B83","v":0.90114285714285713},1.5362903225806452,null,null,null,null,null,22,{"$f":"((I106-I83)*(J84-J83))/(I84-I83)+J83","v":0.5754285714285714},0.782258064516129,{"$f":"'Step 5 Identify & Select ASHPs'!$B$30*'Ducted Performance Tables'!J107","v":0},{"$f":"'Step 5 Identify & Select ASHPs'!$B$31*'Ducted Performance Tables'!K107","v":0},0,null,null,null,"-","-"]
[27,0.97771428571428565,1.5766129032258065,null,null,null,null,null,27,0.62342857142857144,0.8008064516129032,{"$f":"'Step 5 Identify & Select ASHPs'!$B$30*'Ducted Performance Tables'!J108","v":0},{"$f":"'Step 5 Identify & Select ASHPs'!$B$31*'Ducted Performance Tables'!K108","v":0},0,null,null,null,"-","-"]
[32,0.94799999999999995,1.3411290322580645,null,null,null,null,null,32,0.63257142857142856,0.70725806451612916,{"$f":"'Step 5 Identify & Select ASHPs'!$B$30*'Ducted Performance Tables'!J109","v":0},{"$f":"'Step 5 Identify & Select ASHPs'!$B$31*'Ducted Performance Tables'!K109","v":0},0,null,null,null,"-","-"]
[37,0.85885714285714287,0.95967741935483863,null,null,null,null,null,37,0.61942857142857144,0.55725806451612903,{"$f":"'Step 5 Identify & Select ASHPs'!$B$30*'Ducted Performance Tables'!J110","v":0},{"$f":"'Step 5 Identify & Select ASHPs'!$B$31*'Ducted Performance Tables'!K110","v":0},0,null,null,null,"-","-"]
[42,0.92742857142857138,0.97983870967741937,null,null,null,null,null,42,0.66914285714285715,0.56774193548387086,{"$f":"'Step 5 Identify & Select ASHPs'!$B$30*'Ducted Performance Tables'!J111","v":0},{"$f":"'Step 5 Identify & Select ASHPs'!$B$31*'Ducted Performance Tables'!K111","v":0},0,null,null,null,"-","-"]
[47,{"$f":"B89","v":1},{"$f":"C89","v":1},null,null,null,null,null,47,{"$f":"J89","v":0.72},{"$f":"K89","v":0.57661290322580638},{"$f":"'Step 5 Identify & Select ASHPs'!$B$30*'Ducted Performance Tables'!J112","v":0},{"$f":"'Step 5 Identify & Select ASHPs'!$B$31*'Ducted Performance Tables'!K112","v":0},0,null,null,null,"-","-"]
[52,{"$f":"((A112-A90)*(B91-B90))/(A91-A90)+B90","v":1.0754285714285716},{"$f":"((B112-B90)*(C91-C90))/(B91-B90)+C90","v":1.0201612903225805},null,null,null,null,null,52,{"$f":"((I112-I90)*(J91-J90))/(I91-I90)+J90","v":0.77600000000000002},{"$f":"((J112-J90)*(K91-K90))/(J91-J90)+K90","v":0.5879032258064516},{"$f":"'Step 5 Identify & Select ASHPs'!$B$30*'Ducted Performance Tables'!J113","v":0},{"$f":"'Step 5 Identify & Select ASHPs'!$B$31*'Ducted Performance Tables'!K113","v":0},0,null,null,null,{"$f":"IF(AND(J113<>\"-\",J112=\"-\",ISNUMBER(#REF!)),J113,\"-\")","v":"-"},{"$f":"IF(AND(K113<>\"-\",K112=\"-\",ISNUMBER(#REF!)),K113,\"-\")","v":"-"}]
[57,{"$f":"((A113-A91)*(B92-B91))/(A92-A91)+B91","v":1.1485714285714286},{"$f":"((B113-B91)*(C92-C91))/(B92-B91)+C91","v":1.0403225806451613},null,null,null,null,null,57,{"$f":"((I113-I91)*(J92-J91))/(I92-I91)+J91","v":0.82799999999999996},{"$f":"((J113-J91)*(K92-K91))/(J92-J91)+K91","v":0.59758064516129039}]
[]
[]
[]
["MAX, Cool",null,null,null,null,null,null,null,"MIN, Cool"]
["Temperature (F)","Normalized Capacity","Normalized Power",null,null,null,null,null,"Temperature (F)","Normalized Capacity","Normalized Power"]
[65,1.0028248587570601,0.7865612648221344,null,null,null,null,null,65,0.70903954802259894,0.53754940711462462]
[75,0.97175141242937857,0.85375494071146252,null,null,null,null,null,75,0.69209039548022599,0.57707509881422925]
[85,0.94915254237288138,0.90909090909090906,null,null,null,null,null,85,0.67514124293785305,0.60869565217391308]
[95,0.92655367231638419,0.95652173913043481,null,null,null,null,null,95,0.66101694915254239,0.64031620553359692]
[105,0.88135593220338981,1,null,null,null,null,null,105,0.6271186440677966,0.66798418972332019]
[115,0.81638418079096042,1.0355731225296443,null,null,null,null,null,115,0.57909604519774016,0.68774703557312256]
[]
[]
["Temperature (F)",null,null,null,null,null,null,null,"Temperature (F)"]
["Column1","Column2","Column3",null,null,null,null,null,"Column1","Column2","Column3"]
[72,{"$f":"((A129-A119)*(B120-B119))/(A120-A119)+B119","v":0.98107344632768301},{"$f":"((B129-B119)*(C120-C119))/(B120-B119)+C119","v":0.8335968379446641},null,{"$f":"(($F$2-INDEX('HP1 Calcs'!$H$5:$H$13,MATCH($F$2,'HP1 Calcs'!$H$5:$H$13,1)))*(INDEX(J129:J137,MATCH($F$2,'HP1 Calcs'!$H$5:$H$13,1)+1)-INDEX(J129:J137,MATCH($F$2,'HP1 Calcs'!$H$5:$H$13,1))))/(INDEX('HP1 Calcs'!$H$5:$H$13,MATCH($F$2,'HP1 Calcs'!$H$5:$H$13,1)+1)-INDEX('HP1 Calcs'!$H$5:$H$13,MATCH($F$2,'HP1 Calcs'!$H$5:$H$13,1)))+INDEX(J129:J137,MATCH($F$2,'HP1 Calcs'!$H$5:$H$13,1))","v":{"$error":"#N/A"}},{"$f":"(($F$2-INDEX('HP1 Calcs'!$H$5:$H$13,MATCH($F$2,'HP1 Calcs'!$H$5:$H$13,1)))*(INDEX(K129:K137,MATCH($F$2,'HP1 Calcs'!$H$5:$H$13,1)+1)-INDEX(K129:K137,MATCH($F$2,'HP1 Calcs'!$H$5:$H$13,1))))/(INDEX('HP1 Calcs'!$H$5:$H$13,MATCH($F$2,'HP1 Calcs'!$H$5:$H$13,1)+1)-INDEX('HP1 Calcs'!$H$5:$H$13,MATCH($F$2,'HP1 Calcs'!$H$5:$H$13,1)))+INDEX(K129:K137,MATCH($F$2,'HP1 Calcs'!$H$5:$H$13,1))","v":{"$error":"#N/A"}},null,null,72,{"$f":"((I129-I119)*(J120-J119))/(I120-I119)+J119","v":0.69717514124293789},{"$f":"((J129-J119)*(K120-K119))/(J120-J119)+K119","v":0.56521739130434778}]
[77,{"$f":"((A130-A120)*(B121-B120))/(A121-A120)+B120","v":0.96723163841807913},{"$f":"((B130-B120)*(C121-C120))/(B121-B120)+C120","v":0.86482213438735178},null,null,null,null,null,77,{"$f":"((I130-I120)*(J121-J120))/(I121-I120)+J120","v":0.68870056497175136},{"$f":"((J130-J120)*(K121-K120))/(J121-J120)+K120","v":0.58339920948616608}]
[82,{"$f":"((A131-A120)*(B121-B120))/(A121-A120)+B120","v":0.95593220338983054},{"$f":"((B131-B120)*(C121-C120))/(B121-B120)+C120","v":0.89249011857707505},null,null,null,null,null,82,{"$f":"((I131-I120)*(J121-J120))/(I121-I120)+J120","v":0.68022598870056494},{"$f":"((J131-J120)*(K121-K120))/(J121-J120)+K120","v":0.59920948616600789}]
[87,{"$f":"((A132-A121)*(B122-B121))/(A122-A121)+B121","v":0.94463276836158194},{"$f":"((B132-B121)*(C122-C121))/(B122-B121)+C121","v":0.91857707509881426},null,null,null,null,null,87,{"$f":"((I132-I121)*(J122-J121))/(I122-I121)+J121","v":0.67231638418079087},{"$f":"((J132-J121)*(K122-K121))/(J122-J121)+K121","v":0.61501976284584992}]
[92,{"$f":"((A133-A121)*(B122-B121))/(A122-A121)+B121","v":0.93333333333333335},{"$f":"((B133-B121)*(C122-C121))/(B122-B121)+C121","v":0.94229249011857708},null,null,null,null,null,92,{"$f":"((I133-I121)*(J122-J121))/(I122-I121)+J121","v":0.6652542372881356},{"$f":"((J133-J121)*(K122-K121))/(J122-J121)+K121","v":0.63083003952569172}]
[97,{"$f":"((A134-A122)*(B123-B122))/(A123-A122)+B122","v":0.91751412429378532},{"$f":"((B134-B122)*(C123-C122))/(B123-B122)+C122","v":0.9652173913043478},null,null,null,null,null,97,{"$f":"((I134-I122)*(J123-J122))/(I123-I122)+J122","v":0.65423728813559323},{"$f":"((J134-J122)*(K123-K122))/(J123-J122)+K122","v":0.64584980237154155}]
[102,{"$f":"((A135-A122)*(B123-B122))/(A123-A122)+B122","v":0.89491525423728813},{"$f":"((B135-B122)*(C123-C122))/(B123-B122)+C122","v":0.9869565217391304},null,null,null,null,null,102,{"$f":"((I135-I122)*(J123-J122))/(I123-I122)+J122","v":0.63728813559322028},{"$f":"((J135-J122)*(K123-K122))/(J123-J122)+K122","v":0.65968379446640324}]
[107,{"$f":"((A136-A123)*(B124-B123))/(A124-A123)+B123","v":0.86836158192090396},{"$f":"((B136-B123)*(C124-C123))/(B124-B123)+C123","v":1.0071146245059288},null,null,null,null,null,107,{"$f":"((I136-I123)*(J124-J123))/(I124-I123)+J123","v":0.61751412429378527},{"$f":"((J136-J123)*(K124-K123))/(J124-J123)+K123","v":0.67193675889328064}]
[112,{"$f":"((A137-A123)*(B124-B123))/(A124-A123)+B123","v":0.83587570621468921},{"$f":"((B137-B123)*(C124-C123))/(B124-B123)+C123","v":1.0249011857707511},null,null,null,null,null,112,{"$f":"((I137-I123)*(J124-J123))/(I124-I123)+J123","v":0.59350282485875705},{"$f":"((J137-J123)*(K124-K123))/(J124-J123)+K123","v":0.68181818181818188}]

{"sheet":"Ductless Multi-split","index":17,"n_rows":135,"n_cols":19,"rows_kept":135,"cut":false,"hidden":true,"merged":[]}
["Ductless, Multi Split,regular",null,null,"^Checked, MXC-3C30NA, June 4 2020"]
["Cooling, Max",null,null,null,{"$f":"'Step 3 Design Loads'!B13","v":0},{"$f":"'Step 3 Design Loads'!B15","v":88},null,null,null,"Cooling, Min"]
["Temperature","Norm Cap","Norm Power",null,null,null,null,null,null,"Temperature","Norm Cap","Norm Power"]
[70,1.1000000000000001,1.0298507462686568,null,null,null,null,null,null,70,0.34876760563380282,0.16305970149253732]
[74,1.1000000000000001,1.0298507462686568,null,null,null,null,null,null,74,0.34274647887323945,0.17537313432835822]
[78,1.1000000000000001,1.0298507462686568,null,null,null,null,null,null,78,0.33644366197183101,0.18880597014925374]
[82,1.1000000000000001,1.0298507462686568,null,null,null,null,null,null,82,0.33042253521126763,0.20111940298507464]
[86,1.1000000000000001,1.0298507462686568,null,null,null,null,null,null,86,0.32443661971830984,0.21380597014925373]
[90,1.1000000000000001,1.0298507462686568,null,null,null,null,null,null,90,0.31841549295774646,0.22649253731343283]
[94,1.1000000000000001,1.0298507462686568,null,null,null,null,null,null,94,0.31239436619718308,0.23917910447761195]
[102,1.06,1.0899253731343284,null,null,null,null,null,null,102,0.3012323943661972,0.26417910447761195]
[110,1.02,1.1499999999999999,null,null,null,null,null,null,110,0.29031690140845068,0.28917910447761191]
[115,0.79,0.92014925373134326,null,null,null,null,null,null,115,0.26151408450704228,0.27611940298507465]
[]
[{"$f":"IF('Intro & Unit Options'!$B$12=\"Imperial\",\"Outdoor Temperature (°F)\",\"Outdoor Temperature (°C)\")","v":"Outdoor Temperature (°F)"}]
["Column1","Column2","Column3",null,null,null,null,null,null,"Column1","Column2","Column3"]
[72,{"$f":"((A17-A4)*(B5-B4))/(A5-A4)+B4","v":1.1000000000000001},{"$f":"IFERROR(((B17-B4)*(C5-C4))/(B5-B4)+C4,C4)","v":1.0298507462686568},null,null,null,null,null,null,72,{"$f":"((J17-J4)*(K5-K4))/(J5-J4)+K4","v":0.34575704225352111},{"$f":"IFERROR(((K17-K4)*(L5-L4))/(K5-K4)+L4,L4)","v":0.16921641791044784}]
[77,{"$f":"((A18-A5)*(B6-B5))/(A6-A5)+B5","v":1.1000000000000001},{"$f":"IFERROR(((B18-B5)*(C6-C5))/(B6-B5)+C5,C5)","v":1.0298507462686568},null,null,null,null,null,null,77,{"$f":"((J18-J5)*(K6-K5))/(J6-J5)+K5","v":0.33801936619718309},{"$f":"IFERROR(((K18-K5)*(L6-L5))/(K6-K5)+L5,L5)","v":0.18544776119402992}]
[82,{"$f":"B7","v":1.1000000000000001},{"$f":"C7","v":1.0298507462686568},null,null,null,null,null,null,82,{"$f":"K7","v":0.33042253521126763},{"$f":"L7","v":0.20111940298507464}]
[87,{"$f":"((A20-A8)*(B9-B8))/(A9-A8)+B8","v":1.1000000000000001},{"$f":"IFERROR(((B20-B8)*(C9-C8))/(B9-B8)+C8,C8)","v":1.0298507462686568},null,95,{"$f":"((95-A21)*(B22-B21))/(A22-A21)+B21","v":1.091},{"$f":"((F20-B21)*(C22-C21))/(B22-B21)+C21","v":1.043367537313433},null,null,87,{"$f":"((J20-J8)*(K9-K8))/(J9-J8)+K8","v":0.32293133802816898},{"$f":"IFERROR(((K20-K8)*(L9-L8))/(K9-K8)+L8,L8)","v":0.21697761194029855},null,95,{"$f":"((95-J21)*(K22-K21))/(J22-J21)+K21","v":0.31108714788732394},{"$f":"((O20-K21)*(L22-L21))/(K22-K21)+L21","v":0.24226679104477611}]
[92,{"$f":"((A21-A9)*(B10-B9))/(A10-A9)+B9","v":1.1000000000000001},{"$f":"IFERROR(((B21-B9)*(C10-C9))/(B10-B9)+C9,C9)","v":1.0298507462686568},null,null,null,null,null,null,92,{"$f":"((J21-J9)*(K10-K9))/(J10-J9)+K9","v":0.3154049295774648},{"$f":"IFERROR(((K21-K9)*(L10-L9))/(K10-K9)+L9,L9)","v":0.23283582089552232}]
[97,{"$f":"((A22-A10)*(B11-B10))/(A11-A10)+B10","v":1.085},{"$f":"((B22-B10)*(C11-C10))/(B11-B10)+C10","v":1.0523787313432837},null,null,null,null,null,null,97,{"$f":"((J22-J10)*(K11-K10))/(J11-J10)+K10","v":0.30820862676056338},{"$f":"((K22-K10)*(L11-L10))/(K11-K10)+L10","v":0.24855410447761195}]
[102,{"$f":"B11","v":1.06},{"$f":"C11","v":1.0899253731343284},null,null,null,null,null,null,102,{"$f":"K11","v":0.3012323943661972},{"$f":"L11","v":0.26417910447761195}]
[107,{"$f":"((A24-A11)*(B12-B11))/(A12-A11)+B11","v":1.0350000000000001},{"$f":"((B24-B11)*(C12-C11))/(B12-B11)+C11","v":1.127472014925373},null,null,null,null,null,null,107,{"$f":"((J24-J11)*(K12-K11))/(J12-J11)+K11","v":0.29441021126760564},{"$f":"((K24-K11)*(L12-L11))/(K12-K11)+L11","v":0.27980410447761189}]
[112,{"$f":"((A25-A12)*(B13-B12))/(A13-A12)+B12","v":0.92800000000000005},{"$f":"((B25-B12)*(C13-C12))/(B13-B12)+C12","v":1.0580597014925373},null,null,null,null,null,null,112,{"$f":"((J25-J12)*(K13-K12))/(J13-J12)+K12","v":0.2787957746478873},{"$f":"((K25-K12)*(L13-L12))/(K13-K12)+L12","v":0.28395522388059702}]
[]
[]
["Heating, Max",null,null,null,null,null,null,null,null,"Heating, Min"]
["Temperature","Norm Cap","Norm Power",null,null,null,null,null,null,"Temperature","Norm Cap","Norm Power"]
[5,0.93129370629370634,1.2976744186046512,null,null,null,null,null,null,5,0.5275874125874126,0.99906976744186049]
[10,0.91160839160839158,1.3023255813953489,null,null,null,null,null,null,10,0.54041958041958038,0.99116279069767443]
[15,0.90454545454545454,1.3534883720930233,null,null,null,null,null,null,15,0.41867132867132867,0.65906976744186041]
[20,0.91066433566433569,1.4027906976744187,null,null,null,null,null,null,20,0.44300699300699303,0.67209302325581399]
[25,0.93062937062937068,1.4265116279069767,null,null,null,null,null,null,25,0.46797202797202797,0.67255813953488375]
[30,0.96499999999999997,1.4767441860465116,null,null,null,null,null,null,30,0.49276223776223776,0.68558139534883722]
[35,0.96066433566433562,1.5120930232558139,null,null,null,null,null,null,35,0.35867132867132867,0.41255813953488374]
[40,1.018846153846154,1.56,null,null,null,null,null,null,40,0.39884615384615385,0.42604651162790697]
[45,1.2136363636363636,1.5962790697674418,null,null,null,null,null,null,45,0.44048951048951052,0.43953488372093025]
[50,1.2158741258741259,1.5962790697674418,null,null,null,null,null,null,50,0.48220279720279718,0.45302325581395347]
[55,1.2178321678321677,1.5809302325581396,null,null,null,null,null,null,55,0.52395104895104894,0.4618604651162791]
[60,1.2195804195804196,1.5809302325581396,null,null,null,null,null,null,60,0.56573426573426577,0.47534883720930232]
[65,1.2211538461538463,1.5655813953488371,null,null,null,null,null,null,65,0.6060839160839161,0.48372093023255813]
[]
[]
["Column1","Column2","Column3",null,null,null,null,null,null,"Column1","Column2","Column3",null,null,null,null,null,{"$f":"IF(AND(K46<>\"-\",K44=\"-\",ISNUMBER(K47)),K46,\"-\")","v":"-"},{"$f":"IF(AND(L46<>\"-\",L44=\"-\",ISNUMBER(L47)),L46,\"-\")","v":"-"}]
[-23,"-","-",null,null,null,null,null,null,-23,"-","-",null,null,null,null,null,{"$f":"IF(AND(K47<>\"-\",K46=\"-\",ISNUMBER(K48)),K47,\"-\")","v":"-"},{"$f":"IF(AND(L47<>\"-\",L46=\"-\",ISNUMBER(L48)),L47,\"-\")","v":"-"}]
[-18,"-","-",null,null,null,null,null,null,-18,"-","-",null,null,null,null,null,"-","-"]
[-13,"-","-",null,null,null,null,null,null,-13,"-","-",null,null,null,null,null,"-","-"]
[-8,"-","-",null,null,null,null,null,null,-8,"-","-",null,null,null,null,null,"-","-"]
[-3,"-","-",null,null,null,null,null,null,-3,"-","-",null,null,null,{"$f":"INDEX(J46:J62,MATCH(MIN(R45:R61),R45:R61))","v":7},{"$f":"INDEX(J46:J62,MATCH(MIN(S45:S61),S45:S61))","v":7},"-","-"]
[2,"-","-",null,null,null,null,null,null,2,"-","-",null,null,null,{"$f":"INDEX(J46:J62,MATCH(MIN(R45:R61),R45:R61)+1)","v":12},{"$f":"INDEX(J46:J62,MATCH(MIN(S45:S61),S45:S61)+1)","v":12},0.53272027972027969,0.99590697674418605]
[7,{"$f":"((A52-A30)*(B31-B30))/(A31-A30)+B30","v":0.92341958041958039},1.2995348837209302,null,null,null,null,null,null,7,{"$f":"((J52-J30)*(K31-K30))/(J31-J30)+K30","v":0.53272027972027969},0.99590697674418605,null,null,null,null,null,"-","-"]
[12,0.90878321678321672,1.322790697674419,null,null,null,null,null,null,12,0.49172027972027971,0.85832558139534887,null,null,null,{"$f":"((INDEX(K46:K62,MATCH(MIN(R45:R62),R45:R62)+1))-INDEX(K46:K62,MATCH(MIN(R45:R62),R45:R62)))/(P51-P50)","v":-8.1999999999999955E-3},{"$f":"((INDEX(L46:L62,MATCH(MIN(S45:S61),S45:S61)+1))-INDEX(L46:L62,MATCH(MIN(S45:S61),S45:S61)))/(Q51-Q50)","v":-2.7516279069767436E-2},"-","-"]
[17,0.906993006993007,1.3732093023255814,null,null,null,null,null,null,17,0.42840559440559439,0.66427906976744189,null,null,null,{"$f":"INDEX(K46:K62,MATCH(MIN(R45:R61),R45:R61))-P53*P50","v":0.59012027972027969},{"$f":"INDEX(L46:L62,MATCH(MIN(S45:S61),S45:S61))-Q53*Q50","v":1.1885209302325581},"-","-"]
[22,0.91865034965034964,1.4122790697674419,null,null,null,null,null,null,22,0.45299300699300699,0.67227906976744189,null,null,null,null,null,"-","-"]
[27,0.94437762237762235,1.4466046511627906,null,null,null,null,null,null,27,0.47788811188811187,0.67776744186046511,null,null,null,null,null,"-","-"]
[32,0.96326573426573425,1.4908837209302324,null,null,null,null,null,null,32,0.43912587412587412,0.57637209302325576,null,null,null,null,null,"-","-"]
[37,0.98393706293706296,1.5312558139534884,null,null,null,null,null,null,37,0.37474125874125874,0.41795348837209301,null,null,null,null,null,"-","-"]
[42,1.0967622377622379,1.5745116279069769,null,null,null,null,null,null,42,0.41550349650349649,0.43144186046511629,null,null,null,null,null,"-","-"]
[47,1.2145314685314685,1.5962790697674418,null,null,null,null,null,null,47,0.45717482517482516,0.44493023255813952,null,null,null,null,null,"-","-"]
[52,1.2166573426573426,1.5901395348837213,null,null,null,null,null,null,52,0.49890209790209789,0.45655813953488372,null,null,null,null,null,{"$f":"IF(AND(K62<>\"-\",K61=\"-\",ISNUMBER(#REF!)),K62,\"-\")","v":"-"},{"$f":"IF(AND(L62<>\"-\",L61=\"-\",ISNUMBER(#REF!)),L62,\"-\")","v":"-"}]
[57,1.2185314685314685,1.5809302325581396,null,null,null,null,null,null,57,0.54066433566433569,0.46725581395348842]
[]
[]
[]
["Ductless, Multi Split, Cold Climate"]
["^Checked, MXZ-3C30NAHZ2, June 2020"]
[]
[]
["Cooling, Max",null,null,null,null,null,null,null,null,"Cooling, Min"]
["Temperature","Norm Cap","Norm Power",null,null,null,null,null,null,"Temperature","Norm Cap","Norm Power"]
[70,1.1000000000000001,1.0400528169014085,null,null,null,null,null,null,70,0.48580985915492958,0.35915492957746481]
[74,1.1000000000000001,1.0400528169014085,null,null,null,null,null,null,74,0.47827464788732393,0.38292253521126762]
[78,1.1000000000000001,1.0400528169014085,null,null,null,null,null,null,78,0.47038732394366195,0.40757042253521125]
[82,1.1000000000000001,1.0400528169014085,null,null,null,null,null,null,82,0.46285211267605636,0.43133802816901406]
[86,1.1000000000000001,1.0400528169014085,null,null,null,null,null,null,86,0.45535211267605635,0.45510563380281688]
[90,1.1000000000000001,1.0400528169014085,null,null,null,null,null,null,90,0.44781690140845071,0.47887323943661969]
[94,1.1000000000000001,1.0400528169014085,null,null,null,null,null,null,94,0.44028169014084506,0.5026408450704225]
[102,1.0578521126760563,1.869718309859155,null,null,null,null,null,null,102,0.42647887323943662,0.54929577464788737]
[110,0.96690140845070427,1.8028169014084507,null,null,null,null,null,null,110,0.39735915492957746,0.54709507042253525]
[115,0.90767605633802817,1.772887323943662,null,null,null,null,null,null,115,0.3779929577464789,0.5484154929577465]
[]
[]
[{"$f":"IF('Intro & Unit Options'!$B$12=\"Imperial\",\"Outdoor Temperature (°F)\",\"Outdoor Temperature (°C)\")","v":"Outdoor Temperature (°F)"}]
["Column1","Column2","Column3",null,null,null,null,null,null,"Column1","Column2","Column3"]
[72,{"$f":"((A86-A72)*(B73-B72))/(A73-A72)+B72","v":1.1000000000000001},{"$f":"IFERROR(((B86-B72)*(C73-C72))/(B73-B72)+C72,C72)","v":1.0400528169014085},null,null,null,null,null,null,72,{"$f":"IFERROR(((J86-J72)*(K73-K72))/(J73-J72)+K72,K72)","v":0.48204225352112673},{"$f":"IFERROR(((K86-K72)*(L73-L72))/(K73-K72)+L72,L72)","v":0.3710387323943663}]
[77,{"$f":"((A87-A73)*(B74-B73))/(A74-A73)+B73","v":1.1000000000000001},{"$f":"IFERROR(((B87-B73)*(C74-C73))/(B74-B73)+C73,C73)","v":1.0400528169014085},null,null,null,null,null,null,77,{"$f":"IFERROR(((J87-J73)*(K74-K73))/(J74-J73)+K73,K73)","v":0.47235915492957747},{"$f":"IFERROR(((K87-K73)*(L74-L73))/(K74-K73)+L73,L73)","v":0.40140845070422526}]
[82,{"$f":"B75","v":1.1000000000000001},{"$f":"C75","v":1.0400528169014085},null,null,null,null,null,null,82,{"$f":"K75","v":0.46285211267605636},{"$f":"L75","v":0.43133802816901406}]
[87,{"$f":"((A89-A76)*(B77-B76))/(A77-A76)+B76","v":1.1000000000000001},{"$f":"IFERROR(((B89-B76)*(C77-C76))/(B77-B76)+C76,C76)","v":1.0400528169014085},null,95,{"$f":"((95-A90)*(B91-B90))/(A91-A90)+B90","v":1.0905167253521126},{"$f":"((F89-B90)*(C91-C90))/(B91-B90)+C90","v":1.2267275528169033},null,null,87,{"$f":"IFERROR(((J89-J76)*(K77-K76))/(J77-J76)+K76,K76)","v":0.45346830985915493},{"$f":"IFERROR(((K89-K76)*(L77-L76))/(K77-K76)+L76,L76)","v":0.46104753521126762},null,95,{"$f":"((95-J90)*(K91-K90))/(J91-J90)+K90","v":0.4386830985915493},{"$f":"((O89-K90)*(L91-L90))/(K91-K90)+L90","v":0.50838468309859153}]
[92,{"$f":"((A90-A77)*(B78-B77))/(A78-A77)+B77","v":1.1000000000000001},{"$f":"IFERROR(((B90-B77)*(C78-C77))/(B78-B77)+C77,C77)","v":1.0400528169014085},null,null,null,null,null,null,92,{"$f":"IFERROR(((J90-J77)*(K78-K77))/(J78-J77)+K77,K77)","v":0.44404929577464791},{"$f":"IFERROR(((K90-K77)*(L78-L77))/(K78-K77)+L77,L77)","v":0.49075704225352101}]
[97,{"$f":"((A91-A78)*(B79-B78))/(A79-A78)+B78","v":1.0841945422535211},{"$f":"((B91-B78)*(C79-C78))/(B79-B78)+C78","v":1.351177376760565},null,null,null,null,null,null,97,{"$f":"((J91-J78)*(K79-K78))/(J79-J78)+K78","v":0.43510563380281692},{"$f":"((K91-K78)*(L79-L78))/(K79-K78)+L78","v":0.52013644366197176}]
[102,{"$f":"B79","v":1.0578521126760563},{"$f":"C79","v":1.869718309859155},null,null,null,null,null,null,102,{"$f":"K79","v":0.42647887323943662},{"$f":"L79","v":0.54929577464788737}]
[107,{"$f":"((A93-A79)*(B80-B79))/(A80-A79)+B79","v":1.0010079225352113},{"$f":"((B93-B79)*(C80-C79))/(B80-B79)+C79","v":1.827904929577465},null,null,null,null,null,null,107,{"$f":"((J93-J79)*(K80-K79))/(J80-J79)+K79","v":0.40827904929577463},{"$f":"((K93-K79)*(L80-L79))/(K80-K79)+L79","v":0.54792033450704225}]
[112,{"$f":"((A94-A80)*(B81-B80))/(A81-A80)+B80","v":0.94321126760563379},{"$f":"((B94-B80)*(C81-C80))/(B81-B80)+C80","v":1.7908450704225352},null,null,null,null,null,null,112,{"$f":"((J94-J80)*(K81-K80))/(J81-J80)+K80","v":0.38961267605633804},{"$f":"((K94-K80)*(L81-L80))/(K81-K80)+L80","v":0.54762323943661972}]
[]
[]
[]
["Heating, Max",null,null,null,null,null,null,null,null,"Heating, Min"]
["Temperature","Norm Cap","Norm Power",null,null,null,null,null,null,"Temperature","Norm Cap","Norm Power"]
[-8,1.2251748251748251,2.2375954198473282,null,null,null,null,null,null,-8,0.69601398601398601,1.2676526717557253]
[-3,1.2206993006993008,2.2738549618320612,null,null,null,null,null,null,-3,0.70283216783216784,1.3439885496183206]
[2,1.21493006993007,2.6607824427480917,null,null,null,null,null,null,2,0.71993006993006992,1.5319656488549618]
[5,1.2191258741258741,2.5124045801526718,null,null,null,null,null,null,5,0.60975524475524479,1.1187977099236641]
[12,1.2474825174825175,2.6560114503816794,null,null,null,null,null,null,12,0.63527972027972024,1.1703244274809161]
[17,1.0336013986013985,2.0448473282442747,null,null,null,null,null,null,17,0.50632867132867132,0.85877862595419852]
[22,1.0827622377622377,2.0663167938931299,null,null,null,null,null,null,22,0.5363986013986014,0.86545801526717558]
[27,1.1432867132867133,2.1588740458015265,null,null,null,null,null,null,27,0.57206293706293709,0.90219465648854957]
[32,1.2127972027972027,2.2633587786259541,null,null,null,null,null,null,32,0.61199300699300696,0.94370229007633588]
[35,1.2224825174825176,2.3802480916030535,null,null,null,null,null,null,35,0.41587412587412587,0.56631679389312972]
[42,1.0276223776223776,1.6092557251908397,null,null,null,null,null,null,42,0.44723776223776224,0.58349236641221369]
[47,1.2195104895104896,1.6827290076335877,null,null,null,null,null,null,47,0.48034965034965033,0.60257633587786263]
[50,1.3139160839160839,1.7762404580152671,null,null,null,null,null,null,50,0.52048951048951053,0.62643129770992367]
[55,1.4088461538461539,1.8520992366412214,null,null,null,null,null,null,55,0.56059440559440554,0.64408396946564883]
[60,1.5088111888111888,1.9518129770992367,null,null,null,null,null,null,60,0.60286713286713289,0.66937022900763354]
[65,1.6097202797202796,2.052003816793893,null,null,null,null,null,null,65,0.64541958041958047,0.69465648854961837]
[]
[]
["Column1","Column2","Column3",null,null,null,null,null,null,"Column1","Column2","Column3",null,null,null,null,null,{"$f":"IF(AND(K119<>\"-\",K117=\"-\",ISNUMBER(K120)),K119,\"-\")","v":"-"},{"$f":"IF(AND(L119<>\"-\",L117=\"-\",ISNUMBER(L120)),L119,\"-\")","v":"-"}]
[-23,"-","-",null,null,null,null,null,null,-23,"-","-",null,null,null,null,null,{"$f":"IF(AND(K120<>\"-\",K119=\"-\",ISNUMBER(K121)),K120,\"-\")","v":"-"},{"$f":"IF(AND(L120<>\"-\",L119=\"-\",ISNUMBER(L121)),L120,\"-\")","v":"-"}]
[-18,"-","-",null,null,null,null,null,null,-18,"-","-",null,null,null,null,null,"-","-"]
[-13,"-","-",null,null,null,null,null,null,-13,"-","-",null,null,null,null,null,0.69601398601398601,1.2676526717557253]
[-8,{"$f":"B100","v":1.2251748251748251},2.2375954198473282,null,null,null,null,null,null,-8,{"$f":"K100","v":0.69601398601398601},1.2676526717557253,null,null,null,null,null,"-","-"]
[-3,1.2206993006993008,2.2738549618320612,null,null,null,null,null,null,-3,0.70283216783216784,1.3439885496183206,null,null,null,{"$f":"INDEX(J119:J135,MATCH(MIN(R118:R134),R118:R134))","v":-8},{"$f":"INDEX(J119:J135,MATCH(MIN(S118:S134),S118:S134))","v":-8},"-","-"]
[2,1.21493006993007,2.6607824427480917,null,null,null,null,null,null,2,0.71993006993006992,1.5319656488549618,null,null,null,{"$f":"INDEX(J119:J135,MATCH(MIN(R118:R134),R118:R134)+1)","v":-3},{"$f":"INDEX(J119:J135,MATCH(MIN(S118:S134),S118:S134)+1)","v":-3},"-","-"]
[7,{"$f":"((A125-A103)*(B104-B103))/(A104-A103)+B103","v":1.2272277722277722},{"$f":"((B125-B103)*(C104-C103))/(B104-B103)+C103","v":2.553435114503817},null,null,null,null,null,null,7,{"$f":"((J125-J103)*(K104-K103))/(J104-J103)+K103","v":0.61704795204795204},{"$f":"((K125-K103)*(L104-L103))/(K104-K103)+L103","v":1.1335196292257361},null,null,null,null,null,"-","-"]
[12,{"$f":"B104","v":1.2474825174825175},2.6560114503816794,null,null,null,null,null,null,12,{"$f":"K104","v":0.63527972027972024},1.1703244274809161,null,null,null,{"$f":"((INDEX(K119:K135,MATCH(MIN(R118:R135),R118:R135)+1))-INDEX(K119:K135,MATCH(MIN(R118:R135),R118:R135)))/(P124-P123)","v":1.3636363636363668E-3},{"$f":"((INDEX(L119:L135,MATCH(MIN(S118:S135),S118:S135)+1))-INDEX(L119:L135,MATCH(MIN(S118:S135),S118:S135)))/(Q124-Q123)","v":1.5267175572519064E-2},"-","-"]
[17,1.0336013986013985,2.0448473282442747,null,null,null,null,null,null,17,0.50632867132867132,0.85877862595419852,null,null,null,{"$f":"INDEX(K119:K135,MATCH(MIN(R118:R134),R118:R134))-P126*P123","v":0.70692307692307699},{"$f":"INDEX(L119:L135,MATCH(MIN(S118:S134),S118:S134))-Q126*Q123","v":1.3897900763358777},"-","-"]
[22,1.0827622377622377,2.0663167938931299,null,null,null,null,null,null,22,0.5363986013986014,0.86545801526717558,null,null,null,null,null,"-","-"]
[27,1.1432867132867133,2.1588740458015265,null,null,null,null,null,null,27,0.57206293706293709,0.90219465648854957,null,null,null,null,null,"-","-"]
[32,1.2127972027972027,2.2633587786259541,null,null,null,null,null,null,32,0.61199300699300696,0.94370229007633588,null,null,null,null,null,"-","-"]
[37,{"$f":"((A131-A109)*(B110-B109))/(A110-A109)+B109","v":1.1668081918081918},{"$f":"((B131-B109)*(C110-C109))/(B110-B109)+C109","v":2.1599645583424207},null,null,null,null,null,null,37,{"$f":"((J131-J109)*(K110-K109))/(J110-J109)+K109","v":0.42483516483516481},{"$f":"((K131-K109)*(L110-L109))/(K110-K109)+L109","v":0.57122410032715365},null,null,null,null,null,"-","-"]
[42,{"$f":"B110","v":1.0276223776223776},{"$f":"C110","v":1.6092557251908397},null,null,null,null,null,null,42,{"$f":"K110","v":0.44723776223776224},{"$f":"L110","v":0.58349236641221369},null,null,null,null,null,"-","-"]
[47,{"$f":"B111","v":1.2195104895104896},{"$f":"C111","v":1.6827290076335877},null,null,null,null,null,null,47,{"$f":"K111","v":0.48034965034965033},{"$f":"L111","v":0.60257633587786263},null,null,null,null,null,"-","-"]
[52,{"$f":"((A134-A112)*(B113-B112))/(A113-A112)+B112","v":1.3518881118881119},{"$f":"((B134-B112)*(C113-C112))/(B113-B112)+C112","v":1.8065839694656487},null,null,null,null,null,null,52,{"$f":"((J134-J112)*(K113-K112))/(J113-J112)+K112","v":0.53653146853146849},{"$f":"((K134-K112)*(L113-L112))/(K113-K112)+L112","v":0.63349236641221374},null,null,null,null,null,{"$f":"IF(AND(K135<>\"-\",K134=\"-\",ISNUMBER(#REF!)),K135,\"-\")","v":"-"},{"$f":"IF(AND(L135<>\"-\",L134=\"-\",ISNUMBER(#REF!)),L135,\"-\")","v":"-"}]
[57,{"$f":"((A135-A113)*(B114-B113))/(A114-A113)+B113","v":1.4488321678321678},{"$f":"((B135-B113)*(C114-C113))/(B114-B113)+C113","v":1.8919847328244275},null,null,null,null,null,null,57,{"$f":"((J135-J113)*(K114-K113))/(J114-J113)+K113","v":0.57750349650349653},{"$f":"((K135-K113)*(L114-L113))/(K114-K113)+L113","v":0.65419847328244274}]

{"sheet":"HP1","index":18,"n_rows":63,"n_cols":21,"rows_kept":63,"cut":false,"hidden":true,"merged":[[6,8,6,9],[6,19,6,20],[7,6,8,6],[7,17,8,17],[31,1,31,3],[31,5,31,6],[31,12,31,14],[31,16,31,17],[24,8,24,9],[28,8,28,9],[59,8,59,9],[59,19,59,20],[36,1,36,4],[36,5,36,6],[36,12,36,15],[36,16,36,17],[48,8,48,9],[48,19,48,20],[54,19,54,20],[36,8,36,9],[32,8,32,9],[55,6,55,7],[56,6,56,7],[57,6,57,7],[54,6,54,9]]}
[null,"Actual Curves - HP #1"]
[]
[null,"Heating - High Stage",null,null,null,null,null,null,null,null,null,null,"Heating - Low Stage"]
[]
[null,"Design Temp. (heat)",{"$f":"'Design Load Calcs'!$B$24","v":0},null,null,null,null,null,null,null,null,null,"Design Temp. (heat)",{"$f":"'Design Load Calcs'!$B$24","v":0}]
[]
[null,"Performance Data and Heating Load Line",null,null,null,null,null,null,"Outputs:",null,null,null,null,null,null,null,null,null,null,"Outputs:"]
[null,"Outdoor Temp.","Actual Capacity","Actual Power","Actual COP","Heating Load Line ","Intersect. Cap/Htg Load Line",null,{"$f":"CONCATENATE(\"HP cap @ Design Temp.\",IF('Intro & Unit Options'!$B$12=Dropdown_Menus!F1,\" [kW]\",\" [BTU/h]\"))","v":"HP cap @ Design Temp. [BTU/h]"},{"$f":"IF(OR(G34=\"-\",G34=C5),F34,SLOPE(F34:F35,G34:G35)*C5+INTERCEPT(F34:F35,G34:G35))","v":0},null,null,"Outdoor Temp.","Actual Capacity","Actual Power","Actual COP","Heating Load Line ","Intersect. Cap/Htg Load Line",null,{"$f":"CONCATENATE(\"HP cap @ Design Temp.\",IF('Intro & Unit Options'!$B$12=Dropdown_Menus!Q1,\" [kW]\",\" [BTU/h]\"))","v":"HP cap @ Design Temp. [BTU/h]"},{"$f":"IF(OR(R34=\"-\",R34=N5),Q34,SLOPE(Q34:Q35,R34:R35)*N5+INTERCEPT(Q34:Q35,R34:R35))","v":0}]
[null,{"$f":"IF('Intro & Unit Options'!$B$12=Dropdown_Menus!$F$1,\"[°C]\",\"[°F]\")","v":"[°F]"},{"$f":"IF('Intro & Unit Options'!$B$12=Dropdown_Menus!$F$1,\"[kW]\",\"[BTU/h]\")","v":"[BTU/h]"},"[kW]","[-]",{"$f":"IF('Intro & Unit Options'!$B$12=Dropdown_Menus!$F$1,\"[kW]\",\"[BTU/h]\")","v":"[BTU/h]"},null,null,{"$f":"CONCATENATE(\"BPT\",IF('Intro & Unit Options'!$B$12=Dropdown_Menus!F1,\" [°C]\",\" [°F]\"))","v":"BPT [°F]"},{"$f":"IF((C10-F10)<0,\"None\",IF((INDEX(C10:C29,MATCH(C40,B10:B29,0))-INDEX(F10:F29,MATCH(C40,B10:B29,0)))>0,E41,C41))","v":"None"},null,null,{"$f":"IF('Intro & Unit Options'!$B$12=Dropdown_Menus!$F$1,\"[°C]\",\"[°F]\")","v":"[°F]"},{"$f":"IF('Intro & Unit Options'!$B$12=Dropdown_Menus!$F$1,\"[kW]\",\"[BTU/h]\")","v":"[BTU/h]"},"[kW]","[-]",{"$f":"IF('Intro & Unit Options'!$B$12=Dropdown_Menus!$F$1,\"[kW]\",\"[BTU/h]\")","v":"[BTU/h]"},null,null,{"$f":"CONCATENATE(\"BPT\",IF('Intro & Unit Options'!$B$12=Dropdown_Menus!Q1,\" [°C]\",\" [°F]\"))","v":"BPT [°F]"},{"$f":"IF((N10-Q10)<0,\"None\",IF((INDEX(N10:N29,MATCH(N40,M10:M29,0))-INDEX(Q10:Q29,MATCH(N40,M10:M29,0)))>0,P41,N41))","v":"None"}]
[null,{"$f":"IF(OR('Step 5 Identify & Select ASHPs'!$I$24,'Step 5 Identify & Select ASHPs'!$I$25,'Step 5 Identify & Select ASHPs'!$I$26),'Step 5 Identify & Select ASHPs'!$N$22,NA())","v":47},{"$f":"IF(OR(B10=\"#N/A\",B10=\"\"),\"\",IFERROR(HLOOKUP('HP1'!B10,'Step 5 Identify & Select ASHPs'!$N$22:$AH$25,2,FALSE),\"\"))","v":0},{"$f":"IF(OR(B10=\"#N/A\",B10=\"\"),\"\",IFERROR(HLOOKUP('HP1'!B10,'Step 5 Identify & Select ASHPs'!$N$22:$AD$25,IF('Step 5 Identify & Select ASHPs'!$I$35=\"COP\",4,3),FALSE),\"\"))","v":0},{"$f":"IF(OR(B10=\"#N/A\",B10=\"\"),\"\",IFERROR(HLOOKUP('HP1'!B10,'Step 5 Identify & Select ASHPs'!$N$22:$AD$25,IF('Step 5 Identify & Select ASHPs'!$I$35=\"COP\",3,4),FALSE),\"\"))","v":""},{"$f":"(B10*'Design Load Calcs'!$G$23+'Design Load Calcs'!$H$23)","v":10833.333333333328},{"$f":"IF(B10=\"\",\"\",ABS(C10-F10))","v":10833.333333333328},null,"Fraction of heating above BPT",{"$f":"IF(ISNUMBER(MATCH(J9,'Load %s'!N8:N24,0)),F39,SLOPE(F39:F40,G39:G40)*J9+INTERCEPT(F39:F40,G39:G40))","v":{"$error":"#N/A"}},null,null,{"$f":"IF('Step 5 Identify & Select ASHPs'!$E$33=Dropdown_Menus!$A$2,\"\",'HP1'!B10)","v":47},{"$f":"IF(OR(M10=\"#N/A\",M10=\"\"),\"\",IFERROR(HLOOKUP('HP1'!M10,'Step 5 Identify & Select ASHPs'!$N$31:$AH$34,2,FALSE),\"\"))","v":0},{"$f":"IF(OR(M10=\"#N/A\",M10=\"\"),\"\",IFERROR(HLOOKUP('HP1'!M10,'Step 5 Identify & Select ASHPs'!$N$31:$AH$34,IF('Step 5 Identify & Select ASHPs'!$I$35=\"COP\",4,3),FALSE),\"\"))","v":0},{"$f":"IF(OR(B10=\"#N/A\",B10=\"\"),\"\",IFERROR(HLOOKUP('HP1'!B10,'Step 5 Identify & Select ASHPs'!$N$31:$AH$34,IF('Step 5 Identify & Select ASHPs'!$I$35=\"COP\",3,4),FALSE),\"\"))","v":""},{"$f":"(M10*'Design Load Calcs'!$G$23+'Design Load Calcs'!$H$23)","v":10833.333333333328},{"$f":"IF(M10=\"\",\"\",ABS(N10-Q10))","v":10833.333333333328},null,"Fraction of heating above BPT",{"$f":"SLOPE(Q39:Q40,R39:R40)*U9+INTERCEPT(Q39:Q40,R39:R40)","v":{"$error":"#N/A"}}]
[null,{"$f":"IF(OR('Step 5 Identify & Select ASHPs'!$I$24,'Step 5 Identify & Select ASHPs'!$I$25,'Step 5 Identify & Select ASHPs'!$I$26),'Step 5 Identify & Select ASHPs'!$O$22,NA())","v":17},{"$f":"IF(OR(B11=\"#N/A\",B11=\"\"),\"\",IFERROR(HLOOKUP('HP1'!B11,'Step 5 Identify & Select ASHPs'!$N$22:$AH$25,2,FALSE),\"\"))","v":0},{"$f":"IF(OR(B11=\"#N/A\",B11=\"\"),\"\",IFERROR(HLOOKUP('HP1'!B11,'Step 5 Identify & Select ASHPs'!$N$22:$AH$25,IF('Step 5 Identify & Select ASHPs'!$I$35=\"COP\",4,3),FALSE),\"\"))","v":0},{"$f":"IF(OR(B11=\"#N/A\",B11=\"\"),\"\",IFERROR(HLOOKUP('HP1'!B11,'Step 5 Identify & Select ASHPs'!$N$22:$AH$25,IF('Step 5 Identify & Select ASHPs'!$I$35=\"COP\",3,4),FALSE),\"\"))","v":""},{"$f":"(B11*'Design Load Calcs'!$G$23+'Design Load Calcs'!$H$23)","v":35833.333333333328},{"$f":"IF(B11=\"\",\"\",ABS(C11-F11))","v":35833.333333333328},null,{"$f":"CONCATENATE(\"HP cap @ BPT\",IF('Intro & Unit Options'!$B$12=Dropdown_Menus!F1,\" [kW]\",\" [BTU/h]\"))","v":"HP cap @ BPT [BTU/h]"},{"$f":"IF((C10-F10)<0,\"None\",IF((INDEX(C10:C29,MATCH(C40,B10:B29,0))-INDEX(F10:F29,MATCH(C40,B10:B29,0)))>0,SLOPE(D39:D40,E39:E40)*J9+INTERCEPT(D39:D40,E39:E40),SLOPE(B39:B40,C39:C40)*J9+INTERCEPT(B39:B40,C39:C40)))","v":"None"},null,null,{"$f":"IF('Step 5 Identify & Select ASHPs'!$E$33=Dropdown_Menus!$A$2,\"\",'HP1'!B11)","v":17},{"$f":"IF(OR(M11=\"#N/A\",M11=\"\"),\"\",IFERROR(HLOOKUP('HP1'!M11,'Step 5 Identify & Select ASHPs'!$N$31:$AH$34,2,FALSE),\"\"))","v":0},{"$f":"IF(OR(M11=\"#N/A\",M11=\"\"),\"\",IFERROR(HLOOKUP('HP1'!M11,'Step 5 Identify & Select ASHPs'!$N$31:$AH$34,IF('Step 5 Identify & Select ASHPs'!$I$35=\"COP\",4,3),FALSE),\"\"))","v":0},{"$f":"IF(OR(B11=\"#N/A\",B11=\"\"),\"\",IFERROR(HLOOKUP('HP1'!B11,'Step 5 Identify & Select ASHPs'!$N$31:$AH$34,IF('Step 5 Identify & Select ASHPs'!$I$35=\"COP\",3,4),FALSE),\"\"))","v":""},{"$f":"(M11*'Design Load Calcs'!$G$23+'Design Load Calcs'!$H$23)","v":35833.333333333328},{"$f":"IF(M11=\"\",\"\",ABS(N11-Q11))","v":35833.333333333328},null,{"$f":"CONCATENATE(\"HP cap @ BPT\",IF('Intro & Unit Options'!$B$12=Dropdown_Menus!Q1,\" [kW]\",\" [BTU/h]\"))","v":"HP cap @ BPT [BTU/h]"},{"$f":"IF((N10-Q10)<0,\"None\",IF((INDEX(N10:N29,MATCH(N40,M10:M29,0))-INDEX(Q10:Q29,MATCH(N40,M10:M29,0)))>0,SLOPE(O39:O40,P39:P40)*U9+INTERCEPT(O39:O40,P39:P40),SLOPE(M39:M40,N39:N40)*U9+INTERCEPT(M39:M40,N39:N40)))","v":"None"}]
[null,{"$f":"IF('Step 5 Identify & Select ASHPs'!$I$24,\"\",IF(OR('Step 5 Identify & Select ASHPs'!$I$25,'Step 5 Identify & Select ASHPs'!$I$26),'Step 5 Identify & Select ASHPs'!$P$22,NA()))","v":""},{"$f":"IF(OR(B12=\"#N/A\",B12=\"\"),\"\",IFERROR(HLOOKUP('HP1'!B12,'Step 5 Identify & Select ASHPs'!$N$22:$AH$25,2,FALSE),\"\"))","v":""},{"$f":"IF(OR(B12=\"#N/A\",B12=\"\"),\"\",IFERROR(HLOOKUP('HP1'!B12,'Step 5 Identify & Select ASHPs'!$N$22:$AH$25,IF('Step 5 Identify & Select ASHPs'!$I$35=\"COP\",4,3),FALSE),\"\"))","v":""},{"$f":"IF(OR(B12=\"#N/A\",B12=\"\"),\"\",IFERROR(HLOOKUP('HP1'!B12,'Step 5 Identify & Select ASHPs'!$N$22:$AH$25,IF('Step 5 Identify & Select ASHPs'!$I$35=\"COP\",3,4),FALSE),\"\"))","v":""},{"$f":"(B12*'Design Load Calcs'!$G$23+'Design Load Calcs'!$H$23)","v":{"$error":"#VALUE!"}},"",null,{"$f":"CONCATENATE(\"HP cap @\",IF('Intro & Unit Options'!B12=Dropdown_Menus!F1,CONVERT(47,\"F\",\"C\"),47),IF('Intro & Unit Options'!$B$12=Dropdown_Menus!F1,\" C\",\" F\"),IF('Intro & Unit Options'!$B$12=Dropdown_Menus!F1,\" [kW]\",\" [BTU/h]\"))","v":"HP cap @47 F [BTU/h]"},{"$f":"IF(OR('Step 5 Identify & Select ASHPs'!$I$24,'Step 5 Identify & Select ASHPs'!$I$25,'Step 5 Identify & Select ASHPs'!$I$27),'HP1'!C10,IFERROR(INDEX('HP1'!C10:C29,MATCH(IF('Intro & Unit Options'!B12=Dropdown_Menus!F1,CONVERT(47,\"F\",\"C\"),47),'HP1'!B10:B29,0)),SLOPE(I35:I36,J35:J36)*IF('Intro & Unit Options'!B12=Dropdown_Menus!F1,CONVERT(47,\"F\",\"C\"),47)+INTERCEPT(I35:I36,J35:J36)))","v":0},null,null,{"$f":"IF('Step 5 Identify & Select ASHPs'!$E$33=Dropdown_Menus!$A$2,\"\",'HP1'!B12)","v":""},{"$f":"IF(OR(M12=\"#N/A\",M12=\"\"),\"\",IFERROR(HLOOKUP('HP1'!M12,'Step 5 Identify & Select ASHPs'!$N$31:$AH$34,2,FALSE),\"\"))","v":""},{"$f":"IF(OR(M12=\"#N/A\",M12=\"\"),\"\",IFERROR(HLOOKUP('HP1'!M12,'Step 5 Identify & Select ASHPs'!$N$31:$AH$34,IF('Step 5 Identify & Select ASHPs'!$I$35=\"COP\",4,3),FALSE),\"\"))","v":""},{"$f":"IF(OR(B12=\"#N/A\",B12=\"\"),\"\",IFERROR(HLOOKUP('HP1'!B12,'Step 5 Identify & Select ASHPs'!$N$31:$AH$34,IF('Step 5 Identify & Select ASHPs'!$I$35=\"COP\",3,4),FALSE),\"\"))","v":""},{"$f":"(M12*'Design Load Calcs'!$G$23+'Design Load Calcs'!$H$23)","v":{"$error":"#VALUE!"}},""]
[null,{"$f":"IF(OR('Step 5 Identify & Select ASHPs'!$I$24,'Step 5 Identify & Select ASHPs'!$I$25),\"\",IF('Step 5 Identify & Select ASHPs'!$I$26,IF(MATCH(B12,$B$10:$B$29,0)>='Step 5 Identify & Select ASHPs'!$I$32,\"\",'Step 5 Identify & Select ASHPs'!$Q$22),NA()))","v":""},{"$f":"IF(OR(B13=\"#N/A\",B13=\"\"),\"\",IFERROR(HLOOKUP('HP1'!B13,'Step 5 Identify & Select ASHPs'!$N$22:$AH$25,2,FALSE),\"\"))","v":""},{"$f":"IF(OR(B13=\"#N/A\",B13=\"\"),\"\",IFERROR(HLOOKUP('HP1'!B13,'Step 5 Identify & Select ASHPs'!$N$22:$AH$25,IF('Step 5 Identify & Select ASHPs'!$I$35=\"COP\",4,3),FALSE),\"\"))","v":""},{"$f":"IF(OR(B13=\"#N/A\",B13=\"\"),\"\",IFERROR(HLOOKUP('HP1'!B13,'Step 5 Identify & Select ASHPs'!$N$22:$AH$25,IF('Step 5 Identify & Select ASHPs'!$I$35=\"COP\",3,4),FALSE),\"\"))","v":""},{"$f":"(B13*'Design Load Calcs'!$G$23+'Design Load Calcs'!$H$23)","v":{"$error":"#VALUE!"}},"",null,{"$f":"CONCATENATE(\"HP cap @\",IF('Intro & Unit Options'!B12=Dropdown_Menus!F1,CONVERT(17,\"F\",\"C\"),17),IF('Intro & Unit Options'!$B$12=Dropdown_Menus!F1,\" C\",\" F\"),IF('Intro & Unit Options'!$B$12=Dropdown_Menus!F1,\" [kW]\",\" [BTU/h]\"))","v":"HP cap @17 F [BTU/h]"},{"$f":"IF(OR('Step 5 Identify & Select ASHPs'!$I$24,'Step 5 Identify & Select ASHPs'!$I$25,'Step 5 Identify & Select ASHPs'!$I$27),'HP1'!C11,IFERROR(INDEX('HP1'!C10:C29,MATCH(IF('Intro & Unit Options'!B12=Dropdown_Menus!F1,CONVERT(17,\"F\",\"C\"),17),'HP1'!B10:B29,0)),SLOPE(I39:I40,J39:J40)*IF('Intro & Unit Options'!B12=Dropdown_Menus!F1,CONVERT(17,\"F\",\"C\"),17)+INTERCEPT(I39:I40,J39:J40)))","v":0},null,null,{"$f":"IF('Step 5 Identify & Select ASHPs'!$E$33=Dropdown_Menus!$A$2,\"\",'HP1'!B13)","v":""},{"$f":"IF(OR(M13=\"#N/A\",M13=\"\"),\"\",IFERROR(HLOOKUP('HP1'!M13,'Step 5 Identify & Select ASHPs'!$N$31:$AH$34,2,FALSE),\"\"))","v":""},{"$f":"IF(OR(M13=\"#N/A\",M13=\"\"),\"\",IFERROR(HLOOKUP('HP1'!M13,'Step 5 Identify & Select ASHPs'!$N$31:$AH$34,IF('Step 5 Identify & Select ASHPs'!$I$35=\"COP\",4,3),FALSE),\"\"))","v":""},{"$f":"IF(OR(B13=\"#N/A\",B13=\"\"),\"\",IFERROR(HLOOKUP('HP1'!B13,'Step 5 Identify & Select ASHPs'!$N$31:$AH$34,IF('Step 5 Identify & Select ASHPs'!$I$35=\"COP\",3,4),FALSE),\"\"))","v":""},{"$f":"(M13*'Design Load Calcs'!$G$23+'Design Load Calcs'!$H$23)","v":{"$error":"#VALUE!"}},""]
[null,{"$f":"IF(OR('Step 5 Identify & Select ASHPs'!$I$24,'Step 5 Identify & Select ASHPs'!$I$25),\"\",IF('Step 5 Identify & Select ASHPs'!$I$26,IF(MATCH(B13,$B$10:$B$29,0)>='Step 5 Identify & Select ASHPs'!$I$32,\"\",'Step 5 Identify & Select ASHPs'!$R$22),NA()))","v":""},{"$f":"IF(OR(B14=\"#N/A\",B14=\"\"),\"\",IFERROR(HLOOKUP('HP1'!B14,'Step 5 Identify & Select ASHPs'!$N$22:$AH$25,2,FALSE),\"\"))","v":""},{"$f":"IF(OR(B14=\"#N/A\",B14=\"\"),\"\",IFERROR(HLOOKUP('HP1'!B14,'Step 5 Identify & Select ASHPs'!$N$22:$AH$25,IF('Step 5 Identify & Select ASHPs'!$I$35=\"COP\",4,3),FALSE),\"\"))","v":""},{"$f":"IF(OR(B14=\"#N/A\",B14=\"\"),\"\",IFERROR(HLOOKUP('HP1'!B14,'Step 5 Identify & Select ASHPs'!$N$22:$AH$25,IF('Step 5 Identify & Select ASHPs'!$I$35=\"COP\",3,4),FALSE),\"\"))","v":""},{"$f":"(B14*'Design Load Calcs'!$G$23+'Design Load Calcs'!$H$23)","v":{"$error":"#VALUE!"}},{"$f":"IF(B14=\"\",\"\",ABS(C14-F14))","v":""},null,"Max Cap",{"$f":"IFERROR(MAX(C10:C30),0)","v":0},null,null,{"$f":"IF('Step 5 Identify & Select ASHPs'!$E$33=Dropdown_Menus!$A$2,\"\",'HP1'!B14)","v":""},{"$f":"IF(OR(M14=\"#N/A\",M14=\"\"),\"\",IFERROR(HLOOKUP('HP1'!M14,'Step 5 Identify & Select ASHPs'!$N$31:$AH$34,2,FALSE),\"\"))","v":""},{"$f":"IF(OR(M14=\"#N/A\",M14=\"\"),\"\",IFERROR(HLOOKUP('HP1'!M14,'Step 5 Identify & Select ASHPs'!$N$31:$AH$34,IF('Step 5 Identify & Select ASHPs'!$I$35=\"COP\",4,3),FALSE),\"\"))","v":""},{"$f":"IF(OR(B14=\"#N/A\",B14=\"\"),\"\",IFERROR(HLOOKUP('HP1'!B14,'Step 5 Identify & Select ASHPs'!$N$31:$AH$34,IF('Step 5 Identify & Select ASHPs'!$I$35=\"COP\",3,4),FALSE),\"\"))","v":""},{"$f":"(M14*'Design Load Calcs'!$G$23+'Design Load Calcs'!$H$23)","v":{"$error":"#VALUE!"}},""]
[null,{"$f":"IF(OR('Step 5 Identify & Select ASHPs'!$I$24,'Step 5 Identify & Select ASHPs'!$I$25),\"\",IF('Step 5 Identify & Select ASHPs'!$I$26,IF(MATCH(B14,$B$10:$B$29,0)>='Step 5 Identify & Select ASHPs'!$I$32,\"\",'Step 5 Identify & Select ASHPs'!$S$22),NA()))","v":""},{"$f":"IF(OR(B15=\"#N/A\",B15=\"\"),\"\",IFERROR(HLOOKUP('HP1'!B15,'Step 5 Identify & Select ASHPs'!$N$22:$AH$25,2,FALSE),\"\"))","v":""},{"$f":"IF(OR(B15=\"#N/A\",B15=\"\"),\"\",IFERROR(HLOOKUP('HP1'!B15,'Step 5 Identify & Select ASHPs'!$N$22:$AH$25,IF('Step 5 Identify & Select ASHPs'!$I$35=\"COP\",4,3),FALSE),\"\"))","v":""},{"$f":"IF(OR(B15=\"#N/A\",B15=\"\"),\"\",IFERROR(HLOOKUP('HP1'!B15,'Step 5 Identify & Select ASHPs'!$N$22:$AH$25,IF('Step 5 Identify & Select ASHPs'!$I$35=\"COP\",3,4),FALSE),\"\"))","v":""},{"$f":"(B15*'Design Load Calcs'!$G$23+'Design Load Calcs'!$H$23)","v":{"$error":"#VALUE!"}},"",null,{"$f":"CONCATENATE(\"HP pwr @\",IF('Intro & Unit Options'!B12=Dropdown_Menus!F1,CONVERT(47,\"F\",\"C\"),47),IF('Intro & Unit Options'!$B$12=Dropdown_Menus!F1,\" C\",\" F\"),IF('Intro & Unit Options'!$B$12=Dropdown_Menus!F1,\" [kW]\",\" [BTU/h]\"))","v":"HP pwr @47 F [BTU/h]"},{"$f":"IF(OR('Step 5 Identify & Select ASHPs'!$I$24,'Step 5 Identify & Select ASHPs'!$I$25,'Step 5 Identify & Select ASHPs'!$I$27),'HP1'!D10,IFERROR(INDEX('HP1'!D10:D29,MATCH(IF('Intro & Unit Options'!B15=Dropdown_Menus!F4,CONVERT(47,\"F\",\"C\"),47),'HP1'!B10:B29,0)),SLOPE(I27:I28,J27:J28)*IF('Intro & Unit Options'!B15=Dropdown_Menus!F4,CONVERT(47,\"F\",\"C\"),47)+INTERCEPT(I27:I28,J27:J28)))","v":0},null,null,{"$f":"IF('Step 5 Identify & Select ASHPs'!$E$33=Dropdown_Menus!$A$2,\"\",'HP1'!B15)","v":""},{"$f":"IF(OR(M15=\"#N/A\",M15=\"\"),\"\",IFERROR(HLOOKUP('HP1'!M15,'Step 5 Identify & Select ASHPs'!$N$31:$AH$34,2,FALSE),\"\"))","v":""},{"$f":"IF(OR(M15=\"#N/A\",M15=\"\"),\"\",IFERROR(HLOOKUP('HP1'!M15,'Step 5 Identify & Select ASHPs'!$N$31:$AH$34,IF('Step 5 Identify & Select ASHPs'!$I$35=\"COP\",4,3),FALSE),\"\"))","v":""},{"$f":"IF(OR(B15=\"#N/A\",B15=\"\"),\"\",IFERROR(HLOOKUP('HP1'!B15,'Step 5 Identify & Select ASHPs'!$N$31:$AH$34,IF('Step 5 Identify & Select ASHPs'!$I$35=\"COP\",3,4),FALSE),\"\"))","v":""},{"$f":"(M15*'Design Load Calcs'!$G$23+'Design Load Calcs'!$H$23)","v":{"$error":"#VALUE!"}},""]
[null,{"$f":"IF(OR('Step 5 Identify & Select ASHPs'!$I$24,'Step 5 Identify & Select ASHPs'!$I$25),\"\",IF('Step 5 Identify & Select ASHPs'!$I$26,IF(MATCH(B15,$B$10:$B$29,0)>='Step 5 Identify & Select ASHPs'!$I$32,\"\",'Step 5 Identify & Select ASHPs'!$T$22),NA()))","v":""},{"$f":"IF(OR(B16=\"#N/A\",B16=\"\"),\"\",IFERROR(HLOOKUP('HP1'!B16,'Step 5 Identify & Select ASHPs'!$N$22:$AH$25,2,FALSE),\"\"))","v":""},{"$f":"IF(OR(B16=\"#N/A\",B16=\"\"),\"\",IFERROR(HLOOKUP('HP1'!B16,'Step 5 Identify & Select ASHPs'!$N$22:$AH$25,IF('Step 5 Identify & Select ASHPs'!$I$35=\"COP\",4,3),FALSE),\"\"))","v":""},{"$f":"IF(OR(B16=\"#N/A\",B16=\"\"),\"\",IFERROR(HLOOKUP('HP1'!B16,'Step 5 Identify & Select ASHPs'!$N$22:$AH$25,IF('Step 5 Identify & Select ASHPs'!$I$35=\"COP\",3,4),FALSE),\"\"))","v":""},{"$f":"(B16*'Design Load Calcs'!$G$23+'Design Load Calcs'!$H$23)","v":{"$error":"#VALUE!"}},"",null,{"$f":"CONCATENATE(\"HP pwr @\",IF('Intro & Unit Options'!B12=Dropdown_Menus!F1,CONVERT(17,\"F\",\"C\"),17),IF('Intro & Unit Options'!$B$12=Dropdown_Menus!F1,\" C\",\" F\"),IF('Intro & Unit Options'!$B$12=Dropdown_Menus!F1,\" [kW]\",\" [BTU/h]\"))","v":"HP pwr @17 F [BTU/h]"},{"$f":"IF(OR('Step 5 Identify & Select ASHPs'!$I$24,'Step 5 Identify & Select ASHPs'!$I$25,'Step 5 Identify & Select ASHPs'!$I$27),'HP1'!D11,IFERROR(INDEX('HP1'!D10:D29,MATCH(IF('Intro & Unit Options'!B15=Dropdown_Menus!F4,CONVERT(17,\"F\",\"C\"),17),'HP1'!B10:B29,0)),SLOPE(I31:I32,J31:J32)*IF('Intro & Unit Options'!B15=Dropdown_Menus!F4,CONVERT(17,\"F\",\"C\"),17)+INTERCEPT(I31:I32,J31:J32)))","v":0},null,null,{"$f":"IF('Step 5 Identify & Select ASHPs'!$E$33=Dropdown_Menus!$A$2,\"\",'HP1'!B16)","v":""},{"$f":"IF(OR(M16=\"#N/A\",M16=\"\"),\"\",IFERROR(HLOOKUP('HP1'!M16,'Step 5 Identify & Select ASHPs'!$N$31:$AH$34,2,FALSE),\"\"))","v":""},{"$f":"IF(OR(M16=\"#N/A\",M16=\"\"),\"\",IFERROR(HLOOKUP('HP1'!M16,'Step 5 Identify & Select ASHPs'!$N$31:$AH$34,IF('Step 5 Identify & Select ASHPs'!$I$35=\"COP\",4,3),FALSE),\"\"))","v":""},{"$f":"IF(OR(B16=\"#N/A\",B16=\"\"),\"\",IFERROR(HLOOKUP('HP1'!B16,'Step 5 Identify & Select ASHPs'!$N$31:$AH$34,IF('Step 5 Identify & Select ASHPs'!$I$35=\"COP\",3,4),FALSE),\"\"))","v":""},{"$f":"(M16*'Design Load Calcs'!$G$23+'Design Load Calcs'!$H$23)","v":{"$error":"#VALUE!"}},"",null,"Slope @ t-BPT:",{"$f":"IF((N10-Q10)<0,\"None\",IF((INDEX(N10:N29,MATCH(N40,M10:M29,0))-INDEX(Q10:Q29,MATCH(N40,M10:M29,0)))>0,SLOPE(O39:O40,P39:P40),SLOPE(M39:M40,N39:N40)))","v":"None"}]
[null,{"$f":"IF(OR('Step 5 Identify & Select ASHPs'!$I$24,'Step 5 Identify & Select ASHPs'!$I$25),\"\",IF('Step 5 Identify & Select ASHPs'!$I$26,IF(MATCH(B16,$B$10:$B$29,0)>='Step 5 Identify & Select ASHPs'!$I$32,\"\",'Step 5 Identify & Select ASHPs'!$U$22),NA()))","v":""},{"$f":"IF(OR(B17=\"#N/A\",B17=\"\"),\"\",IFERROR(HLOOKUP('HP1'!B17,'Step 5 Identify & Select ASHPs'!$N$22:$AH$25,2,FALSE),\"\"))","v":""},{"$f":"IF(OR(B17=\"#N/A\",B17=\"\"),\"\",IFERROR(HLOOKUP('HP1'!B17,'Step 5 Identify & Select ASHPs'!$N$22:$AH$25,IF('Step 5 Identify & Select ASHPs'!$I$35=\"COP\",4,3),FALSE),\"\"))","v":""},{"$f":"IF(OR(B17=\"#N/A\",B17=\"\"),\"\",IFERROR(HLOOKUP('HP1'!B17,'Step 5 Identify & Select ASHPs'!$N$22:$AH$25,IF('Step 5 Identify & Select ASHPs'!$I$35=\"COP\",3,4),FALSE),\"\"))","v":""},{"$f":"(B17*'Design Load Calcs'!$G$23+'Design Load Calcs'!$H$23)","v":{"$error":"#VALUE!"}},"",null,"Slope @ t-BPT:",{"$f":"IF((C10-F10)<0,\"None\",IF((INDEX(C10:C29,MATCH(C40,B10:B29,0))-INDEX(F10:F29,MATCH(C40,B10:B29,0)))>0,SLOPE(D39:D40,E39:E40),SLOPE(B39:B40,C39:C40)))","v":"None"},null,null,{"$f":"IF('Step 5 Identify & Select ASHPs'!$E$33=Dropdown_Menus!$A$2,\"\",'HP1'!B17)","v":""},{"$f":"IF(OR(M17=\"#N/A\",M17=\"\"),\"\",IFERROR(HLOOKUP('HP1'!M17,'Step 5 Identify & Select ASHPs'!$N$31:$AH$34,2,FALSE),\"\"))","v":""},{"$f":"IF(OR(M17=\"#N/A\",M17=\"\"),\"\",IFERROR(HLOOKUP('HP1'!M17,'Step 5 Identify & Select ASHPs'!$N$31:$AH$34,IF('Step 5 Identify & Select ASHPs'!$I$35=\"COP\",4,3),FALSE),\"\"))","v":""},{"$f":"IF(OR(B17=\"#N/A\",B17=\"\"),\"\",IFERROR(HLOOKUP('HP1'!B17,'Step 5 Identify & Select ASHPs'!$N$31:$AH$34,IF('Step 5 Identify & Select ASHPs'!$I$35=\"COP\",3,4),FALSE),\"\"))","v":""},{"$f":"(M17*'Design Load Calcs'!$G$23+'Design Load Calcs'!$H$23)","v":{"$error":"#VALUE!"}},"",null,"Intercept @ t-BPT",{"$f":"IF((N10-Q10)<0,\"None\",IF((INDEX(N10:N29,MATCH(N40,M10:M29,0))-INDEX(Q10:Q29,MATCH(N40,M10:M29,0)))>0,INTERCEPT(O39:O40,P39:P40),INTERCEPT(M39:M40,N39:N40)))","v":"None"}]
[null,{"$f":"IF(OR('Step 5 Identify & Select ASHPs'!$I$24,'Step 5 Identify & Select ASHPs'!$I$25),\"\",IF('Step 5 Identify & Select ASHPs'!$I$26,IF(MATCH(B17,$B$10:$B$29,0)>='Step 5 Identify & Select ASHPs'!$I$32,\"\",'Step 5 Identify & Select ASHPs'!$V$22),NA()))","v":""},{"$f":"IF(OR(B18=\"#N/A\",B18=\"\"),\"\",IFERROR(HLOOKUP('HP1'!B18,'Step 5 Identify & Select ASHPs'!$N$22:$AH$25,2,FALSE),\"\"))","v":""},{"$f":"IF(OR(B18=\"#N/A\",B18=\"\"),\"\",IFERROR(HLOOKUP('HP1'!B18,'Step 5 Identify & Select ASHPs'!$N$22:$AH$25,IF('Step 5 Identify & Select ASHPs'!$I$35=\"COP\",4,3),FALSE),\"\"))","v":""},{"$f":"IF(OR(B18=\"#N/A\",B18=\"\"),\"\",IFERROR(HLOOKUP('HP1'!B18,'Step 5 Identify & Select ASHPs'!$N$22:$AH$25,IF('Step 5 Identify & Select ASHPs'!$I$35=\"COP\",3,4),FALSE),\"\"))","v":""},{"$f":"(B18*'Design Load Calcs'!$G$23+'Design Load Calcs'!$H$23)","v":{"$error":"#VALUE!"}},"",null,"Intercept @ t-BPT",{"$f":"IF((C10-F10)<0,\"None\",IF((INDEX(C10:C29,MATCH(C40,B10:B29,0))-INDEX(F10:F29,MATCH(C40,B10:B29,0)))>0,INTERCEPT(D39:D40,E39:E40),INTERCEPT(B39:B40,C39:C40)))","v":"None"},null,null,{"$f":"IF('Step 5 Identify & Select ASHPs'!$E$33=Dropdown_Menus!$A$2,\"\",'HP1'!B18)","v":""},{"$f":"IF(OR(M18=\"#N/A\",M18=\"\"),\"\",IFERROR(HLOOKUP('HP1'!M18,'Step 5 Identify & Select ASHPs'!$N$31:$AH$34,2,FALSE),\"\"))","v":""},{"$f":"IF(OR(M18=\"#N/A\",M18=\"\"),\"\",IFERROR(HLOOKUP('HP1'!M18,'Step 5 Identify & Select ASHPs'!$N$31:$AH$34,IF('Step 5 Identify & Select ASHPs'!$I$35=\"COP\",4,3),FALSE),\"\"))","v":""},{"$f":"IF(OR(B18=\"#N/A\",B18=\"\"),\"\",IFERROR(HLOOKUP('HP1'!B18,'Step 5 Identify & Select ASHPs'!$N$31:$AH$34,IF('Step 5 Identify & Select ASHPs'!$I$35=\"COP\",3,4),FALSE),\"\"))","v":""},{"$f":"(M18*'Design Load Calcs'!$G$23+'Design Load Calcs'!$H$23)","v":{"$error":"#VALUE!"}},""]
[null,{"$f":"IF(OR('Step 5 Identify & Select ASHPs'!$I$24,'Step 5 Identify & Select ASHPs'!$I$25),\"\",IF('Step 5 Identify & Select ASHPs'!$I$26,IF(MATCH(B18,$B$10:$B$29,0)>='Step 5 Identify & Select ASHPs'!$I$32,\"\",'Step 5 Identify & Select ASHPs'!$W$22),NA()))","v":""},{"$f":"IF(OR(B19=\"#N/A\",B19=\"\"),\"\",IFERROR(HLOOKUP('HP1'!B19,'Step 5 Identify & Select ASHPs'!$N$22:$AH$25,2,FALSE),\"\"))","v":""},{"$f":"IF(OR(B19=\"#N/A\",B19=\"\"),\"\",IFERROR(HLOOKUP('HP1'!B19,'Step 5 Identify & Select ASHPs'!$N$22:$AH$25,IF('Step 5 Identify & Select ASHPs'!$I$35=\"COP\",4,3),FALSE),\"\"))","v":""},{"$f":"IF(OR(B19=\"#N/A\",B19=\"\"),\"\",IFERROR(HLOOKUP('HP1'!B19,'Step 5 Identify & Select ASHPs'!$N$22:$AH$25,IF('Step 5 Identify & Select ASHPs'!$I$35=\"COP\",3,4),FALSE),\"\"))","v":""},{"$f":"(B19*'Design Load Calcs'!$G$23+'Design Load Calcs'!$H$23)","v":{"$error":"#VALUE!"}},"",null,"Cap @ cut-off T°",{"$f":"IFERROR(IF(B30=MIN(B10:B29),1,0),0)","v":0},null,null,{"$f":"IF('Step 5 Identify & Select ASHPs'!$E$33=Dropdown_Menus!$A$2,\"\",'HP1'!B19)","v":""},{"$f":"IF(OR(M19=\"#N/A\",M19=\"\"),\"\",IFERROR(HLOOKUP('HP1'!M19,'Step 5 Identify & Select ASHPs'!$N$31:$AH$34,2,FALSE),\"\"))","v":""},{"$f":"IF(OR(M19=\"#N/A\",M19=\"\"),\"\",IFERROR(HLOOKUP('HP1'!M19,'Step 5 Identify & Select ASHPs'!$N$31:$AH$34,IF('Step 5 Identify & Select ASHPs'!$I$35=\"COP\",4,3),FALSE),\"\"))","v":""},{"$f":"IF(OR(B19=\"#N/A\",B19=\"\"),\"\",IFERROR(HLOOKUP('HP1'!B19,'Step 5 Identify & Select ASHPs'!$N$31:$AH$34,IF('Step 5 Identify & Select ASHPs'!$I$35=\"COP\",3,4),FALSE),\"\"))","v":""},{"$f":"(M19*'Design Load Calcs'!$G$23+'Design Load Calcs'!$H$23)","v":{"$error":"#VALUE!"}},""]
[null,{"$f":"IF(OR('Step 5 Identify & Select ASHPs'!$I$24,'Step 5 Identify & Select ASHPs'!$I$25),\"\",IF('Step 5 Identify & Select ASHPs'!$I$26,IF(MATCH(B19,$B$10:$B$29,0)>='Step 5 Identify & Select ASHPs'!$I$32,\"\",'Step 5 Identify & Select ASHPs'!$X$22),NA()))","v":""},{"$f":"IF(OR(B20=\"#N/A\",B20=\"\"),\"\",IFERROR(HLOOKUP('HP1'!B20,'Step 5 Identify & Select ASHPs'!$N$22:$AH$25,2,FALSE),\"\"))","v":""},{"$f":"IF(OR(B20=\"#N/A\",B20=\"\"),\"\",IFERROR(HLOOKUP('HP1'!B20,'Step 5 Identify & Select ASHPs'!$N$22:$AH$25,IF('Step 5 Identify & Select ASHPs'!$I$35=\"COP\",4,3),FALSE),\"\"))","v":""},{"$f":"IF(OR(B20=\"#N/A\",B20=\"\"),\"\",IFERROR(HLOOKUP('HP1'!B20,'Step 5 Identify & Select ASHPs'!$N$22:$AH$25,IF('Step 5 Identify & Select ASHPs'!$I$35=\"COP\",3,4),FALSE),\"\"))","v":""},{"$f":"(B20*'Design Load Calcs'!$G$23+'Design Load Calcs'!$H$23)","v":{"$error":"#VALUE!"}},"",null,null,null,null,null,{"$f":"IF('Step 5 Identify & Select ASHPs'!$E$33=Dropdown_Menus!$A$2,\"\",'HP1'!B20)","v":""},{"$f":"IF(OR(M20=\"#N/A\",M20=\"\"),\"\",IFERROR(HLOOKUP('HP1'!M20,'Step 5 Identify & Select ASHPs'!$N$31:$AH$34,2,FALSE),\"\"))","v":""},{"$f":"IF(OR(M20=\"#N/A\",M20=\"\"),\"\",IFERROR(HLOOKUP('HP1'!M20,'Step 5 Identify & Select ASHPs'!$N$31:$AH$34,IF('Step 5 Identify & Select ASHPs'!$I$35=\"COP\",4,3),FALSE),\"\"))","v":""},{"$f":"IF(OR(B20=\"#N/A\",B20=\"\"),\"\",IFERROR(HLOOKUP('HP1'!B20,'Step 5 Identify & Select ASHPs'!$N$31:$AH$34,IF('Step 5 Identify & Select ASHPs'!$I$35=\"COP\",3,4),FALSE),\"\"))","v":""},{"$f":"(M20*'Design Load Calcs'!$G$23+'Design Load Calcs'!$H$23)","v":{"$error":"#VALUE!"}},""]
[null,{"$f":"IF(OR('Step 5 Identify & Select ASHPs'!$I$24,'Step 5 Identify & Select ASHPs'!$I$25),\"\",IF('Step 5 Identify & Select ASHPs'!$I$26,IF(MATCH(B20,$B$10:$B$29,0)>='Step 5 Identify & Select ASHPs'!$I$32,\"\",'Step 5 Identify & Select ASHPs'!$Y$22),NA()))","v":""},{"$f":"IF(OR(B21=\"#N/A\",B21=\"\"),\"\",IFERROR(HLOOKUP('HP1'!B21,'Step 5 Identify & Select ASHPs'!$N$22:$AH$25,2,FALSE),\"\"))","v":""},{"$f":"IF(OR(B21=\"#N/A\",B21=\"\"),\"\",IFERROR(HLOOKUP('HP1'!B21,'Step 5 Identify & Select ASHPs'!$N$22:$AH$25,IF('Step 5 Identify & Select ASHPs'!$I$35=\"COP\",4,3),FALSE),\"\"))","v":""},{"$f":"IF(OR(B21=\"#N/A\",B21=\"\"),\"\",IFERROR(HLOOKUP('HP1'!B21,'Step 5 Identify & Select ASHPs'!$N$22:$AH$25,IF('Step 5 Identify & Select ASHPs'!$I$35=\"COP\",3,4),FALSE),\"\"))","v":""},{"$f":"(B21*'Design Load Calcs'!$G$23+'Design Load Calcs'!$H$23)","v":{"$error":"#VALUE!"}},"",null,null,null,null,null,{"$f":"IF('Step 5 Identify & Select ASHPs'!$E$33=Dropdown_Menus!$A$2,\"\",'HP1'!B21)","v":""},{"$f":"IF(OR(M21=\"#N/A\",M21=\"\"),\"\",IFERROR(HLOOKUP('HP1'!M21,'Step 5 Identify & Select ASHPs'!$N$31:$AH$34,2,FALSE),\"\"))","v":""},{"$f":"IF(OR(M21=\"#N/A\",M21=\"\"),\"\",IFERROR(HLOOKUP('HP1'!M21,'Step 5 Identify & Select ASHPs'!$N$31:$AH$34,IF('Step 5 Identify & Select ASHPs'!$I$35=\"COP\",4,3),FALSE),\"\"))","v":""},{"$f":"IF(OR(B21=\"#N/A\",B21=\"\"),\"\",IFERROR(HLOOKUP('HP1'!B21,'Step 5 Identify & Select ASHPs'!$N$31:$AH$34,IF('Step 5 Identify & Select ASHPs'!$I$35=\"COP\",3,4),FALSE),\"\"))","v":""},{"$f":"(M21*'Design Load Calcs'!$G$23+'Design Load Calcs'!$H$23)","v":{"$error":"#VALUE!"}},""]
[null,{"$f":"IF(OR('Step 5 Identify & Select ASHPs'!$I$24,'Step 5 Identify & Select ASHPs'!$I$25),\"\",IF('Step 5 Identify & Select ASHPs'!$I$26,IF(MATCH(B21,$B$10:$B$29,0)>='Step 5 Identify & Select ASHPs'!$I$32,\"\",'Step 5 Identify & Select ASHPs'!$Z$22),NA()))","v":""},{"$f":"IF(OR(B22=\"#N/A\",B22=\"\"),\"\",IFERROR(HLOOKUP('HP1'!B22,'Step 5 Identify & Select ASHPs'!$N$22:$AH$25,2,FALSE),\"\"))","v":""},{"$f":"IF(OR(B22=\"#N/A\",B22=\"\"),\"\",IFERROR(HLOOKUP('HP1'!B22,'Step 5 Identify & Select ASHPs'!$N$22:$AH$25,IF('Step 5 Identify & Select ASHPs'!$I$35=\"COP\",4,3),FALSE),\"\"))","v":""},{"$f":"IF(OR(B22=\"#N/A\",B22=\"\"),\"\",IFERROR(HLOOKUP('HP1'!B22,'Step 5 Identify & Select ASHPs'!$N$22:$AH$25,IF('Step 5 Identify & Select ASHPs'!$I$35=\"COP\",3,4),FALSE),\"\"))","v":""},{"$f":"(B22*'Design Load Calcs'!$G$23+'Design Load Calcs'!$H$23)","v":{"$error":"#VALUE!"}},"",null,null,null,null,null,{"$f":"IF('Step 5 Identify & Select ASHPs'!$E$33=Dropdown_Menus!$A$2,\"\",'HP1'!B22)","v":""},{"$f":"IF(OR(M22=\"#N/A\",M22=\"\"),\"\",IFERROR(HLOOKUP('HP1'!M22,'Step 5 Identify & Select ASHPs'!$N$31:$AH$34,2,FALSE),\"\"))","v":""},{"$f":"IF(OR(M22=\"#N/A\",M22=\"\"),\"\",IFERROR(HLOOKUP('HP1'!M22,'Step 5 Identify & Select ASHPs'!$N$31:$AH$34,IF('Step 5 Identify & Select ASHPs'!$I$35=\"COP\",4,3),FALSE),\"\"))","v":""},{"$f":"IF(OR(B22=\"#N/A\",B22=\"\"),\"\",IFERROR(HLOOKUP('HP1'!B22,'Step 5 Identify & Select ASHPs'!$N$31:$AH$34,IF('Step 5 Identify & Select ASHPs'!$I$35=\"COP\",3,4),FALSE),\"\"))","v":""},{"$f":"(M22*'Design Load Calcs'!$G$23+'Design Load Calcs'!$H$23)","v":{"$error":"#VALUE!"}},""]
[null,{"$f":"IF(OR('Step 5 Identify & Select ASHPs'!$I$24,'Step 5 Identify & Select ASHPs'!$I$25),\"\",IF('Step 5 Identify & Select ASHPs'!$I$26,IF(MATCH(B22,$B$10:$B$29,0)>='Step 5 Identify & Select ASHPs'!$I$32,\"\",'Step 5 Identify & Select ASHPs'!$AA$22),NA()))","v":""},{"$f":"IF(OR(B23=\"#N/A\",B23=\"\"),\"\",IFERROR(HLOOKUP('HP1'!B23,'Step 5 Identify & Select ASHPs'!$N$22:$AH$25,2,FALSE),\"\"))","v":""},{"$f":"IF(OR(B23=\"#N/A\",B23=\"\"),\"\",IFERROR(HLOOKUP('HP1'!B23,'Step 5 Identify & Select ASHPs'!$N$22:$AH$25,IF('Step 5 Identify & Select ASHPs'!$I$35=\"COP\",4,3),FALSE),\"\"))","v":""},{"$f":"IF(OR(B23=\"#N/A\",B23=\"\"),\"\",IFERROR(HLOOKUP('HP1'!B23,'Step 5 Identify & Select ASHPs'!$N$22:$AH$25,IF('Step 5 Identify & Select ASHPs'!$I$35=\"COP\",3,4),FALSE),\"\"))","v":""},{"$f":"(B23*'Design Load Calcs'!$G$23+'Design Load Calcs'!$H$23)","v":{"$error":"#VALUE!"}},"",null,null,null,null,null,{"$f":"IF('Step 5 Identify & Select ASHPs'!$E$33=Dropdown_Menus!$A$2,\"\",'HP1'!B23)","v":""},{"$f":"IF(OR(M23=\"#N/A\",M23=\"\"),\"\",IFERROR(HLOOKUP('HP1'!M23,'Step 5 Identify & Select ASHPs'!$N$31:$AH$34,2,FALSE),\"\"))","v":""},{"$f":"IF(OR(M23=\"#N/A\",M23=\"\"),\"\",IFERROR(HLOOKUP('HP1'!M23,'Step 5 Identify & Select ASHPs'!$N$31:$AH$34,IF('Step 5 Identify & Select ASHPs'!$I$35=\"COP\",4,3),FALSE),\"\"))","v":""},{"$f":"IF(OR(B23=\"#N/A\",B23=\"\"),\"\",IFERROR(HLOOKUP('HP1'!B23,'Step 5 Identify & Select ASHPs'!$N$31:$AH$34,IF('Step 5 Identify & Select ASHPs'!$I$35=\"COP\",3,4),FALSE),\"\"))","v":""},{"$f":"(M23*'Design Load Calcs'!$G$23+'Design Load Calcs'!$H$23)","v":{"$error":"#VALUE!"}},""]
[null,{"$f":"IF(OR('Step 5 Identify & Select ASHPs'!$I$24,'Step 5 Identify & Select ASHPs'!$I$25),\"\",IF('Step 5 Identify & Select ASHPs'!$I$26,IF(MATCH(B23,$B$10:$B$29,0)>='Step 5 Identify & Select ASHPs'!$I$32,\"\",'Step 5 Identify & Select ASHPs'!$AB$22),NA()))","v":""},{"$f":"IF(OR(B24=\"#N/A\",B24=\"\"),\"\",IFERROR(HLOOKUP('HP1'!B24,'Step 5 Identify & Select ASHPs'!$N$22:$AH$25,2,FALSE),\"\"))","v":""},{"$f":"IF(OR(B24=\"#N/A\",B24=\"\"),\"\",IFERROR(HLOOKUP('HP1'!B24,'Step 5 Identify & Select ASHPs'!$N$22:$AH$25,IF('Step 5 Identify & Select ASHPs'!$I$35=\"COP\",4,3),FALSE),\"\"))","v":""},{"$f":"IF(OR(B24=\"#N/A\",B24=\"\"),\"\",IFERROR(HLOOKUP('HP1'!B24,'Step 5 Identify & Select ASHPs'!$N$22:$AH$25,IF('Step 5 Identify & Select ASHPs'!$I$35=\"COP\",3,4),FALSE),\"\"))","v":""},{"$f":"(B24*'Design Load Calcs'!$G$23+'Design Load Calcs'!$H$23)","v":{"$error":"#VALUE!"}},{"$f":"IF(B24=\"\",\"\",ABS(C24-F24))","v":""},null,null,null,null,null,{"$f":"IF('Step 5 Identify & Select ASHPs'!$E$33=Dropdown_Menus!$A$2,\"\",'HP1'!B24)","v":""},{"$f":"IF(OR(M24=\"#N/A\",M24=\"\"),\"\",IFERROR(HLOOKUP('HP1'!M24,'Step 5 Identify & Select ASHPs'!$N$31:$AH$34,2,FALSE),\"\"))","v":""},{"$f":"IF(OR(M24=\"#N/A\",M24=\"\"),\"\",IFERROR(HLOOKUP('HP1'!M24,'Step 5 Identify & Select ASHPs'!$N$31:$AH$34,IF('Step 5 Identify & Select ASHPs'!$I$35=\"COP\",4,3),FALSE),\"\"))","v":""},{"$f":"IF(OR(B24=\"#N/A\",B24=\"\"),\"\",IFERROR(HLOOKUP('HP1'!B24,'Step 5 Identify & Select ASHPs'!$N$31:$AH$34,IF('Step 5 Identify & Select ASHPs'!$I$35=\"COP\",3,4),FALSE),\"\"))","v":""},{"$f":"(M24*'Design Load Calcs'!$G$23+'Design Load Calcs'!$H$23)","v":{"$error":"#VALUE!"}},""]
[null,{"$f":"IF(OR('Step 5 Identify & Select ASHPs'!$I$24,'Step 5 Identify & Select ASHPs'!$I$25),\"\",IF('Step 5 Identify & Select ASHPs'!$I$26,IF(MATCH(B24,$B$10:$B$29,0)>='Step 5 Identify & Select ASHPs'!$I$32,\"\",'Step 5 Identify & Select ASHPs'!$AC$22),NA()))","v":""},{"$f":"IF(OR(B25=\"#N/A\",B25=\"\"),\"\",IFERROR(HLOOKUP('HP1'!B25,'Step 5 Identify & Select ASHPs'!$N$22:$AH$25,2,FALSE),\"\"))","v":""},{"$f":"IF(OR(B25=\"#N/A\",B25=\"\"),\"\",IFERROR(HLOOKUP('HP1'!B25,'Step 5 Identify & Select ASHPs'!$N$22:$AH$25,IF('Step 5 Identify & Select ASHPs'!$I$35=\"COP\",4,3),FALSE),\"\"))","v":""},{"$f":"IF(OR(B25=\"#N/A\",B25=\"\"),\"\",IFERROR(HLOOKUP('HP1'!B25,'Step 5 Identify & Select ASHPs'!$N$22:$AH$25,IF('Step 5 Identify & Select ASHPs'!$I$35=\"COP\",3,4),FALSE),\"\"))","v":""},{"$f":"(B25*'Design Load Calcs'!$G$23+'Design Load Calcs'!$H$23)","v":{"$error":"#VALUE!"}},{"$f":"IF(B25=\"\",\"\",ABS(C25-F25))","v":""},null,"Slope and Intercept at 47°F (HP Pwr)",null,null,null,{"$f":"IF('Step 5 Identify & Select ASHPs'!$E$33=Dropdown_Menus!$A$2,\"\",'HP1'!B25)","v":""},{"$f":"IF(OR(M25=\"#N/A\",M25=\"\"),\"\",IFERROR(HLOOKUP('HP1'!M25,'Step 5 Identify & Select ASHPs'!$N$31:$AH$34,2,FALSE),\"\"))","v":""},{"$f":"IF(OR(M25=\"#N/A\",M25=\"\"),\"\",IFERROR(HLOOKUP('HP1'!M25,'Step 5 Identify & Select ASHPs'!$N$31:$AH$34,IF('Step 5 Identify & Select ASHPs'!$I$35=\"COP\",4,3),FALSE),\"\"))","v":""},{"$f":"IF(OR(B25=\"#N/A\",B25=\"\"),\"\",IFERROR(HLOOKUP('HP1'!B25,'Step 5 Identify & Select ASHPs'!$N$31:$AH$34,IF('Step 5 Identify & Select ASHPs'!$I$35=\"COP\",3,4),FALSE),\"\"))","v":""},{"$f":"(M25*'Design Load Calcs'!$G$23+'Design Load Calcs'!$H$23)","v":{"$error":"#VALUE!"}},""]
[null,{"$f":"IF(OR('Step 5 Identify & Select ASHPs'!$I$24,'Step 5 Identify & Select ASHPs'!$I$25),\"\",IF('Step 5 Identify & Select ASHPs'!$I$26,IF(MATCH(B25,$B$10:$B$29,0)>='Step 5 Identify & Select ASHPs'!$I$32,\"\",'Step 5 Identify & Select ASHPs'!$AD$22),NA()))","v":""},{"$f":"IF(OR(B26=\"#N/A\",B26=\"\"),\"\",IFERROR(HLOOKUP('HP1'!B26,'Step 5 Identify & Select ASHPs'!$N$22:$AH$25,2,FALSE),\"\"))","v":""},{"$f":"IF(OR(B26=\"#N/A\",B26=\"\"),\"\",IFERROR(HLOOKUP('HP1'!B26,'Step 5 Identify & Select ASHPs'!$N$22:$AH$25,IF('Step 5 Identify & Select ASHPs'!$I$35=\"COP\",4,3),FALSE),\"\"))","v":""},{"$f":"IF(OR(B26=\"#N/A\",B26=\"\"),\"\",IFERROR(HLOOKUP('HP1'!B26,'Step 5 Identify & Select ASHPs'!$N$22:$AH$25,IF('Step 5 Identify & Select ASHPs'!$I$35=\"COP\",3,4),FALSE),\"\"))","v":""},{"$f":"(B26*'Design Load Calcs'!$G$23+'Design Load Calcs'!$H$23)","v":{"$error":"#VALUE!"}},"",null,"know ys (pwr):","know xs (temp)",null,null,{"$f":"IF('Step 5 Identify & Select ASHPs'!$E$33=Dropdown_Menus!$A$2,\"\",'HP1'!B26)","v":""},{"$f":"IF(OR(M26=\"#N/A\",M26=\"\"),\"\",IFERROR(HLOOKUP('HP1'!M26,'Step 5 Identify & Select ASHPs'!$N$31:$AH$34,2,FALSE),\"\"))","v":""},{"$f":"IF(OR(M26=\"#N/A\",M26=\"\"),\"\",IFERROR(HLOOKUP('HP1'!M26,'Step 5 Identify & Select ASHPs'!$N$31:$AH$34,IF('Step 5 Identify & Select ASHPs'!$I$35=\"COP\",4,3),FALSE),\"\"))","v":""},{"$f":"IF(OR(B26=\"#N/A\",B26=\"\"),\"\",IFERROR(HLOOKUP('HP1'!B26,'Step 5 Identify & Select ASHPs'!$N$31:$AH$34,IF('Step 5 Identify & Select ASHPs'!$I$35=\"COP\",3,4),FALSE),\"\"))","v":""},{"$f":"(M26*'Design Load Calcs'!$G$23+'Design Load Calcs'!$H$23)","v":{"$error":"#VALUE!"}},""]
[null,{"$f":"IF(OR('Step 5 Identify & Select ASHPs'!$I$24,'Step 5 Identify & Select ASHPs'!$I$25),\"\",IF('Step 5 Identify & Select ASHPs'!$I$26,IF(MATCH(B26,$B$10:$B$29,0)>='Step 5 Identify & Select ASHPs'!$I$32,\"\",'Step 5 Identify & Select ASHPs'!$AE$22),NA()))","v":""},{"$f":"IF(OR(B27=\"#N/A\",B27=\"\"),\"\",IFERROR(HLOOKUP('HP1'!B27,'Step 5 Identify & Select ASHPs'!$N$22:$AH$25,2,FALSE),\"\"))","v":""},{"$f":"IF(OR(B27=\"#N/A\",B27=\"\"),\"\",IFERROR(HLOOKUP('HP1'!B27,'Step 5 Identify & Select ASHPs'!$N$22:$AH$25,IF('Step 5 Identify & Select ASHPs'!$I$35=\"COP\",4,3),FALSE),\"\"))","v":""},{"$f":"IF(OR(B27=\"#N/A\",B27=\"\"),\"\",IFERROR(HLOOKUP('HP1'!B27,'Step 5 Identify & Select ASHPs'!$N$22:$AH$25,IF('Step 5 Identify & Select ASHPs'!$I$35=\"COP\",3,4),FALSE),\"\"))","v":""},{"$f":"(B27*'Design Load Calcs'!$G$23+'Design Load Calcs'!$H$23)","v":{"$error":"#VALUE!"}},"",null,{"$f":"INDEX(D10:D29,MATCH(J27,B10:B29,0))","v":0},{"$f":"IF(MAX(B10:B29)<IF('Intro & Unit Options'!B12=Dropdown_Menus!F1,CONVERT(47,\"F\",\"C\"),47),MAX(B10:B29),INDEX(B10:B29,MATCH(IF('Intro & Unit Options'!B12=Dropdown_Menus!F1,CONVERT(47,\"F\",\"C\"),47),B10:B29,-1)))","v":47},null,null,{"$f":"IF('Step 5 Identify & Select ASHPs'!$E$33=Dropdown_Menus!$A$2,\"\",'HP1'!B27)","v":""},{"$f":"IF(OR(M27=\"#N/A\",M27=\"\"),\"\",IFERROR(HLOOKUP('HP1'!M27,'Step 5 Identify & Select ASHPs'!$N$31:$AH$34,2,FALSE),\"\"))","v":""},{"$f":"IF(OR(M27=\"#N/A\",M27=\"\"),\"\",IFERROR(HLOOKUP('HP1'!M27,'Step 5 Identify & Select ASHPs'!$N$31:$AH$34,IF('Step 5 Identify & Select ASHPs'!$I$35=\"COP\",4,3),FALSE),\"\"))","v":""},{"$f":"IF(OR(B27=\"#N/A\",B27=\"\"),\"\",IFERROR(HLOOKUP('HP1'!B27,'Step 5 Identify & Select ASHPs'!$N$31:$AH$34,IF('Step 5 Identify & Select ASHPs'!$I$35=\"COP\",3,4),FALSE),\"\"))","v":""},{"$f":"(M27*'Design Load Calcs'!$G$23+'Design Load Calcs'!$H$23)","v":{"$error":"#VALUE!"}},""]
[null,{"$f":"IF(OR('Step 5 Identify & Select ASHPs'!$I$24,'Step 5 Identify & Select ASHPs'!$I$25),\"\",IF('Step 5 Identify & Select ASHPs'!$I$26,IF(MATCH(B27,$B$10:$B$29,0)>='Step 5 Identify & Select ASHPs'!$I$32,\"\",'Step 5 Identify & Select ASHPs'!$AF$22),NA()))","v":""},{"$f":"IF(OR(B28=\"#N/A\",B28=\"\"),\"\",IFERROR(HLOOKUP('HP1'!B28,'Step 5 Identify & Select ASHPs'!$N$22:$AH$25,2,FALSE),\"\"))","v":""},{"$f":"IF(OR(B28=\"#N/A\",B28=\"\"),\"\",IFERROR(HLOOKUP('HP1'!B28,'Step 5 Identify & Select ASHPs'!$N$22:$AH$25,IF('Step 5 Identify & Select ASHPs'!$I$35=\"COP\",4,3),FALSE),\"\"))","v":""},{"$f":"IF(OR(B28=\"#N/A\",B28=\"\"),\"\",IFERROR(HLOOKUP('HP1'!B28,'Step 5 Identify & Select ASHPs'!$N$22:$AH$25,IF('Step 5 Identify & Select ASHPs'!$I$35=\"COP\",3,4),FALSE),\"\"))","v":""},{"$f":"(B28*'Design Load Calcs'!$G$23+'Design Load Calcs'!$H$23)","v":{"$error":"#VALUE!"}},"",null,{"$f":"INDEX(D10:D29,MATCH(J28,B10:B29,0))","v":0},{"$f":"IF(J27=MIN(B10:B29),INDEX(B10:B29,MATCH(J27,B10:B29,0)-1),INDEX(B10:B29,MATCH(J27,B10:B29,0)+1))","v":17},null,null,{"$f":"IF('Step 5 Identify & Select ASHPs'!$E$33=Dropdown_Menus!$A$2,\"\",'HP1'!B28)","v":""},{"$f":"IF(OR(M28=\"#N/A\",M28=\"\"),\"\",IFERROR(HLOOKUP('HP1'!M28,'Step 5 Identify & Select ASHPs'!$N$31:$AH$34,2,FALSE),\"\"))","v":""},{"$f":"IF(OR(M28=\"#N/A\",M28=\"\"),\"\",IFERROR(HLOOKUP('HP1'!M28,'Step 5 Identify & Select ASHPs'!$N$31:$AH$34,IF('Step 5 Identify & Select ASHPs'!$I$35=\"COP\",4,3),FALSE),\"\"))","v":""},{"$f":"IF(OR(B28=\"#N/A\",B28=\"\"),\"\",IFERROR(HLOOKUP('HP1'!B28,'Step 5 Identify & Select ASHPs'!$N$31:$AH$34,IF('Step 5 Identify & Select ASHPs'!$I$35=\"COP\",3,4),FALSE),\"\"))","v":""},{"$f":"(M28*'Design Load Calcs'!$G$23+'Design Load Calcs'!$H$23)","v":{"$error":"#VALUE!"}},""]
[null,{"$f":"IF(OR('Step 5 Identify & Select ASHPs'!$I$24,'Step 5 Identify & Select ASHPs'!$I$25),\"\",IF('Step 5 Identify & Select ASHPs'!$I$26,IF(MATCH(B28,$B$10:$B$29,0)>='Step 5 Identify & Select ASHPs'!$I$32,\"\",'Step 5 Identify & Select ASHPs'!$AG$22),NA()))","v":""},{"$f":"IF(OR(B29=\"#N/A\",B29=\"\"),\"\",IFERROR(HLOOKUP('HP1'!B29,'Step 5 Identify & Select ASHPs'!$N$22:$AH$25,2,FALSE),\"\"))","v":""},{"$f":"IF(OR(B29=\"#N/A\",B29=\"\"),\"\",IFERROR(HLOOKUP('HP1'!B29,'Step 5 Identify & Select ASHPs'!$N$22:$AH$25,IF('Step 5 Identify & Select ASHPs'!$I$35=\"COP\",4,3),FALSE),\"\"))","v":""},{"$f":"IF(OR(B29=\"#N/A\",B29=\"\"),\"\",IFERROR(HLOOKUP('HP1'!B29,'Step 5 Identify & Select ASHPs'!$N$22:$AH$25,IF('Step 5 Identify & Select ASHPs'!$I$35=\"COP\",3,4),FALSE),\"\"))","v":""},{"$f":"(B29*'Design Load Calcs'!$G$23+'Design Load Calcs'!$H$23)","v":{"$error":"#VALUE!"}},"",null,"Slope and Intercept at 17°F (HP Cap)",null,null,null,{"$f":"IF('Step 5 Identify & Select ASHPs'!$E$33=Dropdown_Menus!$A$2,\"\",'HP1'!B29)","v":""},{"$f":"IF(OR(M29=\"#N/A\",M29=\"\"),\"\",IFERROR(HLOOKUP('HP1'!M29,'Step 5 Identify & Select ASHPs'!$N$31:$AH$34,2,FALSE),\"\"))","v":""},{"$f":"IF(OR(M29=\"#N/A\",M29=\"\"),\"\",IFERROR(HLOOKUP('HP1'!M29,'Step 5 Identify & Select ASHPs'!$N$31:$AH$34,IF('Step 5 Identify & Select ASHPs'!$I$35=\"COP\",4,3),FALSE),\"\"))","v":""},{"$f":"IF(OR(B29=\"#N/A\",B29=\"\"),\"\",IFERROR(HLOOKUP('HP1'!B29,'Step 5 Identify & Select ASHPs'!$N$31:$AH$34,IF('Step 5 Identify & Select ASHPs'!$I$35=\"COP\",3,4),FALSE),\"\"))","v":""},{"$f":"(M29*'Design Load Calcs'!$G$23+'Design Load Calcs'!$H$23)","v":{"$error":"#VALUE!"}},""]
[null,{"$f":"'Step 5 Identify & Select ASHPs'!$E$31","v":0},{"$f":"IF(D34=B30,B34,SLOPE(B34:B35,D34:D35)*B30+INTERCEPT(B34:B35,D34:D35))","v":0},{"$f":"IF(D34=B30,C34,SLOPE(C34:C35,D34:D35)*B30+INTERCEPT(C34:C35,D34:D35))","v":0},{"$f":"(C30/IF('Intro & Unit Options'!$B$12=Dropdown_Menus!$F$1,1,3412))/D30","v":{"$error":"#DIV/0!"}},{"$f":"IF(B30<C5,'Design Load Calcs'!$B$3,B30*'Design Load Calcs'!$G$23+'Design Load Calcs'!$H$23)","v":50000},{"$f":"IF(B30=\"\",\"\",ABS(C30-F30))","v":50000},null,"know ys (pwr):","know xs (temp)",null,null,{"$f":"'Step 5 Identify & Select ASHPs'!$E$31","v":0},{"$f":"IF(O34=M30,M34,SLOPE(M34:M35,O34:O35)*M30+INTERCEPT(M34:M35,O34:O35))","v":0},{"$f":"IF(O34=M30,N34,SLOPE(N34:N35,O34:O35)*M30+INTERCEPT(N34:N35,O34:O35))","v":0},{"$f":"(N30/IF('Intro & Unit Options'!$B$12=Dropdown_Menus!$F$1,1,3412))/O30","v":{"$error":"#DIV/0!"}},{"$f":"IF(M30<N5,'Design Load Calcs'!$B$3,M30*'Design Load Calcs'!$G$23+'Design Load Calcs'!$H$23)","v":50000},{"$f":"IF(M30=\"\",\"\",ABS(N30-Q30))","v":50000}]
[null,null,null,null,null,null,null,null,{"$f":"INDEX(D10:D29,MATCH(J31,B10:B29,0))","v":0},{"$f":"IF(MAX(B10:B29)<IF('Intro & Unit Options'!B12=Dropdown_Menus!F1,CONVERT(17,\"F\",\"C\"),17),MAX(B10:B29),INDEX(B10:B29,MATCH(IF('Intro & Unit Options'!B12=Dropdown_Menus!F1,CONVERT(17,\"F\",\"C\"),17),B10:B29,-1)))","v":17}]
[null,"Slope and Intercept at the cut-off temp. (HP Norm. Cap and pwr)",null,null,null,"Slope and Intercept at the Design Temp. (HP Cap)",null,null,{"$f":"INDEX(D10:D29,MATCH(J32,B10:B29,0))","v":0},{"$f":"IF(J31=MIN(B10:B29),INDEX(B10:B29,MATCH(J31,B10:B29,0)-1),INDEX(B10:B29,MATCH(J31,B10:B29,0)+1))","v":47},null,null,"Slope and Intercept at the cut-off temp. (HP Norm. Cap and pwr)",null,null,null,"Slope and Intercept at the Design Temp. (HP Cap)"]
[null,"know ys (capacity):","know ys (power):","know xs (temp)",null,"know ys (capacity):","know xs (temp)",null,"Slope and Intercept at 47°F (HP Cap)",null,null,null,"know ys (capacity):","know ys (power):","know xs (temp)",null,"know ys (capacity):","know xs"]
[null,{"$f":"INDEX(C10:C29,MATCH(D34,B10:B29,0))","v":0},{"$f":"INDEX(D10:D29,MATCH(B34,C10:C29,0))","v":0},{"$f":"IF(B30=MIN(B10:B29),B30,INDEX(B10:B29,MATCH(B30,B10:B29,-1)))","v":17},null,{"$f":"IF(G34=\"-\",0,INDEX(C10:C29,MATCH(G34,B10:B29,0)))","v":0},{"$f":"IF(C5<B30,\"-\",IFERROR(INDEX(B10:B29,MATCH(C5,B10:B29,0)),IF(C5<MIN(B10:B29),INDEX(B10:B29,MATCH(MIN(B10:B29),B10:B29,-1)),INDEX(B10:B29,MATCH(C5,B10:B29,-1)))))","v":17},null,"know ys (capacity):","know xs (temp)",null,null,{"$f":"INDEX(N10:N29,MATCH(O34,M10:M29,0))","v":0},{"$f":"INDEX(O10:O29,MATCH(M34,N10:N29,0))","v":0},{"$f":"IF(M30=MIN(M10:M29),M30,INDEX(M10:M29,MATCH(M30,M10:M29,-1)))","v":17},null,{"$f":"IF(R34=\"-\",0,INDEX(N10:N29,MATCH(R34,M10:M29,0)))","v":0},{"$f":"IF(N5<M30,\"-\",IFERROR(INDEX(M10:M29,MATCH(N5,M10:M29,0)),IF(N5<MIN(M10:M29),INDEX(M10:M29,MATCH(MIN(M10:M29),M10:M29,-1)),INDEX(M10:M29,MATCH(N5,M10:M29,-1)))))","v":17}]
[null,{"$f":"IF(D35=\"-\",\"-\",INDEX(C10:C29,MATCH(D35,B10:B29,0)))","v":0},{"$f":"IF(D35=\"-\",\"-\",INDEX($D$10:$D$29, MATCH(D35,$B$10:$B$29,0)))","v":0},{"$f":"IF(B30=MIN(B10:B29),\"-\",INDEX(B10:B29,MATCH(B30,B10:B29,-1)+IF(D34=MIN(B10:B29),-1,1)))","v":47},null,{"$f":"IF(G35=\"-\",0,INDEX(C10:C29,MATCH(G35,B10:B29,0)))","v":0},{"$f":"IF(C5<B30,\"-\",IF(G34=C5,\"-\",INDEX(B10:B29,MATCH(G34,B10:B29,0)+IF(G34=MIN(B10:B29),-1,1))))","v":47},null,{"$f":"INDEX(C10:C29,MATCH(J35,B10:B29,0))","v":0},{"$f":"IF(MAX(B10:B29)<IF('Intro & Unit Options'!B13=Dropdown_Menus!F2,CONVERT(47,\"F\",\"C\"),47),MAX(B10:B29),INDEX(B10:B29,MATCH(IF('Intro & Unit Options'!B13=Dropdown_Menus!F2,CONVERT(47,\"F\",\"C\"),47),B10:B29,-1)))","v":47},null,null,{"$f":"IF(O35=\"-\",\"-\",INDEX(N10:N29,MATCH(O35,M10:M29,0)))","v":0},{"$f":"IF(O35=\"-\",\"-\",INDEX($O$10:$O$29, MATCH(O35,$M$10:$M$29,0)))","v":0},{"$f":"IF(M30=MIN(M10:M29),\"-\",INDEX(M10:M29,MATCH(M30,M10:M29,-1)+IF(O34=MIN(M10:M29),-1,1)))","v":47},null,{"$f":"IF(R35=\"-\",0,INDEX(N10:N29,MATCH(R35,M10:M29,0)))","v":0},{"$f":"IF(N5<M30,\"-\",IF(R34=N5,\"-\",INDEX(M10:M29,MATCH(R34,M10:M29,0)+IF(R34=MIN(M10:M29),-1,1))))","v":47}]
[null,null,null,null,null,null,null,null,{"$f":"INDEX(C10:C29,MATCH(J36,B10:B29,0))","v":0},{"$f":"IF(J35=MIN(B10:B29),INDEX(B10:B29,MATCH(J35,B10:B29,0)-1),INDEX(B10:B29,MATCH(J35,B10:B29,0)+1))","v":17}]
[null,"Slope and Intercept at the BPT (HP Cap)",null,null,null,"Slope and Intercept at the BPT (Load%)",null,null,"Slope and Intercept at 17°F (HP Cap)",null,null,null,"Slope and Intercept at the BPT (HP Cap)",null,null,null,"Slope and Intercept at the BPT (Load%)"]
[null,"know ys (eq. 1):","know xs (eq. 1):","know ys (eq. 2):","know xs (eq. 2):","know ys (eq. 1):","know ys (eq. 2):",null,"know ys (capacity):","know xs (temp)",null,null,"know ys (eq. 1):","know xs (eq. 1):","know ys (eq. 2):","know xs (eq. 2):","know ys (eq. 1):","know ys (eq. 2):"]
[null,{"$f":"INDEX(C10:C29,MATCH(MIN(G10:G29),G10:G29,0)-1)","v":{"$error":"#VALUE!"}},{"$f":"INDEX(B10:B29,MATCH(MIN(G10:G29),G10:G29,0)-1)","v":{"$error":"#VALUE!"}},{"$f":"INDEX(C10:C29,MATCH(MIN(G10:G29),G10:G29,0))","v":0},{"$f":"INDEX(B10:B29,MATCH(MIN(G10:G29),G10:G29,0))","v":47},{"$f":"INDEX(INDIRECT(CONCATENATE(IFERROR(SUBSTITUTE('Step 3 Design Loads'!B8,\"-\",\"\"),'Step 3 Design Loads'!B8),\"_Load\")),MATCH(G39,'Load %s'!N8:N24))","v":{"$error":"#N/A"}},{"$f":"IF(ISNUMBER(MATCH(J9,'Load %s'!N8:N24,0)),'HP1'!J9,INDEX('Load %s'!N8:N24,MATCH('HP1'!J9,'Load %s'!N8:N24,1)))","v":{"$error":"#N/A"}},null,{"$f":"INDEX(C10:C29,MATCH(J39,B10:B29,0))","v":0},{"$f":"IF(MAX(B10:B29)<IF('Intro & Unit Options'!B12=Dropdown_Menus!F1,CONVERT(17,\"F\",\"C\"),17),MAX(B10:B29),INDEX(B10:B29,MATCH(IF('Intro & Unit Options'!B12=Dropdown_Menus!F1,CONVERT(17,\"F\",\"C\"),17),B10:B29,-1)))","v":17},null,null,{"$f":"INDEX(N10:N29,MATCH(MIN(R10:R29),R10:R29,0)-1)","v":{"$error":"#VALUE!"}},{"$f":"INDEX(M10:M29,MATCH(MIN(R10:R29),R10:R29,0)-1)","v":{"$error":"#VALUE!"}},{"$f":"INDEX(N10:N29,MATCH(MIN(R10:R29),R10:R29,0))","v":0},{"$f":"INDEX(M10:M29,MATCH(MIN(R10:R29),R10:R29,0))","v":47},{"$f":"INDEX(INDIRECT(CONCATENATE(IFERROR(SUBSTITUTE('Step 3 Design Loads'!B8,\"-\",\"\"),'Step 3 Design Loads'!B8),\"_Load\")),MATCH(R39,'Load %s'!N8:N24))","v":{"$error":"#N/A"}},{"$f":"IF(ISNUMBER(MATCH(U9,'Load %s'!N8:N24,0)),'HP1'!U9,INDEX('Load %s'!N8:N24,MATCH('HP1'!U9,'Load %s'!N8:N24,1)))","v":{"$error":"#N/A"}}]
[null,{"$f":"INDEX(C10:C29,MATCH(MIN(G10:G29),G10:G29,0))","v":0},{"$f":"INDEX(B10:B29,MATCH(MIN(G10:G29),G10:G29,0))","v":47},{"$f":"IF(OR(SUMIF(B10:B29,\"<>\"\"\")=0,INDEX(C10:C29,MATCH(MIN(G10:G29),G10:G29,0)+1)=\"\"),C30,INDEX(C10:C29,MATCH(MIN(G10:G29),G10:G29,0)+1))","v":0},{"$f":"IF(OR(AND(SUMIF(B12:B29,\"<>\"\"\")=0,B30<E39),INDEX(B10:B29,MATCH(MIN(G10:G29),G10:G29,0)+1)=\"\"),B30,INDEX(B10:B29,MATCH(MIN(G10:G29),G10:G29,0)+1))","v":0},{"$f":"INDEX(INDIRECT(CONCATENATE(IFERROR(SUBSTITUTE('Step 3 Design Loads'!B8,\"-\",\"\"),'Step 3 Design Loads'!B8),\"_Load\")),MATCH(G40,'Load %s'!N8:N24))","v":{"$error":"#N/A"}},{"$f":"IF(ISNUMBER(MATCH(E41,'Load %s'!N8:N24,0)),\"\",INDEX('Load %s'!N8:N24,MATCH(G39,'Load %s'!N8:N24,0)+1))","v":{"$error":"#N/A"}},null,{"$f":"INDEX(C10:C29,MATCH(J40,B10:B29,0))","v":0},{"$f":"IF(J39=MIN(B10:B29),INDEX(B10:B29,MATCH(J39,B10:B29,0)-1),INDEX(B10:B29,MATCH(J39,B10:B29,0)+1))","v":47},null,null,{"$f":"INDEX(N10:N29,MATCH(MIN(R10:R29),R10:R29,0))","v":0},{"$f":"INDEX(M10:M29,MATCH(MIN(R10:R29),R10:R29,0))","v":47},{"$f":"IF(OR(SUMIF(M12:M29,\"<>\"\"\")=0,INDEX(N10:N29,MATCH(MIN(R10:R29),R10:R29,0)+1)=\"\"),N30,INDEX(N10:N29,MATCH(MIN(R10:R29),R10:R29,0)+1))","v":0},{"$f":"IF(OR(AND(SUMIF(M12:M29,\"<>\"\"\")=0,M30<P39),INDEX(M10:M29,MATCH(MIN(R10:R29),R10:R29,0)+1)=\"\"),M30,INDEX(M10:M29,MATCH(MIN(R10:R29),R10:R29,0)+1))","v":0},{"$f":"INDEX(INDIRECT(CONCATENATE(IFERROR(SUBSTITUTE('Step 3 Design Loads'!B8,\"-\",\"\"),'Step 3 Design Loads'!B8),\"_Load\")),MATCH(R40,'Load %s'!N8:N24))","v":{"$error":"#N/A"}},{"$f":"IF(ISNUMBER(MATCH(P41,'Load %s'!N8:N24,0)),\"\",INDEX('Load %s'!N8:N24,MATCH(R39,'Load %s'!N8:N24,0)+1))","v":{"$error":"#N/A"}}]
[null,"BPT (eq. 1):",{"$f":"IF(IF(('Design Load Calcs'!$H$23-INTERCEPT(B39:B40,C39:C40))/(SLOPE(B39:B40,C39:C40)-'Design Load Calcs'!$G$23)<'Step 3 Design Loads'!B13,NA(),('Design Load Calcs'!$H$23-INTERCEPT(B39:B40,C39:C40))/(SLOPE(B39:B40,C39:C40)-'Design Load Calcs'!$G$23))>MAX(B10:B29),NA(),IF(('Design Load Calcs'!$H$23-INTERCEPT(B39:B40,C39:C40))/(SLOPE(B39:B40,C39:C40)-'Design Load Calcs'!$G$23)<'Step 3 Design Loads'!B13,NA(),('Design Load Calcs'!$H$23-INTERCEPT(B39:B40,C39:C40))/(SLOPE(B39:B40,C39:C40)-'Design Load Calcs'!$G$23)))","v":{"$error":"#VALUE!"}},"BPT (eq. 2):",{"$f":"IF(IF(('Design Load Calcs'!$H$23-INTERCEPT(D39:D40,E39:E40))/(SLOPE(D39:D40,E39:E40)-'Design Load Calcs'!$G$23)<'Step 3 Design Loads'!B13,NA(),('Design Load Calcs'!$H$23-INTERCEPT(D39:D40,E39:E40))/(SLOPE(D39:D40,E39:E40)-'Design Load Calcs'!$G$23))>MAX(B10:B29),NA(),IF(('Design Load Calcs'!$H$23-INTERCEPT(D39:D40,E39:E40))/(SLOPE(D39:D40,E39:E40)-'Design Load Calcs'!$G$23)<'Step 3 Design Loads'!B13,NA(),('Design Load Calcs'!$H$23-INTERCEPT(D39:D40,E39:E40))/(SLOPE(D39:D40,E39:E40)-'Design Load Calcs'!$G$23)))","v":{"$error":"#N/A"}},null,null,null,null,null,null,null,"BPT (eq. 1):",{"$f":"IF(IF(('Design Load Calcs'!$H$23-INTERCEPT(M39:M40,N39:N40))/(SLOPE(M39:M40,N39:N40)-'Design Load Calcs'!$G$23)<'Step 3 Design Loads'!B13,NA(),('Design Load Calcs'!$H$23-INTERCEPT(M39:M40,N39:N40))/(SLOPE(M39:M40,N39:N40)-'Design Load Calcs'!$G$23))>MAX(M10:M29),NA(),IF(('Design Load Calcs'!$H$23-INTERCEPT(M39:M40,N39:N40))/(SLOPE(M39:M40,N39:N40)-'Design Load Calcs'!$G$23)<'Step 3 Design Loads'!B13,NA(),('Design Load Calcs'!$H$23-INTERCEPT(M39:M40,N39:N40))/(SLOPE(M39:M40,N39:N40)-'Design Load Calcs'!$G$23)))","v":{"$error":"#VALUE!"}},"BPT (eq. 2):",{"$f":"IF(IF(('Design Load Calcs'!$H$23-INTERCEPT(O39:O40,P39:P40))/(SLOPE(O39:O40,P39:P40)-'Design Load Calcs'!$G$23)<'Step 3 Design Loads'!B13,NA(),('Design Load Calcs'!$H$23-INTERCEPT(O39:O40,P39:P40))/(SLOPE(O39:O40,P39:P40)-'Design Load Calcs'!$G$23))>MAX(M10:M29),NA(),IF(('Design Load Calcs'!$H$23-INTERCEPT(O39:O40,P39:P40))/(SLOPE(O39:O40,P39:P40)-'Design Load Calcs'!$G$23)<'Step 3 Design Loads'!B13,NA(),('Design Load Calcs'!$H$23-INTERCEPT(O39:O40,P39:P40))/(SLOPE(O39:O40,P39:P40)-'Design Load Calcs'!$G$23)))","v":{"$error":"#N/A"}}]
[null,"HP Cap (eq. 1): ",{"$f":"SLOPE(B39:B40,C39:C40)*C41+INTERCEPT(B39:B40,C39:C40)","v":{"$error":"#VALUE!"}},"HP Cap (eq. 2): ",{"$f":"SLOPE(D39:D40,E39:E40)*E41+INTERCEPT(D39:D40,E39:E40)","v":{"$error":"#N/A"}},null,null,null,null,null,null,null,"HP Cap (eq. 1): ",{"$f":"SLOPE(M39:M40,N39:N40)*N41+INTERCEPT(M39:M40,N39:N40)","v":{"$error":"#VALUE!"}},"HP Cap (eq. 2): ",{"$f":"SLOPE(O39:O40,P39:P40)*P41+INTERCEPT(O39:O40,P39:P40)","v":{"$error":"#N/A"}}]
[]
[]
[null,"Cooling - High Stage ",null,null,null,null,null,null,null,null,null,null,"Cooling - Low Stage "]
[]
[null,"Design Temp. (cool)",{"$f":"'Design Load Calcs'!B26","v":88},null,null,null,null,null,null,null,null,null,"Design Temp. (cool)",{"$f":"'Design Load Calcs'!B26","v":88}]
[]
[null,"Performance Data and Heating Load Line",null,null,null,null,null,null,"Outputs:",null,null,null,"Performance Data and Heating Load Line",null,null,null,null,null,null,"Outputs:"]
[null,"Outdoor Temp.","Actual Capacity","Actual Power","Actual COP",null,null,null,{"$f":"CONCATENATE(\"HP cap @ Design Temp.\",IF('Intro & Unit Options'!$B$12=Dropdown_Menus!F1,\" [kW]\",\" [BTU/h]\"))","v":"HP cap @ Design Temp. [BTU/h]"},{"$f":"IF(SUM(B53:B63)=0,I62,IF(OR(57=C47,J63=J62),I62,SLOPE(I62:I63,J62:J63)*C47+INTERCEPT(I62:I63,J62:J63)))","v":0},null,null,"Outdoor Temp.","Actual Capacity","Actual Power","Actual COP",null,null,null,{"$f":"CONCATENATE(\"HP cap @ Design Temp.\",IF('Intro & Unit Options'!$B$12=Dropdown_Menus!F1,\" [kW]\",\" [BTU/h]\"))","v":"HP cap @ Design Temp. [BTU/h]"},{"$f":"IF(SUM(M53:M63)=0,T62,IF(OR(57=N47,U63=U62),T62,SLOPE(T62:T63,U62:U63)*N47+INTERCEPT(T62:T63,U62:U63)))","v":0}]
[null,{"$f":"IF('Intro & Unit Options'!$B$12=Dropdown_Menus!$F$1,\"[°C]\",\"[°F]\")","v":"[°F]"},{"$f":"IF('Intro & Unit Options'!$B$12=Dropdown_Menus!$F$1,\"[kW]\",\"[BTU/h]\")","v":"[BTU/h]"},"[kW]","[-]",null,null,null,"% of Design Load",{"$f":"J50/'Design Load Calcs'!$B$25","v":0},null,null,{"$f":"IF('Intro & Unit Options'!$B$12=Dropdown_Menus!$F$1,\"[°C]\",\"[°F]\")","v":"[°F]"},{"$f":"IF('Intro & Unit Options'!$B$12=Dropdown_Menus!$F$1,\"[kW]\",\"[BTU/h]\")","v":"[BTU/h]"},"[kW]","[-]",null,null,null,"% of Design Load",{"$f":"U50/'Design Load Calcs'!$B$25","v":0}]
[null,{"$f":"IF(OR('Step 5 Identify & Select ASHPs'!$I$24,'Step 5 Identify & Select ASHPs'!$I$25,'Step 5 Identify & Select ASHPs'!$I$26),'Step 5 Identify & Select ASHPs'!$N$26,NA())","v":95},{"$f":"IF(OR(B52=\"#N/A\",B52=\"\"),\"\",IFERROR(HLOOKUP('HP1'!B52,'Step 5 Identify & Select ASHPs'!$N$26:$Z$29,2,FALSE),\"\"))","v":0},{"$f":"IF(OR(B52=\"#N/A\",B52=\"\"),\"\",IFERROR(HLOOKUP(B52,'Step 5 Identify & Select ASHPs'!$N$26:$Z$29,IF('Step 5 Identify & Select ASHPs'!$I$36=\"EER\",4,3),FALSE),\"\"))","v":0},{"$f":"IF(OR(B52=\"#N/A\",B52=\"\"),\"\",IFERROR(HLOOKUP(B52,'Step 5 Identify & Select ASHPs'!$N$26:$Z$29,IF('Step 5 Identify & Select ASHPs'!$I$36=\"EER\",3,4),FALSE),\"\"))","v":""},null,null,null,{"$f":"CONCATENATE(\"HP cap @\",IF('Intro & Unit Options'!B12=Dropdown_Menus!F1,CONVERT(95,\"F\",\"C\"),95),IF('Intro & Unit Options'!$B$12=Dropdown_Menus!F1,\" C\",\" F\"),IF('Intro & Unit Options'!$B$12=Dropdown_Menus!F1,\" [kW]\",\" [BTU/h]\"))","v":"HP cap @95 F [BTU/h]"},{"$f":"IF(OR('Step 5 Identify & Select ASHPs'!$I$24,'Step 5 Identify & Select ASHPs'!$I$25,'Step 5 Identify & Select ASHPs'!$I$27),'HP1'!C52,IFERROR(INDEX('HP1'!C52:C63,MATCH(IF('Intro & Unit Options'!B12=Dropdown_Menus!F1,CONVERT(95,\"F\",\"C\"),95),'HP1'!B52:B63,0)),SLOPE(I57:I58,J57:J58)*IF('Intro & Unit Options'!B12=Dropdown_Menus!F1,CONVERT(95,\"F\",\"C\"),95)+INTERCEPT(I57:I58,J57:J58)))","v":0},null,null,{"$f":"IF('Step 5 Identify & Select ASHPs'!$E$33=Dropdown_Menus!$A$2,\"\",'HP1'!B52)","v":95},{"$f":"IF(OR(M52=\"#N/A\",M52=\"\"),\"\",IFERROR(HLOOKUP('HP1'!M52,'Step 5 Identify & Select ASHPs'!$N$35:$AH$38,2,FALSE),\"\"))","v":0},{"$f":"IF(OR(M52=\"#N/A\",M52=\"\"),\"\",IFERROR(HLOOKUP(M52,'Step 5 Identify & Select ASHPs'!$N$35:$AH$38,IF('Step 5 Identify & Select ASHPs'!$I$36=\"EER\",4,3),FALSE),\"\"))","v":0},{"$f":"IF(OR(M52=\"#N/A\",M52=\"\"),\"\",IFERROR(HLOOKUP(M52,'Step 5 Identify & Select ASHPs'!$N$35:$AH$38,IF('Step 5 Identify & Select ASHPs'!$I$36=\"EER\",3,4),FALSE),\"\"))","v":""},null,null,null,{"$f":"CONCATENATE(\"HP cap @\",IF('Intro & Unit Options'!B12=Dropdown_Menus!F1,CONVERT(95,\"F\",\"C\"),95),IF('Intro & Unit Options'!$B$12=Dropdown_Menus!F1,\" C\",\" F\"),IF('Intro & Unit Options'!$B$12=Dropdown_Menus!F1,\" [kW]\",\" [BTU/h]\"))","v":"HP cap @95 F [BTU/h]"},{"$f":"IF('Step 5 Identify & Select ASHPs'!E33=\"Single Speed\",NA(),IF(OR('Step 5 Identify & Select ASHPs'!$I$24,'Step 5 Identify & Select ASHPs'!$I$25,'Step 5 Identify & Select ASHPs'!$I$27),'HP1'!N52,IFERROR(INDEX('HP1'!N52:N63,MATCH(IF('Intro & Unit Options'!B12=Dropdown_Menus!F1,CONVERT(95,\"F\",\"C\"),95),'HP1'!M52:M63,0)),SLOPE(T57:T58,U57:U58)*IF('Intro & Unit Options'!B12=Dropdown_Menus!F1,CONVERT(95,\"F\",\"C\"),95)+INTERCEPT(T57:T58,U57:U58))))","v":0}]
[null,{"$f":"IF(OR('Step 5 Identify & Select ASHPs'!$I$24,'Step 5 Identify & Select ASHPs'!$I$25),\"\",IF('Step 5 Identify & Select ASHPs'!$I$26,IF(MATCH(B52,$B$52:$B$63,0)>='Step 5 Identify & Select ASHPs'!$I$33,\"\",'Step 5 Identify & Select ASHPs'!$O$26),NA()))","v":""},{"$f":"IF(OR(B53=\"#N/A\",B53=\"\"),\"\",IFERROR(HLOOKUP('HP1'!B53,'Step 5 Identify & Select ASHPs'!$O$26:$Z$29,2,FALSE),\"\"))","v":""},{"$f":"IF(OR(B53=\"#N/A\",B53=\"\"),\"\",IFERROR(HLOOKUP(B53,'Step 5 Identify & Select ASHPs'!$O$26:$Z$29,IF('Step 5 Identify & Select ASHPs'!$I$36=\"EER\",4,3),FALSE),\"\"))","v":""},{"$f":"IF(OR(B53=\"#N/A\",B53=\"\"),\"\",IFERROR(HLOOKUP(B53,'Step 5 Identify & Select ASHPs'!$O$26:$Z$29,IF('Step 5 Identify & Select ASHPs'!$I$36=\"EER\",3,4),FALSE),\"\"))","v":""},null,null,null,{"$f":"CONCATENATE(\"HP COP @\",IF('Intro & Unit Options'!B13=Dropdown_Menus!F2,CONVERT(95,\"F\",\"C\"),95),IF('Intro & Unit Options'!$B$12=Dropdown_Menus!F2,\" C\",\" F\"),IF('Intro & Unit Options'!$B$12=Dropdown_Menus!F2,\" [kW]\",\" [BTU/h]\"))","v":"HP COP @95 F [BTU/h]"},{"$f":"IF(OR('Step 5 Identify & Select ASHPs'!$I$24,'Step 5 Identify & Select ASHPs'!$I$25,'Step 5 Identify & Select ASHPs'!$I$27),'HP1'!E52,IFERROR(INDEX('HP1'!E52:E63,MATCH(IF('Intro & Unit Options'!B12=Dropdown_Menus!F1,CONVERT(95,\"F\",\"C\"),95),'HP1'!B52:B63,0)),SLOPE(G57:G58,J57:J58)*IF('Intro & Unit Options'!B12=Dropdown_Menus!F1,CONVERT(95,\"F\",\"C\"),95)+INTERCEPT(G57:G58,J57:J58)))","v":""},null,null,{"$f":"IF('Step 5 Identify & Select ASHPs'!$E$33=Dropdown_Menus!$A$2,\"\",'HP1'!B53)","v":""},{"$f":"IF(OR(M53=\"#N/A\",M53=\"\"),\"\",IFERROR(HLOOKUP('HP1'!M53,'Step 5 Identify & Select ASHPs'!$N$35:$AH$38,2,FALSE),\"\"))","v":""},{"$f":"IF(OR(M53=\"#N/A\",M53=\"\"),\"\",IFERROR(HLOOKUP(M53,'Step 5 Identify & Select ASHPs'!$N$35:$AH$38,IF('Step 5 Identify & Select ASHPs'!$I$36=\"EER\",4,3),FALSE),\"\"))","v":""},{"$f":"IF(OR(M53=\"#N/A\",M53=\"\"),\"\",IFERROR(HLOOKUP(M53,'Step 5 Identify & Select ASHPs'!$N$35:$AH$38,IF('Step 5 Identify & Select ASHPs'!$I$36=\"EER\",3,4),FALSE),\"\"))","v":""}]
[null,{"$f":"IF(OR('Step 5 Identify & Select ASHPs'!$I$24,'Step 5 Identify & Select ASHPs'!$I$25),\"\",IF('Step 5 Identify & Select ASHPs'!$I$26,IF(MATCH(B53,$B$52:$B$63,0)>='Step 5 Identify & Select ASHPs'!$I$33,\"\",'Step 5 Identify & Select ASHPs'!$P$26),NA()))","v":""},{"$f":"IF(OR(B54=\"#N/A\",B54=\"\"),\"\",IFERROR(HLOOKUP('HP1'!B54,'Step 5 Identify & Select ASHPs'!$O$26:$Z$29,2,FALSE),\"\"))","v":""},{"$f":"IF(OR(B54=\"#N/A\",B54=\"\"),\"\",IFERROR(HLOOKUP(B54,'Step 5 Identify & Select ASHPs'!$O$26:$Z$29,IF('Step 5 Identify & Select ASHPs'!$I$36=\"EER\",4,3),FALSE),\"\"))","v":""},{"$f":"IF(OR(B54=\"#N/A\",B54=\"\"),\"\",IFERROR(HLOOKUP(B54,'Step 5 Identify & Select ASHPs'!$O$26:$Z$29,IF('Step 5 Identify & Select ASHPs'!$I$36=\"EER\",3,4),FALSE),\"\"))","v":""},null,null,null,null,null,null,null,{"$f":"IF('Step 5 Identify & Select ASHPs'!$E$33=Dropdown_Menus!$A$2,\"\",'HP1'!B54)","v":""},{"$f":"IF(OR(M54=\"#N/A\",M54=\"\"),\"\",IFERROR(HLOOKUP('HP1'!M54,'Step 5 Identify & Select ASHPs'!$N$35:$AH$38,2,FALSE),\"\"))","v":""},{"$f":"IF(OR(M54=\"#N/A\",M54=\"\"),\"\",IFERROR(HLOOKUP(M54,'Step 5 Identify & Select ASHPs'!$N$35:$AH$38,IF('Step 5 Identify & Select ASHPs'!$I$36=\"EER\",4,3),FALSE),\"\"))","v":""},{"$f":"IF(OR(M54=\"#N/A\",M54=\"\"),\"\",IFERROR(HLOOKUP(M54,'Step 5 Identify & Select ASHPs'!$N$35:$AH$38,IF('Step 5 Identify & Select ASHPs'!$I$36=\"EER\",3,4),FALSE),\"\"))","v":""}]
[null,{"$f":"IF(OR('Step 5 Identify & Select ASHPs'!$I$24,'Step 5 Identify & Select ASHPs'!$I$25),\"\",IF('Step 5 Identify & Select ASHPs'!$I$26,IF(MATCH(B54,$B$52:$B$63,0)>='Step 5 Identify & Select ASHPs'!$I$33,\"\",'Step 5 Identify & Select ASHPs'!$Q$26),NA()))","v":""},{"$f":"IF(OR(B55=\"#N/A\",B55=\"\"),\"\",IFERROR(HLOOKUP('HP1'!B55,'Step 5 Identify & Select ASHPs'!$O$26:$Z$29,2,FALSE),\"\"))","v":""},{"$f":"IF(OR(B55=\"#N/A\",B55=\"\"),\"\",IFERROR(HLOOKUP(B55,'Step 5 Identify & Select ASHPs'!$O$26:$Z$29,IF('Step 5 Identify & Select ASHPs'!$I$36=\"EER\",4,3),FALSE),\"\"))","v":""},{"$f":"IF(OR(B55=\"#N/A\",B55=\"\"),\"\",IFERROR(HLOOKUP(B55,'Step 5 Identify & Select ASHPs'!$O$26:$Z$29,IF('Step 5 Identify & Select ASHPs'!$I$36=\"EER\",3,4),FALSE),\"\"))","v":""},null,"Slope and Intercept at Rated Conditions (HP Cap)",null,null,null,null,null,{"$f":"IF('Step 5 Identify & Select ASHPs'!$E$33=Dropdown_Menus!$A$2,\"\",'HP1'!B55)","v":""},{"$f":"IF(OR(M55=\"#N/A\",M55=\"\"),\"\",IFERROR(HLOOKUP('HP1'!M55,'Step 5 Identify & Select ASHPs'!$N$35:$AH$38,2,FALSE),\"\"))","v":""},{"$f":"IF(OR(M55=\"#N/A\",M55=\"\"),\"\",IFERROR(HLOOKUP(M55,'Step 5 Identify & Select ASHPs'!$N$35:$AH$38,IF('Step 5 Identify & Select ASHPs'!$I$36=\"EER\",4,3),FALSE),\"\"))","v":""},{"$f":"IF(OR(M55=\"#N/A\",M55=\"\"),\"\",IFERROR(HLOOKUP(M55,'Step 5 Identify & Select ASHPs'!$N$35:$AH$38,IF('Step 5 Identify & Select ASHPs'!$I$36=\"EER\",3,4),FALSE),\"\"))","v":""},null,null,null,"Slope and Intercept at Rated Conditions (HP Cap)"]
[null,{"$f":"IF(OR('Step 5 Identify & Select ASHPs'!$I$24,'Step 5 Identify & Select ASHPs'!$I$25),\"\",IF('Step 5 Identify & Select ASHPs'!$I$26,IF(MATCH(B55,$B$52:$B$63,0)>='Step 5 Identify & Select ASHPs'!$I$33,\"\",'Step 5 Identify & Select ASHPs'!$R$26),NA()))","v":""},{"$f":"IF(OR(B56=\"#N/A\",B56=\"\"),\"\",IFERROR(HLOOKUP('HP1'!B56,'Step 5 Identify & Select ASHPs'!$O$26:$Z$29,2,FALSE),\"\"))","v":""},{"$f":"IF(OR(B56=\"#N/A\",B56=\"\"),\"\",IFERROR(HLOOKUP(B56,'Step 5 Identify & Select ASHPs'!$O$26:$Z$29,IF('Step 5 Identify & Select ASHPs'!$I$36=\"EER\",4,3),FALSE),\"\"))","v":""},{"$f":"IF(OR(B56=\"#N/A\",B56=\"\"),\"\",IFERROR(HLOOKUP(B56,'Step 5 Identify & Select ASHPs'!$O$26:$Z$29,IF('Step 5 Identify & Select ASHPs'!$I$36=\"EER\",3,4),FALSE),\"\"))","v":""},null,"know ys (COP):",null,"know ys (capacity):","know xs",null,null,{"$f":"IF('Step 5 Identify & Select ASHPs'!$E$33=Dropdown_Menus!$A$2,\"\",'HP1'!B56)","v":""},{"$f":"IF(OR(M56=\"#N/A\",M56=\"\"),\"\",IFERROR(HLOOKUP('HP1'!M56,'Step 5 Identify & Select ASHPs'!$N$35:$AH$38,2,FALSE),\"\"))","v":""},{"$f":"IF(OR(M56=\"#N/A\",M56=\"\"),\"\",IFERROR(HLOOKUP(M56,'Step 5 Identify & Select ASHPs'!$N$35:$AH$38,IF('Step 5 Identify & Select ASHPs'!$I$36=\"EER\",4,3),FALSE),\"\"))","v":""},{"$f":"IF(OR(M56=\"#N/A\",M56=\"\"),\"\",IFERROR(HLOOKUP(M56,'Step 5 Identify & Select ASHPs'!$N$35:$AH$38,IF('Step 5 Identify & Select ASHPs'!$I$36=\"EER\",3,4),FALSE),\"\"))","v":""},null,null,null,"know ys (capacity):","know xs"]
[null,{"$f":"IF(OR('Step 5 Identify & Select ASHPs'!$I$24,'Step 5 Identify & Select ASHPs'!$I$25),\"\",IF('Step 5 Identify & Select ASHPs'!$I$26,IF(MATCH(B56,$B$52:$B$63,0)>='Step 5 Identify & Select ASHPs'!$I$33,\"\",'Step 5 Identify & Select ASHPs'!$S$26),NA()))","v":""},{"$f":"IF(OR(B57=\"#N/A\",B57=\"\"),\"\",IFERROR(HLOOKUP('HP1'!B57,'Step 5 Identify & Select ASHPs'!$O$26:$Z$29,2,FALSE),\"\"))","v":""},{"$f":"IF(OR(B57=\"#N/A\",B57=\"\"),\"\",IFERROR(HLOOKUP(B57,'Step 5 Identify & Select ASHPs'!$O$26:$Z$29,IF('Step 5 Identify & Select ASHPs'!$I$36=\"EER\",4,3),FALSE),\"\"))","v":""},{"$f":"IF(OR(B57=\"#N/A\",B57=\"\"),\"\",IFERROR(HLOOKUP(B57,'Step 5 Identify & Select ASHPs'!$O$26:$Z$29,IF('Step 5 Identify & Select ASHPs'!$I$36=\"EER\",3,4),FALSE),\"\"))","v":""},null,{"$f":"INDEX(E52:E63,MATCH(J57,B52:B63,0))","v":""},null,{"$f":"INDEX(C52:C63,MATCH(J57,B52:B63,0))","v":0},{"$f":"IF(MAX(B52:B63)<IF('Intro & Unit Options'!B12=Dropdown_Menus!F1,CONVERT(95,\"F\",\"C\"),95),MAX(B52:B63),INDEX(B52:B63,MATCH(IF('Intro & Unit Options'!B12=Dropdown_Menus!F1,CONVERT(95,\"F\",\"C\"),95),B52:B63,-1)))","v":95},null,null,{"$f":"IF('Step 5 Identify & Select ASHPs'!$E$33=Dropdown_Menus!$A$2,\"\",'HP1'!B57)","v":""},{"$f":"IF(OR(M57=\"#N/A\",M57=\"\"),\"\",IFERROR(HLOOKUP('HP1'!M57,'Step 5 Identify & Select ASHPs'!$N$35:$AH$38,2,FALSE),\"\"))","v":""},{"$f":"IF(OR(M57=\"#N/A\",M57=\"\"),\"\",IFERROR(HLOOKUP(M57,'Step 5 Identify & Select ASHPs'!$N$35:$AH$38,IF('Step 5 Identify & Select ASHPs'!$I$36=\"EER\",4,3),FALSE),\"\"))","v":""},{"$f":"IF(OR(M57=\"#N/A\",M57=\"\"),\"\",IFERROR(HLOOKUP(M57,'Step 5 Identify & Select ASHPs'!$N$35:$AH$38,IF('Step 5 Identify & Select ASHPs'!$I$36=\"EER\",3,4),FALSE),\"\"))","v":""},null,null,null,{"$f":"INDEX(N52:N63,MATCH(U57,M52:M63,0))","v":0},{"$f":"IF(MAX(M52:M63)<IF('Intro & Unit Options'!M12=Dropdown_Menus!Q1,CONVERT(95,\"F\",\"C\"),95),MAX(M52:M63),INDEX(M52:M63,MATCH(IF('Intro & Unit Options'!M12=Dropdown_Menus!Q1,CONVERT(95,\"F\",\"C\"),95),M52:M63,-1)))","v":95}]
[null,{"$f":"IF(OR('Step 5 Identify & Select ASHPs'!$I$24,'Step 5 Identify & Select ASHPs'!$I$25),\"\",IF('Step 5 Identify & Select ASHPs'!$I$26,IF(MATCH(B57,$B$52:$B$63,0)>='Step 5 Identify & Select ASHPs'!$I$33,\"\",'Step 5 Identify & Select ASHPs'!$T$26),NA()))","v":""},{"$f":"IF(OR(B58=\"#N/A\",B58=\"\"),\"\",IFERROR(HLOOKUP('HP1'!B58,'Step 5 Identify & Select ASHPs'!$O$26:$Z$29,2,FALSE),\"\"))","v":""},{"$f":"IF(OR(B58=\"#N/A\",B58=\"\"),\"\",IFERROR(HLOOKUP(B58,'Step 5 Identify & Select ASHPs'!$O$26:$Z$29,IF('Step 5 Identify & Select ASHPs'!$I$36=\"EER\",4,3),FALSE),\"\"))","v":""},{"$f":"IF(OR(B58=\"#N/A\",B58=\"\"),\"\",IFERROR(HLOOKUP(B58,'Step 5 Identify & Select ASHPs'!$O$26:$Z$29,IF('Step 5 Identify & Select ASHPs'!$I$36=\"EER\",3,4),FALSE),\"\"))","v":""},null,{"$f":"IF(J58=\"-\",\"-\",INDEX(E52:E63,MATCH(J58,B52:B63,0)))","v":""},null,{"$f":"IF(J58=\"-\",\"-\",INDEX(C52:C63,MATCH(J58,B52:B63,0)))","v":""},{"$f":"IF(J57=MIN(B52:B63),INDEX(B52:B63,MATCH(J57,B52:B63,0)-1),INDEX(B52:B63,MATCH(J57,B52:B63,0)+1))","v":""},null,null,{"$f":"IF('Step 5 Identify & Select ASHPs'!$E$33=Dropdown_Menus!$A$2,\"\",'HP1'!B58)","v":""},{"$f":"IF(OR(M58=\"#N/A\",M58=\"\"),\"\",IFERROR(HLOOKUP('HP1'!M58,'Step 5 Identify & Select ASHPs'!$N$35:$AH$38,2,FALSE),\"\"))","v":""},{"$f":"IF(OR(M58=\"#N/A\",M58=\"\"),\"\",IFERROR(HLOOKUP(M58,'Step 5 Identify & Select ASHPs'!$N$35:$AH$38,IF('Step 5 Identify & Select ASHPs'!$I$36=\"EER\",4,3),FALSE),\"\"))","v":""},{"$f":"IF(OR(M58=\"#N/A\",M58=\"\"),\"\",IFERROR(HLOOKUP(M58,'Step 5 Identify & Select ASHPs'!$N$35:$AH$38,IF('Step 5 Identify & Select ASHPs'!$I$36=\"EER\",3,4),FALSE),\"\"))","v":""},null,null,null,{"$f":"IF(U58=\"-\",\"-\",INDEX(N52:N63,MATCH(U58,M52:M63,0)))","v":""},{"$f":"IF(U57=MIN(M52:M63),INDEX(M52:M63,MATCH(U57,M52:M63,0)-1),INDEX(M52:M63,MATCH(U57,M52:M63,0)+1))","v":""}]
[null,{"$f":"IF(OR('Step 5 Identify & Select ASHPs'!$I$24,'Step 5 Identify & Select ASHPs'!$I$25),\"\",IF('Step 5 Identify & Select ASHPs'!$I$26,IF(MATCH(B58,$B$52:$B$63,0)>='Step 5 Identify & Select ASHPs'!$I$33,\"\",'Step 5 Identify & Select ASHPs'!$U$26),NA()))","v":""},{"$f":"IF(OR(B59=\"#N/A\",B59=\"\"),\"\",IFERROR(HLOOKUP('HP1'!B59,'Step 5 Identify & Select ASHPs'!$O$26:$Z$29,2,FALSE),\"\"))","v":""},{"$f":"IF(OR(B59=\"#N/A\",B59=\"\"),\"\",IFERROR(HLOOKUP(B59,'Step 5 Identify & Select ASHPs'!$O$26:$Z$29,IF('Step 5 Identify & Select ASHPs'!$I$36=\"EER\",4,3),FALSE),\"\"))","v":""},{"$f":"IF(OR(B59=\"#N/A\",B59=\"\"),\"\",IFERROR(HLOOKUP(B59,'Step 5 Identify & Select ASHPs'!$O$26:$Z$29,IF('Step 5 Identify & Select ASHPs'!$I$36=\"EER\",3,4),FALSE),\"\"))","v":""},null,null,null,null,null,null,null,{"$f":"IF('Step 5 Identify & Select ASHPs'!$E$33=Dropdown_Menus!$A$2,\"\",'HP1'!B59)","v":""},{"$f":"IF(OR(M59=\"#N/A\",M59=\"\"),\"\",IFERROR(HLOOKUP('HP1'!M59,'Step 5 Identify & Select ASHPs'!$N$35:$AH$38,2,FALSE),\"\"))","v":""},{"$f":"IF(OR(M59=\"#N/A\",M59=\"\"),\"\",IFERROR(HLOOKUP(M59,'Step 5 Identify & Select ASHPs'!$N$35:$AH$38,IF('Step 5 Identify & Select ASHPs'!$I$36=\"EER\",4,3),FALSE),\"\"))","v":""},{"$f":"IF(OR(M59=\"#N/A\",M59=\"\"),\"\",IFERROR(HLOOKUP(M59,'Step 5 Identify & Select ASHPs'!$N$35:$AH$38,IF('Step 5 Identify & Select ASHPs'!$I$36=\"EER\",3,4),FALSE),\"\"))","v":""}]
[null,{"$f":"IF(OR('Step 5 Identify & Select ASHPs'!$I$24,'Step 5 Identify & Select ASHPs'!$I$25),\"\",IF('Step 5 Identify & Select ASHPs'!$I$26,IF(MATCH(B59,$B$52:$B$63,0)>='Step 5 Identify & Select ASHPs'!$I$33,\"\",'Step 5 Identify & Select ASHPs'!$V$26),NA()))","v":""},{"$f":"IF(OR(B60=\"#N/A\",B60=\"\"),\"\",IFERROR(HLOOKUP('HP1'!B60,'Step 5 Identify & Select ASHPs'!$O$26:$Z$29,2,FALSE),\"\"))","v":""},{"$f":"IF(OR(B60=\"#N/A\",B60=\"\"),\"\",IFERROR(HLOOKUP(B60,'Step 5 Identify & Select ASHPs'!$O$26:$Z$29,IF('Step 5 Identify & Select ASHPs'!$I$36=\"EER\",4,3),FALSE),\"\"))","v":""},{"$f":"IF(OR(B60=\"#N/A\",B60=\"\"),\"\",IFERROR(HLOOKUP(B60,'Step 5 Identify & Select ASHPs'!$O$26:$Z$29,IF('Step 5 Identify & Select ASHPs'!$I$36=\"EER\",3,4),FALSE),\"\"))","v":""},null,null,null,"Slope and Intercept at the Design Temp.",null,null,null,{"$f":"IF('Step 5 Identify & Select ASHPs'!$E$33=Dropdown_Menus!$A$2,\"\",'HP1'!B60)","v":""},{"$f":"IF(OR(M60=\"#N/A\",M60=\"\"),\"\",IFERROR(HLOOKUP('HP1'!M60,'Step 5 Identify & Select ASHPs'!$N$35:$AH$38,2,FALSE),\"\"))","v":""},{"$f":"IF(OR(M60=\"#N/A\",M60=\"\"),\"\",IFERROR(HLOOKUP(M60,'Step 5 Identify & Select ASHPs'!$N$35:$AH$38,IF('Step 5 Identify & Select ASHPs'!$I$36=\"EER\",4,3),FALSE),\"\"))","v":""},{"$f":"IF(OR(M60=\"#N/A\",M60=\"\"),\"\",IFERROR(HLOOKUP(M60,'Step 5 Identify & Select ASHPs'!$N$35:$AH$38,IF('Step 5 Identify & Select ASHPs'!$I$36=\"EER\",3,4),FALSE),\"\"))","v":""},null,null,null,"Slope and Intercept at the Design Temp."]
[null,{"$f":"IF(OR('Step 5 Identify & Select ASHPs'!$I$24,'Step 5 Identify & Select ASHPs'!$I$25),\"\",IF('Step 5 Identify & Select ASHPs'!$I$26,IF(MATCH(B60,$B$52:$B$63,0)>='Step 5 Identify & Select ASHPs'!$I$33,\"\",'Step 5 Identify & Select ASHPs'!$W$26),NA()))","v":""},{"$f":"IF(OR(B61=\"#N/A\",B61=\"\"),\"\",IFERROR(HLOOKUP('HP1'!B61,'Step 5 Identify & Select ASHPs'!$O$26:$Z$29,2,FALSE),\"\"))","v":""},{"$f":"IF(OR(B61=\"#N/A\",B61=\"\"),\"\",IFERROR(HLOOKUP(B61,'Step 5 Identify & Select ASHPs'!$O$26:$Z$29,IF('Step 5 Identify & Select ASHPs'!$I$36=\"EER\",4,3),FALSE),\"\"))","v":""},{"$f":"IF(OR(B61=\"#N/A\",B61=\"\"),\"\",IFERROR(HLOOKUP(B61,'Step 5 Identify & Select ASHPs'!$O$26:$Z$29,IF('Step 5 Identify & Select ASHPs'!$I$36=\"EER\",3,4),FALSE),\"\"))","v":""},null,null,null,"know ys (capacity):","know xs",null,null,{"$f":"IF('Step 5 Identify & Select ASHPs'!$E$33=Dropdown_Menus!$A$2,\"\",'HP1'!B61)","v":""},{"$f":"IF(OR(M61=\"#N/A\",M61=\"\"),\"\",IFERROR(HLOOKUP('HP1'!M61,'Step 5 Identify & Select ASHPs'!$N$35:$AH$38,2,FALSE),\"\"))","v":""},{"$f":"IF(OR(M61=\"#N/A\",M61=\"\"),\"\",IFERROR(HLOOKUP(M61,'Step 5 Identify & Select ASHPs'!$N$35:$AH$38,IF('Step 5 Identify & Select ASHPs'!$I$36=\"EER\",4,3),FALSE),\"\"))","v":""},{"$f":"IF(OR(M61=\"#N/A\",M61=\"\"),\"\",IFERROR(HLOOKUP(M61,'Step 5 Identify & Select ASHPs'!$N$35:$AH$38,IF('Step 5 Identify & Select ASHPs'!$I$36=\"EER\",3,4),FALSE),\"\"))","v":""},null,null,null,"know ys (capacity):","know xs"]
[null,{"$f":"IF(OR('Step 5 Identify & Select ASHPs'!$I$24,'Step 5 Identify & Select ASHPs'!$I$25),\"\",IF('Step 5 Identify & Select ASHPs'!$I$26,IF(MATCH(B61,$B$52:$B$63,0)>='Step 5 Identify & Select ASHPs'!$I$33,\"\",'Step 5 Identify & Select ASHPs'!$X$26),NA()))","v":""},{"$f":"IF(OR(B62=\"#N/A\",B62=\"\"),\"\",IFERROR(HLOOKUP('HP1'!B62,'Step 5 Identify & Select ASHPs'!$O$26:$Z$29,2,FALSE),\"\"))","v":""},{"$f":"IF(OR(B62=\"#N/A\",B62=\"\"),\"\",IFERROR(HLOOKUP(B62,'Step 5 Identify & Select ASHPs'!$O$26:$Z$29,IF('Step 5 Identify & Select ASHPs'!$I$36=\"EER\",4,3),FALSE),\"\"))","v":""},{"$f":"IF(OR(B62=\"#N/A\",B62=\"\"),\"\",IFERROR(HLOOKUP(B62,'Step 5 Identify & Select ASHPs'!$O$26:$Z$29,IF('Step 5 Identify & Select ASHPs'!$I$36=\"EER\",3,4),FALSE),\"\"))","v":""},null,null,null,{"$f":"INDEX(C52:C63,MATCH(J62,B52:B63,0))","v":0},{"$f":"IF(C47<MIN(B52:B63),INDEX(B52:B63,MATCH(MIN(B52:B63),B52:B63,-1)),IFERROR(INDEX(B52:B63,MATCH(C47,B52:B63,0)),INDEX(B52:B63,MATCH(C47,B52:B63,-1))))","v":95},null,null,{"$f":"IF('Step 5 Identify & Select ASHPs'!$E$33=Dropdown_Menus!$A$2,\"\",'HP1'!B62)","v":""},{"$f":"IF(OR(M62=\"#N/A\",M62=\"\"),\"\",IFERROR(HLOOKUP('HP1'!M62,'Step 5 Identify & Select ASHPs'!$N$35:$AH$38,2,FALSE),\"\"))","v":""},{"$f":"IF(OR(M62=\"#N/A\",M62=\"\"),\"\",IFERROR(HLOOKUP(M62,'Step 5 Identify & Select ASHPs'!$N$35:$AH$38,IF('Step 5 Identify & Select ASHPs'!$I$36=\"EER\",4,3),FALSE),\"\"))","v":""},{"$f":"IF(OR(M62=\"#N/A\",M62=\"\"),\"\",IFERROR(HLOOKUP(M62,'Step 5 Identify & Select ASHPs'!$N$35:$AH$38,IF('Step 5 Identify & Select ASHPs'!$I$36=\"EER\",3,4),FALSE),\"\"))","v":""},null,null,null,{"$f":"INDEX(N52:N63,MATCH(U62,M52:M63,0))","v":0},{"$f":"IF(N47<MIN(M52:M63),INDEX(M52:M63,MATCH(MIN(M52:M63),M52:M63,-1)),IFERROR(INDEX(M52:M63,MATCH(N47,M52:M63,0)),INDEX(M52:M63,MATCH(N47,M52:M63,-1))))","v":95}]
[null,{"$f":"IF(OR('Step 5 Identify & Select ASHPs'!$I$24,'Step 5 Identify & Select ASHPs'!$I$25),\"\",IF('Step 5 Identify & Select ASHPs'!$I$26,IF(MATCH(B62,$B$52:$B$63,0)>='Step 5 Identify & Select ASHPs'!$I$33,\"\",'Step 5 Identify & Select ASHPs'!$Y$26),NA()))","v":""},{"$f":"IF(OR(B63=\"#N/A\",B63=\"\"),\"\",IFERROR(HLOOKUP('HP1'!B63,'Step 5 Identify & Select ASHPs'!$O$26:$Z$29,2,FALSE),\"\"))","v":""},{"$f":"IF(OR(B63=\"#N/A\",B63=\"\"),\"\",IFERROR(HLOOKUP(B63,'Step 5 Identify & Select ASHPs'!$O$26:$Z$29,IF('Step 5 Identify & Select ASHPs'!$I$36=\"EER\",4,3),FALSE),\"\"))","v":""},{"$f":"IF(OR(B63=\"#N/A\",B63=\"\"),\"\",IFERROR(HLOOKUP(B63,'Step 5 Identify & Select ASHPs'!$O$26:$Z$29,IF('Step 5 Identify & Select ASHPs'!$I$36=\"EER\",3,4),FALSE),\"\"))","v":""},null,null,null,{"$f":"IF(J63=\"-\",\"-\",INDEX(C52:C63,MATCH(J63,B52:B63,0)))","v":""},{"$f":"IF(J62=C47,\"-\",INDEX(B52:B63,MATCH(J62,B52:B63,0)+1))","v":""},null,null,{"$f":"IF('Step 5 Identify & Select ASHPs'!$E$33=Dropdown_Menus!$A$2,\"\",'HP1'!B63)","v":""},{"$f":"IF(OR(M63=\"#N/A\",M63=\"\"),\"\",IFERROR(HLOOKUP('HP1'!M63,'Step 5 Identify & Select ASHPs'!$N$35:$AH$38,2,FALSE),\"\"))","v":""},{"$f":"IF(OR(M63=\"#N/A\",M63=\"\"),\"\",IFERROR(HLOOKUP(M63,'Step 5 Identify & Select ASHPs'!$N$35:$AH$38,IF('Step 5 Identify & Select ASHPs'!$I$36=\"EER\",4,3),FALSE),\"\"))","v":""},{"$f":"IF(OR(M63=\"#N/A\",M63=\"\"),\"\",IFERROR(HLOOKUP(M63,'Step 5 Identify & Select ASHPs'!$N$35:$AH$38,IF('Step 5 Identify & Select ASHPs'!$I$36=\"EER\",3,4),FALSE),\"\"))","v":""},null,null,null,{"$f":"IF(U63=\"-\",\"-\",INDEX(N52:N63,MATCH(U63,M52:M63,0)))","v":""},{"$f":"IF(U62=N47,\"-\",INDEX(M52:M63,MATCH(U62,M52:M63,0)+1))","v":""}]

{"sheet":"HP2","index":19,"n_rows":63,"n_cols":21,"rows_kept":63,"cut":false,"hidden":true,"merged":[[6,8,6,9],[6,19,6,20],[7,6,8,6],[7,17,8,17],[31,1,31,3],[31,5,31,6],[31,12,31,14],[31,16,31,17],[24,8,24,9],[28,8,28,9],[59,8,59,9],[59,19,59,20],[36,1,36,4],[36,5,36,6],[36,12,36,15],[36,16,36,17],[48,8,48,9],[48,19,48,20],[54,19,54,20],[57,6,57,7],[32,8,32,9],[36,8,36,9],[54,6,54,9],[55,6,55,7],[56,6,56,7]]}
[null,"Actual Curves - HP #2"]
[]
[null,"Heating - High Stage",null,null,null,null,null,null,null,null,null,null,"Heating - Low Stage"]
[]
[null,"Design Temp. (heat)",{"$f":"'Design Load Calcs'!$B$24","v":0},null,null,null,null,null,null,null,null,null,"Design Temp. (heat)",{"$f":"'Design Load Calcs'!$B$24","v":0}]
[]
[null,"Performance Data and Heating Load Line",null,null,null,null,null,null,"Outputs:",null,null,null,null,null,null,null,null,null,null,"Outputs:"]
[null,"Outdoor Temp.","Actual Capacity","Actual Power","Actual COP","Heating Load Line ","Intersect. Cap/Htg Load Line",null,{"$f":"CONCATENATE(\"HP cap @ Design Temp.\",IF('Intro & Unit Options'!$B$12=Dropdown_Menus!F1,\" [kW]\",\" [BTU/h]\"))","v":"HP cap @ Design Temp. [BTU/h]"},{"$f":"IF(OR(G34=\"-\",G34=C5),F34,SLOPE(F34:F35,G34:G35)*C5+INTERCEPT(F34:F35,G34:G35))","v":0},null,null,"Outdoor Temp.","Actual Capacity","Actual Power","Actual COP","Heating Load Line ","Intersect. Cap/Htg Load Line",null,{"$f":"CONCATENATE(\"HP cap @ Design Temp.\",IF('Intro & Unit Options'!$B$12=Dropdown_Menus!Q1,\" [kW]\",\" [BTU/h]\"))","v":"HP cap @ Design Temp. [BTU/h]"},{"$f":"IF(OR(R34=\"-\",R34=N5),Q34,SLOPE(Q34:Q35,R34:R35)*N5+INTERCEPT(Q34:Q35,R34:R35))","v":0}]
[null,{"$f":"IF('Intro & Unit Options'!$B$12=Dropdown_Menus!$F$1,\"[°C]\",\"[°F]\")","v":"[°F]"},{"$f":"IF('Intro & Unit Options'!$B$12=Dropdown_Menus!$F$1,\"[kW]\",\"[BTU/h]\")","v":"[BTU/h]"},"[kW]","[-]",{"$f":"IF('Intro & Unit Options'!$B$12=Dropdown_Menus!$F$1,\"[kW]\",\"[BTU/h]\")","v":"[BTU/h]"},null,null,{"$f":"CONCATENATE(\"BPT\",IF('Intro & Unit Options'!$B$12=Dropdown_Menus!F1,\" [°C]\",\" [°F]\"))","v":"BPT [°F]"},{"$f":"IF((C10-F10)<0,\"None\",IF((INDEX(C10:C29,MATCH(C40,B10:B29,0))-INDEX(F10:F29,MATCH(C40,B10:B29,0)))>0,E41,C41))","v":"None"},null,null,{"$f":"IF('Intro & Unit Options'!$B$12=Dropdown_Menus!$F$1,\"[°C]\",\"[°F]\")","v":"[°F]"},{"$f":"IF('Intro & Unit Options'!$B$12=Dropdown_Menus!$F$1,\"[kW]\",\"[BTU/h]\")","v":"[BTU/h]"},"[kW]","[-]",{"$f":"IF('Intro & Unit Options'!$B$12=Dropdown_Menus!$F$1,\"[kW]\",\"[BTU/h]\")","v":"[BTU/h]"},null,null,{"$f":"CONCATENATE(\"BPT\",IF('Intro & Unit Options'!$B$12=Dropdown_Menus!Q1,\" [°C]\",\" [°F]\"))","v":"BPT [°F]"},{"$f":"IF((N10-Q10)<0,\"None\",IF((INDEX(N10:N29,MATCH(N40,M10:M29,0))-INDEX(Q10:Q29,MATCH(N40,M10:M29,0)))>0,P41,N41))","v":"None"}]
[null,{"$f":"IF(OR('Step 5 Identify & Select ASHPs'!$I$43,'Step 5 Identify & Select ASHPs'!$I$44,'Step 5 Identify & Select ASHPs'!$I$45),'Step 5 Identify & Select ASHPs'!$N$41,NA())","v":47},{"$f":"IF(OR(B10=\"#N/A\",B10=\"\"),\"\",IFERROR(HLOOKUP('HP2'!B10,'Step 5 Identify & Select ASHPs'!$N$41:$AH$44,2,FALSE),\"\"))","v":0},{"$f":"IF(OR(B10=\"#N/A\",B10=\"\"),\"\",IFERROR(HLOOKUP('HP2'!B10,'Step 5 Identify & Select ASHPs'!$N$41:$AD$44,IF('Step 5 Identify & Select ASHPs'!$I$54=\"COP\",4,3),FALSE),\"\"))","v":0},{"$f":"IF(OR(B10=\"#N/A\",B10=\"\"),\"\",IFERROR(HLOOKUP('HP2'!B10,'Step 5 Identify & Select ASHPs'!$N$41:$AD$44,IF('Step 5 Identify & Select ASHPs'!$I$54=\"COP\",3,4),FALSE),\"\"))","v":""},{"$f":"(B10*'Design Load Calcs'!$G$23+'Design Load Calcs'!$H$23)","v":10833.333333333328},{"$f":"IF(B10=\"\",\"\",ABS(C10-F10))","v":10833.333333333328},null,"Fraction of heating above BPT",{"$f":"IF(ISNUMBER(MATCH(J9,'Load %s'!N8:N24,0)),F39,SLOPE(F39:F40,G39:G40)*J9+INTERCEPT(F39:F40,G39:G40))","v":{"$error":"#N/A"}},null,null,{"$f":"IF('Step 5 Identify & Select ASHPs'!$E$52=Dropdown_Menus!$A$2,\"\",'HP2'!B10)","v":47},{"$f":"IF(OR(M10=\"#N/A\",M10=\"\"),\"\",IFERROR(HLOOKUP('HP2'!M10,'Step 5 Identify & Select ASHPs'!$N$50:$AH$53,2,FALSE),\"\"))","v":0},{"$f":"IF(OR(M10=\"#N/A\",M10=\"\"),\"\",IFERROR(HLOOKUP('HP2'!M10,'Step 5 Identify & Select ASHPs'!$N$50:$AH$53,IF('Step 5 Identify & Select ASHPs'!$I$54=\"COP\",4,3),FALSE),\"\"))","v":0},{"$f":"IF(OR(B10=\"#N/A\",B10=\"\"),\"\",IFERROR(HLOOKUP('HP2'!B10,'Step 5 Identify & Select ASHPs'!$N$50:$AH$53,IF('Step 5 Identify & Select ASHPs'!$I$54=\"COP\",3,4),FALSE),\"\"))","v":""},{"$f":"(M10*'Design Load Calcs'!$G$23+'Design Load Calcs'!$H$23)","v":10833.333333333328},{"$f":"IF(M10=\"\",\"\",ABS(N10-Q10))","v":10833.333333333328},null,"Fraction of heating above BPT",{"$f":"SLOPE(Q39:Q40,R39:R40)*U9+INTERCEPT(Q39:Q40,R39:R40)","v":{"$error":"#N/A"}}]
[null,{"$f":"IF(OR('Step 5 Identify & Select ASHPs'!$I$43,'Step 5 Identify & Select ASHPs'!$I$44,'Step 5 Identify & Select ASHPs'!$I$45),'Step 5 Identify & Select ASHPs'!$O$41,NA())","v":17},{"$f":"IF(OR(B11=\"#N/A\",B11=\"\"),\"\",IFERROR(HLOOKUP('HP2'!B11,'Step 5 Identify & Select ASHPs'!$N$41:$AH$44,2,FALSE),\"\"))","v":0},{"$f":"IF(OR(B11=\"#N/A\",B11=\"\"),\"\",IFERROR(HLOOKUP('HP2'!B11,'Step 5 Identify & Select ASHPs'!$N$41:$AH$44,IF('Step 5 Identify & Select ASHPs'!$I$54=\"COP\",4,3),FALSE),\"\"))","v":0},{"$f":"IF(OR(B11=\"#N/A\",B11=\"\"),\"\",IFERROR(HLOOKUP('HP2'!B11,'Step 5 Identify & Select ASHPs'!$N$41:$AH$44,IF('Step 5 Identify & Select ASHPs'!$I$54=\"COP\",3,4),FALSE),\"\"))","v":""},{"$f":"(B11*'Design Load Calcs'!$G$23+'Design Load Calcs'!$H$23)","v":35833.333333333328},{"$f":"IF(B11=\"\",\"\",ABS(C11-F11))","v":35833.333333333328},null,{"$f":"CONCATENATE(\"HP cap @ BPT\",IF('Intro & Unit Options'!$B$12=Dropdown_Menus!F1,\" [kW]\",\" [BTU/h]\"))","v":"HP cap @ BPT [BTU/h]"},{"$f":"IF((C10-F10)<0,\"None\",IF((INDEX(C10:C29,MATCH(C40,B10:B29,0))-INDEX(F10:F29,MATCH(C40,B10:B29,0)))>0,SLOPE(D39:D40,E39:E40)*J9+INTERCEPT(D39:D40,E39:E40),SLOPE(B39:B40,C39:C40)*J9+INTERCEPT(B39:B40,C39:C40)))","v":"None"},null,null,{"$f":"IF('Step 5 Identify & Select ASHPs'!$E$52=Dropdown_Menus!$A$2,\"\",'HP2'!B11)","v":17},{"$f":"IF(OR(M11=\"#N/A\",M11=\"\"),\"\",IFERROR(HLOOKUP('HP2'!M11,'Step 5 Identify & Select ASHPs'!$N$50:$AH$53,2,FALSE),\"\"))","v":0},{"$f":"IF(OR(M11=\"#N/A\",M11=\"\"),\"\",IFERROR(HLOOKUP('HP2'!M11,'Step 5 Identify & Select ASHPs'!$N$50:$AH$53,IF('Step 5 Identify & Select ASHPs'!$I$54=\"COP\",4,3),FALSE),\"\"))","v":0},{"$f":"IF(OR(B11=\"#N/A\",B11=\"\"),\"\",IFERROR(HLOOKUP('HP2'!B11,'Step 5 Identify & Select ASHPs'!$N$50:$AH$53,IF('Step 5 Identify & Select ASHPs'!$I$54=\"COP\",3,4),FALSE),\"\"))","v":""},{"$f":"(M11*'Design Load Calcs'!$G$23+'Design Load Calcs'!$H$23)","v":35833.333333333328},{"$f":"IF(M11=\"\",\"\",ABS(N11-Q11))","v":35833.333333333328},null,{"$f":"CONCATENATE(\"HP cap @ BPT\",IF('Intro & Unit Options'!$B$12=Dropdown_Menus!Q1,\" [kW]\",\" [BTU/h]\"))","v":"HP cap @ BPT [BTU/h]"},{"$f":"IF((N10-Q10)<0,\"None\",IF((INDEX(N10:N29,MATCH(N40,M10:M29,0))-INDEX(Q10:Q29,MATCH(N40,M10:M29,0)))>0,SLOPE(O39:O40,P39:P40)*U9+INTERCEPT(O39:O40,P39:P40),SLOPE(M39:M40,N39:N40)*U9+INTERCEPT(M39:M40,N39:N40)))","v":"None"}]
[null,{"$f":"IF('Step 5 Identify & Select ASHPs'!$I$43,\"\",IF(OR('Step 5 Identify & Select ASHPs'!$I$44,'Step 5 Identify & Select ASHPs'!$I$45),'Step 5 Identify & Select ASHPs'!$P$41,NA()))","v":""},{"$f":"IF(OR(B12=\"#N/A\",B12=\"\"),\"\",IFERROR(HLOOKUP('HP2'!B12,'Step 5 Identify & Select ASHPs'!$N$41:$AH$44,2,FALSE),\"\"))","v":""},{"$f":"IF(OR(B12=\"#N/A\",B12=\"\"),\"\",IFERROR(HLOOKUP('HP2'!B12,'Step 5 Identify & Select ASHPs'!$N$41:$AH$44,IF('Step 5 Identify & Select ASHPs'!$I$54=\"COP\",4,3),FALSE),\"\"))","v":""},{"$f":"IF(OR(B12=\"#N/A\",B12=\"\"),\"\",IFERROR(HLOOKUP('HP2'!B12,'Step 5 Identify & Select ASHPs'!$N$41:$AH$44,IF('Step 5 Identify & Select ASHPs'!$I$54=\"COP\",3,4),FALSE),\"\"))","v":""},{"$f":"(B12*'Design Load Calcs'!$G$23+'Design Load Calcs'!$H$23)","v":{"$error":"#VALUE!"}},"",null,{"$f":"CONCATENATE(\"HP cap @\",IF('Intro & Unit Options'!B12=Dropdown_Menus!F1,CONVERT(47,\"F\",\"C\"),47),IF('Intro & Unit Options'!$B$12=Dropdown_Menus!F1,\" C\",\" F\"),IF('Intro & Unit Options'!$B$12=Dropdown_Menus!F1,\" [kW]\",\" [BTU/h]\"))","v":"HP cap @47 F [BTU/h]"},{"$f":"IF(OR('Step 5 Identify & Select ASHPs'!$I$43,'Step 5 Identify & Select ASHPs'!$I$44,'Step 5 Identify & Select ASHPs'!$I$46),C10,IFERROR(INDEX(C10:C29,MATCH(IF('Intro & Unit Options'!B12=Dropdown_Menus!F1,CONVERT(47,\"F\",\"C\"),47),B10:B29,0)),SLOPE(I35:I36,J35:J36)*IF('Intro & Unit Options'!B12=Dropdown_Menus!F1,CONVERT(47,\"F\",\"C\"),47)+INTERCEPT(I35:I36,J35:J36)))","v":0},null,null,{"$f":"IF('Step 5 Identify & Select ASHPs'!$E$52=Dropdown_Menus!$A$2,\"\",'HP2'!B12)","v":""},{"$f":"IF(OR(M12=\"#N/A\",M12=\"\"),\"\",IFERROR(HLOOKUP('HP2'!M12,'Step 5 Identify & Select ASHPs'!$N$50:$AH$53,2,FALSE),\"\"))","v":""},{"$f":"IF(OR(M12=\"#N/A\",M12=\"\"),\"\",IFERROR(HLOOKUP('HP2'!M12,'Step 5 Identify & Select ASHPs'!$N$50:$AH$53,IF('Step 5 Identify & Select ASHPs'!$I$54=\"COP\",4,3),FALSE),\"\"))","v":""},{"$f":"IF(OR(B12=\"#N/A\",B12=\"\"),\"\",IFERROR(HLOOKUP('HP2'!B12,'Step 5 Identify & Select ASHPs'!$N$50:$AH$53,IF('Step 5 Identify & Select ASHPs'!$I$54=\"COP\",3,4),FALSE),\"\"))","v":""},{"$f":"(M12*'Design Load Calcs'!$G$23+'Design Load Calcs'!$H$23)","v":{"$error":"#VALUE!"}},""]
[null,{"$f":"IF(OR('Step 5 Identify & Select ASHPs'!$I$43,'Step 5 Identify & Select ASHPs'!$I$44),\"\",IF('Step 5 Identify & Select ASHPs'!$I$45,IF(MATCH(B12,$B$10:$B$29,0)>='Step 5 Identify & Select ASHPs'!$I$51,\"\",'Step 5 Identify & Select ASHPs'!$Q$41),NA()))","v":""},{"$f":"IF(OR(B13=\"#N/A\",B13=\"\"),\"\",IFERROR(HLOOKUP('HP2'!B13,'Step 5 Identify & Select ASHPs'!$N$41:$AH$44,2,FALSE),\"\"))","v":""},{"$f":"IF(OR(B13=\"#N/A\",B13=\"\"),\"\",IFERROR(HLOOKUP('HP2'!B13,'Step 5 Identify & Select ASHPs'!$N$41:$AH$44,IF('Step 5 Identify & Select ASHPs'!$I$54=\"COP\",4,3),FALSE),\"\"))","v":""},{"$f":"IF(OR(B13=\"#N/A\",B13=\"\"),\"\",IFERROR(HLOOKUP('HP2'!B13,'Step 5 Identify & Select ASHPs'!$N$41:$AH$44,IF('Step 5 Identify & Select ASHPs'!$I$54=\"COP\",3,4),FALSE),\"\"))","v":""},{"$f":"(B13*'Design Load Calcs'!$G$23+'Design Load Calcs'!$H$23)","v":{"$error":"#VALUE!"}},"",null,{"$f":"CONCATENATE(\"HP cap @\",IF('Intro & Unit Options'!B12=Dropdown_Menus!F1,CONVERT(17,\"F\",\"C\"),17),IF('Intro & Unit Options'!$B$12=Dropdown_Menus!F1,\" C\",\" F\"),IF('Intro & Unit Options'!$B$12=Dropdown_Menus!F1,\" [kW]\",\" [BTU/h]\"))","v":"HP cap @17 F [BTU/h]"},{"$f":"IF(OR('Step 5 Identify & Select ASHPs'!$I$43,'Step 5 Identify & Select ASHPs'!$I$44,'Step 5 Identify & Select ASHPs'!$I$46),C11,IFERROR(INDEX(C10:C29,MATCH(IF('Intro & Unit Options'!B12=Dropdown_Menus!F1,CONVERT(17,\"F\",\"C\"),17),B10:B29,0)),SLOPE(I39:I40,J39:J40)*IF('Intro & Unit Options'!B12=Dropdown_Menus!F1,CONVERT(17,\"F\",\"C\"),17)+INTERCEPT(I39:I40,J39:J40)))","v":0},null,null,{"$f":"IF('Step 5 Identify & Select ASHPs'!$E$52=Dropdown_Menus!$A$2,\"\",'HP2'!B13)","v":""},{"$f":"IF(OR(M13=\"#N/A\",M13=\"\"),\"\",IFERROR(HLOOKUP('HP2'!M13,'Step 5 Identify & Select ASHPs'!$N$50:$AH$53,2,FALSE),\"\"))","v":""},{"$f":"IF(OR(M13=\"#N/A\",M13=\"\"),\"\",IFERROR(HLOOKUP('HP2'!M13,'Step 5 Identify & Select ASHPs'!$N$50:$AH$53,IF('Step 5 Identify & Select ASHPs'!$I$54=\"COP\",4,3),FALSE),\"\"))","v":""},{"$f":"IF(OR(B13=\"#N/A\",B13=\"\"),\"\",IFERROR(HLOOKUP('HP2'!B13,'Step 5 Identify & Select ASHPs'!$N$50:$AH$53,IF('Step 5 Identify & Select ASHPs'!$I$54=\"COP\",3,4),FALSE),\"\"))","v":""},{"$f":"(M13*'Design Load Calcs'!$G$23+'Design Load Calcs'!$H$23)","v":{"$error":"#VALUE!"}},""]
[null,{"$f":"IF(OR('Step 5 Identify & Select ASHPs'!$I$43,'Step 5 Identify & Select ASHPs'!$I$44),\"\",IF('Step 5 Identify & Select ASHPs'!$I$45,IF(MATCH(B13,$B$10:$B$29,0)>='Step 5 Identify & Select ASHPs'!$I$51,\"\",'Step 5 Identify & Select ASHPs'!$R$41),NA()))","v":""},{"$f":"IF(OR(B14=\"#N/A\",B14=\"\"),\"\",IFERROR(HLOOKUP('HP2'!B14,'Step 5 Identify & Select ASHPs'!$N$41:$AH$44,2,FALSE),\"\"))","v":""},{"$f":"IF(OR(B14=\"#N/A\",B14=\"\"),\"\",IFERROR(HLOOKUP('HP2'!B14,'Step 5 Identify & Select ASHPs'!$N$41:$AH$44,IF('Step 5 Identify & Select ASHPs'!$I$54=\"COP\",4,3),FALSE),\"\"))","v":""},{"$f":"IF(OR(B14=\"#N/A\",B14=\"\"),\"\",IFERROR(HLOOKUP('HP2'!B14,'Step 5 Identify & Select ASHPs'!$N$41:$AH$44,IF('Step 5 Identify & Select ASHPs'!$I$54=\"COP\",3,4),FALSE),\"\"))","v":""},{"$f":"(B14*'Design Load Calcs'!$G$23+'Design Load Calcs'!$H$23)","v":{"$error":"#VALUE!"}},{"$f":"IF(B14=\"\",\"\",ABS(C14-F14))","v":""},null,"Max Cap",{"$f":"IFERROR(MAX(C10:C30),0)","v":0},null,null,{"$f":"IF('Step 5 Identify & Select ASHPs'!$E$52=Dropdown_Menus!$A$2,\"\",'HP2'!B14)","v":""},{"$f":"IF(OR(M14=\"#N/A\",M14=\"\"),\"\",IFERROR(HLOOKUP('HP2'!M14,'Step 5 Identify & Select ASHPs'!$N$50:$AH$53,2,FALSE),\"\"))","v":""},{"$f":"IF(OR(M14=\"#N/A\",M14=\"\"),\"\",IFERROR(HLOOKUP('HP2'!M14,'Step 5 Identify & Select ASHPs'!$N$50:$AH$53,IF('Step 5 Identify & Select ASHPs'!$I$54=\"COP\",4,3),FALSE),\"\"))","v":""},{"$f":"IF(OR(B14=\"#N/A\",B14=\"\"),\"\",IFERROR(HLOOKUP('HP2'!B14,'Step 5 Identify & Select ASHPs'!$N$50:$AH$53,IF('Step 5 Identify & Select ASHPs'!$I$54=\"COP\",3,4),FALSE),\"\"))","v":""},{"$f":"(M14*'Design Load Calcs'!$G$23+'Design Load Calcs'!$H$23)","v":{"$error":"#VALUE!"}},""]
[null,{"$f":"IF(OR('Step 5 Identify & Select ASHPs'!$I$43,'Step 5 Identify & Select ASHPs'!$I$44),\"\",IF('Step 5 Identify & Select ASHPs'!$I$45,IF(MATCH(B14,$B$10:$B$29,0)>='Step 5 Identify & Select ASHPs'!$I$51,\"\",'Step 5 Identify & Select ASHPs'!$S$41),NA()))","v":""},{"$f":"IF(OR(B15=\"#N/A\",B15=\"\"),\"\",IFERROR(HLOOKUP('HP2'!B15,'Step 5 Identify & Select ASHPs'!$N$41:$AH$44,2,FALSE),\"\"))","v":""},{"$f":"IF(OR(B15=\"#N/A\",B15=\"\"),\"\",IFERROR(HLOOKUP('HP2'!B15,'Step 5 Identify & Select ASHPs'!$N$41:$AH$44,IF('Step 5 Identify & Select ASHPs'!$I$54=\"COP\",4,3),FALSE),\"\"))","v":""},{"$f":"IF(OR(B15=\"#N/A\",B15=\"\"),\"\",IFERROR(HLOOKUP('HP2'!B15,'Step 5 Identify & Select ASHPs'!$N$41:$AH$44,IF('Step 5 Identify & Select ASHPs'!$I$54=\"COP\",3,4),FALSE),\"\"))","v":""},{"$f":"(B15*'Design Load Calcs'!$G$23+'Design Load Calcs'!$H$23)","v":{"$error":"#VALUE!"}},"",null,{"$f":"CONCATENATE(\"HP pwr @\",IF('Intro & Unit Options'!B12=Dropdown_Menus!F1,CONVERT(47,\"F\",\"C\"),47),IF('Intro & Unit Options'!$B$12=Dropdown_Menus!F1,\" C\",\" F\"),IF('Intro & Unit Options'!$B$12=Dropdown_Menus!F1,\" [kW]\",\" [BTU/h]\"))","v":"HP pwr @47 F [BTU/h]"},{"$f":"IF(OR('Step 5 Identify & Select ASHPs'!$I$43,'Step 5 Identify & Select ASHPs'!$I$44,'Step 5 Identify & Select ASHPs'!$I$46),D10,IFERROR(INDEX(D10:D29,MATCH(IF('Intro & Unit Options'!B15=Dropdown_Menus!F4,CONVERT(47,\"F\",\"C\"),47),B10:B29,0)),SLOPE(I27:I28,J27:J28)*IF('Intro & Unit Options'!B15=Dropdown_Menus!F4,CONVERT(47,\"F\",\"C\"),47)+INTERCEPT(I27:I28,J27:J28)))","v":0},null,null,{"$f":"IF('Step 5 Identify & Select ASHPs'!$E$52=Dropdown_Menus!$A$2,\"\",'HP2'!B15)","v":""},{"$f":"IF(OR(M15=\"#N/A\",M15=\"\"),\"\",IFERROR(HLOOKUP('HP2'!M15,'Step 5 Identify & Select ASHPs'!$N$50:$AH$53,2,FALSE),\"\"))","v":""},{"$f":"IF(OR(M15=\"#N/A\",M15=\"\"),\"\",IFERROR(HLOOKUP('HP2'!M15,'Step 5 Identify & Select ASHPs'!$N$50:$AH$53,IF('Step 5 Identify & Select ASHPs'!$I$54=\"COP\",4,3),FALSE),\"\"))","v":""},{"$f":"IF(OR(B15=\"#N/A\",B15=\"\"),\"\",IFERROR(HLOOKUP('HP2'!B15,'Step 5 Identify & Select ASHPs'!$N$50:$AH$53,IF('Step 5 Identify & Select ASHPs'!$I$54=\"COP\",3,4),FALSE),\"\"))","v":""},{"$f":"(M15*'Design Load Calcs'!$G$23+'Design Load Calcs'!$H$23)","v":{"$error":"#VALUE!"}},""]
[null,{"$f":"IF(OR('Step 5 Identify & Select ASHPs'!$I$43,'Step 5 Identify & Select ASHPs'!$I$44),\"\",IF('Step 5 Identify & Select ASHPs'!$I$45,IF(MATCH(B15,$B$10:$B$29,0)>='Step 5 Identify & Select ASHPs'!$I$51,\"\",'Step 5 Identify & Select ASHPs'!$T$41),NA()))","v":""},{"$f":"IF(OR(B16=\"#N/A\",B16=\"\"),\"\",IFERROR(HLOOKUP('HP2'!B16,'Step 5 Identify & Select ASHPs'!$N$41:$AH$44,2,FALSE),\"\"))","v":""},{"$f":"IF(OR(B16=\"#N/A\",B16=\"\"),\"\",IFERROR(HLOOKUP('HP2'!B16,'Step 5 Identify & Select ASHPs'!$N$41:$AH$44,IF('Step 5 Identify & Select ASHPs'!$I$54=\"COP\",4,3),FALSE),\"\"))","v":""},{"$f":"IF(OR(B16=\"#N/A\",B16=\"\"),\"\",IFERROR(HLOOKUP('HP2'!B16,'Step 5 Identify & Select ASHPs'!$N$41:$AH$44,IF('Step 5 Identify & Select ASHPs'!$I$54=\"COP\",3,4),FALSE),\"\"))","v":""},{"$f":"(B16*'Design Load Calcs'!$G$23+'Design Load Calcs'!$H$23)","v":{"$error":"#VALUE!"}},"",null,{"$f":"CONCATENATE(\"HP pwr @\",IF('Intro & Unit Options'!B12=Dropdown_Menus!F1,CONVERT(17,\"F\",\"C\"),17),IF('Intro & Unit Options'!$B$12=Dropdown_Menus!F1,\" C\",\" F\"),IF('Intro & Unit Options'!$B$12=Dropdown_Menus!F1,\" [kW]\",\" [BTU/h]\"))","v":"HP pwr @17 F [BTU/h]"},{"$f":"IF(OR('Step 5 Identify & Select ASHPs'!$I$43,'Step 5 Identify & Select ASHPs'!$I$44,'Step 5 Identify & Select ASHPs'!$I$46),D11,IFERROR(INDEX(D10:D29,MATCH(IF('Intro & Unit Options'!B15=Dropdown_Menus!F4,CONVERT(17,\"F\",\"C\"),17),B10:B29,0)),SLOPE(I31:I32,J31:J32)*IF('Intro & Unit Options'!B15=Dropdown_Menus!F4,CONVERT(17,\"F\",\"C\"),17)+INTERCEPT(I31:I32,J31:J32)))","v":0},null,null,{"$f":"IF('Step 5 Identify & Select ASHPs'!$E$52=Dropdown_Menus!$A$2,\"\",'HP2'!B16)","v":""},{"$f":"IF(OR(M16=\"#N/A\",M16=\"\"),\"\",IFERROR(HLOOKUP('HP2'!M16,'Step 5 Identify & Select ASHPs'!$N$50:$AH$53,2,FALSE),\"\"))","v":""},{"$f":"IF(OR(M16=\"#N/A\",M16=\"\"),\"\",IFERROR(HLOOKUP('HP2'!M16,'Step 5 Identify & Select ASHPs'!$N$50:$AH$53,IF('Step 5 Identify & Select ASHPs'!$I$54=\"COP\",4,3),FALSE),\"\"))","v":""},{"$f":"IF(OR(B16=\"#N/A\",B16=\"\"),\"\",IFERROR(HLOOKUP('HP2'!B16,'Step 5 Identify & Select ASHPs'!$N$50:$AH$53,IF('Step 5 Identify & Select ASHPs'!$I$54=\"COP\",3,4),FALSE),\"\"))","v":""},{"$f":"(M16*'Design Load Calcs'!$G$23+'Design Load Calcs'!$H$23)","v":{"$error":"#VALUE!"}},"",null,"Slope @ t-BPT:",{"$f":"IF((N10-Q10)<0,\"None\",IF((INDEX(N10:N29,MATCH(N40,M10:M29,0))-INDEX(Q10:Q29,MATCH(N40,M10:M29,0)))>0,SLOPE(O39:O40,P39:P40),SLOPE(M39:M40,N39:N40)))","v":"None"}]
[null,{"$f":"IF(OR('Step 5 Identify & Select ASHPs'!$I$43,'Step 5 Identify & Select ASHPs'!$I$44),\"\",IF('Step 5 Identify & Select ASHPs'!$I$45,IF(MATCH(B16,$B$10:$B$29,0)>='Step 5 Identify & Select ASHPs'!$I$51,\"\",'Step 5 Identify & Select ASHPs'!$U$41),NA()))","v":""},{"$f":"IF(OR(B17=\"#N/A\",B17=\"\"),\"\",IFERROR(HLOOKUP('HP2'!B17,'Step 5 Identify & Select ASHPs'!$N$41:$AH$44,2,FALSE),\"\"))","v":""},{"$f":"IF(OR(B17=\"#N/A\",B17=\"\"),\"\",IFERROR(HLOOKUP('HP2'!B17,'Step 5 Identify & Select ASHPs'!$N$41:$AH$44,IF('Step 5 Identify & Select ASHPs'!$I$54=\"COP\",4,3),FALSE),\"\"))","v":""},{"$f":"IF(OR(B17=\"#N/A\",B17=\"\"),\"\",IFERROR(HLOOKUP('HP2'!B17,'Step 5 Identify & Select ASHPs'!$N$41:$AH$44,IF('Step 5 Identify & Select ASHPs'!$I$54=\"COP\",3,4),FALSE),\"\"))","v":""},{"$f":"(B17*'Design Load Calcs'!$G$23+'Design Load Calcs'!$H$23)","v":{"$error":"#VALUE!"}},"",null,"Slope @ t-BPT:",{"$f":"IF((C10-F10)<0,\"None\",IF((INDEX(C10:C29,MATCH(C40,B10:B29,0))-INDEX(F10:F29,MATCH(C40,B10:B29,0)))>0,SLOPE(D39:D40,E39:E40),SLOPE(B39:B40,C39:C40)))","v":"None"},null,null,{"$f":"IF('Step 5 Identify & Select ASHPs'!$E$52=Dropdown_Menus!$A$2,\"\",'HP2'!B17)","v":""},{"$f":"IF(OR(M17=\"#N/A\",M17=\"\"),\"\",IFERROR(HLOOKUP('HP2'!M17,'Step 5 Identify & Select ASHPs'!$N$50:$AH$53,2,FALSE),\"\"))","v":""},{"$f":"IF(OR(M17=\"#N/A\",M17=\"\"),\"\",IFERROR(HLOOKUP('HP2'!M17,'Step 5 Identify & Select ASHPs'!$N$50:$AH$53,IF('Step 5 Identify & Select ASHPs'!$I$54=\"COP\",4,3),FALSE),\"\"))","v":""},{"$f":"IF(OR(B17=\"#N/A\",B17=\"\"),\"\",IFERROR(HLOOKUP('HP2'!B17,'Step 5 Identify & Select ASHPs'!$N$50:$AH$53,IF('Step 5 Identify & Select ASHPs'!$I$54=\"COP\",3,4),FALSE),\"\"))","v":""},{"$f":"(M17*'Design Load Calcs'!$G$23+'Design Load Calcs'!$H$23)","v":{"$error":"#VALUE!"}},"",null,"Intercept @ t-BPT",{"$f":"IF((N10-Q10)<0,\"None\",IF((INDEX(N10:N29,MATCH(N40,M10:M29,0))-INDEX(Q10:Q29,MATCH(N40,M10:M29,0)))>0,INTERCEPT(O39:O40,P39:P40),INTERCEPT(M39:M40,N39:N40)))","v":"None"}]
[null,{"$f":"IF(OR('Step 5 Identify & Select ASHPs'!$I$43,'Step 5 Identify & Select ASHPs'!$I$44),\"\",IF('Step 5 Identify & Select ASHPs'!$I$45,IF(MATCH(B17,$B$10:$B$29,0)>='Step 5 Identify & Select ASHPs'!$I$51,\"\",'Step 5 Identify & Select ASHPs'!$V$41),NA()))","v":""},{"$f":"IF(OR(B18=\"#N/A\",B18=\"\"),\"\",IFERROR(HLOOKUP('HP2'!B18,'Step 5 Identify & Select ASHPs'!$N$41:$AH$44,2,FALSE),\"\"))","v":""},{"$f":"IF(OR(B18=\"#N/A\",B18=\"\"),\"\",IFERROR(HLOOKUP('HP2'!B18,'Step 5 Identify & Select ASHPs'!$N$41:$AH$44,IF('Step 5 Identify & Select ASHPs'!$I$54=\"COP\",4,3),FALSE),\"\"))","v":""},{"$f":"IF(OR(B18=\"#N/A\",B18=\"\"),\"\",IFERROR(HLOOKUP('HP2'!B18,'Step 5 Identify & Select ASHPs'!$N$41:$AH$44,IF('Step 5 Identify & Select ASHPs'!$I$54=\"COP\",3,4),FALSE),\"\"))","v":""},{"$f":"(B18*'Design Load Calcs'!$G$23+'Design Load Calcs'!$H$23)","v":{"$error":"#VALUE!"}},"",null,"Intercept @ t-BPT",{"$f":"IF((C10-F10)<0,\"None\",IF((INDEX(C10:C29,MATCH(C40,B10:B29,0))-INDEX(F10:F29,MATCH(C40,B10:B29,0)))>0,INTERCEPT(D39:D40,E39:E40),INTERCEPT(B39:B40,C39:C40)))","v":"None"},null,null,{"$f":"IF('Step 5 Identify & Select ASHPs'!$E$52=Dropdown_Menus!$A$2,\"\",'HP2'!B18)","v":""},{"$f":"IF(OR(M18=\"#N/A\",M18=\"\"),\"\",IFERROR(HLOOKUP('HP2'!M18,'Step 5 Identify & Select ASHPs'!$N$50:$AH$53,2,FALSE),\"\"))","v":""},{"$f":"IF(OR(M18=\"#N/A\",M18=\"\"),\"\",IFERROR(HLOOKUP('HP2'!M18,'Step 5 Identify & Select ASHPs'!$N$50:$AH$53,IF('Step 5 Identify & Select ASHPs'!$I$54=\"COP\",4,3),FALSE),\"\"))","v":""},{"$f":"IF(OR(B18=\"#N/A\",B18=\"\"),\"\",IFERROR(HLOOKUP('HP2'!B18,'Step 5 Identify & Select ASHPs'!$N$50:$AH$53,IF('Step 5 Identify & Select ASHPs'!$I$54=\"COP\",3,4),FALSE),\"\"))","v":""},{"$f":"(M18*'Design Load Calcs'!$G$23+'Design Load Calcs'!$H$23)","v":{"$error":"#VALUE!"}},""]
[null,{"$f":"IF(OR('Step 5 Identify & Select ASHPs'!$I$43,'Step 5 Identify & Select ASHPs'!$I$44),\"\",IF('Step 5 Identify & Select ASHPs'!$I$45,IF(MATCH(B18,$B$10:$B$29,0)>='Step 5 Identify & Select ASHPs'!$I$51,\"\",'Step 5 Identify & Select ASHPs'!$W$41),NA()))","v":""},{"$f":"IF(OR(B19=\"#N/A\",B19=\"\"),\"\",IFERROR(HLOOKUP('HP2'!B19,'Step 5 Identify & Select ASHPs'!$N$41:$AH$44,2,FALSE),\"\"))","v":""},{"$f":"IF(OR(B19=\"#N/A\",B19=\"\"),\"\",IFERROR(HLOOKUP('HP2'!B19,'Step 5 Identify & Select ASHPs'!$N$41:$AH$44,IF('Step 5 Identify & Select ASHPs'!$I$54=\"COP\",4,3),FALSE),\"\"))","v":""},{"$f":"IF(OR(B19=\"#N/A\",B19=\"\"),\"\",IFERROR(HLOOKUP('HP2'!B19,'Step 5 Identify & Select ASHPs'!$N$41:$AH$44,IF('Step 5 Identify & Select ASHPs'!$I$54=\"COP\",3,4),FALSE),\"\"))","v":""},{"$f":"(B19*'Design Load Calcs'!$G$23+'Design Load Calcs'!$H$23)","v":{"$error":"#VALUE!"}},"",null,"Cap @ cut-off T°",{"$f":"IFERROR(IF(B30=MIN(B10:B29),1,0),0)","v":0},null,null,{"$f":"IF('Step 5 Identify & Select ASHPs'!$E$52=Dropdown_Menus!$A$2,\"\",'HP2'!B19)","v":""},{"$f":"IF(OR(M19=\"#N/A\",M19=\"\"),\"\",IFERROR(HLOOKUP('HP2'!M19,'Step 5 Identify & Select ASHPs'!$N$50:$AH$53,2,FALSE),\"\"))","v":""},{"$f":"IF(OR(M19=\"#N/A\",M19=\"\"),\"\",IFERROR(HLOOKUP('HP2'!M19,'Step 5 Identify & Select ASHPs'!$N$50:$AH$53,IF('Step 5 Identify & Select ASHPs'!$I$54=\"COP\",4,3),FALSE),\"\"))","v":""},{"$f":"IF(OR(B19=\"#N/A\",B19=\"\"),\"\",IFERROR(HLOOKUP('HP2'!B19,'Step 5 Identify & Select ASHPs'!$N$50:$AH$53,IF('Step 5 Identify & Select ASHPs'!$I$54=\"COP\",3,4),FALSE),\"\"))","v":""},{"$f":"(M19*'Design Load Calcs'!$G$23+'Design Load Calcs'!$H$23)","v":{"$error":"#VALUE!"}},""]
[null,{"$f":"IF(OR('Step 5 Identify & Select ASHPs'!$I$43,'Step 5 Identify & Select ASHPs'!$I$44),\"\",IF('Step 5 Identify & Select ASHPs'!$I$45,IF(MATCH(B19,$B$10:$B$29,0)>='Step 5 Identify & Select ASHPs'!$I$51,\"\",'Step 5 Identify & Select ASHPs'!$X$41),NA()))","v":""},{"$f":"IF(OR(B20=\"#N/A\",B20=\"\"),\"\",IFERROR(HLOOKUP('HP2'!B20,'Step 5 Identify & Select ASHPs'!$N$41:$AH$44,2,FALSE),\"\"))","v":""},{"$f":"IF(OR(B20=\"#N/A\",B20=\"\"),\"\",IFERROR(HLOOKUP('HP2'!B20,'Step 5 Identify & Select ASHPs'!$N$41:$AH$44,IF('Step 5 Identify & Select ASHPs'!$I$54=\"COP\",4,3),FALSE),\"\"))","v":""},{"$f":"IF(OR(B20=\"#N/A\",B20=\"\"),\"\",IFERROR(HLOOKUP('HP2'!B20,'Step 5 Identify & Select ASHPs'!$N$41:$AH$44,IF('Step 5 Identify & Select ASHPs'!$I$54=\"COP\",3,4),FALSE),\"\"))","v":""},{"$f":"(B20*'Design Load Calcs'!$G$23+'Design Load Calcs'!$H$23)","v":{"$error":"#VALUE!"}},"",null,null,null,null,null,{"$f":"IF('Step 5 Identify & Select ASHPs'!$E$52=Dropdown_Menus!$A$2,\"\",'HP2'!B20)","v":""},{"$f":"IF(OR(M20=\"#N/A\",M20=\"\"),\"\",IFERROR(HLOOKUP('HP2'!M20,'Step 5 Identify & Select ASHPs'!$N$50:$AH$53,2,FALSE),\"\"))","v":""},{"$f":"IF(OR(M20=\"#N/A\",M20=\"\"),\"\",IFERROR(HLOOKUP('HP2'!M20,'Step 5 Identify & Select ASHPs'!$N$50:$AH$53,IF('Step 5 Identify & Select ASHPs'!$I$54=\"COP\",4,3),FALSE),\"\"))","v":""},{"$f":"IF(OR(B20=\"#N/A\",B20=\"\"),\"\",IFERROR(HLOOKUP('HP2'!B20,'Step 5 Identify & Select ASHPs'!$N$50:$AH$53,IF('Step 5 Identify & Select ASHPs'!$I$54=\"COP\",3,4),FALSE),\"\"))","v":""},{"$f":"(M20*'Design Load Calcs'!$G$23+'Design Load Calcs'!$H$23)","v":{"$error":"#VALUE!"}},""]
[null,{"$f":"IF(OR('Step 5 Identify & Select ASHPs'!$I$43,'Step 5 Identify & Select ASHPs'!$I$44),\"\",IF('Step 5 Identify & Select ASHPs'!$I$45,IF(MATCH(B20,$B$10:$B$29,0)>='Step 5 Identify & Select ASHPs'!$I$51,\"\",'Step 5 Identify & Select ASHPs'!$Y$41),NA()))","v":""},{"$f":"IF(OR(B21=\"#N/A\",B21=\"\"),\"\",IFERROR(HLOOKUP('HP2'!B21,'Step 5 Identify & Select ASHPs'!$N$41:$AH$44,2,FALSE),\"\"))","v":""},{"$f":"IF(OR(B21=\"#N/A\",B21=\"\"),\"\",IFERROR(HLOOKUP('HP2'!B21,'Step 5 Identify & Select ASHPs'!$N$41:$AH$44,IF('Step 5 Identify & Select ASHPs'!$I$54=\"COP\",4,3),FALSE),\"\"))","v":""},{"$f":"IF(OR(B21=\"#N/A\",B21=\"\"),\"\",IFERROR(HLOOKUP('HP2'!B21,'Step 5 Identify & Select ASHPs'!$N$41:$AH$44,IF('Step 5 Identify & Select ASHPs'!$I$54=\"COP\",3,4),FALSE),\"\"))","v":""},{"$f":"(B21*'Design Load Calcs'!$G$23+'Design Load Calcs'!$H$23)","v":{"$error":"#VALUE!"}},"",null,null,null,null,null,{"$f":"IF('Step 5 Identify & Select ASHPs'!$E$52=Dropdown_Menus!$A$2,\"\",'HP2'!B21)","v":""},{"$f":"IF(OR(M21=\"#N/A\",M21=\"\"),\"\",IFERROR(HLOOKUP('HP2'!M21,'Step 5 Identify & Select ASHPs'!$N$50:$AH$53,2,FALSE),\"\"))","v":""},{"$f":"IF(OR(M21=\"#N/A\",M21=\"\"),\"\",IFERROR(HLOOKUP('HP2'!M21,'Step 5 Identify & Select ASHPs'!$N$50:$AH$53,IF('Step 5 Identify & Select ASHPs'!$I$54=\"COP\",4,3),FALSE),\"\"))","v":""},{"$f":"IF(OR(B21=\"#N/A\",B21=\"\"),\"\",IFERROR(HLOOKUP('HP2'!B21,'Step 5 Identify & Select ASHPs'!$N$50:$AH$53,IF('Step 5 Identify & Select ASHPs'!$I$54=\"COP\",3,4),FALSE),\"\"))","v":""},{"$f":"(M21*'Design Load Calcs'!$G$23+'Design Load Calcs'!$H$23)","v":{"$error":"#VALUE!"}},""]
[null,{"$f":"IF(OR('Step 5 Identify & Select ASHPs'!$I$43,'Step 5 Identify & Select ASHPs'!$I$44),\"\",IF('Step 5 Identify & Select ASHPs'!$I$45,IF(MATCH(B21,$B$10:$B$29,0)>='Step 5 Identify & Select ASHPs'!$I$51,\"\",'Step 5 Identify & Select ASHPs'!$Z$41),NA()))","v":""},{"$f":"IF(OR(B22=\"#N/A\",B22=\"\"),\"\",IFERROR(HLOOKUP('HP2'!B22,'Step 5 Identify & Select ASHPs'!$N$41:$AH$44,2,FALSE),\"\"))","v":""},{"$f":"IF(OR(B22=\"#N/A\",B22=\"\"),\"\",IFERROR(HLOOKUP('HP2'!B22,'Step 5 Identify & Select ASHPs'!$N$41:$AH$44,IF('Step 5 Identify & Select ASHPs'!$I$54=\"COP\",4,3),FALSE),\"\"))","v":""},{"$f":"IF(OR(B22=\"#N/A\",B22=\"\"),\"\",IFERROR(HLOOKUP('HP2'!B22,'Step 5 Identify & Select ASHPs'!$N$41:$AH$44,IF('Step 5 Identify & Select ASHPs'!$I$54=\"COP\",3,4),FALSE),\"\"))","v":""},{"$f":"(B22*'Design Load Calcs'!$G$23+'Design Load Calcs'!$H$23)","v":{"$error":"#VALUE!"}},"",null,null,null,null,null,{"$f":"IF('Step 5 Identify & Select ASHPs'!$E$52=Dropdown_Menus!$A$2,\"\",'HP2'!B22)","v":""},{"$f":"IF(OR(M22=\"#N/A\",M22=\"\"),\"\",IFERROR(HLOOKUP('HP2'!M22,'Step 5 Identify & Select ASHPs'!$N$50:$AH$53,2,FALSE),\"\"))","v":""},{"$f":"IF(OR(M22=\"#N/A\",M22=\"\"),\"\",IFERROR(HLOOKUP('HP2'!M22,'Step 5 Identify & Select ASHPs'!$N$50:$AH$53,IF('Step 5 Identify & Select ASHPs'!$I$54=\"COP\",4,3),FALSE),\"\"))","v":""},{"$f":"IF(OR(B22=\"#N/A\",B22=\"\"),\"\",IFERROR(HLOOKUP('HP2'!B22,'Step 5 Identify & Select ASHPs'!$N$50:$AH$53,IF('Step 5 Identify & Select ASHPs'!$I$54=\"COP\",3,4),FALSE),\"\"))","v":""},{"$f":"(M22*'Design Load Calcs'!$G$23+'Design Load Calcs'!$H$23)","v":{"$error":"#VALUE!"}},""]
[null,{"$f":"IF(OR('Step 5 Identify & Select ASHPs'!$I$43,'Step 5 Identify & Select ASHPs'!$I$44),\"\",IF('Step 5 Identify & Select ASHPs'!$I$45,IF(MATCH(B22,$B$10:$B$29,0)>='Step 5 Identify & Select ASHPs'!$I$51,\"\",'Step 5 Identify & Select ASHPs'!$AA$41),NA()))","v":""},{"$f":"IF(OR(B23=\"#N/A\",B23=\"\"),\"\",IFERROR(HLOOKUP('HP2'!B23,'Step 5 Identify & Select ASHPs'!$N$41:$AH$44,2,FALSE),\"\"))","v":""},{"$f":"IF(OR(B23=\"#N/A\",B23=\"\"),\"\",IFERROR(HLOOKUP('HP2'!B23,'Step 5 Identify & Select ASHPs'!$N$41:$AH$44,IF('Step 5 Identify & Select ASHPs'!$I$54=\"COP\",4,3),FALSE),\"\"))","v":""},{"$f":"IF(OR(B23=\"#N/A\",B23=\"\"),\"\",IFERROR(HLOOKUP('HP2'!B23,'Step 5 Identify & Select ASHPs'!$N$41:$AH$44,IF('Step 5 Identify & Select ASHPs'!$I$54=\"COP\",3,4),FALSE),\"\"))","v":""},{"$f":"(B23*'Design Load Calcs'!$G$23+'Design Load Calcs'!$H$23)","v":{"$error":"#VALUE!"}},"",null,null,null,null,null,{"$f":"IF('Step 5 Identify & Select ASHPs'!$E$52=Dropdown_Menus!$A$2,\"\",'HP2'!B23)","v":""},{"$f":"IF(OR(M23=\"#N/A\",M23=\"\"),\"\",IFERROR(HLOOKUP('HP2'!M23,'Step 5 Identify & Select ASHPs'!$N$50:$AH$53,2,FALSE),\"\"))","v":""},{"$f":"IF(OR(M23=\"#N/A\",M23=\"\"),\"\",IFERROR(HLOOKUP('HP2'!M23,'Step 5 Identify & Select ASHPs'!$N$50:$AH$53,IF('Step 5 Identify & Select ASHPs'!$I$54=\"COP\",4,3),FALSE),\"\"))","v":""},{"$f":"IF(OR(B23=\"#N/A\",B23=\"\"),\"\",IFERROR(HLOOKUP('HP2'!B23,'Step 5 Identify & Select ASHPs'!$N$50:$AH$53,IF('Step 5 Identify & Select ASHPs'!$I$54=\"COP\",3,4),FALSE),\"\"))","v":""},{"$f":"(M23*'Design Load Calcs'!$G$23+'Design Load Calcs'!$H$23)","v":{"$error":"#VALUE!"}},""]
[null,{"$f":"IF(OR('Step 5 Identify & Select ASHPs'!$I$43,'Step 5 Identify & Select ASHPs'!$I$44),\"\",IF('Step 5 Identify & Select ASHPs'!$I$45,IF(MATCH(B23,$B$10:$B$29,0)>='Step 5 Identify & Select ASHPs'!$I$51,\"\",'Step 5 Identify & Select ASHPs'!$AB$41),NA()))","v":""},{"$f":"IF(OR(B24=\"#N/A\",B24=\"\"),\"\",IFERROR(HLOOKUP('HP2'!B24,'Step 5 Identify & Select ASHPs'!$N$41:$AH$44,2,FALSE),\"\"))","v":""},{"$f":"IF(OR(B24=\"#N/A\",B24=\"\"),\"\",IFERROR(HLOOKUP('HP2'!B24,'Step 5 Identify & Select ASHPs'!$N$41:$AH$44,IF('Step 5 Identify & Select ASHPs'!$I$54=\"COP\",4,3),FALSE),\"\"))","v":""},{"$f":"IF(OR(B24=\"#N/A\",B24=\"\"),\"\",IFERROR(HLOOKUP('HP2'!B24,'Step 5 Identify & Select ASHPs'!$N$41:$AH$44,IF('Step 5 Identify & Select ASHPs'!$I$54=\"COP\",3,4),FALSE),\"\"))","v":""},{"$f":"(B24*'Design Load Calcs'!$G$23+'Design Load Calcs'!$H$23)","v":{"$error":"#VALUE!"}},"",null,null,null,null,null,{"$f":"IF('Step 5 Identify & Select ASHPs'!$E$52=Dropdown_Menus!$A$2,\"\",'HP2'!B24)","v":""},{"$f":"IF(OR(M24=\"#N/A\",M24=\"\"),\"\",IFERROR(HLOOKUP('HP2'!M24,'Step 5 Identify & Select ASHPs'!$N$50:$AH$53,2,FALSE),\"\"))","v":""},{"$f":"IF(OR(M24=\"#N/A\",M24=\"\"),\"\",IFERROR(HLOOKUP('HP2'!M24,'Step 5 Identify & Select ASHPs'!$N$50:$AH$53,IF('Step 5 Identify & Select ASHPs'!$I$54=\"COP\",4,3),FALSE),\"\"))","v":""},{"$f":"IF(OR(B24=\"#N/A\",B24=\"\"),\"\",IFERROR(HLOOKUP('HP2'!B24,'Step 5 Identify & Select ASHPs'!$N$50:$AH$53,IF('Step 5 Identify & Select ASHPs'!$I$54=\"COP\",3,4),FALSE),\"\"))","v":""},{"$f":"(M24*'Design Load Calcs'!$G$23+'Design Load Calcs'!$H$23)","v":{"$error":"#VALUE!"}},""]
[null,{"$f":"IF(OR('Step 5 Identify & Select ASHPs'!$I$43,'Step 5 Identify & Select ASHPs'!$I$44),\"\",IF('Step 5 Identify & Select ASHPs'!$I$45,IF(MATCH(B24,$B$10:$B$29,0)>='Step 5 Identify & Select ASHPs'!$I$51,\"\",'Step 5 Identify & Select ASHPs'!$AC$41),NA()))","v":""},{"$f":"IF(OR(B25=\"#N/A\",B25=\"\"),\"\",IFERROR(HLOOKUP('HP2'!B25,'Step 5 Identify & Select ASHPs'!$N$41:$AH$44,2,FALSE),\"\"))","v":""},{"$f":"IF(OR(B25=\"#N/A\",B25=\"\"),\"\",IFERROR(HLOOKUP('HP2'!B25,'Step 5 Identify & Select ASHPs'!$N$41:$AH$44,IF('Step 5 Identify & Select ASHPs'!$I$54=\"COP\",4,3),FALSE),\"\"))","v":""},{"$f":"IF(OR(25=\"#N/A\",B25=\"\"),\"\",IFERROR(HLOOKUP('HP2'!B25,'Step 5 Identify & Select ASHPs'!$N$41:$AH$44,IF('Step 5 Identify & Select ASHPs'!$I$54=\"COP\",3,4),FALSE),\"\"))","v":""},{"$f":"(B25*'Design Load Calcs'!$G$23+'Design Load Calcs'!$H$23)","v":{"$error":"#VALUE!"}},"",null,"Slope and Intercept at 47°F (HP Pwr)",null,null,null,{"$f":"IF('Step 5 Identify & Select ASHPs'!$E$52=Dropdown_Menus!$A$2,\"\",'HP2'!B25)","v":""},{"$f":"IF(OR(M25=\"#N/A\",M25=\"\"),\"\",IFERROR(HLOOKUP('HP2'!M25,'Step 5 Identify & Select ASHPs'!$N$50:$AH$53,2,FALSE),\"\"))","v":""},{"$f":"IF(OR(M25=\"#N/A\",M25=\"\"),\"\",IFERROR(HLOOKUP('HP2'!M25,'Step 5 Identify & Select ASHPs'!$N$50:$AH$53,IF('Step 5 Identify & Select ASHPs'!$I$54=\"COP\",4,3),FALSE),\"\"))","v":""},{"$f":"IF(OR(B25=\"#N/A\",B25=\"\"),\"\",IFERROR(HLOOKUP('HP2'!B25,'Step 5 Identify & Select ASHPs'!$N$50:$AH$53,IF('Step 5 Identify & Select ASHPs'!$I$54=\"COP\",3,4),FALSE),\"\"))","v":""},{"$f":"(M25*'Design Load Calcs'!$G$23+'Design Load Calcs'!$H$23)","v":{"$error":"#VALUE!"}},""]
[null,{"$f":"IF(OR('Step 5 Identify & Select ASHPs'!$I$43,'Step 5 Identify & Select ASHPs'!$I$44),\"\",IF('Step 5 Identify & Select ASHPs'!$I$45,IF(MATCH(B25,$B$10:$B$29,0)>='Step 5 Identify & Select ASHPs'!$I$51,\"\",'Step 5 Identify & Select ASHPs'!$AD$41),NA()))","v":""},{"$f":"IF(OR(B26=\"#N/A\",B26=\"\"),\"\",IFERROR(HLOOKUP('HP2'!B26,'Step 5 Identify & Select ASHPs'!$N$41:$AH$44,2,FALSE),\"\"))","v":""},{"$f":"IF(OR(B26=\"#N/A\",B26=\"\"),\"\",IFERROR(HLOOKUP('HP2'!B26,'Step 5 Identify & Select ASHPs'!$N$41:$AH$44,IF('Step 5 Identify & Select ASHPs'!$I$54=\"COP\",4,3),FALSE),\"\"))","v":""},{"$f":"IF(OR(B26=\"#N/A\",B26=\"\"),\"\",IFERROR(HLOOKUP('HP2'!B26,'Step 5 Identify & Select ASHPs'!$N$41:$AH$44,IF('Step 5 Identify & Select ASHPs'!$I$54=\"COP\",3,4),FALSE),\"\"))","v":""},{"$f":"(B26*'Design Load Calcs'!$G$23+'Design Load Calcs'!$H$23)","v":{"$error":"#VALUE!"}},"",null,"know ys (pwr):","know xs (temp)",null,null,{"$f":"IF('Step 5 Identify & Select ASHPs'!$E$52=Dropdown_Menus!$A$2,\"\",'HP2'!B26)","v":""},{"$f":"IF(OR(M26=\"#N/A\",M26=\"\"),\"\",IFERROR(HLOOKUP('HP2'!M26,'Step 5 Identify & Select ASHPs'!$N$50:$AH$53,2,FALSE),\"\"))","v":""},{"$f":"IF(OR(M26=\"#N/A\",M26=\"\"),\"\",IFERROR(HLOOKUP('HP2'!M26,'Step 5 Identify & Select ASHPs'!$N$50:$AH$53,IF('Step 5 Identify & Select ASHPs'!$I$54=\"COP\",4,3),FALSE),\"\"))","v":""},{"$f":"IF(OR(B26=\"#N/A\",B26=\"\"),\"\",IFERROR(HLOOKUP('HP2'!B26,'Step 5 Identify & Select ASHPs'!$N$50:$AH$53,IF('Step 5 Identify & Select ASHPs'!$I$54=\"COP\",3,4),FALSE),\"\"))","v":""},{"$f":"(M26*'Design Load Calcs'!$G$23+'Design Load Calcs'!$H$23)","v":{"$error":"#VALUE!"}},""]
[null,{"$f":"IF(OR('Step 5 Identify & Select ASHPs'!$I$43,'Step 5 Identify & Select ASHPs'!$I$44),\"\",IF('Step 5 Identify & Select ASHPs'!$I$45,IF(MATCH(B26,$B$10:$B$29,0)>='Step 5 Identify & Select ASHPs'!$I$51,\"\",'Step 5 Identify & Select ASHPs'!$AE$41),NA()))","v":""},{"$f":"IF(OR(B27=\"#N/A\",B27=\"\"),\"\",IFERROR(HLOOKUP('HP2'!B27,'Step 5 Identify & Select ASHPs'!$N$41:$AH$44,2,FALSE),\"\"))","v":""},{"$f":"IF(OR(B27=\"#N/A\",B27=\"\"),\"\",IFERROR(HLOOKUP('HP2'!B27,'Step 5 Identify & Select ASHPs'!$N$41:$AH$44,IF('Step 5 Identify & Select ASHPs'!$I$54=\"COP\",4,3),FALSE),\"\"))","v":""},{"$f":"IF(OR(B27=\"#N/A\",B27=\"\"),\"\",IFERROR(HLOOKUP('HP2'!B27,'Step 5 Identify & Select ASHPs'!$N$41:$AH$44,IF('Step 5 Identify & Select ASHPs'!$I$54=\"COP\",3,4),FALSE),\"\"))","v":""},{"$f":"(B27*'Design Load Calcs'!$G$23+'Design Load Calcs'!$H$23)","v":{"$error":"#VALUE!"}},"",null,{"$f":"INDEX(D10:D29,MATCH(J27,B10:B29,0))","v":0},{"$f":"IF(MAX(B10:B29)<IF('Intro & Unit Options'!B12=Dropdown_Menus!F1,CONVERT(47,\"F\",\"C\"),47),MAX(B10:B29),INDEX(B10:B29,MATCH(IF('Intro & Unit Options'!B12=Dropdown_Menus!F1,CONVERT(47,\"F\",\"C\"),47),B10:B29,-1)))","v":47},null,null,{"$f":"IF('Step 5 Identify & Select ASHPs'!$E$52=Dropdown_Menus!$A$2,\"\",'HP2'!B27)","v":""},{"$f":"IF(OR(M27=\"#N/A\",M27=\"\"),\"\",IFERROR(HLOOKUP('HP2'!M27,'Step 5 Identify & Select ASHPs'!$N$50:$AH$53,2,FALSE),\"\"))","v":""},{"$f":"IF(OR(M27=\"#N/A\",M27=\"\"),\"\",IFERROR(HLOOKUP('HP2'!M27,'Step 5 Identify & Select ASHPs'!$N$50:$AH$53,IF('Step 5 Identify & Select ASHPs'!$I$54=\"COP\",4,3),FALSE),\"\"))","v":""},{"$f":"IF(OR(B27=\"#N/A\",B27=\"\"),\"\",IFERROR(HLOOKUP('HP2'!B27,'Step 5 Identify & Select ASHPs'!$N$50:$AH$53,IF('Step 5 Identify & Select ASHPs'!$I$54=\"COP\",3,4),FALSE),\"\"))","v":""},{"$f":"(M27*'Design Load Calcs'!$G$23+'Design Load Calcs'!$H$23)","v":{"$error":"#VALUE!"}},""]
[null,{"$f":"IF(OR('Step 5 Identify & Select ASHPs'!$I$43,'Step 5 Identify & Select ASHPs'!$I$44),\"\",IF('Step 5 Identify & Select ASHPs'!$I$45,IF(MATCH(B27,$B$10:$B$29,0)>='Step 5 Identify & Select ASHPs'!$I$51,\"\",'Step 5 Identify & Select ASHPs'!$AF$41),NA()))","v":""},{"$f":"IF(OR(B28=\"#N/A\",B28=\"\"),\"\",IFERROR(HLOOKUP('HP2'!B28,'Step 5 Identify & Select ASHPs'!$N$41:$AH$44,2,FALSE),\"\"))","v":""},{"$f":"IF(OR(B28=\"#N/A\",B28=\"\"),\"\",IFERROR(HLOOKUP('HP2'!B28,'Step 5 Identify & Select ASHPs'!$N$41:$AH$44,IF('Step 5 Identify & Select ASHPs'!$I$54=\"COP\",4,3),FALSE),\"\"))","v":""},{"$f":"IF(OR(B28=\"#N/A\",B28=\"\"),\"\",IFERROR(HLOOKUP('HP2'!B28,'Step 5 Identify & Select ASHPs'!$N$41:$AH$44,IF('Step 5 Identify & Select ASHPs'!$I$54=\"COP\",3,4),FALSE),\"\"))","v":""},{"$f":"(B28*'Design Load Calcs'!$G$23+'Design Load Calcs'!$H$23)","v":{"$error":"#VALUE!"}},"",null,{"$f":"INDEX(D10:D29,MATCH(J28,B10:B29,0))","v":0},{"$f":"IF(J27=MIN(B10:B29),INDEX(B10:B29,MATCH(J27,B10:B29,0)-1),INDEX(B10:B29,MATCH(J27,B10:B29,0)+1))","v":17},null,null,{"$f":"IF('Step 5 Identify & Select ASHPs'!$E$52=Dropdown_Menus!$A$2,\"\",'HP2'!B28)","v":""},{"$f":"IF(OR(M28=\"#N/A\",M28=\"\"),\"\",IFERROR(HLOOKUP('HP2'!M28,'Step 5 Identify & Select ASHPs'!$N$50:$AH$53,2,FALSE),\"\"))","v":""},{"$f":"IF(OR(M28=\"#N/A\",M28=\"\"),\"\",IFERROR(HLOOKUP('HP2'!M28,'Step 5 Identify & Select ASHPs'!$N$50:$AH$53,IF('Step 5 Identify & Select ASHPs'!$I$54=\"COP\",4,3),FALSE),\"\"))","v":""},{"$f":"IF(OR(B28=\"#N/A\",B28=\"\"),\"\",IFERROR(HLOOKUP('HP2'!B28,'Step 5 Identify & Select ASHPs'!$N$50:$AH$53,IF('Step 5 Identify & Select ASHPs'!$I$54=\"COP\",3,4),FALSE),\"\"))","v":""},{"$f":"(M28*'Design Load Calcs'!$G$23+'Design Load Calcs'!$H$23)","v":{"$error":"#VALUE!"}},""]
[null,{"$f":"IF(OR('Step 5 Identify & Select ASHPs'!$I$43,'Step 5 Identify & Select ASHPs'!$I$44),\"\",IF('Step 5 Identify & Select ASHPs'!$I$45,IF(MATCH(B28,$B$10:$B$29,0)>='Step 5 Identify & Select ASHPs'!$I$51,\"\",'Step 5 Identify & Select ASHPs'!$AG$41),NA()))","v":""},{"$f":"IF(OR(B29=\"#N/A\",B29=\"\"),\"\",IFERROR(HLOOKUP('HP2'!B29,'Step 5 Identify & Select ASHPs'!$N$41:$AH$44,2,FALSE),\"\"))","v":""},{"$f":"IF(OR(B29=\"#N/A\",B29=\"\"),\"\",IFERROR(HLOOKUP('HP2'!B29,'Step 5 Identify & Select ASHPs'!$N$41:$AH$44,IF('Step 5 Identify & Select ASHPs'!$I$54=\"COP\",4,3),FALSE),\"\"))","v":""},{"$f":"IF(OR(B29=\"#N/A\",B29=\"\"),\"\",IFERROR(HLOOKUP('HP2'!B29,'Step 5 Identify & Select ASHPs'!$N$41:$AH$44,IF('Step 5 Identify & Select ASHPs'!$I$54=\"COP\",3,4),FALSE),\"\"))","v":""},{"$f":"(B29*'Design Load Calcs'!$G$23+'Design Load Calcs'!$H$23)","v":{"$error":"#VALUE!"}},"",null,"Slope and Intercept at 17°F (HP Cap)",null,null,null,{"$f":"IF('Step 5 Identify & Select ASHPs'!$E$52=Dropdown_Menus!$A$2,\"\",'HP2'!B29)","v":""},{"$f":"IF(OR(M29=\"#N/A\",M29=\"\"),\"\",IFERROR(HLOOKUP('HP2'!M29,'Step 5 Identify & Select ASHPs'!$N$50:$AH$53,2,FALSE),\"\"))","v":""},{"$f":"IF(OR(M29=\"#N/A\",M29=\"\"),\"\",IFERROR(HLOOKUP('HP2'!M29,'Step 5 Identify & Select ASHPs'!$N$50:$AH$53,IF('Step 5 Identify & Select ASHPs'!$I$54=\"COP\",4,3),FALSE),\"\"))","v":""},{"$f":"IF(OR(B29=\"#N/A\",B29=\"\"),\"\",IFERROR(HLOOKUP('HP2'!B29,'Step 5 Identify & Select ASHPs'!$N$50:$AH$53,IF('Step 5 Identify & Select ASHPs'!$I$54=\"COP\",3,4),FALSE),\"\"))","v":""},{"$f":"(M29*'Design Load Calcs'!$G$23+'Design Load Calcs'!$H$23)","v":{"$error":"#VALUE!"}},""]
[null,{"$f":"'Step 5 Identify & Select ASHPs'!$E$50","v":0},{"$f":"IF(D34=B30,B34,SLOPE(B34:B35,D34:D35)*B30+INTERCEPT(B34:B35,D34:D35))","v":0},{"$f":"IF(D34=B30,C34,SLOPE(C34:C35,D34:D35)*B30+INTERCEPT(C34:C35,D34:D35))","v":0},{"$f":"(C30/IF('Intro & Unit Options'!$B$12=Dropdown_Menus!$F$1,1,3412))/D30","v":{"$error":"#DIV/0!"}},{"$f":"IF(B30<C5,'Design Load Calcs'!$B$3,B30*'Design Load Calcs'!$G$23+'Design Load Calcs'!$H$23)","v":50000},{"$f":"IF(B30=\"\",\"\",ABS(C30-F30))","v":50000},null,"know ys (pwr):","know xs (temp)",null,null,{"$f":"'Step 5 Identify & Select ASHPs'!$E$50","v":0},{"$f":"IF(O34=M30,M34,SLOPE(M34:M35,O34:O35)*M30+INTERCEPT(M34:M35,O34:O35))","v":0},{"$f":"IF(O34=M30,N34,SLOPE(N34:N35,O34:O35)*M30+INTERCEPT(N34:N35,O34:O35))","v":0},{"$f":"(N30/IF('Intro & Unit Options'!$B$12=Dropdown_Menus!$F$1,1,3412))/O30","v":{"$error":"#DIV/0!"}},{"$f":"IF(M30<N5,'Design Load Calcs'!$B$3,M30*'Design Load Calcs'!$G$23+'Design Load Calcs'!$H$23)","v":50000},{"$f":"IF(M30=\"\",\"\",ABS(N30-Q30))","v":50000}]
[null,null,null,null,null,null,null,null,{"$f":"INDEX(D10:D29,MATCH(J31,B10:B29,0))","v":0},{"$f":"IF(MAX(B10:B29)<IF('Intro & Unit Options'!B12=Dropdown_Menus!F1,CONVERT(17,\"F\",\"C\"),17),MAX(B10:B29),INDEX(B10:B29,MATCH(IF('Intro & Unit Options'!B12=Dropdown_Menus!F1,CONVERT(17,\"F\",\"C\"),17),B10:B29,-1)))","v":17}]
[null,"Slope and Intercept at the cut-off temp. (HP Norm. Cap and pwr)",null,null,null,"Slope and Intercept at the Design Temp. (HP Cap)",null,null,{"$f":"INDEX(D10:D29,MATCH(J32,B10:B29,0))","v":0},{"$f":"IF(J31=MIN(B10:B29),INDEX(B10:B29,MATCH(J31,B10:B29,0)-1),INDEX(B10:B29,MATCH(J31,B10:B29,0)+1))","v":47},null,null,"Slope and Intercept at the cut-off temp. (HP Norm. Cap and pwr)",null,null,null,"Slope and Intercept at the Design Temp. (HP Cap)"]
[null,"know ys (capacity):","know ys (power):","know xs (temp)",null,"know ys (capacity):","know xs (temp)",null,"Slope and Intercept at 47°F (HP Cap)",null,null,null,"know ys (capacity):","know ys (power):","know xs (temp)",null,"know ys (capacity):","know xs"]
[null,{"$f":"INDEX(C10:C29,MATCH(D34,B10:B29,0))","v":0},{"$f":"INDEX(D10:D29,MATCH(B34,C10:C29,0))","v":0},{"$f":"IF(B30=MIN(B10:B29),B30,INDEX(B10:B29,MATCH(B30,B10:B29,-1)))","v":17},null,{"$f":"IF(G34=\"-\",0,INDEX(C10:C29,MATCH(G34,B10:B29,0)))","v":0},{"$f":"IF(C5<B30,\"-\",IFERROR(INDEX(B10:B29,MATCH(C5,B10:B29,0)),IF(C5<MIN(B10:B29),INDEX(B10:B29,MATCH(MIN(B10:B29),B10:B29,-1)),INDEX(B10:B29,MATCH(C5,B10:B29,-1)))))","v":17},null,"know ys (capacity):","know xs (temp)",null,null,{"$f":"INDEX(N10:N29,MATCH(O34,M10:M29,0))","v":0},{"$f":"INDEX(O10:O29,MATCH(M34,N10:N29,0))","v":0},{"$f":"IF(M30=MIN(M10:M29),M30,INDEX(M10:M29,MATCH(M30,M10:M29,-1)))","v":17},null,{"$f":"IF(R34=\"-\",0,INDEX(N10:N29,MATCH(R34,M10:M29,0)))","v":0},{"$f":"IF(N5<M30,\"-\",IFERROR(INDEX(M10:M29,MATCH(N5,M10:M29,0)),IF(N5<MIN(M10:M29),INDEX(M10:M29,MATCH(MIN(M10:M29),M10:M29,-1)),INDEX(M10:M29,MATCH(N5,M10:M29,-1)))))","v":17}]
[null,{"$f":"IF(D35=\"-\",\"-\",INDEX(C10:C29,MATCH(D35,B10:B29,0)))","v":0},{"$f":"IF(D35=\"-\",\"-\",INDEX($D$10:$D$29, MATCH(D35,$B$10:$B$29,0)))","v":0},{"$f":"IF(B30=MIN(B10:B29),\"-\",INDEX(B10:B29,MATCH(B30,B10:B29,-1)+IF(D34=MIN(B10:B29),-1,1)))","v":47},null,{"$f":"IF(G35=\"-\",0,INDEX(C10:C29,MATCH(G35,B10:B29,0)))","v":0},{"$f":"IF(C5<B30,\"-\",IF(G34=C5,\"-\",INDEX(B10:B29,MATCH(G34,B10:B29,0)+IF(G34=MIN(B10:B29),-1,1))))","v":47},null,{"$f":"INDEX(C10:C29,MATCH(J35,B10:B29,0))","v":0},{"$f":"IF(MAX(B10:B29)<IF('Intro & Unit Options'!B13=Dropdown_Menus!F2,CONVERT(47,\"F\",\"C\"),47),MAX(B10:B29),INDEX(B10:B29,MATCH(IF('Intro & Unit Options'!B13=Dropdown_Menus!F2,CONVERT(47,\"F\",\"C\"),47),B10:B29,-1)))","v":47},null,null,{"$f":"IF(O35=\"-\",\"-\",INDEX(N10:N29,MATCH(O35,M10:M29,0)))","v":0},{"$f":"IF(O35=\"-\",\"-\",INDEX($O$10:$O$29, MATCH(O35,$M$10:$M$29,0)))","v":0},{"$f":"IF(M30=MIN(M10:M29),\"-\",INDEX(M10:M29,MATCH(M30,M10:M29,-1)+IF(O34=MIN(M10:M29),-1,1)))","v":47},null,{"$f":"IF(R35=\"-\",0,INDEX(N10:N29,MATCH(R35,M10:M29,0)))","v":0},{"$f":"IF(N5<M30,\"-\",IF(R34=N5,\"-\",INDEX(M10:M29,MATCH(R34,M10:M29,0)+IF(R34=MIN(M10:M29),-1,1))))","v":47}]
[null,null,null,null,null,null,null,null,{"$f":"INDEX(C10:C29,MATCH(J36,B10:B29,0))","v":0},{"$f":"IF(J35=MIN(B10:B29),INDEX(B10:B29,MATCH(J35,B10:B29,0)-1),INDEX(B10:B29,MATCH(J35,B10:B29,0)+1))","v":17}]
[null,"Slope and Intercept at the BPT (HP Cap)",null,null,null,"Slope and Intercept at the BPT (Load%)",null,null,"Slope and Intercept at 17°F (HP Cap)",null,null,null,"Slope and Intercept at the BPT (HP Cap)",null,null,null,"Slope and Intercept at the BPT (Load%)"]
[null,"know ys (eq. 1):","know xs (eq. 1):","know ys (eq. 2):","know xs (eq. 2):","know ys (eq. 1):","know ys (eq. 2):",null,"know ys (capacity):","know xs (temp)",null,null,"know ys (eq. 1):","know xs (eq. 1):","know ys (eq. 2):","know xs (eq. 2):","know ys (eq. 1):","know ys (eq. 2):"]
[null,{"$f":"INDEX(C10:C29,MATCH(MIN(G10:G29),G10:G29,0)-1)","v":{"$error":"#VALUE!"}},{"$f":"INDEX(B10:B29,MATCH(MIN(G10:G29),G10:G29,0)-1)","v":{"$error":"#VALUE!"}},{"$f":"INDEX(C10:C29,MATCH(MIN(G10:G29),G10:G29,0))","v":0},{"$f":"INDEX(B10:B29,MATCH(MIN(G10:G29),G10:G29,0))","v":47},{"$f":"INDEX(INDIRECT(CONCATENATE(IFERROR(SUBSTITUTE('Step 3 Design Loads'!B8,\"-\",\"\"),'Step 3 Design Loads'!B8),\"_Load\")),MATCH(G39,'Load %s'!N8:N24))","v":{"$error":"#N/A"}},{"$f":"IF(ISNUMBER(MATCH(J9,'Load %s'!N8:N24,0)),'HP2'!J9,INDEX('Load %s'!N8:N24,MATCH('HP2'!J9,'Load %s'!N8:N24,1)))","v":{"$error":"#N/A"}},null,{"$f":"INDEX(C10:C29,MATCH(J39,B10:B29,0))","v":0},{"$f":"IF(MAX(B10:B29)<IF('Intro & Unit Options'!B12=Dropdown_Menus!F1,CONVERT(17,\"F\",\"C\"),17),MAX(B10:B29),INDEX(B10:B29,MATCH(IF('Intro & Unit Options'!B12=Dropdown_Menus!F1,CONVERT(17,\"F\",\"C\"),17),B10:B29,-1)))","v":17},null,null,{"$f":"INDEX(N10:N29,MATCH(MIN(R10:R29),R10:R29,0)-1)","v":{"$error":"#VALUE!"}},{"$f":"INDEX(M10:M29,MATCH(MIN(R10:R29),R10:R29,0)-1)","v":{"$error":"#VALUE!"}},{"$f":"INDEX(N10:N29,MATCH(MIN(R10:R29),R10:R29,0))","v":0},{"$f":"INDEX(M10:M29,MATCH(MIN(R10:R29),R10:R29,0))","v":47},{"$f":"INDEX(INDIRECT(CONCATENATE(IFERROR(SUBSTITUTE('Step 3 Design Loads'!B8,\"-\",\"\"),'Step 3 Design Loads'!B8),\"_Load\")),MATCH(R39,'Load %s'!N8:N24))","v":{"$error":"#N/A"}},{"$f":"IF(ISNUMBER(MATCH(U9,'Load %s'!N8:N24,0)),'HP2'!U9,INDEX('Load %s'!N8:N24,MATCH('HP2'!U9,'Load %s'!N8:N24,1)))","v":{"$error":"#N/A"}}]
[null,{"$f":"INDEX(C10:C29,MATCH(MIN(G10:G29),G10:G29,0))","v":0},{"$f":"INDEX(B10:B29,MATCH(MIN(G10:G29),G10:G29,0))","v":47},{"$f":"IF(OR(SUMIF(B10:B29,\"<>\"\"\")=0,INDEX(C10:C29,MATCH(MIN(G10:G29),G10:G29,0)+1)=\"\"),C30,INDEX(C10:C29,MATCH(MIN(G10:G29),G10:G29,0)+1))","v":0},{"$f":"IF(OR(AND(SUMIF(B12:B29,\"<>\"\"\")=0,B30<E39),INDEX(B10:B29,MATCH(MIN(G10:G29),G10:G29,0)+1)=\"\"),B30,INDEX(B10:B29,MATCH(MIN(G10:G29),G10:G29,0)+1))","v":0},{"$f":"INDEX(INDIRECT(CONCATENATE(IFERROR(SUBSTITUTE('Step 3 Design Loads'!B8,\"-\",\"\"),'Step 3 Design Loads'!B8),\"_Load\")),MATCH(G40,'Load %s'!N8:N24))","v":{"$error":"#N/A"}},{"$f":"IF(ISNUMBER(MATCH(E41,'Load %s'!N8:N24,0)),\"\",INDEX('Load %s'!N8:N24,MATCH(G39,'Load %s'!N8:N24,0)+1))","v":{"$error":"#N/A"}},null,{"$f":"INDEX(C10:C29,MATCH(J40,B10:B29,0))","v":0},{"$f":"IF(J39=MIN(B10:B29),INDEX(B10:B29,MATCH(J39,B10:B29,0)-1),INDEX(B10:B29,MATCH(J39,B10:B29,0)+1))","v":47},null,null,{"$f":"INDEX(N10:N29,MATCH(MIN(R10:R29),R10:R29,0))","v":0},{"$f":"INDEX(M10:M29,MATCH(MIN(R10:R29),R10:R29,0))","v":47},{"$f":"IF(OR(SUMIF(M12:M29,\"<>\"\"\")=0,INDEX(N10:N29,MATCH(MIN(R10:R29),R10:R29,0)+1)=\"\"),N30,INDEX(N10:N29,MATCH(MIN(R10:R29),R10:R29,0)+1))","v":0},{"$f":"IF(OR(AND(SUMIF(M12:M29,\"<>\"\"\")=0,M30<P39),INDEX(M10:M29,MATCH(MIN(R10:R29),R10:R29,0)+1)=\"\"),M30,INDEX(M10:M29,MATCH(MIN(R10:R29),R10:R29,0)+1))","v":0},{"$f":"INDEX(INDIRECT(CONCATENATE(IFERROR(SUBSTITUTE('Step 3 Design Loads'!B8,\"-\",\"\"),'Step 3 Design Loads'!B8),\"_Load\")),MATCH(R40,'Load %s'!N8:N24))","v":{"$error":"#N/A"}},{"$f":"IF(ISNUMBER(MATCH(P41,'Load %s'!N8:N24,0)),\"\",INDEX('Load %s'!N8:N24,MATCH(R39,'Load %s'!N8:N24,0)+1))","v":{"$error":"#N/A"}}]
[null,"BPT (eq. 1):",{"$f":"IF(IF(('Design Load Calcs'!$H$23-INTERCEPT(B39:B40,C39:C40))/(SLOPE(B39:B40,C39:C40)-'Design Load Calcs'!$G$23)<'Step 3 Design Loads'!B13,NA(),('Design Load Calcs'!$H$23-INTERCEPT(B39:B40,C39:C40))/(SLOPE(B39:B40,C39:C40)-'Design Load Calcs'!$G$23))>MAX(B10:B29),NA(),IF(('Design Load Calcs'!$H$23-INTERCEPT(B39:B40,C39:C40))/(SLOPE(B39:B40,C39:C40)-'Design Load Calcs'!$G$23)<'Step 3 Design Loads'!B13,NA(),('Design Load Calcs'!$H$23-INTERCEPT(B39:B40,C39:C40))/(SLOPE(B39:B40,C39:C40)-'Design Load Calcs'!$G$23)))","v":{"$error":"#VALUE!"}},"BPT (eq. 2):",{"$f":"IF(IF(('Design Load Calcs'!$H$23-INTERCEPT(D39:D40,E39:E40))/(SLOPE(D39:D40,E39:E40)-'Design Load Calcs'!$G$23)<'Step 3 Design Loads'!B13,NA(),('Design Load Calcs'!$H$23-INTERCEPT(D39:D40,E39:E40))/(SLOPE(D39:D40,E39:E40)-'Design Load Calcs'!$G$23))>MAX(B10:B29),NA(),IF(('Design Load Calcs'!$H$23-INTERCEPT(D39:D40,E39:E40))/(SLOPE(D39:D40,E39:E40)-'Design Load Calcs'!$G$23)<'Step 3 Design Loads'!B13,NA(),('Design Load Calcs'!$H$23-INTERCEPT(D39:D40,E39:E40))/(SLOPE(D39:D40,E39:E40)-'Design Load Calcs'!$G$23)))","v":{"$error":"#N/A"}},null,null,null,null,null,null,null,"BPT (eq. 1):",{"$f":"IF(IF(('Design Load Calcs'!$H$23-INTERCEPT(M39:M40,N39:N40))/(SLOPE(M39:M40,N39:N40)-'Design Load Calcs'!$G$23)<'Step 3 Design Loads'!B13,NA(),('Design Load Calcs'!$H$23-INTERCEPT(M39:M40,N39:N40))/(SLOPE(M39:M40,N39:N40)-'Design Load Calcs'!$G$23))>MAX(M10:M29),NA(),IF(('Design Load Calcs'!$H$23-INTERCEPT(M39:M40,N39:N40))/(SLOPE(M39:M40,N39:N40)-'Design Load Calcs'!$G$23)<'Step 3 Design Loads'!B13,NA(),('Design Load Calcs'!$H$23-INTERCEPT(M39:M40,N39:N40))/(SLOPE(M39:M40,N39:N40)-'Design Load Calcs'!$G$23)))","v":{"$error":"#VALUE!"}},"BPT (eq. 2):",{"$f":"IF(IF(('Design Load Calcs'!$H$23-INTERCEPT(O39:O40,P39:P40))/(SLOPE(O39:O40,P39:P40)-'Design Load Calcs'!$G$23)<'Step 3 Design Loads'!B13,NA(),('Design Load Calcs'!$H$23-INTERCEPT(O39:O40,P39:P40))/(SLOPE(O39:O40,P39:P40)-'Design Load Calcs'!$G$23))>MAX(M10:M29),NA(),IF(('Design Load Calcs'!$H$23-INTERCEPT(O39:O40,P39:P40))/(SLOPE(O39:O40,P39:P40)-'Design Load Calcs'!$G$23)<'Step 3 Design Loads'!B13,NA(),('Design Load Calcs'!$H$23-INTERCEPT(O39:O40,P39:P40))/(SLOPE(O39:O40,P39:P40)-'Design Load Calcs'!$G$23)))","v":{"$error":"#N/A"}}]
[null,"HP Cap (eq. 1): ",{"$f":"SLOPE(B39:B40,C39:C40)*C41+INTERCEPT(B39:B40,C39:C40)","v":{"$error":"#VALUE!"}},"HP Cap (eq. 2): ",{"$f":"SLOPE(D39:D40,E39:E40)*E41+INTERCEPT(D39:D40,E39:E40)","v":{"$error":"#N/A"}},null,null,null,null,null,null,null,"HP Cap (eq. 1): ",{"$f":"SLOPE(M39:M40,N39:N40)*N41+INTERCEPT(M39:M40,N39:N40)","v":{"$error":"#VALUE!"}},"HP Cap (eq. 2): ",{"$f":"SLOPE(O39:O40,P39:P40)*P41+INTERCEPT(O39:O40,P39:P40)","v":{"$error":"#N/A"}}]
[]
[]
[null,"Cooling - High Stage ",null,null,null,null,null,null,null,null,null,null,"Cooling - Low Stage "]
[]
[null,"Design Temp. (cool)",{"$f":"'Design Load Calcs'!B26","v":88},null,null,null,null,null,null,null,null,null,"Design Temp. (cool)",{"$f":"'Design Load Calcs'!B26","v":88}]
[]
[null,"Performance Data and Heating Load Line",null,null,null,null,null,null,"Outputs:",null,null,null,"Performance Data and Heating Load Line",null,null,null,null,null,null,"Outputs:"]
[null,"Outdoor Temp.","Actual Capacity","Actual Power","Actual COP",null,null,null,{"$f":"CONCATENATE(\"HP cap @ Design Temp.\",IF('Intro & Unit Options'!$B$12=Dropdown_Menus!F1,\" [kW]\",\" [BTU/h]\"))","v":"HP cap @ Design Temp. [BTU/h]"},{"$f":"IF(SUM(B53:B63)=0,I62,IF(OR(57=C47,J63=J62),I62,SLOPE(I62:I63,J62:J63)*C47+INTERCEPT(I62:I63,J62:J63)))","v":0},null,null,"Outdoor Temp.","Actual Capacity","Actual Power","Actual COP",null,null,null,{"$f":"CONCATENATE(\"HP cap @ Design Temp.\",IF('Intro & Unit Options'!$B$12=Dropdown_Menus!F1,\" [kW]\",\" [BTU/h]\"))","v":"HP cap @ Design Temp. [BTU/h]"},{"$f":"IF(SUM(M53:M63)=0,T62,IF(OR(57=N47,U63=U62),T62,SLOPE(T62:T63,U62:U63)*N47+INTERCEPT(T62:T63,U62:U63)))","v":0}]
[null,{"$f":"IF('Intro & Unit Options'!$B$12=Dropdown_Menus!$F$1,\"[°C]\",\"[°F]\")","v":"[°F]"},{"$f":"IF('Intro & Unit Options'!$B$12=Dropdown_Menus!$F$1,\"[kW]\",\"[BTU/h]\")","v":"[BTU/h]"},"[kW]","[-]",null,null,null,"% of Design Load",{"$f":"J50/'Design Load Calcs'!$B$25","v":0},null,null,{"$f":"IF('Intro & Unit Options'!$B$12=Dropdown_Menus!$F$1,\"[°C]\",\"[°F]\")","v":"[°F]"},{"$f":"IF('Intro & Unit Options'!$B$12=Dropdown_Menus!$F$1,\"[kW]\",\"[BTU/h]\")","v":"[BTU/h]"},"[kW]","[-]",null,null,null,"% of Design Load",{"$f":"U50/'Design Load Calcs'!$B$25","v":0}]
[null,{"$f":"IF(OR('Step 5 Identify & Select ASHPs'!$I$43,'Step 5 Identify & Select ASHPs'!$I$44,'Step 5 Identify & Select ASHPs'!$I$45),'Step 5 Identify & Select ASHPs'!$N$45,NA())","v":95},{"$f":"IF(OR(B52=\"#N/A\",B52=\"\"),\"\",IFERROR(HLOOKUP('HP2'!B52,'Step 5 Identify & Select ASHPs'!$N$45:$Z$48,2,FALSE),\"\"))","v":0},{"$f":"IF(OR(B52=\"#N/A\",B52=\"\"),\"\",IFERROR(HLOOKUP(B52,'Step 5 Identify & Select ASHPs'!$N$45:$Z$48,IF('Step 5 Identify & Select ASHPs'!$I$55=\"EER\",4,3),FALSE),\"\"))","v":0},{"$f":"IF(OR(B52=\"#N/A\",B52=\"\"),\"\",IFERROR(HLOOKUP(B52,'Step 5 Identify & Select ASHPs'!$N$45:$Z$48,IF('Step 5 Identify & Select ASHPs'!$I$55=\"EER\",3,4),FALSE),\"\"))","v":""},null,null,null,{"$f":"CONCATENATE(\"HP cap @\",IF('Intro & Unit Options'!B12=Dropdown_Menus!F1,CONVERT(95,\"F\",\"C\"),95),IF('Intro & Unit Options'!$B$12=Dropdown_Menus!F1,\" C\",\" F\"),IF('Intro & Unit Options'!$B$12=Dropdown_Menus!F1,\" [kW]\",\" [BTU/h]\"))","v":"HP cap @95 F [BTU/h]"},{"$f":"IF(OR('Step 5 Identify & Select ASHPs'!$I$43,'Step 5 Identify & Select ASHPs'!$I$44,'Step 5 Identify & Select ASHPs'!$I$46),'HP2'!C52,IFERROR(INDEX('HP2'!C52:C63,MATCH(IF('Intro & Unit Options'!B12=Dropdown_Menus!F1,CONVERT(95,\"F\",\"C\"),95),'HP2'!B52:B63,0)),SLOPE(I57:I58,J57:J58)*IF('Intro & Unit Options'!B12=Dropdown_Menus!F1,CONVERT(95,\"F\",\"C\"),95)+INTERCEPT(I57:I58,J57:J58)))","v":0},null,null,{"$f":"IF('Step 5 Identify & Select ASHPs'!$E$52=Dropdown_Menus!$A$2,\"\",'HP2'!B52)","v":95},{"$f":"IF(OR(M52=\"#N/A\",M52=\"\"),\"\",IFERROR(HLOOKUP('HP2'!M52,'Step 5 Identify & Select ASHPs'!$N$54:$AH$57,2,FALSE),\"\"))","v":0},{"$f":"IF(OR(M52=\"#N/A\",M52=\"\"),\"\",IFERROR(HLOOKUP(M52,'Step 5 Identify & Select ASHPs'!$N$54:$AH$57,IF('Step 5 Identify & Select ASHPs'!$I$55=\"EER\",4,3),FALSE),\"\"))","v":0},{"$f":"IF(OR(M52=\"#N/A\",M52=\"\"),\"\",IFERROR(HLOOKUP(M52,'Step 5 Identify & Select ASHPs'!$N$54:$AH$57,IF('Step 5 Identify & Select ASHPs'!$I$55=\"EER\",3,4),FALSE),\"\"))","v":""},null,null,null,{"$f":"CONCATENATE(\"HP cap @\",IF('Intro & Unit Options'!B12=Dropdown_Menus!F1,CONVERT(95,\"F\",\"C\"),95),IF('Intro & Unit Options'!$B$12=Dropdown_Menus!F1,\" C\",\" F\"),IF('Intro & Unit Options'!$B$12=Dropdown_Menus!F1,\" [kW]\",\" [BTU/h]\"))","v":"HP cap @95 F [BTU/h]"},{"$f":"IF('Step 5 Identify & Select ASHPs'!E52=\"Single Speed\",NA(),IF(OR('Step 5 Identify & Select ASHPs'!$I$43,'Step 5 Identify & Select ASHPs'!$I$44,'Step 5 Identify & Select ASHPs'!$I$46),'HP2'!N52,IFERROR(INDEX('HP2'!N52:N63,MATCH(IF('Intro & Unit Options'!B12=Dropdown_Menus!F1,CONVERT(95,\"F\",\"C\"),95),'HP2'!M52:M63,0)),SLOPE(T57:T58,U57:U58)*IF('Intro & Unit Options'!B12=Dropdown_Menus!F1,CONVERT(95,\"F\",\"C\"),95)+INTERCEPT(T57:T58,U57:U58))))","v":0}]
[null,{"$f":"IF(OR('Step 5 Identify & Select ASHPs'!$I$43,'Step 5 Identify & Select ASHPs'!$I$44),\"\",IF('Step 5 Identify & Select ASHPs'!$I$45,IF(MATCH(B52,$B$52:$B$63,0)>='Step 5 Identify & Select ASHPs'!$I$52,\"\",'Step 5 Identify & Select ASHPs'!$O$45),NA()))","v":""},{"$f":"IF(OR(B53=\"#N/A\",B53=\"\"),\"\",IFERROR(HLOOKUP('HP2'!B53,'Step 5 Identify & Select ASHPs'!$O$45:$Z$48,2,FALSE),\"\"))","v":""},{"$f":"IF(OR(B53=\"#N/A\",B53=\"\"),\"\",IFERROR(HLOOKUP(B53,'Step 5 Identify & Select ASHPs'!$O$45:$Z$48,IF('Step 5 Identify & Select ASHPs'!$I$55=\"EER\",4,3),FALSE),\"\"))","v":""},{"$f":"IF(OR(B53=\"#N/A\",B53=\"\"),\"\",IFERROR(HLOOKUP(B53,'Step 5 Identify & Select ASHPs'!$O$45:$Z$48,IF('Step 5 Identify & Select ASHPs'!$I$55=\"EER\",3,4),FALSE),\"\"))","v":""},null,null,null,{"$f":"CONCATENATE(\"HP COP @\",IF('Intro & Unit Options'!B13=Dropdown_Menus!F2,CONVERT(95,\"F\",\"C\"),95),IF('Intro & Unit Options'!$B$12=Dropdown_Menus!F2,\" C\",\" F\"),IF('Intro & Unit Options'!$B$12=Dropdown_Menus!F2,\" [kW]\",\" [BTU/h]\"))","v":"HP COP @95 F [BTU/h]"},{"$f":"IF(OR('Step 5 Identify & Select ASHPs'!$I$24,'Step 5 Identify & Select ASHPs'!$I$25,'Step 5 Identify & Select ASHPs'!$I$27),E52,IFERROR(INDEX(E52:E63,MATCH(IF('Intro & Unit Options'!B12=Dropdown_Menus!F1,CONVERT(95,\"F\",\"C\"),95),B52:B63,0)),SLOPE(G57:G58,J57:J58)*IF('Intro & Unit Options'!B12=Dropdown_Menus!F1,CONVERT(95,\"F\",\"C\"),95)+INTERCEPT(G57:G58,J57:J58)))","v":""},null,null,{"$f":"IF('Step 5 Identify & Select ASHPs'!$E$52=Dropdown_Menus!$A$2,\"\",'HP2'!B53)","v":""},{"$f":"IF(OR(M53=\"#N/A\",M53=\"\"),\"\",IFERROR(HLOOKUP('HP2'!M53,'Step 5 Identify & Select ASHPs'!$N$54:$AH$57,2,FALSE),\"\"))","v":""},{"$f":"IF(OR(M53=\"#N/A\",M53=\"\"),\"\",IFERROR(HLOOKUP(M53,'Step 5 Identify & Select ASHPs'!$N$54:$AH$57,IF('Step 5 Identify & Select ASHPs'!$I$55=\"EER\",4,3),FALSE),\"\"))","v":""},{"$f":"IF(OR(M53=\"#N/A\",M53=\"\"),\"\",IFERROR(HLOOKUP(M53,'Step 5 Identify & Select ASHPs'!$N$54:$AH$57,IF('Step 5 Identify & Select ASHPs'!$I$55=\"EER\",3,4),FALSE),\"\"))","v":""}]
[null,{"$f":"IF(OR('Step 5 Identify & Select ASHPs'!$I$43,'Step 5 Identify & Select ASHPs'!$I$44),\"\",IF('Step 5 Identify & Select ASHPs'!$I$45,IF(MATCH(B53,$B$52:$B$63,0)>='Step 5 Identify & Select ASHPs'!$I$52,\"\",'Step 5 Identify & Select ASHPs'!$P$45),NA()))","v":""},{"$f":"IF(OR(B54=\"#N/A\",B54=\"\"),\"\",IFERROR(HLOOKUP('HP2'!B54,'Step 5 Identify & Select ASHPs'!$O$45:$Z$48,2,FALSE),\"\"))","v":""},{"$f":"IF(OR(B54=\"#N/A\",B54=\"\"),\"\",IFERROR(HLOOKUP(B54,'Step 5 Identify & Select ASHPs'!$O$45:$Z$48,IF('Step 5 Identify & Select ASHPs'!$I$55=\"EER\",4,3),FALSE),\"\"))","v":""},{"$f":"IF(OR(B54=\"#N/A\",B54=\"\"),\"\",IFERROR(HLOOKUP(B54,'Step 5 Identify & Select ASHPs'!$O$45:$Z$48,IF('Step 5 Identify & Select ASHPs'!$I$55=\"EER\",3,4),FALSE),\"\"))","v":""},null,null,null,null,null,null,null,{"$f":"IF('Step 5 Identify & Select ASHPs'!$E$52=Dropdown_Menus!$A$2,\"\",'HP2'!B54)","v":""},{"$f":"IF(OR(M54=\"#N/A\",M54=\"\"),\"\",IFERROR(HLOOKUP('HP2'!M54,'Step 5 Identify & Select ASHPs'!$N$54:$AH$57,2,FALSE),\"\"))","v":""},{"$f":"IF(OR(M54=\"#N/A\",M54=\"\"),\"\",IFERROR(HLOOKUP(M54,'Step 5 Identify & Select ASHPs'!$N$54:$AH$57,IF('Step 5 Identify & Select ASHPs'!$I$55=\"EER\",4,3),FALSE),\"\"))","v":""},{"$f":"IF(OR(M54=\"#N/A\",M54=\"\"),\"\",IFERROR(HLOOKUP(M54,'Step 5 Identify & Select ASHPs'!$N$54:$AH$57,IF('Step 5 Identify & Select ASHPs'!$I$55=\"EER\",3,4),FALSE),\"\"))","v":""}]
[null,{"$f":"IF(OR('Step 5 Identify & Select ASHPs'!$I$43,'Step 5 Identify & Select ASHPs'!$I$44),\"\",IF('Step 5 Identify & Select ASHPs'!$I$45,IF(MATCH(B54,$B$52:$B$63,0)>='Step 5 Identify & Select ASHPs'!$I$52,\"\",'Step 5 Identify & Select ASHPs'!$Q$45),NA()))","v":""},{"$f":"IF(OR(B55=\"#N/A\",B55=\"\"),\"\",IFERROR(HLOOKUP('HP2'!B55,'Step 5 Identify & Select ASHPs'!$O$45:$Z$48,2,FALSE),\"\"))","v":""},{"$f":"IF(OR(B55=\"#N/A\",B55=\"\"),\"\",IFERROR(HLOOKUP(B55,'Step 5 Identify & Select ASHPs'!$O$45:$Z$48,IF('Step 5 Identify & Select ASHPs'!$I$55=\"EER\",4,3),FALSE),\"\"))","v":""},{"$f":"IF(OR(B55=\"#N/A\",B55=\"\"),\"\",IFERROR(HLOOKUP(B55,'Step 5 Identify & Select ASHPs'!$O$45:$Z$48,IF('Step 5 Identify & Select ASHPs'!$I$55=\"EER\",3,4),FALSE),\"\"))","v":""},null,"Slope and Intercept at Rated Conditions (HP Cap)",null,null,null,null,null,{"$f":"IF('Step 5 Identify & Select ASHPs'!$E$52=Dropdown_Menus!$A$2,\"\",'HP2'!B55)","v":""},{"$f":"IF(OR(M55=\"#N/A\",M55=\"\"),\"\",IFERROR(HLOOKUP('HP2'!M55,'Step 5 Identify & Select ASHPs'!$N$54:$AH$57,2,FALSE),\"\"))","v":""},{"$f":"IF(OR(M55=\"#N/A\",M55=\"\"),\"\",IFERROR(HLOOKUP(M55,'Step 5 Identify & Select ASHPs'!$N$54:$AH$57,IF('Step 5 Identify & Select ASHPs'!$I$55=\"EER\",4,3),FALSE),\"\"))","v":""},{"$f":"IF(OR(M55=\"#N/A\",M55=\"\"),\"\",IFERROR(HLOOKUP(M55,'Step 5 Identify & Select ASHPs'!$N$54:$AH$57,IF('Step 5 Identify & Select ASHPs'!$I$55=\"EER\",3,4),FALSE),\"\"))","v":""},null,null,null,"Slope and Intercept at Rated Conditions (HP Cap)"]
[null,{"$f":"IF(OR('Step 5 Identify & Select ASHPs'!$I$43,'Step 5 Identify & Select ASHPs'!$I$44),\"\",IF('Step 5 Identify & Select ASHPs'!$I$45,IF(MATCH(B55,$B$52:$B$63,0)>='Step 5 Identify & Select ASHPs'!$I$52,\"\",'Step 5 Identify & Select ASHPs'!$R$45),NA()))","v":""},{"$f":"IF(OR(B56=\"#N/A\",B56=\"\"),\"\",IFERROR(HLOOKUP('HP2'!B56,'Step 5 Identify & Select ASHPs'!$O$45:$Z$48,2,FALSE),\"\"))","v":""},{"$f":"IF(OR(B56=\"#N/A\",B56=\"\"),\"\",IFERROR(HLOOKUP(B56,'Step 5 Identify & Select ASHPs'!$O$45:$Z$48,IF('Step 5 Identify & Select ASHPs'!$I$55=\"EER\",4,3),FALSE),\"\"))","v":""},{"$f":"IF(OR(B56=\"#N/A\",B56=\"\"),\"\",IFERROR(HLOOKUP(B56,'Step 5 Identify & Select ASHPs'!$O$45:$Z$48,IF('Step 5 Identify & Select ASHPs'!$I$55=\"EER\",3,4),FALSE),\"\"))","v":""},null,"know ys (COP):",null,"know ys (capacity):","know xs",null,null,{"$f":"IF('Step 5 Identify & Select ASHPs'!$E$52=Dropdown_Menus!$A$2,\"\",'HP2'!B56)","v":""},{"$f":"IF(OR(M56=\"#N/A\",M56=\"\"),\"\",IFERROR(HLOOKUP('HP2'!M56,'Step 5 Identify & Select ASHPs'!$N$54:$AH$57,2,FALSE),\"\"))","v":""},{"$f":"IF(OR(M56=\"#N/A\",M56=\"\"),\"\",IFERROR(HLOOKUP(M56,'Step 5 Identify & Select ASHPs'!$N$54:$AH$57,IF('Step 5 Identify & Select ASHPs'!$I$55=\"EER\",4,3),FALSE),\"\"))","v":""},{"$f":"IF(OR(M56=\"#N/A\",M56=\"\"),\"\",IFERROR(HLOOKUP(M56,'Step 5 Identify & Select ASHPs'!$N$54:$AH$57,IF('Step 5 Identify & Select ASHPs'!$I$55=\"EER\",3,4),FALSE),\"\"))","v":""},null,null,null,"know ys (capacity):","know xs"]
[null,{"$f":"IF(OR('Step 5 Identify & Select ASHPs'!$I$43,'Step 5 Identify & Select ASHPs'!$I$44),\"\",IF('Step 5 Identify & Select ASHPs'!$I$45,IF(MATCH(B56,$B$52:$B$63,0)>='Step 5 Identify & Select ASHPs'!$I$52,\"\",'Step 5 Identify & Select ASHPs'!$S$45),NA()))","v":""},{"$f":"IF(OR(B57=\"#N/A\",B57=\"\"),\"\",IFERROR(HLOOKUP('HP2'!B57,'Step 5 Identify & Select ASHPs'!$O$45:$Z$48,2,FALSE),\"\"))","v":""},{"$f":"IF(OR(B57=\"#N/A\",B57=\"\"),\"\",IFERROR(HLOOKUP(B57,'Step 5 Identify & Select ASHPs'!$O$45:$Z$48,IF('Step 5 Identify & Select ASHPs'!$I$55=\"EER\",4,3),FALSE),\"\"))","v":""},{"$f":"IF(OR(B57=\"#N/A\",B57=\"\"),\"\",IFERROR(HLOOKUP(B57,'Step 5 Identify & Select ASHPs'!$O$45:$Z$48,IF('Step 5 Identify & Select ASHPs'!$I$55=\"EER\",3,4),FALSE),\"\"))","v":""},null,{"$f":"INDEX(E52:E63,MATCH(J57,B52:B63,0))","v":""},null,{"$f":"INDEX(C52:C63,MATCH(J57,B52:B63,0))","v":0},{"$f":"IF(MAX(B52:B63)<IF('Intro & Unit Options'!B12=Dropdown_Menus!F1,CONVERT(95,\"F\",\"C\"),95),MAX(B52:B63),INDEX(B52:B63,MATCH(IF('Intro & Unit Options'!B12=Dropdown_Menus!F1,CONVERT(95,\"F\",\"C\"),95),B52:B63,-1)))","v":95},null,null,{"$f":"IF('Step 5 Identify & Select ASHPs'!$E$52=Dropdown_Menus!$A$2,\"\",'HP2'!B57)","v":""},{"$f":"IF(OR(M57=\"#N/A\",M57=\"\"),\"\",IFERROR(HLOOKUP('HP2'!M57,'Step 5 Identify & Select ASHPs'!$N$54:$AH$57,2,FALSE),\"\"))","v":""},{"$f":"IF(OR(M57=\"#N/A\",M57=\"\"),\"\",IFERROR(HLOOKUP(M57,'Step 5 Identify & Select ASHPs'!$N$54:$AH$57,IF('Step 5 Identify & Select ASHPs'!$I$55=\"EER\",4,3),FALSE),\"\"))","v":""},{"$f":"IF(OR(M57=\"#N/A\",M57=\"\"),\"\",IFERROR(HLOOKUP(M57,'Step 5 Identify & Select ASHPs'!$N$54:$AH$57,IF('Step 5 Identify & Select ASHPs'!$I$55=\"EER\",3,4),FALSE),\"\"))","v":""},null,null,null,{"$f":"INDEX(N52:N63,MATCH(U57,M52:M63,0))","v":0},{"$f":"IF(MAX(M52:M63)<IF('Intro & Unit Options'!M12=Dropdown_Menus!Q1,CONVERT(95,\"F\",\"C\"),95),MAX(M52:M63),INDEX(M52:M63,MATCH(IF('Intro & Unit Options'!M12=Dropdown_Menus!Q1,CONVERT(95,\"F\",\"C\"),95),M52:M63,-1)))","v":95}]
[null,{"$f":"IF(OR('Step 5 Identify & Select ASHPs'!$I$43,'Step 5 Identify & Select ASHPs'!$I$44),\"\",IF('Step 5 Identify & Select ASHPs'!$I$45,IF(MATCH(B57,$B$52:$B$63,0)>='Step 5 Identify & Select ASHPs'!$I$52,\"\",'Step 5 Identify & Select ASHPs'!$T$45),NA()))","v":""},{"$f":"IF(OR(B58=\"#N/A\",B58=\"\"),\"\",IFERROR(HLOOKUP('HP2'!B58,'Step 5 Identify & Select ASHPs'!$O$45:$Z$48,2,FALSE),\"\"))","v":""},{"$f":"IF(OR(B58=\"#N/A\",B58=\"\"),\"\",IFERROR(HLOOKUP(B58,'Step 5 Identify & Select ASHPs'!$O$45:$Z$48,IF('Step 5 Identify & Select ASHPs'!$I$55=\"EER\",4,3),FALSE),\"\"))","v":""},{"$f":"IF(OR(B58=\"#N/A\",B58=\"\"),\"\",IFERROR(HLOOKUP(B58,'Step 5 Identify & Select ASHPs'!$O$45:$Z$48,IF('Step 5 Identify & Select ASHPs'!$I$55=\"EER\",3,4),FALSE),\"\"))","v":""},null,{"$f":"IF(J58=\"-\",\"-\",INDEX(E52:E63,MATCH(J58,B52:B63,0)))","v":""},null,{"$f":"IF(J58=\"-\",\"-\",INDEX(C52:C63,MATCH(J58,B52:B63,0)))","v":""},{"$f":"IF(J57=MIN(B52:B63),INDEX(B52:B63,MATCH(J57,B52:B63,0)-1),INDEX(B52:B63,MATCH(J57,B52:B63,0)+1))","v":""},null,null,{"$f":"IF('Step 5 Identify & Select ASHPs'!$E$52=Dropdown_Menus!$A$2,\"\",'HP2'!B58)","v":""},{"$f":"IF(OR(M58=\"#N/A\",M58=\"\"),\"\",IFERROR(HLOOKUP('HP2'!M58,'Step 5 Identify & Select ASHPs'!$N$54:$AH$57,2,FALSE),\"\"))","v":""},{"$f":"IF(OR(M58=\"#N/A\",M58=\"\"),\"\",IFERROR(HLOOKUP(M58,'Step 5 Identify & Select ASHPs'!$N$54:$AH$57,IF('Step 5 Identify & Select ASHPs'!$I$55=\"EER\",4,3),FALSE),\"\"))","v":""},{"$f":"IF(OR(M58=\"#N/A\",M58=\"\"),\"\",IFERROR(HLOOKUP(M58,'Step 5 Identify & Select ASHPs'!$N$54:$AH$57,IF('Step 5 Identify & Select ASHPs'!$I$55=\"EER\",3,4),FALSE),\"\"))","v":""},null,null,null,{"$f":"IF(U58=\"-\",\"-\",INDEX(N52:N63,MATCH(U58,M52:M63,0)))","v":""},{"$f":"IF(U57=MIN(M52:M63),INDEX(M52:M63,MATCH(U57,M52:M63,0)-1),INDEX(M52:M63,MATCH(U57,M52:M63,0)+1))","v":""}]
[null,{"$f":"IF(OR('Step 5 Identify & Select ASHPs'!$I$43,'Step 5 Identify & Select ASHPs'!$I$44),\"\",IF('Step 5 Identify & Select ASHPs'!$I$45,IF(MATCH(B58,$B$52:$B$63,0)>='Step 5 Identify & Select ASHPs'!$I$52,\"\",'Step 5 Identify & Select ASHPs'!$U$45),NA()))","v":""},{"$f":"IF(OR(B59=\"#N/A\",B59=\"\"),\"\",IFERROR(HLOOKUP('HP2'!B59,'Step 5 Identify & Select ASHPs'!$O$45:$Z$48,2,FALSE),\"\"))","v":""},{"$f":"IF(OR(B59=\"#N/A\",B59=\"\"),\"\",IFERROR(HLOOKUP(B59,'Step 5 Identify & Select ASHPs'!$O$45:$Z$48,IF('Step 5 Identify & Select ASHPs'!$I$55=\"EER\",4,3),FALSE),\"\"))","v":""},{"$f":"IF(OR(B59=\"#N/A\",B59=\"\"),\"\",IFERROR(HLOOKUP(B59,'Step 5 Identify & Select ASHPs'!$O$45:$Z$48,IF('Step 5 Identify & Select ASHPs'!$I$55=\"EER\",3,4),FALSE),\"\"))","v":""},null,null,null,null,null,null,null,{"$f":"IF('Step 5 Identify & Select ASHPs'!$E$52=Dropdown_Menus!$A$2,\"\",'HP2'!B59)","v":""},{"$f":"IF(OR(M59=\"#N/A\",M59=\"\"),\"\",IFERROR(HLOOKUP('HP2'!M59,'Step 5 Identify & Select ASHPs'!$N$54:$AH$57,2,FALSE),\"\"))","v":""},{"$f":"IF(OR(M59=\"#N/A\",M59=\"\"),\"\",IFERROR(HLOOKUP(M59,'Step 5 Identify & Select ASHPs'!$N$54:$AH$57,IF('Step 5 Identify & Select ASHPs'!$I$55=\"EER\",4,3),FALSE),\"\"))","v":""},{"$f":"IF(OR(M59=\"#N/A\",M59=\"\"),\"\",IFERROR(HLOOKUP(M59,'Step 5 Identify & Select ASHPs'!$N$54:$AH$57,IF('Step 5 Identify & Select ASHPs'!$I$55=\"EER\",3,4),FALSE),\"\"))","v":""}]
[null,{"$f":"IF(OR('Step 5 Identify & Select ASHPs'!$I$43,'Step 5 Identify & Select ASHPs'!$I$44),\"\",IF('Step 5 Identify & Select ASHPs'!$I$45,IF(MATCH(B59,$B$52:$B$63,0)>='Step 5 Identify & Select ASHPs'!$I$52,\"\",'Step 5 Identify & Select ASHPs'!$V$45),NA()))","v":""},{"$f":"IF(OR(B60=\"#N/A\",B60=\"\"),\"\",IFERROR(HLOOKUP('HP2'!B60,'Step 5 Identify & Select ASHPs'!$O$45:$Z$48,2,FALSE),\"\"))","v":""},{"$f":"IF(OR(B60=\"#N/A\",B60=\"\"),\"\",IFERROR(HLOOKUP(B60,'Step 5 Identify & Select ASHPs'!$O$45:$Z$48,IF('Step 5 Identify & Select ASHPs'!$I$55=\"EER\",4,3),FALSE),\"\"))","v":""},{"$f":"IF(OR(B60=\"#N/A\",B60=\"\"),\"\",IFERROR(HLOOKUP(B60,'Step 5 Identify & Select ASHPs'!$O$45:$Z$48,IF('Step 5 Identify & Select ASHPs'!$I$55=\"EER\",3,4),FALSE),\"\"))","v":""},null,null,null,"Slope and Intercept at the Design Temp.",null,null,null,{"$f":"IF('Step 5 Identify & Select ASHPs'!$E$52=Dropdown_Menus!$A$2,\"\",'HP2'!B60)","v":""},{"$f":"IF(OR(M60=\"#N/A\",M60=\"\"),\"\",IFERROR(HLOOKUP('HP2'!M60,'Step 5 Identify & Select ASHPs'!$N$54:$AH$57,2,FALSE),\"\"))","v":""},{"$f":"IF(OR(M60=\"#N/A\",M60=\"\"),\"\",IFERROR(HLOOKUP(M60,'Step 5 Identify & Select ASHPs'!$N$54:$AH$57,IF('Step 5 Identify & Select ASHPs'!$I$55=\"EER\",4,3),FALSE),\"\"))","v":""},{"$f":"IF(OR(M60=\"#N/A\",M60=\"\"),\"\",IFERROR(HLOOKUP(M60,'Step 5 Identify & Select ASHPs'!$N$54:$AH$57,IF('Step 5 Identify & Select ASHPs'!$I$55=\"EER\",3,4),FALSE),\"\"))","v":""},null,null,null,"Slope and Intercept at the Design Temp."]
[null,{"$f":"IF(OR('Step 5 Identify & Select ASHPs'!$I$43,'Step 5 Identify & Select ASHPs'!$I$44),\"\",IF('Step 5 Identify & Select ASHPs'!$I$45,IF(MATCH(B60,$B$52:$B$63,0)>='Step 5 Identify & Select ASHPs'!$I$52,\"\",'Step 5 Identify & Select ASHPs'!$W$45),NA()))","v":""},{"$f":"IF(OR(B61=\"#N/A\",B61=\"\"),\"\",IFERROR(HLOOKUP('HP2'!B61,'Step 5 Identify & Select ASHPs'!$O$45:$Z$48,2,FALSE),\"\"))","v":""},{"$f":"IF(OR(B61=\"#N/A\",B61=\"\"),\"\",IFERROR(HLOOKUP(B61,'Step 5 Identify & Select ASHPs'!$O$45:$Z$48,IF('Step 5 Identify & Select ASHPs'!$I$55=\"EER\",4,3),FALSE),\"\"))","v":""},{"$f":"IF(OR(B61=\"#N/A\",B61=\"\"),\"\",IFERROR(HLOOKUP(B61,'Step 5 Identify & Select ASHPs'!$O$45:$Z$48,IF('Step 5 Identify & Select ASHPs'!$I$55=\"EER\",3,4),FALSE),\"\"))","v":""},null,null,null,"know ys (capacity):","know xs",null,null,{"$f":"IF('Step 5 Identify & Select ASHPs'!$E$52=Dropdown_Menus!$A$2,\"\",'HP2'!B61)","v":""},{"$f":"IF(OR(M61=\"#N/A\",M61=\"\"),\"\",IFERROR(HLOOKUP('HP2'!M61,'Step 5 Identify & Select ASHPs'!$N$54:$AH$57,2,FALSE),\"\"))","v":""},{"$f":"IF(OR(M61=\"#N/A\",M61=\"\"),\"\",IFERROR(HLOOKUP(M61,'Step 5 Identify & Select ASHPs'!$N$54:$AH$57,IF('Step 5 Identify & Select ASHPs'!$I$55=\"EER\",4,3),FALSE),\"\"))","v":""},{"$f":"IF(OR(M61=\"#N/A\",M61=\"\"),\"\",IFERROR(HLOOKUP(M61,'Step 5 Identify & Select ASHPs'!$N$54:$AH$57,IF('Step 5 Identify & Select ASHPs'!$I$55=\"EER\",3,4),FALSE),\"\"))","v":""},null,null,null,"know ys (capacity):","know xs"]
[null,{"$f":"IF(OR('Step 5 Identify & Select ASHPs'!$I$43,'Step 5 Identify & Select ASHPs'!$I$44),\"\",IF('Step 5 Identify & Select ASHPs'!$I$45,IF(MATCH(B61,$B$52:$B$63,0)>='Step 5 Identify & Select ASHPs'!$I$52,\"\",'Step 5 Identify & Select ASHPs'!$X$45),NA()))","v":""},{"$f":"IF(OR(B62=\"#N/A\",B62=\"\"),\"\",IFERROR(HLOOKUP('HP2'!B62,'Step 5 Identify & Select ASHPs'!$O$45:$Z$48,2,FALSE),\"\"))","v":""},{"$f":"IF(OR(B62=\"#N/A\",B62=\"\"),\"\",IFERROR(HLOOKUP(B62,'Step 5 Identify & Select ASHPs'!$O$45:$Z$48,IF('Step 5 Identify & Select ASHPs'!$I$55=\"EER\",4,3),FALSE),\"\"))","v":""},{"$f":"IF(OR(B62=\"#N/A\",B62=\"\"),\"\",IFERROR(HLOOKUP(B62,'Step 5 Identify & Select ASHPs'!$O$45:$Z$48,IF('Step 5 Identify & Select ASHPs'!$I$55=\"EER\",3,4),FALSE),\"\"))","v":""},null,null,null,{"$f":"INDEX(C52:C63,MATCH(J62,B52:B63,0))","v":0},{"$f":"IF(C47<MIN(B52:B63),INDEX(B52:B63,MATCH(MIN(B52:B63),B52:B63,-1)),IFERROR(INDEX(B52:B63,MATCH(C47,B52:B63,0)),INDEX(B52:B63,MATCH(C47,B52:B63,-1))))","v":95},null,null,{"$f":"IF('Step 5 Identify & Select ASHPs'!$E$52=Dropdown_Menus!$A$2,\"\",'HP2'!B62)","v":""},{"$f":"IF(OR(M62=\"#N/A\",M62=\"\"),\"\",IFERROR(HLOOKUP('HP2'!M62,'Step 5 Identify & Select ASHPs'!$N$54:$AH$57,2,FALSE),\"\"))","v":""},{"$f":"IF(OR(M62=\"#N/A\",M62=\"\"),\"\",IFERROR(HLOOKUP(M62,'Step 5 Identify & Select ASHPs'!$N$54:$AH$57,IF('Step 5 Identify & Select ASHPs'!$I$55=\"EER\",4,3),FALSE),\"\"))","v":""},{"$f":"IF(OR(M62=\"#N/A\",M62=\"\"),\"\",IFERROR(HLOOKUP(M62,'Step 5 Identify & Select ASHPs'!$N$54:$AH$57,IF('Step 5 Identify & Select ASHPs'!$I$55=\"EER\",3,4),FALSE),\"\"))","v":""},null,null,null,{"$f":"INDEX(N52:N63,MATCH(U62,M52:M63,0))","v":0},{"$f":"IF(N47<MIN(M52:M63),INDEX(M52:M63,MATCH(MIN(M52:M63),M52:M63,-1)),IFERROR(INDEX(M52:M63,MATCH(N47,M52:M63,0)),INDEX(M52:M63,MATCH(N47,M52:M63,-1))))","v":95}]
[null,{"$f":"IF(OR('Step 5 Identify & Select ASHPs'!$I$43,'Step 5 Identify & Select ASHPs'!$I$44),\"\",IF('Step 5 Identify & Select ASHPs'!$I$45,IF(MATCH(B62,$B$52:$B$63,0)>='Step 5 Identify & Select ASHPs'!$I$52,\"\",'Step 5 Identify & Select ASHPs'!$Y$45),NA()))","v":""},{"$f":"IF(OR(B63=\"#N/A\",B63=\"\"),\"\",IFERROR(HLOOKUP('HP2'!B63,'Step 5 Identify & Select ASHPs'!$O$45:$Z$48,2,FALSE),\"\"))","v":""},{"$f":"IF(OR(B63=\"#N/A\",B63=\"\"),\"\",IFERROR(HLOOKUP(B63,'Step 5 Identify & Select ASHPs'!$O$45:$Z$48,IF('Step 5 Identify & Select ASHPs'!$I$55=\"EER\",4,3),FALSE),\"\"))","v":""},{"$f":"IF(OR(B63=\"#N/A\",B63=\"\"),\"\",IFERROR(HLOOKUP(B63,'Step 5 Identify & Select ASHPs'!$O$45:$Z$48,IF('Step 5 Identify & Select ASHPs'!$I$55=\"EER\",3,4),FALSE),\"\"))","v":""},null,null,null,{"$f":"IF(J63=\"-\",\"-\",INDEX(C52:C63,MATCH(J63,B52:B63,0)))","v":""},{"$f":"IF(J62=C47,\"-\",INDEX(B52:B63,MATCH(J62,B52:B63,0)+1))","v":""},null,null,{"$f":"IF('Step 5 Identify & Select ASHPs'!$E$52=Dropdown_Menus!$A$2,\"\",'HP2'!B63)","v":""},{"$f":"IF(OR(M63=\"#N/A\",M63=\"\"),\"\",IFERROR(HLOOKUP('HP2'!M63,'Step 5 Identify & Select ASHPs'!$N$54:$AH$57,2,FALSE),\"\"))","v":""},{"$f":"IF(OR(M63=\"#N/A\",M63=\"\"),\"\",IFERROR(HLOOKUP(M63,'Step 5 Identify & Select ASHPs'!$N$54:$AH$57,IF('Step 5 Identify & Select ASHPs'!$I$55=\"EER\",4,3),FALSE),\"\"))","v":""},{"$f":"IF(OR(M63=\"#N/A\",M63=\"\"),\"\",IFERROR(HLOOKUP(M63,'Step 5 Identify & Select ASHPs'!$N$54:$AH$57,IF('Step 5 Identify & Select ASHPs'!$I$55=\"EER\",3,4),FALSE),\"\"))","v":""},null,null,null,{"$f":"IF(U63=\"-\",\"-\",INDEX(N52:N63,MATCH(U63,M52:M63,0)))","v":""},{"$f":"IF(U62=N47,\"-\",INDEX(M52:M63,MATCH(U62,M52:M63,0)+1))","v":""}]

{"sheet":"HP3","index":20,"n_rows":63,"n_cols":21,"rows_kept":63,"cut":false,"hidden":true,"merged":[[6,8,6,9],[6,19,6,20],[7,6,8,6],[7,17,8,17],[31,1,31,3],[31,5,31,6],[31,12,31,14],[31,16,31,17],[24,8,24,9],[28,8,28,9],[59,8,59,9],[59,19,59,20],[36,1,36,4],[36,5,36,6],[36,12,36,15],[36,16,36,17],[48,8,48,9],[48,19,48,20],[54,19,54,20],[57,6,57,7],[32,8,32,9],[36,8,36,9],[54,6,54,9],[55,6,55,7],[56,6,56,7]]}
[null,"Actual Curves - HP #1"]
[]
[null,"Heating - High Stage",null,null,null,null,null,null,null,null,null,null,"Heating - Low Stage"]
[]
[null,"Design Temp. (heat)",{"$f":"'Design Load Calcs'!$B$24","v":0},null,null,null,null,null,null,null,null,null,"Design Temp. (heat)",{"$f":"'Design Load Calcs'!$B$24","v":0}]
[]
[null,"Performance Data and Heating Load Line",null,null,null,null,null,null,"Outputs:",null,null,null,null,null,null,null,null,null,null,"Outputs:"]
[null,"Outdoor Temp.","Actual Capacity","Actual Power","Actual COP","Heating Load Line ","Intersect. Cap/Htg Load Line",null,{"$f":"CONCATENATE(\"HP cap @ Design Temp.\",IF('Intro & Unit Options'!$B$12=Dropdown_Menus!F1,\" [kW]\",\" [BTU/h]\"))","v":"HP cap @ Design Temp. [BTU/h]"},{"$f":"IF(OR(G34=\"-\",G34=C5),F34,SLOPE(F34:F35,G34:G35)*C5+INTERCEPT(F34:F35,G34:G35))","v":0},null,null,"Outdoor Temp.","Actual Capacity","Actual Power","Actual COP","Heating Load Line ","Intersect. Cap/Htg Load Line",null,{"$f":"CONCATENATE(\"HP cap @ Design Temp.\",IF('Intro & Unit Options'!$B$12=Dropdown_Menus!Q1,\" [kW]\",\" [BTU/h]\"))","v":"HP cap @ Design Temp. [BTU/h]"},{"$f":"IF(OR(R34=\"-\",R34=N5),Q34,SLOPE(Q34:Q35,R34:R35)*N5+INTERCEPT(Q34:Q35,R34:R35))","v":0}]
[null,{"$f":"IF('Intro & Unit Options'!$B$12=Dropdown_Menus!$F$1,\"[°C]\",\"[°F]\")","v":"[°F]"},{"$f":"IF('Intro & Unit Options'!$B$12=Dropdown_Menus!$F$1,\"[kW]\",\"[BTU/h]\")","v":"[BTU/h]"},"[kW]","[-]",{"$f":"IF('Intro & Unit Options'!$B$12=Dropdown_Menus!$F$1,\"[kW]\",\"[BTU/h]\")","v":"[BTU/h]"},null,null,{"$f":"CONCATENATE(\"BPT\",IF('Intro & Unit Options'!$B$12=Dropdown_Menus!F1,\" [°C]\",\" [°F]\"))","v":"BPT [°F]"},{"$f":"IF((C10-F10)<0,\"None\",IF((INDEX(C10:C29,MATCH(C40,B10:B29,0))-INDEX(F10:F29,MATCH(C40,B10:B29,0)))>0,E41,C41))","v":"None"},null,null,{"$f":"IF('Intro & Unit Options'!$B$12=Dropdown_Menus!$F$1,\"[°C]\",\"[°F]\")","v":"[°F]"},{"$f":"IF('Intro & Unit Options'!$B$12=Dropdown_Menus!$F$1,\"[kW]\",\"[BTU/h]\")","v":"[BTU/h]"},"[kW]","[-]",{"$f":"IF('Intro & Unit Options'!$B$12=Dropdown_Menus!$F$1,\"[kW]\",\"[BTU/h]\")","v":"[BTU/h]"},null,null,{"$f":"CONCATENATE(\"BPT\",IF('Intro & Unit Options'!$B$12=Dropdown_Menus!Q1,\" [°C]\",\" [°F]\"))","v":"BPT [°F]"},{"$f":"IF((N10-Q10)<0,\"None\",IF((INDEX(N10:N29,MATCH(N40,M10:M29,0))-INDEX(Q10:Q29,MATCH(N40,M10:M29,0)))>0,P41,N41))","v":"None"}]
[null,{"$f":"IF(OR('Step 5 Identify & Select ASHPs'!$I$62,'Step 5 Identify & Select ASHPs'!$I$63,'Step 5 Identify & Select ASHPs'!$I$64),'Step 5 Identify & Select ASHPs'!$N$60,NA())","v":47},{"$f":"IF(OR(B10=\"#N/A\",B10=\"\"),\"\",IFERROR(HLOOKUP('HP3'!B10,'Step 5 Identify & Select ASHPs'!$N$60:$AH$63,2,FALSE),\"\"))","v":0},{"$f":"IF(OR(B10=\"#N/A\",B10=\"\"),\"\",IFERROR(HLOOKUP('HP3'!B10,'Step 5 Identify & Select ASHPs'!$N$60:$AD$63,IF('Step 5 Identify & Select ASHPs'!$I$73=\"COP\",4,3),FALSE),\"\"))","v":0},{"$f":"IF(OR(B10=\"#N/A\",B10=\"\"),\"\",IFERROR(HLOOKUP('HP3'!B10,'Step 5 Identify & Select ASHPs'!$N$60:$AD$63,IF('Step 5 Identify & Select ASHPs'!$I$73=\"COP\",3,4),FALSE),\"\"))","v":""},{"$f":"(B10*'Design Load Calcs'!$G$23+'Design Load Calcs'!$H$23)","v":10833.333333333328},{"$f":"IF(B10=\"\",\"\",ABS(C10-F10))","v":10833.333333333328},null,"Fraction of heating above BPT",{"$f":"IF(ISNUMBER(MATCH(J9,'Load %s'!N8:N24,0)),F39,SLOPE(F39:F40,G39:G40)*J9+INTERCEPT(F39:F40,G39:G40))","v":{"$error":"#N/A"}},null,null,{"$f":"IF('Step 5 Identify & Select ASHPs'!$E$71=Dropdown_Menus!$A$2,\"\",'HP3'!B10)","v":47},{"$f":"IF(OR(M10=\"#N/A\",M10=\"\"),\"\",IFERROR(HLOOKUP('HP3'!M10,'Step 5 Identify & Select ASHPs'!$N$69:$AH$72,2,FALSE),\"\"))","v":0},{"$f":"IF(OR(M10=\"#N/A\",M10=\"\"),\"\",IFERROR(HLOOKUP('HP3'!M10,'Step 5 Identify & Select ASHPs'!$N$69:$AH$72,IF('Step 5 Identify & Select ASHPs'!$I$73=\"COP\",4,3),FALSE),\"\"))","v":0},{"$f":"IF(OR(B10=\"#N/A\",B10=\"\"),\"\",IFERROR(HLOOKUP('HP3'!B10,'Step 5 Identify & Select ASHPs'!$N$69:$AH$72,IF('Step 5 Identify & Select ASHPs'!$I$73=\"COP\",3,4),FALSE),\"\"))","v":""},{"$f":"(M10*'Design Load Calcs'!$G$23+'Design Load Calcs'!$H$23)","v":10833.333333333328},{"$f":"IF(M10=\"\",\"\",ABS(N10-Q10))","v":10833.333333333328},null,"Fraction of heating above BPT",{"$f":"SLOPE(Q39:Q40,R39:R40)*U9+INTERCEPT(Q39:Q40,R39:R40)","v":{"$error":"#N/A"}}]
[null,{"$f":"IF(OR('Step 5 Identify & Select ASHPs'!$I$62,'Step 5 Identify & Select ASHPs'!$I$63,'Step 5 Identify & Select ASHPs'!$I$64),'Step 5 Identify & Select ASHPs'!$O$60,NA())","v":17},{"$f":"IF(OR(B11=\"#N/A\",B11=\"\"),\"\",IFERROR(HLOOKUP('HP3'!B11,'Step 5 Identify & Select ASHPs'!$N$60:$AH$63,2,FALSE),\"\"))","v":0},{"$f":"IF(OR(B11=\"#N/A\",B11=\"\"),\"\",IFERROR(HLOOKUP('HP3'!B11,'Step 5 Identify & Select ASHPs'!$N$60:$AH$63,IF('Step 5 Identify & Select ASHPs'!$I$73=\"COP\",4,3),FALSE),\"\"))","v":0},{"$f":"IF(OR(B11=\"#N/A\",B11=\"\"),\"\",IFERROR(HLOOKUP('HP3'!B11,'Step 5 Identify & Select ASHPs'!$N$60:$AH$63,IF('Step 5 Identify & Select ASHPs'!$I$73=\"COP\",3,4),FALSE),\"\"))","v":""},{"$f":"(B11*'Design Load Calcs'!$G$23+'Design Load Calcs'!$H$23)","v":35833.333333333328},{"$f":"IF(B11=\"\",\"\",ABS(C11-F11))","v":35833.333333333328},null,{"$f":"CONCATENATE(\"HP cap @ BPT\",IF('Intro & Unit Options'!$B$12=Dropdown_Menus!F1,\" [kW]\",\" [BTU/h]\"))","v":"HP cap @ BPT [BTU/h]"},{"$f":"IF((C10-F10)<0,\"None\",IF((INDEX(C10:C29,MATCH(C40,B10:B29,0))-INDEX(F10:F29,MATCH(C40,B10:B29,0)))>0,SLOPE(D39:D40,E39:E40)*J9+INTERCEPT(D39:D40,E39:E40),SLOPE(B39:B40,C39:C40)*J9+INTERCEPT(B39:B40,C39:C40)))","v":"None"},null,null,{"$f":"IF('Step 5 Identify & Select ASHPs'!$E$71=Dropdown_Menus!$A$2,\"\",'HP3'!B11)","v":17},{"$f":"IF(OR(M11=\"#N/A\",M11=\"\"),\"\",IFERROR(HLOOKUP('HP3'!M11,'Step 5 Identify & Select ASHPs'!$N$69:$AH$72,2,FALSE),\"\"))","v":0},{"$f":"IF(OR(M11=\"#N/A\",M11=\"\"),\"\",IFERROR(HLOOKUP('HP3'!M11,'Step 5 Identify & Select ASHPs'!$N$69:$AH$72,IF('Step 5 Identify & Select ASHPs'!$I$73=\"COP\",4,3),FALSE),\"\"))","v":0},{"$f":"IF(OR(B11=\"#N/A\",B11=\"\"),\"\",IFERROR(HLOOKUP('HP3'!B11,'Step 5 Identify & Select ASHPs'!$N$69:$AH$72,IF('Step 5 Identify & Select ASHPs'!$I$73=\"COP\",3,4),FALSE),\"\"))","v":""},{"$f":"(M11*'Design Load Calcs'!$G$23+'Design Load Calcs'!$H$23)","v":35833.333333333328},{"$f":"IF(M11=\"\",\"\",ABS(N11-Q11))","v":35833.333333333328},null,{"$f":"CONCATENATE(\"HP cap @ BPT\",IF('Intro & Unit Options'!$B$12=Dropdown_Menus!Q1,\" [kW]\",\" [BTU/h]\"))","v":"HP cap @ BPT [BTU/h]"},{"$f":"IF((N10-Q10)<0,\"None\",IF((INDEX(N10:N29,MATCH(N40,M10:M29,0))-INDEX(Q10:Q29,MATCH(N40,M10:M29,0)))>0,SLOPE(O39:O40,P39:P40)*U9+INTERCEPT(O39:O40,P39:P40),SLOPE(M39:M40,N39:N40)*U9+INTERCEPT(M39:M40,N39:N40)))","v":"None"}]
[null,{"$f":"IF('Step 5 Identify & Select ASHPs'!$I$62,\"\",IF(OR('Step 5 Identify & Select ASHPs'!$I$63,'Step 5 Identify & Select ASHPs'!$I$64),'Step 5 Identify & Select ASHPs'!$P$60,NA()))","v":""},{"$f":"IF(OR(B12=\"#N/A\",B12=\"\"),\"\",IFERROR(HLOOKUP('HP3'!B12,'Step 5 Identify & Select ASHPs'!$N$60:$AH$63,2,FALSE),\"\"))","v":""},{"$f":"IF(OR(B12=\"#N/A\",B12=\"\"),\"\",IFERROR(HLOOKUP('HP3'!B12,'Step 5 Identify & Select ASHPs'!$N$60:$AH$63,IF('Step 5 Identify & Select ASHPs'!$I$73=\"COP\",4,3),FALSE),\"\"))","v":""},{"$f":"IF(OR(B12=\"#N/A\",B12=\"\"),\"\",IFERROR(HLOOKUP('HP3'!B12,'Step 5 Identify & Select ASHPs'!$N$60:$AH$63,IF('Step 5 Identify & Select ASHPs'!$I$73=\"COP\",3,4),FALSE),\"\"))","v":""},{"$f":"(B12*'Design Load Calcs'!$G$23+'Design Load Calcs'!$H$23)","v":{"$error":"#VALUE!"}},"",null,{"$f":"CONCATENATE(\"HP cap @\",IF('Intro & Unit Options'!B12=Dropdown_Menus!F1,CONVERT(47,\"F\",\"C\"),47),IF('Intro & Unit Options'!$B$12=Dropdown_Menus!F1,\" C\",\" F\"),IF('Intro & Unit Options'!$B$12=Dropdown_Menus!F1,\" [kW]\",\" [BTU/h]\"))","v":"HP cap @47 F [BTU/h]"},{"$f":"IF(OR('Step 5 Identify & Select ASHPs'!$I$62,'Step 5 Identify & Select ASHPs'!$I$63,'Step 5 Identify & Select ASHPs'!$I$65),C10,IFERROR(INDEX(C10:C29,MATCH(IF('Intro & Unit Options'!B12=Dropdown_Menus!F1,CONVERT(47,\"F\",\"C\"),47),B10:B29,0)),SLOPE(I35:I36,J35:J36)*IF('Intro & Unit Options'!B12=Dropdown_Menus!F1,CONVERT(47,\"F\",\"C\"),47)+INTERCEPT(I35:I36,J35:J36)))","v":0},null,null,{"$f":"IF('Step 5 Identify & Select ASHPs'!$E$71=Dropdown_Menus!$A$2,\"\",'HP3'!B12)","v":""},{"$f":"IF(OR(M12=\"#N/A\",M12=\"\"),\"\",IFERROR(HLOOKUP('HP3'!M12,'Step 5 Identify & Select ASHPs'!$N$69:$AH$72,2,FALSE),\"\"))","v":""},{"$f":"IF(OR(M12=\"#N/A\",M12=\"\"),\"\",IFERROR(HLOOKUP('HP3'!M12,'Step 5 Identify & Select ASHPs'!$N$69:$AH$72,IF('Step 5 Identify & Select ASHPs'!$I$73=\"COP\",4,3),FALSE),\"\"))","v":""},{"$f":"IF(OR(B12=\"#N/A\",B12=\"\"),\"\",IFERROR(HLOOKUP('HP3'!B12,'Step 5 Identify & Select ASHPs'!$N$69:$AH$72,IF('Step 5 Identify & Select ASHPs'!$I$73=\"COP\",3,4),FALSE),\"\"))","v":""},{"$f":"(M12*'Design Load Calcs'!$G$23+'Design Load Calcs'!$H$23)","v":{"$error":"#VALUE!"}},""]
[null,{"$f":"IF(OR('Step 5 Identify & Select ASHPs'!$I$62,'Step 5 Identify & Select ASHPs'!$I$63),\"\",IF('Step 5 Identify & Select ASHPs'!$I$64,IF(MATCH(B12,$B$10:$B$29,0)>='Step 5 Identify & Select ASHPs'!$I$70,\"\",'Step 5 Identify & Select ASHPs'!$Q$60),NA()))","v":""},{"$f":"IF(OR(B13=\"#N/A\",B13=\"\"),\"\",IFERROR(HLOOKUP('HP3'!B13,'Step 5 Identify & Select ASHPs'!$N$60:$AH$63,2,FALSE),\"\"))","v":""},{"$f":"IF(OR(B13=\"#N/A\",B13=\"\"),\"\",IFERROR(HLOOKUP('HP3'!B13,'Step 5 Identify & Select ASHPs'!$N$60:$AH$63,IF('Step 5 Identify & Select ASHPs'!$I$73=\"COP\",4,3),FALSE),\"\"))","v":""},{"$f":"IF(OR(B13=\"#N/A\",B13=\"\"),\"\",IFERROR(HLOOKUP('HP3'!B13,'Step 5 Identify & Select ASHPs'!$N$60:$AH$63,IF('Step 5 Identify & Select ASHPs'!$I$73=\"COP\",3,4),FALSE),\"\"))","v":""},{"$f":"(B13*'Design Load Calcs'!$G$23+'Design Load Calcs'!$H$23)","v":{"$error":"#VALUE!"}},"",null,{"$f":"CONCATENATE(\"HP cap @\",IF('Intro & Unit Options'!B12=Dropdown_Menus!F1,CONVERT(17,\"F\",\"C\"),17),IF('Intro & Unit Options'!$B$12=Dropdown_Menus!F1,\" C\",\" F\"),IF('Intro & Unit Options'!$B$12=Dropdown_Menus!F1,\" [kW]\",\" [BTU/h]\"))","v":"HP cap @17 F [BTU/h]"},{"$f":"IF(OR('Step 5 Identify & Select ASHPs'!$I$62,'Step 5 Identify & Select ASHPs'!$I$63,'Step 5 Identify & Select ASHPs'!$I$65),C11,IFERROR(INDEX(C10:C29,MATCH(IF('Intro & Unit Options'!B12=Dropdown_Menus!F1,CONVERT(17,\"F\",\"C\"),17),B10:B29,0)),SLOPE(I39:I40,J39:J40)*IF('Intro & Unit Options'!B12=Dropdown_Menus!F1,CONVERT(17,\"F\",\"C\"),17)+INTERCEPT(I39:I40,J39:J40)))","v":0},null,null,{"$f":"IF('Step 5 Identify & Select ASHPs'!$E$71=Dropdown_Menus!$A$2,\"\",'HP3'!B13)","v":""},{"$f":"IF(OR(M13=\"#N/A\",M13=\"\"),\"\",IFERROR(HLOOKUP('HP3'!M13,'Step 5 Identify & Select ASHPs'!$N$69:$AH$72,2,FALSE),\"\"))","v":""},{"$f":"IF(OR(M13=\"#N/A\",M13=\"\"),\"\",IFERROR(HLOOKUP('HP3'!M13,'Step 5 Identify & Select ASHPs'!$N$69:$AH$72,IF('Step 5 Identify & Select ASHPs'!$I$73=\"COP\",4,3),FALSE),\"\"))","v":""},{"$f":"IF(OR(B13=\"#N/A\",B13=\"\"),\"\",IFERROR(HLOOKUP('HP3'!B13,'Step 5 Identify & Select ASHPs'!$N$69:$AH$72,IF('Step 5 Identify & Select ASHPs'!$I$73=\"COP\",3,4),FALSE),\"\"))","v":""},{"$f":"(M13*'Design Load Calcs'!$G$23+'Design Load Calcs'!$H$23)","v":{"$error":"#VALUE!"}},""]
[null,{"$f":"IF(OR('Step 5 Identify & Select ASHPs'!$I$62,'Step 5 Identify & Select ASHPs'!$I$63),\"\",IF('Step 5 Identify & Select ASHPs'!$I$64,IF(MATCH(B13,$B$10:$B$29,0)>='Step 5 Identify & Select ASHPs'!$I$70,\"\",'Step 5 Identify & Select ASHPs'!$R$60),NA()))","v":""},{"$f":"IF(OR(B14=\"#N/A\",B14=\"\"),\"\",IFERROR(HLOOKUP('HP3'!B14,'Step 5 Identify & Select ASHPs'!$N$60:$AH$63,2,FALSE),\"\"))","v":""},{"$f":"IF(OR(B14=\"#N/A\",B14=\"\"),\"\",IFERROR(HLOOKUP('HP3'!B14,'Step 5 Identify & Select ASHPs'!$N$60:$AH$63,IF('Step 5 Identify & Select ASHPs'!$I$73=\"COP\",4,3),FALSE),\"\"))","v":""},{"$f":"IF(OR(B14=\"#N/A\",B14=\"\"),\"\",IFERROR(HLOOKUP('HP3'!B14,'Step 5 Identify & Select ASHPs'!$N$60:$AH$63,IF('Step 5 Identify & Select ASHPs'!$I$73=\"COP\",3,4),FALSE),\"\"))","v":""},{"$f":"(B14*'Design Load Calcs'!$G$23+'Design Load Calcs'!$H$23)","v":{"$error":"#VALUE!"}},{"$f":"IF(B14=\"\",\"\",ABS(C14-F14))","v":""},null,"Max Cap",{"$f":"IFERROR(MAX(C10:C30),0)","v":0},null,null,{"$f":"IF('Step 5 Identify & Select ASHPs'!$E$71=Dropdown_Menus!$A$2,\"\",'HP3'!B14)","v":""},{"$f":"IF(OR(M14=\"#N/A\",M14=\"\"),\"\",IFERROR(HLOOKUP('HP3'!M14,'Step 5 Identify & Select ASHPs'!$N$69:$AH$72,2,FALSE),\"\"))","v":""},{"$f":"IF(OR(M14=\"#N/A\",M14=\"\"),\"\",IFERROR(HLOOKUP('HP3'!M14,'Step 5 Identify & Select ASHPs'!$N$69:$AH$72,IF('Step 5 Identify & Select ASHPs'!$I$73=\"COP\",4,3),FALSE),\"\"))","v":""},{"$f":"IF(OR(B14=\"#N/A\",B14=\"\"),\"\",IFERROR(HLOOKUP('HP3'!B14,'Step 5 Identify & Select ASHPs'!$N$69:$AH$72,IF('Step 5 Identify & Select ASHPs'!$I$73=\"COP\",3,4),FALSE),\"\"))","v":""},{"$f":"(M14*'Design Load Calcs'!$G$23+'Design Load Calcs'!$H$23)","v":{"$error":"#VALUE!"}},{"$f":"IF(M14=\"\",\"\",ABS(N14-Q14))","v":""}]
[null,{"$f":"IF(OR('Step 5 Identify & Select ASHPs'!$I$62,'Step 5 Identify & Select ASHPs'!$I$63),\"\",IF('Step 5 Identify & Select ASHPs'!$I$64,IF(MATCH(B14,$B$10:$B$29,0)>='Step 5 Identify & Select ASHPs'!$I$70,\"\",'Step 5 Identify & Select ASHPs'!$S$60),NA()))","v":""},{"$f":"IF(OR(B15=\"#N/A\",B15=\"\"),\"\",IFERROR(HLOOKUP('HP3'!B15,'Step 5 Identify & Select ASHPs'!$N$60:$AH$63,2,FALSE),\"\"))","v":""},{"$f":"IF(OR(B15=\"#N/A\",B15=\"\"),\"\",IFERROR(HLOOKUP('HP3'!B15,'Step 5 Identify & Select ASHPs'!$N$60:$AH$63,IF('Step 5 Identify & Select ASHPs'!$I$73=\"COP\",4,3),FALSE),\"\"))","v":""},{"$f":"IF(OR(B15=\"#N/A\",B15=\"\"),\"\",IFERROR(HLOOKUP('HP3'!B15,'Step 5 Identify & Select ASHPs'!$N$60:$AH$63,IF('Step 5 Identify & Select ASHPs'!$I$73=\"COP\",3,4),FALSE),\"\"))","v":""},{"$f":"(B15*'Design Load Calcs'!$G$23+'Design Load Calcs'!$H$23)","v":{"$error":"#VALUE!"}},"",null,{"$f":"CONCATENATE(\"HP pwr @\",IF('Intro & Unit Options'!B12=Dropdown_Menus!F1,CONVERT(47,\"F\",\"C\"),47),IF('Intro & Unit Options'!$B$12=Dropdown_Menus!F1,\" C\",\" F\"),IF('Intro & Unit Options'!$B$12=Dropdown_Menus!F1,\" [kW]\",\" [BTU/h]\"))","v":"HP pwr @47 F [BTU/h]"},{"$f":"IF(OR('Step 5 Identify & Select ASHPs'!$I$62,'Step 5 Identify & Select ASHPs'!$I$63,'Step 5 Identify & Select ASHPs'!$I$65),D10,IFERROR(INDEX(D10:D29,MATCH(IF('Intro & Unit Options'!B15=Dropdown_Menus!F4,CONVERT(47,\"F\",\"C\"),47),B10:B29,0)),SLOPE(I27:I28,J27:J28)*IF('Intro & Unit Options'!B15=Dropdown_Menus!F4,CONVERT(47,\"F\",\"C\"),47)+INTERCEPT(I27:I28,J27:J28)))","v":0},null,null,{"$f":"IF('Step 5 Identify & Select ASHPs'!$E$71=Dropdown_Menus!$A$2,\"\",'HP3'!B15)","v":""},{"$f":"IF(OR(M15=\"#N/A\",M15=\"\"),\"\",IFERROR(HLOOKUP('HP3'!M15,'Step 5 Identify & Select ASHPs'!$N$69:$AH$72,2,FALSE),\"\"))","v":""},{"$f":"IF(OR(M15=\"#N/A\",M15=\"\"),\"\",IFERROR(HLOOKUP('HP3'!M15,'Step 5 Identify & Select ASHPs'!$N$69:$AH$72,IF('Step 5 Identify & Select ASHPs'!$I$73=\"COP\",4,3),FALSE),\"\"))","v":""},{"$f":"IF(OR(B15=\"#N/A\",B15=\"\"),\"\",IFERROR(HLOOKUP('HP3'!B15,'Step 5 Identify & Select ASHPs'!$N$69:$AH$72,IF('Step 5 Identify & Select ASHPs'!$I$73=\"COP\",3,4),FALSE),\"\"))","v":""},{"$f":"(M15*'Design Load Calcs'!$G$23+'Design Load Calcs'!$H$23)","v":{"$error":"#VALUE!"}},""]
[null,{"$f":"IF(OR('Step 5 Identify & Select ASHPs'!$I$62,'Step 5 Identify & Select ASHPs'!$I$63),\"\",IF('Step 5 Identify & Select ASHPs'!$I$64,IF(MATCH(B15,$B$10:$B$29,0)>='Step 5 Identify & Select ASHPs'!$I$70,\"\",'Step 5 Identify & Select ASHPs'!$T$60),NA()))","v":""},{"$f":"IF(OR(B16=\"#N/A\",B16=\"\"),\"\",IFERROR(HLOOKUP('HP3'!B16,'Step 5 Identify & Select ASHPs'!$N$60:$AH$63,2,FALSE),\"\"))","v":""},{"$f":"IF(OR(B16=\"#N/A\",B16=\"\"),\"\",IFERROR(HLOOKUP('HP3'!B16,'Step 5 Identify & Select ASHPs'!$N$60:$AH$63,IF('Step 5 Identify & Select ASHPs'!$I$73=\"COP\",4,3),FALSE),\"\"))","v":""},{"$f":"IF(OR(B16=\"#N/A\",B16=\"\"),\"\",IFERROR(HLOOKUP('HP3'!B16,'Step 5 Identify & Select ASHPs'!$N$60:$AH$63,IF('Step 5 Identify & Select ASHPs'!$I$73=\"COP\",3,4),FALSE),\"\"))","v":""},{"$f":"(B16*'Design Load Calcs'!$G$23+'Design Load Calcs'!$H$23)","v":{"$error":"#VALUE!"}},"",null,{"$f":"CONCATENATE(\"HP pwr @\",IF('Intro & Unit Options'!B12=Dropdown_Menus!F1,CONVERT(17,\"F\",\"C\"),17),IF('Intro & Unit Options'!$B$12=Dropdown_Menus!F1,\" C\",\" F\"),IF('Intro & Unit Options'!$B$12=Dropdown_Menus!F1,\" [kW]\",\" [BTU/h]\"))","v":"HP pwr @17 F [BTU/h]"},{"$f":"IF(OR('Step 5 Identify & Select ASHPs'!$I$62,'Step 5 Identify & Select ASHPs'!$I$63,'Step 5 Identify & Select ASHPs'!$I$65),D11,IFERROR(INDEX(D10:D29,MATCH(IF('Intro & Unit Options'!B15=Dropdown_Menus!F4,CONVERT(17,\"F\",\"C\"),17),B10:B29,0)),SLOPE(I31:I32,J31:J32)*IF('Intro & Unit Options'!B15=Dropdown_Menus!F4,CONVERT(17,\"F\",\"C\"),17)+INTERCEPT(I31:I32,J31:J32)))","v":0},null,null,{"$f":"IF('Step 5 Identify & Select ASHPs'!$E$71=Dropdown_Menus!$A$2,\"\",'HP3'!B16)","v":""},{"$f":"IF(OR(M16=\"#N/A\",M16=\"\"),\"\",IFERROR(HLOOKUP('HP3'!M16,'Step 5 Identify & Select ASHPs'!$N$69:$AH$72,2,FALSE),\"\"))","v":""},{"$f":"IF(OR(M16=\"#N/A\",M16=\"\"),\"\",IFERROR(HLOOKUP('HP3'!M16,'Step 5 Identify & Select ASHPs'!$N$69:$AH$72,IF('Step 5 Identify & Select ASHPs'!$I$73=\"COP\",4,3),FALSE),\"\"))","v":""},{"$f":"IF(OR(B16=\"#N/A\",B16=\"\"),\"\",IFERROR(HLOOKUP('HP3'!B16,'Step 5 Identify & Select ASHPs'!$N$69:$AH$72,IF('Step 5 Identify & Select ASHPs'!$I$73=\"COP\",3,4),FALSE),\"\"))","v":""},{"$f":"(M16*'Design Load Calcs'!$G$23+'Design Load Calcs'!$H$23)","v":{"$error":"#VALUE!"}},"",null,"Slope @ t-BPT:",{"$f":"IF((N10-Q10)<0,\"None\",IF((INDEX(N10:N29,MATCH(N40,M10:M29,0))-INDEX(Q10:Q29,MATCH(N40,M10:M29,0)))>0,SLOPE(O39:O40,P39:P40),SLOPE(M39:M40,N39:N40)))","v":"None"}]
[null,{"$f":"IF(OR('Step 5 Identify & Select ASHPs'!$I$62,'Step 5 Identify & Select ASHPs'!$I$63),\"\",IF('Step 5 Identify & Select ASHPs'!$I$64,IF(MATCH(B16,$B$10:$B$29,0)>='Step 5 Identify & Select ASHPs'!$I$70,\"\",'Step 5 Identify & Select ASHPs'!$U$60),NA()))","v":""},{"$f":"IF(OR(B17=\"#N/A\",B17=\"\"),\"\",IFERROR(HLOOKUP('HP3'!B17,'Step 5 Identify & Select ASHPs'!$N$60:$AH$63,2,FALSE),\"\"))","v":""},{"$f":"IF(OR(B17=\"#N/A\",B17=\"\"),\"\",IFERROR(HLOOKUP('HP3'!B17,'Step 5 Identify & Select ASHPs'!$N$60:$AH$63,IF('Step 5 Identify & Select ASHPs'!$I$73=\"COP\",4,3),FALSE),\"\"))","v":""},{"$f":"IF(OR(B17=\"#N/A\",B17=\"\"),\"\",IFERROR(HLOOKUP('HP3'!B17,'Step 5 Identify & Select ASHPs'!$N$60:$AH$63,IF('Step 5 Identify & Select ASHPs'!$I$73=\"COP\",3,4),FALSE),\"\"))","v":""},{"$f":"(B17*'Design Load Calcs'!$G$23+'Design Load Calcs'!$H$23)","v":{"$error":"#VALUE!"}},"",null,"Slope @ t-BPT:",{"$f":"IF((C10-F10)<0,\"None\",IF((INDEX(C10:C29,MATCH(C40,B10:B29,0))-INDEX(F10:F29,MATCH(C40,B10:B29,0)))>0,SLOPE(D39:D40,E39:E40),SLOPE(B39:B40,C39:C40)))","v":"None"},null,null,{"$f":"IF('Step 5 Identify & Select ASHPs'!$E$71=Dropdown_Menus!$A$2,\"\",'HP3'!B17)","v":""},{"$f":"IF(OR(M17=\"#N/A\",M17=\"\"),\"\",IFERROR(HLOOKUP('HP3'!M17,'Step 5 Identify & Select ASHPs'!$N$69:$AH$72,2,FALSE),\"\"))","v":""},{"$f":"IF(OR(M17=\"#N/A\",M17=\"\"),\"\",IFERROR(HLOOKUP('HP3'!M17,'Step 5 Identify & Select ASHPs'!$N$69:$AH$72,IF('Step 5 Identify & Select ASHPs'!$I$73=\"COP\",4,3),FALSE),\"\"))","v":""},{"$f":"IF(OR(B17=\"#N/A\",B17=\"\"),\"\",IFERROR(HLOOKUP('HP3'!B17,'Step 5 Identify & Select ASHPs'!$N$69:$AH$72,IF('Step 5 Identify & Select ASHPs'!$I$73=\"COP\",3,4),FALSE),\"\"))","v":""},{"$f":"(M17*'Design Load Calcs'!$G$23+'Design Load Calcs'!$H$23)","v":{"$error":"#VALUE!"}},"",null,"Intercept @ t-BPT",{"$f":"IF((N10-Q10)<0,\"None\",IF((INDEX(N10:N29,MATCH(N40,M10:M29,0))-INDEX(Q10:Q29,MATCH(N40,M10:M29,0)))>0,INTERCEPT(O39:O40,P39:P40),INTERCEPT(M39:M40,N39:N40)))","v":"None"}]
[null,{"$f":"IF(OR('Step 5 Identify & Select ASHPs'!$I$62,'Step 5 Identify & Select ASHPs'!$I$63),\"\",IF('Step 5 Identify & Select ASHPs'!$I$64,IF(MATCH(B17,$B$10:$B$29,0)>='Step 5 Identify & Select ASHPs'!$I$70,\"\",'Step 5 Identify & Select ASHPs'!$V$60),NA()))","v":""},{"$f":"IF(OR(B18=\"#N/A\",B18=\"\"),\"\",IFERROR(HLOOKUP('HP3'!B18,'Step 5 Identify & Select ASHPs'!$N$60:$AH$63,2,FALSE),\"\"))","v":""},{"$f":"IF(OR(B18=\"#N/A\",B18=\"\"),\"\",IFERROR(HLOOKUP('HP3'!B18,'Step 5 Identify & Select ASHPs'!$N$60:$AH$63,IF('Step 5 Identify & Select ASHPs'!$I$73=\"COP\",4,3),FALSE),\"\"))","v":""},{"$f":"IF(OR(B18=\"#N/A\",B18=\"\"),\"\",IFERROR(HLOOKUP('HP3'!B18,'Step 5 Identify & Select ASHPs'!$N$60:$AH$63,IF('Step 5 Identify & Select ASHPs'!$I$73=\"COP\",3,4),FALSE),\"\"))","v":""},{"$f":"(B18*'Design Load Calcs'!$G$23+'Design Load Calcs'!$H$23)","v":{"$error":"#VALUE!"}},"",null,"Intercept @ t-BPT",{"$f":"IF((C10-F10)<0,\"None\",IF((INDEX(C10:C29,MATCH(C40,B10:B29,0))-INDEX(F10:F29,MATCH(C40,B10:B29,0)))>0,INTERCEPT(D39:D40,E39:E40),INTERCEPT(B39:B40,C39:C40)))","v":"None"},null,null,{"$f":"IF('Step 5 Identify & Select ASHPs'!$E$71=Dropdown_Menus!$A$2,\"\",'HP3'!B18)","v":""},{"$f":"IF(OR(M18=\"#N/A\",M18=\"\"),\"\",IFERROR(HLOOKUP('HP3'!M18,'Step 5 Identify & Select ASHPs'!$N$69:$AH$72,2,FALSE),\"\"))","v":""},{"$f":"IF(OR(M18=\"#N/A\",M18=\"\"),\"\",IFERROR(HLOOKUP('HP3'!M18,'Step 5 Identify & Select ASHPs'!$N$69:$AH$72,IF('Step 5 Identify & Select ASHPs'!$I$73=\"COP\",4,3),FALSE),\"\"))","v":""},{"$f":"IF(OR(B18=\"#N/A\",B18=\"\"),\"\",IFERROR(HLOOKUP('HP3'!B18,'Step 5 Identify & Select ASHPs'!$N$69:$AH$72,IF('Step 5 Identify & Select ASHPs'!$I$73=\"COP\",3,4),FALSE),\"\"))","v":""},{"$f":"(M18*'Design Load Calcs'!$G$23+'Design Load Calcs'!$H$23)","v":{"$error":"#VALUE!"}},""]
[null,{"$f":"IF(OR('Step 5 Identify & Select ASHPs'!$I$62,'Step 5 Identify & Select ASHPs'!$I$63),\"\",IF('Step 5 Identify & Select ASHPs'!$I$64,IF(MATCH(B18,$B$10:$B$29,0)>='Step 5 Identify & Select ASHPs'!$I$70,\"\",'Step 5 Identify & Select ASHPs'!$W$60),NA()))","v":""},{"$f":"IF(OR(B19=\"#N/A\",B19=\"\"),\"\",IFERROR(HLOOKUP('HP3'!B19,'Step 5 Identify & Select ASHPs'!$N$60:$AH$63,2,FALSE),\"\"))","v":""},{"$f":"IF(OR(B19=\"#N/A\",B19=\"\"),\"\",IFERROR(HLOOKUP('HP3'!B19,'Step 5 Identify & Select ASHPs'!$N$60:$AH$63,IF('Step 5 Identify & Select ASHPs'!$I$73=\"COP\",4,3),FALSE),\"\"))","v":""},{"$f":"IF(OR(B19=\"#N/A\",B19=\"\"),\"\",IFERROR(HLOOKUP('HP3'!B19,'Step 5 Identify & Select ASHPs'!$N$60:$AH$63,IF('Step 5 Identify & Select ASHPs'!$I$73=\"COP\",3,4),FALSE),\"\"))","v":""},{"$f":"(B19*'Design Load Calcs'!$G$23+'Design Load Calcs'!$H$23)","v":{"$error":"#VALUE!"}},"",null,"Cap @ cut-off T°",{"$f":"IFERROR(IF(B30=MIN(B10:B29),1,0),0)","v":0},null,null,{"$f":"IF('Step 5 Identify & Select ASHPs'!$E$71=Dropdown_Menus!$A$2,\"\",'HP3'!B19)","v":""},{"$f":"IF(OR(M19=\"#N/A\",M19=\"\"),\"\",IFERROR(HLOOKUP('HP3'!M19,'Step 5 Identify & Select ASHPs'!$N$69:$AH$72,2,FALSE),\"\"))","v":""},{"$f":"IF(OR(M19=\"#N/A\",M19=\"\"),\"\",IFERROR(HLOOKUP('HP3'!M19,'Step 5 Identify & Select ASHPs'!$N$69:$AH$72,IF('Step 5 Identify & Select ASHPs'!$I$73=\"COP\",4,3),FALSE),\"\"))","v":""},{"$f":"IF(OR(B19=\"#N/A\",B19=\"\"),\"\",IFERROR(HLOOKUP('HP3'!B19,'Step 5 Identify & Select ASHPs'!$N$69:$AH$72,IF('Step 5 Identify & Select ASHPs'!$I$73=\"COP\",3,4),FALSE),\"\"))","v":""},{"$f":"(M19*'Design Load Calcs'!$G$23+'Design Load Calcs'!$H$23)","v":{"$error":"#VALUE!"}},""]
[null,{"$f":"IF(OR('Step 5 Identify & Select ASHPs'!$I$62,'Step 5 Identify & Select ASHPs'!$I$63),\"\",IF('Step 5 Identify & Select ASHPs'!$I$64,IF(MATCH(B19,$B$10:$B$29,0)>='Step 5 Identify & Select ASHPs'!$I$70,\"\",'Step 5 Identify & Select ASHPs'!$X$60),NA()))","v":""},{"$f":"IF(OR(B20=\"#N/A\",B20=\"\"),\"\",IFERROR(HLOOKUP('HP3'!B20,'Step 5 Identify & Select ASHPs'!$N$60:$AH$63,2,FALSE),\"\"))","v":""},{"$f":"IF(OR(B20=\"#N/A\",B20=\"\"),\"\",IFERROR(HLOOKUP('HP3'!B20,'Step 5 Identify & Select ASHPs'!$N$60:$AH$63,IF('Step 5 Identify & Select ASHPs'!$I$73=\"COP\",4,3),FALSE),\"\"))","v":""},{"$f":"IF(OR(B20=\"#N/A\",B20=\"\"),\"\",IFERROR(HLOOKUP('HP3'!B20,'Step 5 Identify & Select ASHPs'!$N$60:$AH$63,IF('Step 5 Identify & Select ASHPs'!$I$73=\"COP\",3,4),FALSE),\"\"))","v":""},{"$f":"(B20*'Design Load Calcs'!$G$23+'Design Load Calcs'!$H$23)","v":{"$error":"#VALUE!"}},"",null,null,null,null,null,{"$f":"IF('Step 5 Identify & Select ASHPs'!$E$71=Dropdown_Menus!$A$2,\"\",'HP3'!B20)","v":""},{"$f":"IF(OR(M20=\"#N/A\",M20=\"\"),\"\",IFERROR(HLOOKUP('HP3'!M20,'Step 5 Identify & Select ASHPs'!$N$69:$AH$72,2,FALSE),\"\"))","v":""},{"$f":"IF(OR(M20=\"#N/A\",M20=\"\"),\"\",IFERROR(HLOOKUP('HP3'!M20,'Step 5 Identify & Select ASHPs'!$N$69:$AH$72,IF('Step 5 Identify & Select ASHPs'!$I$73=\"COP\",4,3),FALSE),\"\"))","v":""},{"$f":"IF(OR(B20=\"#N/A\",B20=\"\"),\"\",IFERROR(HLOOKUP('HP3'!B20,'Step 5 Identify & Select ASHPs'!$N$69:$AH$72,IF('Step 5 Identify & Select ASHPs'!$I$73=\"COP\",3,4),FALSE),\"\"))","v":""},{"$f":"(M20*'Design Load Calcs'!$G$23+'Design Load Calcs'!$H$23)","v":{"$error":"#VALUE!"}},""]
[null,{"$f":"IF(OR('Step 5 Identify & Select ASHPs'!$I$62,'Step 5 Identify & Select ASHPs'!$I$63),\"\",IF('Step 5 Identify & Select ASHPs'!$I$64,IF(MATCH(B20,$B$10:$B$29,0)>='Step 5 Identify & Select ASHPs'!$I$70,\"\",'Step 5 Identify & Select ASHPs'!$Y$60),NA()))","v":""},{"$f":"IF(OR(B21=\"#N/A\",B21=\"\"),\"\",IFERROR(HLOOKUP('HP3'!B21,'Step 5 Identify & Select ASHPs'!$N$60:$AH$63,2,FALSE),\"\"))","v":""},{"$f":"IF(OR(B21=\"#N/A\",B21=\"\"),\"\",IFERROR(HLOOKUP('HP3'!B21,'Step 5 Identify & Select ASHPs'!$N$60:$AH$63,IF('Step 5 Identify & Select ASHPs'!$I$73=\"COP\",4,3),FALSE),\"\"))","v":""},{"$f":"IF(OR(B21=\"#N/A\",B21=\"\"),\"\",IFERROR(HLOOKUP('HP3'!B21,'Step 5 Identify & Select ASHPs'!$N$60:$AH$63,IF('Step 5 Identify & Select ASHPs'!$I$73=\"COP\",3,4),FALSE),\"\"))","v":""},{"$f":"(B21*'Design Load Calcs'!$G$23+'Design Load Calcs'!$H$23)","v":{"$error":"#VALUE!"}},"",null,null,null,null,null,{"$f":"IF('Step 5 Identify & Select ASHPs'!$E$71=Dropdown_Menus!$A$2,\"\",'HP3'!B21)","v":""},{"$f":"IF(OR(M21=\"#N/A\",M21=\"\"),\"\",IFERROR(HLOOKUP('HP3'!M21,'Step 5 Identify & Select ASHPs'!$N$69:$AH$72,2,FALSE),\"\"))","v":""},{"$f":"IF(OR(M21=\"#N/A\",M21=\"\"),\"\",IFERROR(HLOOKUP('HP3'!M21,'Step 5 Identify & Select ASHPs'!$N$69:$AH$72,IF('Step 5 Identify & Select ASHPs'!$I$73=\"COP\",4,3),FALSE),\"\"))","v":""},{"$f":"IF(OR(B21=\"#N/A\",B21=\"\"),\"\",IFERROR(HLOOKUP('HP3'!B21,'Step 5 Identify & Select ASHPs'!$N$69:$AH$72,IF('Step 5 Identify & Select ASHPs'!$I$73=\"COP\",3,4),FALSE),\"\"))","v":""},{"$f":"(M21*'Design Load Calcs'!$G$23+'Design Load Calcs'!$H$23)","v":{"$error":"#VALUE!"}},""]
[null,{"$f":"IF(OR('Step 5 Identify & Select ASHPs'!$I$62,'Step 5 Identify & Select ASHPs'!$I$63),\"\",IF('Step 5 Identify & Select ASHPs'!$I$64,IF(MATCH(B21,$B$10:$B$29,0)>='Step 5 Identify & Select ASHPs'!$I$70,\"\",'Step 5 Identify & Select ASHPs'!$Z$60),NA()))","v":""},{"$f":"IF(OR(B22=\"#N/A\",B22=\"\"),\"\",IFERROR(HLOOKUP('HP3'!B22,'Step 5 Identify & Select ASHPs'!$N$60:$AH$63,2,FALSE),\"\"))","v":""},{"$f":"IF(OR(B22=\"#N/A\",B22=\"\"),\"\",IFERROR(HLOOKUP('HP3'!B22,'Step 5 Identify & Select ASHPs'!$N$60:$AH$63,IF('Step 5 Identify & Select ASHPs'!$I$73=\"COP\",4,3),FALSE),\"\"))","v":""},{"$f":"IF(OR(B22=\"#N/A\",B22=\"\"),\"\",IFERROR(HLOOKUP('HP3'!B22,'Step 5 Identify & Select ASHPs'!$N$60:$AH$63,IF('Step 5 Identify & Select ASHPs'!$I$73=\"COP\",3,4),FALSE),\"\"))","v":""},{"$f":"(B22*'Design Load Calcs'!$G$23+'Design Load Calcs'!$H$23)","v":{"$error":"#VALUE!"}},"",null,null,null,null,null,{"$f":"IF('Step 5 Identify & Select ASHPs'!$E$71=Dropdown_Menus!$A$2,\"\",'HP3'!B22)","v":""},{"$f":"IF(OR(M22=\"#N/A\",M22=\"\"),\"\",IFERROR(HLOOKUP('HP3'!M22,'Step 5 Identify & Select ASHPs'!$N$69:$AH$72,2,FALSE),\"\"))","v":""},{"$f":"IF(OR(M22=\"#N/A\",M22=\"\"),\"\",IFERROR(HLOOKUP('HP3'!M22,'Step 5 Identify & Select ASHPs'!$N$69:$AH$72,IF('Step 5 Identify & Select ASHPs'!$I$73=\"COP\",4,3),FALSE),\"\"))","v":""},{"$f":"IF(OR(B22=\"#N/A\",B22=\"\"),\"\",IFERROR(HLOOKUP('HP3'!B22,'Step 5 Identify & Select ASHPs'!$N$69:$AH$72,IF('Step 5 Identify & Select ASHPs'!$I$73=\"COP\",3,4),FALSE),\"\"))","v":""},{"$f":"(M22*'Design Load Calcs'!$G$23+'Design Load Calcs'!$H$23)","v":{"$error":"#VALUE!"}},""]
[null,{"$f":"IF(OR('Step 5 Identify & Select ASHPs'!$I$62,'Step 5 Identify & Select ASHPs'!$I$63),\"\",IF('Step 5 Identify & Select ASHPs'!$I$64,IF(MATCH(B22,$B$10:$B$29,0)>='Step 5 Identify & Select ASHPs'!$I$70,\"\",'Step 5 Identify & Select ASHPs'!$AA$60),NA()))","v":""},{"$f":"IF(OR(B23=\"#N/A\",B23=\"\"),\"\",IFERROR(HLOOKUP('HP3'!B23,'Step 5 Identify & Select ASHPs'!$N$60:$AH$63,2,FALSE),\"\"))","v":""},{"$f":"IF(OR(B23=\"#N/A\",B23=\"\"),\"\",IFERROR(HLOOKUP('HP3'!B23,'Step 5 Identify & Select ASHPs'!$N$60:$AH$63,IF('Step 5 Identify & Select ASHPs'!$I$73=\"COP\",4,3),FALSE),\"\"))","v":""},{"$f":"IF(OR(B23=\"#N/A\",B23=\"\"),\"\",IFERROR(HLOOKUP('HP3'!B23,'Step 5 Identify & Select ASHPs'!$N$60:$AH$63,IF('Step 5 Identify & Select ASHPs'!$I$73=\"COP\",3,4),FALSE),\"\"))","v":""},{"$f":"(B23*'Design Load Calcs'!$G$23+'Design Load Calcs'!$H$23)","v":{"$error":"#VALUE!"}},"",null,null,null,null,null,{"$f":"IF('Step 5 Identify & Select ASHPs'!$E$71=Dropdown_Menus!$A$2,\"\",'HP3'!B23)","v":""},{"$f":"IF(OR(M23=\"#N/A\",M23=\"\"),\"\",IFERROR(HLOOKUP('HP3'!M23,'Step 5 Identify & Select ASHPs'!$N$69:$AH$72,2,FALSE),\"\"))","v":""},{"$f":"IF(OR(M23=\"#N/A\",M23=\"\"),\"\",IFERROR(HLOOKUP('HP3'!M23,'Step 5 Identify & Select ASHPs'!$N$69:$AH$72,IF('Step 5 Identify & Select ASHPs'!$I$73=\"COP\",4,3),FALSE),\"\"))","v":""},{"$f":"IF(OR(B23=\"#N/A\",B23=\"\"),\"\",IFERROR(HLOOKUP('HP3'!B23,'Step 5 Identify & Select ASHPs'!$N$69:$AH$72,IF('Step 5 Identify & Select ASHPs'!$I$73=\"COP\",3,4),FALSE),\"\"))","v":""},{"$f":"(M23*'Design Load Calcs'!$G$23+'Design Load Calcs'!$H$23)","v":{"$error":"#VALUE!"}},""]
[null,{"$f":"IF(OR('Step 5 Identify & Select ASHPs'!$I$62,'Step 5 Identify & Select ASHPs'!$I$63),\"\",IF('Step 5 Identify & Select ASHPs'!$I$64,IF(MATCH(B23,$B$10:$B$29,0)>='Step 5 Identify & Select ASHPs'!$I$70,\"\",'Step 5 Identify & Select ASHPs'!$AB$60),NA()))","v":""},{"$f":"IF(OR(B24=\"#N/A\",B24=\"\"),\"\",IFERROR(HLOOKUP('HP3'!B24,'Step 5 Identify & Select ASHPs'!$N$60:$AH$63,2,FALSE),\"\"))","v":""},{"$f":"IF(OR(B24=\"#N/A\",B24=\"\"),\"\",IFERROR(HLOOKUP('HP3'!B24,'Step 5 Identify & Select ASHPs'!$N$60:$AH$63,IF('Step 5 Identify & Select ASHPs'!$I$73=\"COP\",4,3),FALSE),\"\"))","v":""},{"$f":"IF(OR(B24=\"#N/A\",B24=\"\"),\"\",IFERROR(HLOOKUP('HP3'!B24,'Step 5 Identify & Select ASHPs'!$N$60:$AH$63,IF('Step 5 Identify & Select ASHPs'!$I$73=\"COP\",3,4),FALSE),\"\"))","v":""},{"$f":"(B24*'Design Load Calcs'!$G$23+'Design Load Calcs'!$H$23)","v":{"$error":"#VALUE!"}},"",null,null,null,null,null,{"$f":"IF('Step 5 Identify & Select ASHPs'!$E$71=Dropdown_Menus!$A$2,\"\",'HP3'!B24)","v":""},{"$f":"IF(OR(M24=\"#N/A\",M24=\"\"),\"\",IFERROR(HLOOKUP('HP3'!M24,'Step 5 Identify & Select ASHPs'!$N$69:$AH$72,2,FALSE),\"\"))","v":""},{"$f":"IF(OR(M24=\"#N/A\",M24=\"\"),\"\",IFERROR(HLOOKUP('HP3'!M24,'Step 5 Identify & Select ASHPs'!$N$69:$AH$72,IF('Step 5 Identify & Select ASHPs'!$I$73=\"COP\",4,3),FALSE),\"\"))","v":""},{"$f":"IF(OR(B24=\"#N/A\",B24=\"\"),\"\",IFERROR(HLOOKUP('HP3'!B24,'Step 5 Identify & Select ASHPs'!$N$69:$AH$72,IF('Step 5 Identify & Select ASHPs'!$I$73=\"COP\",3,4),FALSE),\"\"))","v":""},{"$f":"(M24*'Design Load Calcs'!$G$23+'Design Load Calcs'!$H$23)","v":{"$error":"#VALUE!"}},""]
[null,{"$f":"IF(OR('Step 5 Identify & Select ASHPs'!$I$62,'Step 5 Identify & Select ASHPs'!$I$63),\"\",IF('Step 5 Identify & Select ASHPs'!$I$64,IF(MATCH(B24,$B$10:$B$29,0)>='Step 5 Identify & Select ASHPs'!$I$70,\"\",'Step 5 Identify & Select ASHPs'!$AC$60),NA()))","v":""},{"$f":"IF(OR(B25=\"#N/A\",B25=\"\"),\"\",IFERROR(HLOOKUP('HP3'!B25,'Step 5 Identify & Select ASHPs'!$N$60:$AH$63,2,FALSE),\"\"))","v":""},{"$f":"IF(OR(B25=\"#N/A\",B25=\"\"),\"\",IFERROR(HLOOKUP('HP3'!B25,'Step 5 Identify & Select ASHPs'!$N$60:$AH$63,IF('Step 5 Identify & Select ASHPs'!$I$73=\"COP\",4,3),FALSE),\"\"))","v":""},{"$f":"IF(OR(B25=\"#N/A\",B25=\"\"),\"\",IFERROR(HLOOKUP('HP3'!B25,'Step 5 Identify & Select ASHPs'!$N$60:$AH$63,IF('Step 5 Identify & Select ASHPs'!$I$73=\"COP\",3,4),FALSE),\"\"))","v":""},{"$f":"(B25*'Design Load Calcs'!$G$23+'Design Load Calcs'!$H$23)","v":{"$error":"#VALUE!"}},"",null,"Slope and Intercept at 47°F (HP Pwr)",null,null,null,{"$f":"IF('Step 5 Identify & Select ASHPs'!$E$71=Dropdown_Menus!$A$2,\"\",'HP3'!B25)","v":""},{"$f":"IF(OR(M25=\"#N/A\",M25=\"\"),\"\",IFERROR(HLOOKUP('HP3'!M25,'Step 5 Identify & Select ASHPs'!$N$69:$AH$72,2,FALSE),\"\"))","v":""},{"$f":"IF(OR(M25=\"#N/A\",M25=\"\"),\"\",IFERROR(HLOOKUP('HP3'!M25,'Step 5 Identify & Select ASHPs'!$N$69:$AH$72,IF('Step 5 Identify & Select ASHPs'!$I$73=\"COP\",4,3),FALSE),\"\"))","v":""},{"$f":"IF(OR(B25=\"#N/A\",B25=\"\"),\"\",IFERROR(HLOOKUP('HP3'!B25,'Step 5 Identify & Select ASHPs'!$N$69:$AH$72,IF('Step 5 Identify & Select ASHPs'!$I$73=\"COP\",3,4),FALSE),\"\"))","v":""},{"$f":"(M25*'Design Load Calcs'!$G$23+'Design Load Calcs'!$H$23)","v":{"$error":"#VALUE!"}},""]
[null,{"$f":"IF(OR('Step 5 Identify & Select ASHPs'!$I$62,'Step 5 Identify & Select ASHPs'!$I$63),\"\",IF('Step 5 Identify & Select ASHPs'!$I$64,IF(MATCH(B25,$B$10:$B$29,0)>='Step 5 Identify & Select ASHPs'!$I$70,\"\",'Step 5 Identify & Select ASHPs'!$AD$60),NA()))","v":""},{"$f":"IF(OR(B26=\"#N/A\",B26=\"\"),\"\",IFERROR(HLOOKUP('HP3'!B26,'Step 5 Identify & Select ASHPs'!$N$60:$AH$63,2,FALSE),\"\"))","v":""},{"$f":"IF(OR(B26=\"#N/A\",B26=\"\"),\"\",IFERROR(HLOOKUP('HP3'!B26,'Step 5 Identify & Select ASHPs'!$N$60:$AH$63,IF('Step 5 Identify & Select ASHPs'!$I$73=\"COP\",4,3),FALSE),\"\"))","v":""},{"$f":"IF(OR(B26=\"#N/A\",B26=\"\"),\"\",IFERROR(HLOOKUP('HP3'!B26,'Step 5 Identify & Select ASHPs'!$N$60:$AH$63,IF('Step 5 Identify & Select ASHPs'!$I$73=\"COP\",3,4),FALSE),\"\"))","v":""},{"$f":"(B26*'Design Load Calcs'!$G$23+'Design Load Calcs'!$H$23)","v":{"$error":"#VALUE!"}},"",null,"know ys (pwr):","know xs (temp)",null,null,{"$f":"IF('Step 5 Identify & Select ASHPs'!$E$71=Dropdown_Menus!$A$2,\"\",'HP3'!B26)","v":""},{"$f":"IF(OR(M26=\"#N/A\",M26=\"\"),\"\",IFERROR(HLOOKUP('HP3'!M26,'Step 5 Identify & Select ASHPs'!$N$69:$AH$72,2,FALSE),\"\"))","v":""},{"$f":"IF(OR(M26=\"#N/A\",M26=\"\"),\"\",IFERROR(HLOOKUP('HP3'!M26,'Step 5 Identify & Select ASHPs'!$N$69:$AH$72,IF('Step 5 Identify & Select ASHPs'!$I$73=\"COP\",4,3),FALSE),\"\"))","v":""},{"$f":"IF(OR(B26=\"#N/A\",B26=\"\"),\"\",IFERROR(HLOOKUP('HP3'!B26,'Step 5 Identify & Select ASHPs'!$N$69:$AH$72,IF('Step 5 Identify & Select ASHPs'!$I$73=\"COP\",3,4),FALSE),\"\"))","v":""},{"$f":"(M26*'Design Load Calcs'!$G$23+'Design Load Calcs'!$H$23)","v":{"$error":"#VALUE!"}},{"$f":"IF(M26=\"\",\"\",ABS(N26-Q26))","v":""}]
[null,{"$f":"IF(OR('Step 5 Identify & Select ASHPs'!$I$62,'Step 5 Identify & Select ASHPs'!$I$63),\"\",IF('Step 5 Identify & Select ASHPs'!$I$64,IF(MATCH(B26,$B$10:$B$29,0)>='Step 5 Identify & Select ASHPs'!$I$70,\"\",'Step 5 Identify & Select ASHPs'!$AE$60),NA()))","v":""},{"$f":"IF(OR(B27=\"#N/A\",B27=\"\"),\"\",IFERROR(HLOOKUP('HP3'!B27,'Step 5 Identify & Select ASHPs'!$N$60:$AH$63,2,FALSE),\"\"))","v":""},{"$f":"IF(OR(B27=\"#N/A\",B27=\"\"),\"\",IFERROR(HLOOKUP('HP3'!B27,'Step 5 Identify & Select ASHPs'!$N$60:$AH$63,IF('Step 5 Identify & Select ASHPs'!$I$73=\"COP\",4,3),FALSE),\"\"))","v":""},{"$f":"IF(OR(B27=\"#N/A\",B27=\"\"),\"\",IFERROR(HLOOKUP('HP3'!B27,'Step 5 Identify & Select ASHPs'!$N$60:$AH$63,IF('Step 5 Identify & Select ASHPs'!$I$73=\"COP\",3,4),FALSE),\"\"))","v":""},{"$f":"(B27*'Design Load Calcs'!$G$23+'Design Load Calcs'!$H$23)","v":{"$error":"#VALUE!"}},"",null,{"$f":"INDEX(D10:D29,MATCH(J27,B10:B29,0))","v":0},{"$f":"IF(MAX(B10:B29)<IF('Intro & Unit Options'!B12=Dropdown_Menus!F1,CONVERT(47,\"F\",\"C\"),47),MAX(B10:B29),INDEX(B10:B29,MATCH(IF('Intro & Unit Options'!B12=Dropdown_Menus!F1,CONVERT(47,\"F\",\"C\"),47),B10:B29,-1)))","v":47},null,null,{"$f":"IF('Step 5 Identify & Select ASHPs'!$E$71=Dropdown_Menus!$A$2,\"\",'HP3'!B27)","v":""},{"$f":"IF(OR(M27=\"#N/A\",M27=\"\"),\"\",IFERROR(HLOOKUP('HP3'!M27,'Step 5 Identify & Select ASHPs'!$N$69:$AH$72,2,FALSE),\"\"))","v":""},{"$f":"IF(OR(M27=\"#N/A\",M27=\"\"),\"\",IFERROR(HLOOKUP('HP3'!M27,'Step 5 Identify & Select ASHPs'!$N$69:$AH$72,IF('Step 5 Identify & Select ASHPs'!$I$73=\"COP\",4,3),FALSE),\"\"))","v":""},{"$f":"IF(OR(B27=\"#N/A\",B27=\"\"),\"\",IFERROR(HLOOKUP('HP3'!B27,'Step 5 Identify & Select ASHPs'!$N$69:$AH$72,IF('Step 5 Identify & Select ASHPs'!$I$73=\"COP\",3,4),FALSE),\"\"))","v":""},{"$f":"(M27*'Design Load Calcs'!$G$23+'Design Load Calcs'!$H$23)","v":{"$error":"#VALUE!"}},""]
[null,{"$f":"IF(OR('Step 5 Identify & Select ASHPs'!$I$62,'Step 5 Identify & Select ASHPs'!$I$63),\"\",IF('Step 5 Identify & Select ASHPs'!$I$64,IF(MATCH(B27,$B$10:$B$29,0)>='Step 5 Identify & Select ASHPs'!$I$70,\"\",'Step 5 Identify & Select ASHPs'!$AF$60),NA()))","v":""},{"$f":"IF(OR(B28=\"#N/A\",B28=\"\"),\"\",IFERROR(HLOOKUP('HP3'!B28,'Step 5 Identify & Select ASHPs'!$N$60:$AH$63,2,FALSE),\"\"))","v":""},{"$f":"IF(OR(B28=\"#N/A\",B28=\"\"),\"\",IFERROR(HLOOKUP('HP3'!B28,'Step 5 Identify & Select ASHPs'!$N$60:$AH$63,IF('Step 5 Identify & Select ASHPs'!$I$73=\"COP\",4,3),FALSE),\"\"))","v":""},{"$f":"IF(OR(B28=\"#N/A\",B28=\"\"),\"\",IFERROR(HLOOKUP('HP3'!B28,'Step 5 Identify & Select ASHPs'!$N$60:$AH$63,IF('Step 5 Identify & Select ASHPs'!$I$73=\"COP\",3,4),FALSE),\"\"))","v":""},{"$f":"(B28*'Design Load Calcs'!$G$23+'Design Load Calcs'!$H$23)","v":{"$error":"#VALUE!"}},"",null,{"$f":"INDEX(D10:D29,MATCH(J28,B10:B29,0))","v":0},{"$f":"IF(J27=MIN(B10:B29),INDEX(B10:B29,MATCH(J27,B10:B29,0)-1),INDEX(B10:B29,MATCH(J27,B10:B29,0)+1))","v":17},null,null,{"$f":"IF('Step 5 Identify & Select ASHPs'!$E$71=Dropdown_Menus!$A$2,\"\",'HP3'!B28)","v":""},{"$f":"IF(OR(M28=\"#N/A\",M28=\"\"),\"\",IFERROR(HLOOKUP('HP3'!M28,'Step 5 Identify & Select ASHPs'!$N$69:$AH$72,2,FALSE),\"\"))","v":""},{"$f":"IF(OR(M28=\"#N/A\",M28=\"\"),\"\",IFERROR(HLOOKUP('HP3'!M28,'Step 5 Identify & Select ASHPs'!$N$69:$AH$72,IF('Step 5 Identify & Select ASHPs'!$I$73=\"COP\",4,3),FALSE),\"\"))","v":""},{"$f":"IF(OR(B28=\"#N/A\",B28=\"\"),\"\",IFERROR(HLOOKUP('HP3'!B28,'Step 5 Identify & Select ASHPs'!$N$69:$AH$72,IF('Step 5 Identify & Select ASHPs'!$I$73=\"COP\",3,4),FALSE),\"\"))","v":""},{"$f":"(M28*'Design Load Calcs'!$G$23+'Design Load Calcs'!$H$23)","v":{"$error":"#VALUE!"}},""]
[null,{"$f":"IF(OR('Step 5 Identify & Select ASHPs'!$I$62,'Step 5 Identify & Select ASHPs'!$I$63),\"\",IF('Step 5 Identify & Select ASHPs'!$I$64,IF(MATCH(B28,$B$10:$B$29,0)>='Step 5 Identify & Select ASHPs'!$I$70,\"\",'Step 5 Identify & Select ASHPs'!$AG$60),NA()))","v":""},{"$f":"IF(OR(B29=\"#N/A\",B29=\"\"),\"\",IFERROR(HLOOKUP('HP3'!B29,'Step 5 Identify & Select ASHPs'!$N$60:$AH$63,2,FALSE),\"\"))","v":""},{"$f":"IF(OR(B29=\"#N/A\",B29=\"\"),\"\",IFERROR(HLOOKUP('HP3'!B29,'Step 5 Identify & Select ASHPs'!$N$60:$AH$63,IF('Step 5 Identify & Select ASHPs'!$I$73=\"COP\",4,3),FALSE),\"\"))","v":""},{"$f":"IF(OR(B29=\"#N/A\",B29=\"\"),\"\",IFERROR(HLOOKUP('HP3'!B29,'Step 5 Identify & Select ASHPs'!$N$60:$AH$63,IF('Step 5 Identify & Select ASHPs'!$I$73=\"COP\",3,4),FALSE),\"\"))","v":""},{"$f":"(B29*'Design Load Calcs'!$G$23+'Design Load Calcs'!$H$23)","v":{"$error":"#VALUE!"}},"",null,"Slope and Intercept at 17°F (HP Cap)",null,null,null,{"$f":"IF('Step 5 Identify & Select ASHPs'!$E$71=Dropdown_Menus!$A$2,\"\",'HP3'!B29)","v":""},{"$f":"IF(OR(M29=\"#N/A\",M29=\"\"),\"\",IFERROR(HLOOKUP('HP3'!M29,'Step 5 Identify & Select ASHPs'!$N$69:$AH$72,2,FALSE),\"\"))","v":""},{"$f":"IF(OR(M29=\"#N/A\",M29=\"\"),\"\",IFERROR(HLOOKUP('HP3'!M29,'Step 5 Identify & Select ASHPs'!$N$69:$AH$72,IF('Step 5 Identify & Select ASHPs'!$I$73=\"COP\",4,3),FALSE),\"\"))","v":""},{"$f":"IF(OR(B29=\"#N/A\",B29=\"\"),\"\",IFERROR(HLOOKUP('HP3'!B29,'Step 5 Identify & Select ASHPs'!$N$69:$AH$72,IF('Step 5 Identify & Select ASHPs'!$I$73=\"COP\",3,4),FALSE),\"\"))","v":""},{"$f":"(M29*'Design Load Calcs'!$G$23+'Design Load Calcs'!$H$23)","v":{"$error":"#VALUE!"}},""]
[null,{"$f":"'Step 5 Identify & Select ASHPs'!$E$69","v":0},{"$f":"IF(D34=B30,B34,SLOPE(B34:B35,D34:D35)*B30+INTERCEPT(B34:B35,D34:D35))","v":0},{"$f":"IF(D34=B30,C34,SLOPE(C34:C35,D34:D35)*B30+INTERCEPT(C34:C35,D34:D35))","v":0},{"$f":"(C30/IF('Intro & Unit Options'!$B$12=Dropdown_Menus!$F$1,1,3412))/D30","v":{"$error":"#DIV/0!"}},{"$f":"IF(B30<C5,'Design Load Calcs'!$B$3,B30*'Design Load Calcs'!$G$23+'Design Load Calcs'!$H$23)","v":50000},{"$f":"IF(B30=\"\",\"\",ABS(C30-F30))","v":50000},null,"know ys (pwr):","know xs (temp)",null,null,{"$f":"'Step 5 Identify & Select ASHPs'!$E$69","v":0},{"$f":"IF(O34=M30,M34,SLOPE(M34:M35,O34:O35)*M30+INTERCEPT(M34:M35,O34:O35))","v":0},{"$f":"IF(O34=M30,N34,SLOPE(N34:N35,O34:O35)*M30+INTERCEPT(N34:N35,O34:O35))","v":0},{"$f":"(N30/IF('Intro & Unit Options'!$B$12=Dropdown_Menus!$F$1,1,3412))/O30","v":{"$error":"#DIV/0!"}},{"$f":"IF(M30<N5,'Design Load Calcs'!$B$3,M30*'Design Load Calcs'!$G$23+'Design Load Calcs'!$H$23)","v":50000},{"$f":"IF(M30=\"\",\"\",ABS(N30-Q30))","v":50000}]
[null,null,null,null,null,null,null,null,{"$f":"INDEX(D10:D29,MATCH(J31,B10:B29,0))","v":0},{"$f":"IF(MAX(B10:B29)<IF('Intro & Unit Options'!B12=Dropdown_Menus!F1,CONVERT(17,\"F\",\"C\"),17),MAX(B10:B29),INDEX(B10:B29,MATCH(IF('Intro & Unit Options'!B12=Dropdown_Menus!F1,CONVERT(17,\"F\",\"C\"),17),B10:B29,-1)))","v":17}]
[null,"Slope and Intercept at the cut-off temp. (HP Norm. Cap and pwr)",null,null,null,"Slope and Intercept at the Design Temp. (HP Cap)",null,null,{"$f":"INDEX(D10:D29,MATCH(J32,B10:B29,0))","v":0},{"$f":"IF(J31=MIN(B10:B29),INDEX(B10:B29,MATCH(J31,B10:B29,0)-1),INDEX(B10:B29,MATCH(J31,B10:B29,0)+1))","v":47},null,null,"Slope and Intercept at the cut-off temp. (HP Norm. Cap and pwr)",null,null,null,"Slope and Intercept at the Design Temp. (HP Cap)"]
[null,"know ys (capacity):","know ys (power):","know xs (temp)",null,"know ys (capacity):","know xs (temp)",null,"Slope and Intercept at 47°F (HP Cap)",null,null,null,"know ys (capacity):","know ys (power):","know xs (temp)",null,"know ys (capacity):","know xs"]
[null,{"$f":"INDEX(C10:C29,MATCH(D34,B10:B29,0))","v":0},{"$f":"INDEX(D10:D29,MATCH(B34,C10:C29,0))","v":0},{"$f":"IF(B30=MIN(B10:B29),B30,INDEX(B10:B29,MATCH(B30,B10:B29,-1)))","v":17},null,{"$f":"IF(G34=\"-\",0,INDEX(C10:C29,MATCH(G34,B10:B29,0)))","v":0},{"$f":"IF(C5<B30,\"-\",IFERROR(INDEX(B10:B29,MATCH(C5,B10:B29,0)),IF(C5<MIN(B10:B29),INDEX(B10:B29,MATCH(MIN(B10:B29),B10:B29,-1)),INDEX(B10:B29,MATCH(C5,B10:B29,-1)))))","v":17},null,"know ys (capacity):","know xs (temp)",null,null,{"$f":"INDEX(N10:N29,MATCH(O34,M10:M29,0))","v":0},{"$f":"INDEX(O10:O29,MATCH(M34,N10:N29,0))","v":0},{"$f":"IF(M30=MIN(M10:M29),M30,INDEX(M10:M29,MATCH(M30,M10:M29,-1)))","v":17},null,{"$f":"IF(R34=\"-\",0,INDEX(N10:N29,MATCH(R34,M10:M29,0)))","v":0},{"$f":"IF(N5<M30,\"-\",IFERROR(INDEX(M10:M29,MATCH(N5,M10:M29,0)),IF(N5<MIN(M10:M29),INDEX(M10:M29,MATCH(MIN(M10:M29),M10:M29,-1)),INDEX(M10:M29,MATCH(N5,M10:M29,-1)))))","v":17}]
[null,{"$f":"IF(D35=\"-\",\"-\",INDEX(C10:C29,MATCH(D35,B10:B29,0)))","v":0},{"$f":"IF(D35=\"-\",\"-\",INDEX($D$10:$D$29, MATCH(D35,$B$10:$B$29,0)))","v":0},{"$f":"IF(B30=MIN(B10:B29),\"-\",INDEX(B10:B29,MATCH(B30,B10:B29,-1)+IF(D34=MIN(B10:B29),-1,1)))","v":47},null,{"$f":"IF(G35=\"-\",0,INDEX(C10:C29,MATCH(G35,B10:B29,0)))","v":0},{"$f":"IF(C5<B30,\"-\",IF(G34=C5,\"-\",INDEX(B10:B29,MATCH(G34,B10:B29,0)+IF(G34=MIN(B10:B29),-1,1))))","v":47},null,{"$f":"INDEX(C10:C29,MATCH(J35,B10:B29,0))","v":0},{"$f":"IF(MAX(B10:B29)<IF('Intro & Unit Options'!B13=Dropdown_Menus!F2,CONVERT(47,\"F\",\"C\"),47),MAX(B10:B29),INDEX(B10:B29,MATCH(IF('Intro & Unit Options'!B13=Dropdown_Menus!F2,CONVERT(47,\"F\",\"C\"),47),B10:B29,-1)))","v":47},null,null,{"$f":"IF(O35=\"-\",\"-\",INDEX(N10:N29,MATCH(O35,M10:M29,0)))","v":0},{"$f":"IF(O35=\"-\",\"-\",INDEX($O$10:$O$29, MATCH(O35,$M$10:$M$29,0)))","v":0},{"$f":"IF(M30=MIN(M10:M29),\"-\",INDEX(M10:M29,MATCH(M30,M10:M29,-1)+IF(O34=MIN(M10:M29),-1,1)))","v":47},null,{"$f":"IF(R35=\"-\",0,INDEX(N10:N29,MATCH(R35,M10:M29,0)))","v":0},{"$f":"IF(N5<M30,\"-\",IF(R34=N5,\"-\",INDEX(M10:M29,MATCH(R34,M10:M29,0)+IF(R34=MIN(M10:M29),-1,1))))","v":47}]
[null,null,null,null,null,null,null,null,{"$f":"INDEX(C10:C29,MATCH(J36,B10:B29,0))","v":0},{"$f":"IF(J35=MIN(B10:B29),INDEX(B10:B29,MATCH(J35,B10:B29,0)-1),INDEX(B10:B29,MATCH(J35,B10:B29,0)+1))","v":17}]
[null,"Slope and Intercept at the BPT (HP Cap)",null,null,null,"Slope and Intercept at the BPT (Load%)",null,null,"Slope and Intercept at 17°F (HP Cap)",null,null,null,"Slope and Intercept at the BPT (HP Cap)",null,null,null,"Slope and Intercept at the BPT (Load%)"]
[null,"know ys (eq. 1):","know xs (eq. 1):","know ys (eq. 2):","know xs (eq. 2):","know ys (eq. 1):","know ys (eq. 2):",null,"know ys (capacity):","know xs (temp)",null,null,"know ys (eq. 1):","know xs (eq. 1):","know ys (eq. 2):","know xs (eq. 2):","know ys (eq. 1):","know ys (eq. 2):"]
[null,{"$f":"INDEX(C10:C29,MATCH(MIN(G10:G29),G10:G29,0)-1)","v":{"$error":"#VALUE!"}},{"$f":"INDEX(B10:B29,MATCH(MIN(G10:G29),G10:G29,0)-1)","v":{"$error":"#VALUE!"}},{"$f":"INDEX(C10:C29,MATCH(MIN(G10:G29),G10:G29,0))","v":0},{"$f":"INDEX(B10:B29,MATCH(MIN(G10:G29),G10:G29,0))","v":47},{"$f":"INDEX(INDIRECT(CONCATENATE(IFERROR(SUBSTITUTE('Step 3 Design Loads'!B8,\"-\",\"\"),'Step 3 Design Loads'!B8),\"_Load\")),MATCH(G39,'Load %s'!N8:N24))","v":{"$error":"#N/A"}},{"$f":"IF(ISNUMBER(MATCH(J9,'Load %s'!N8:N24,0)),'HP3'!J9,INDEX('Load %s'!N8:N24,MATCH('HP3'!J9,'Load %s'!N8:N24,1)))","v":{"$error":"#N/A"}},null,{"$f":"INDEX(C10:C29,MATCH(J39,B10:B29,0))","v":0},{"$f":"IF(MAX(B10:B29)<IF('Intro & Unit Options'!B12=Dropdown_Menus!F1,CONVERT(17,\"F\",\"C\"),17),MAX(B10:B29),INDEX(B10:B29,MATCH(IF('Intro & Unit Options'!B12=Dropdown_Menus!F1,CONVERT(17,\"F\",\"C\"),17),B10:B29,-1)))","v":17},null,null,{"$f":"INDEX(N10:N29,MATCH(MIN(R10:R29),R10:R29,0)-1)","v":{"$error":"#VALUE!"}},{"$f":"INDEX(M10:M29,MATCH(MIN(R10:R29),R10:R29,0)-1)","v":{"$error":"#VALUE!"}},{"$f":"INDEX(N10:N29,MATCH(MIN(R10:R29),R10:R29,0))","v":0},{"$f":"INDEX(M10:M29,MATCH(MIN(R10:R29),R10:R29,0))","v":47},{"$f":"INDEX(INDIRECT(CONCATENATE(IFERROR(SUBSTITUTE('Step 3 Design Loads'!B8,\"-\",\"\"),'Step 3 Design Loads'!B8),\"_Load\")),MATCH(R39,'Load %s'!N8:N24))","v":{"$error":"#N/A"}},{"$f":"IF(ISNUMBER(MATCH(U9,'Load %s'!N8:N24,0)),'HP3'!U9,INDEX('Load %s'!N8:N24,MATCH('HP3'!U9,'Load %s'!N8:N24,1)))","v":{"$error":"#N/A"}}]
[null,{"$f":"INDEX(C10:C29,MATCH(MIN(G10:G29),G10:G29,0))","v":0},{"$f":"INDEX(B10:B29,MATCH(MIN(G10:G29),G10:G29,0))","v":47},{"$f":"IF(OR(SUMIF(B10:B29,\"<>\"\"\")=0,INDEX(C10:C29,MATCH(MIN(G10:G29),G10:G29,0)+1)=\"\"),C30,INDEX(C10:C29,MATCH(MIN(G10:G29),G10:G29,0)+1))","v":0},{"$f":"IF(OR(AND(SUMIF(B12:B29,\"<>\"\"\")=0,B30<E39),INDEX(B10:B29,MATCH(MIN(G10:G29),G10:G29,0)+1)=\"\"),B30,INDEX(B10:B29,MATCH(MIN(G10:G29),G10:G29,0)+1))","v":0},{"$f":"INDEX(INDIRECT(CONCATENATE(IFERROR(SUBSTITUTE('Step 3 Design Loads'!B8,\"-\",\"\"),'Step 3 Design Loads'!B8),\"_Load\")),MATCH(G40,'Load %s'!N8:N24))","v":{"$error":"#N/A"}},{"$f":"IF(ISNUMBER(MATCH(E41,'Load %s'!N8:N24,0)),\"\",INDEX('Load %s'!N8:N24,MATCH(G39,'Load %s'!N8:N24,0)+1))","v":{"$error":"#N/A"}},null,{"$f":"INDEX(C10:C29,MATCH(J40,B10:B29,0))","v":0},{"$f":"IF(J39=MIN(B10:B29),INDEX(B10:B29,MATCH(J39,B10:B29,0)-1),INDEX(B10:B29,MATCH(J39,B10:B29,0)+1))","v":47},null,null,{"$f":"INDEX(N10:N29,MATCH(MIN(R10:R29),R10:R29,0))","v":0},{"$f":"INDEX(M10:M29,MATCH(MIN(R10:R29),R10:R29,0))","v":47},{"$f":"IF(OR(SUMIF(M12:M29,\"<>\"\"\")=0,INDEX(N10:N29,MATCH(MIN(R10:R29),R10:R29,0)+1)=\"\"),N30,INDEX(N10:N29,MATCH(MIN(R10:R29),R10:R29,0)+1))","v":0},{"$f":"IF(OR(AND(SUMIF(M12:M29,\"<>\"\"\")=0,M30<P39),INDEX(M10:M29,MATCH(MIN(R10:R29),R10:R29,0)+1)=\"\"),M30,INDEX(M10:M29,MATCH(MIN(R10:R29),R10:R29,0)+1))","v":0},{"$f":"INDEX(INDIRECT(CONCATENATE(IFERROR(SUBSTITUTE('Step 3 Design Loads'!B8,\"-\",\"\"),'Step 3 Design Loads'!B8),\"_Load\")),MATCH(R40,'Load %s'!N8:N24))","v":{"$error":"#N/A"}},{"$f":"IF(ISNUMBER(MATCH(P41,'Load %s'!N8:N24,0)),\"\",INDEX('Load %s'!N8:N24,MATCH(R39,'Load %s'!N8:N24,0)+1))","v":{"$error":"#N/A"}}]
[null,"BPT (eq. 1):",{"$f":"IF(IF(('Design Load Calcs'!$H$23-INTERCEPT(B39:B40,C39:C40))/(SLOPE(B39:B40,C39:C40)-'Design Load Calcs'!$G$23)<'Step 3 Design Loads'!B13,NA(),('Design Load Calcs'!$H$23-INTERCEPT(B39:B40,C39:C40))/(SLOPE(B39:B40,C39:C40)-'Design Load Calcs'!$G$23))>MAX(B10:B29),NA(),IF(('Design Load Calcs'!$H$23-INTERCEPT(B39:B40,C39:C40))/(SLOPE(B39:B40,C39:C40)-'Design Load Calcs'!$G$23)<'Step 3 Design Loads'!B13,NA(),('Design Load Calcs'!$H$23-INTERCEPT(B39:B40,C39:C40))/(SLOPE(B39:B40,C39:C40)-'Design Load Calcs'!$G$23)))","v":{"$error":"#VALUE!"}},"BPT (eq. 2):",{"$f":"IF(IF(('Design Load Calcs'!$H$23-INTERCEPT(D39:D40,E39:E40))/(SLOPE(D39:D40,E39:E40)-'Design Load Calcs'!$G$23)<'Step 3 Design Loads'!B13,NA(),('Design Load Calcs'!$H$23-INTERCEPT(D39:D40,E39:E40))/(SLOPE(D39:D40,E39:E40)-'Design Load Calcs'!$G$23))>MAX(B10:B29),NA(),IF(('Design Load Calcs'!$H$23-INTERCEPT(D39:D40,E39:E40))/(SLOPE(D39:D40,E39:E40)-'Design Load Calcs'!$G$23)<'Step 3 Design Loads'!B13,NA(),('Design Load Calcs'!$H$23-INTERCEPT(D39:D40,E39:E40))/(SLOPE(D39:D40,E39:E40)-'Design Load Calcs'!$G$23)))","v":{"$error":"#N/A"}},null,null,null,null,null,null,null,"BPT (eq. 1):",{"$f":"IF(IF(('Design Load Calcs'!$H$23-INTERCEPT(M39:M40,N39:N40))/(SLOPE(M39:M40,N39:N40)-'Design Load Calcs'!$G$23)<'Step 3 Design Loads'!B13,NA(),('Design Load Calcs'!$H$23-INTERCEPT(M39:M40,N39:N40))/(SLOPE(M39:M40,N39:N40)-'Design Load Calcs'!$G$23))>MAX(M10:M29),NA(),IF(('Design Load Calcs'!$H$23-INTERCEPT(M39:M40,N39:N40))/(SLOPE(M39:M40,N39:N40)-'Design Load Calcs'!$G$23)<'Step 3 Design Loads'!B13,NA(),('Design Load Calcs'!$H$23-INTERCEPT(M39:M40,N39:N40))/(SLOPE(M39:M40,N39:N40)-'Design Load Calcs'!$G$23)))","v":{"$error":"#VALUE!"}},"BPT (eq. 2):",{"$f":"IF(IF(('Design Load Calcs'!$H$23-INTERCEPT(O39:O40,P39:P40))/(SLOPE(O39:O40,P39:P40)-'Design Load Calcs'!$G$23)<'Step 3 Design Loads'!B13,NA(),('Design Load Calcs'!$H$23-INTERCEPT(O39:O40,P39:P40))/(SLOPE(O39:O40,P39:P40)-'Design Load Calcs'!$G$23))>MAX(M10:M29),NA(),IF(('Design Load Calcs'!$H$23-INTERCEPT(O39:O40,P39:P40))/(SLOPE(O39:O40,P39:P40)-'Design Load Calcs'!$G$23)<'Step 3 Design Loads'!B13,NA(),('Design Load Calcs'!$H$23-INTERCEPT(O39:O40,P39:P40))/(SLOPE(O39:O40,P39:P40)-'Design Load Calcs'!$G$23)))","v":{"$error":"#N/A"}}]
[null,"HP Cap (eq. 1): ",{"$f":"SLOPE(B39:B40,C39:C40)*C41+INTERCEPT(B39:B40,C39:C40)","v":{"$error":"#VALUE!"}},"HP Cap (eq. 2): ",{"$f":"SLOPE(D39:D40,E39:E40)*E41+INTERCEPT(D39:D40,E39:E40)","v":{"$error":"#N/A"}},null,null,null,null,null,null,null,"HP Cap (eq. 1): ",{"$f":"SLOPE(M39:M40,N39:N40)*N41+INTERCEPT(M39:M40,N39:N40)","v":{"$error":"#VALUE!"}},"HP Cap (eq. 2): ",{"$f":"SLOPE(O39:O40,P39:P40)*P41+INTERCEPT(O39:O40,P39:P40)","v":{"$error":"#N/A"}}]
[]
[]
[null,"Cooling - High Stage ",null,null,null,null,null,null,null,null,null,null,"Cooling - Low Stage "]
[]
[null,"Design Temp. (cool)",{"$f":"'Design Load Calcs'!B26","v":88},null,null,null,null,null,null,null,null,null,"Design Temp. (cool)",{"$f":"'Design Load Calcs'!B26","v":88}]
[]
[null,"Performance Data and Heating Load Line",null,null,null,null,null,null,"Outputs:",null,null,null,"Performance Data and Heating Load Line",null,null,null,null,null,null,"Outputs:"]
[null,"Outdoor Temp.","Actual Capacity","Actual Power","Actual COP",null,null,null,{"$f":"CONCATENATE(\"HP cap @ Design Temp.\",IF('Intro & Unit Options'!$B$12=Dropdown_Menus!F1,\" [kW]\",\" [BTU/h]\"))","v":"HP cap @ Design Temp. [BTU/h]"},{"$f":"IF(SUM(B53:B63)=0,I62,IF(OR(57=C47,J63=J62),I62,SLOPE(I62:I63,J62:J63)*C47+INTERCEPT(I62:I63,J62:J63)))","v":0},null,null,"Outdoor Temp.","Actual Capacity","Actual Power","Actual COP",null,null,null,{"$f":"CONCATENATE(\"HP cap @ Design Temp.\",IF('Intro & Unit Options'!$B$12=Dropdown_Menus!F1,\" [kW]\",\" [BTU/h]\"))","v":"HP cap @ Design Temp. [BTU/h]"},{"$f":"IF(SUM(M53:M63)=0,T62,IF(OR(57=N47,U63=U62),T62,SLOPE(T62:T63,U62:U63)*N47+INTERCEPT(T62:T63,U62:U63)))","v":0}]
[null,{"$f":"IF('Intro & Unit Options'!$B$12=Dropdown_Menus!$F$1,\"[°C]\",\"[°F]\")","v":"[°F]"},{"$f":"IF('Intro & Unit Options'!$B$12=Dropdown_Menus!$F$1,\"[kW]\",\"[BTU/h]\")","v":"[BTU/h]"},"[kW]","[-]",null,null,null,"% of Design Load",{"$f":"J50/'Design Load Calcs'!$B$25","v":0},null,null,{"$f":"IF('Intro & Unit Options'!$B$12=Dropdown_Menus!$F$1,\"[°C]\",\"[°F]\")","v":"[°F]"},{"$f":"IF('Intro & Unit Options'!$B$12=Dropdown_Menus!$F$1,\"[kW]\",\"[BTU/h]\")","v":"[BTU/h]"},"[kW]","[-]",null,null,null,"% of Design Load",{"$f":"U50/'Design Load Calcs'!$B$25","v":0}]
[null,{"$f":"IF(OR('Step 5 Identify & Select ASHPs'!$I$62,'Step 5 Identify & Select ASHPs'!$I$63,'Step 5 Identify & Select ASHPs'!$I$64),'Step 5 Identify & Select ASHPs'!$N$64,NA())","v":95},{"$f":"IF(OR(B52=\"#N/A\",B52=\"\"),\"\",IFERROR(HLOOKUP('HP3'!B52,'Step 5 Identify & Select ASHPs'!$N$64:$Z$67,2,FALSE),\"\"))","v":0},{"$f":"IF(OR(B52=\"#N/A\",B52=\"\"),\"\",IFERROR(HLOOKUP(B52,'Step 5 Identify & Select ASHPs'!$N$64:$Z$67,IF('Step 5 Identify & Select ASHPs'!$I$74=\"EER\",4,3),FALSE),\"\"))","v":0},{"$f":"IF(OR(B52=\"#N/A\",B52=\"\"),\"\",IFERROR(HLOOKUP(B52,'Step 5 Identify & Select ASHPs'!$N$64:$Z$67,IF('Step 5 Identify & Select ASHPs'!$I$74=\"EER\",3,4),FALSE),\"\"))","v":""},null,null,null,{"$f":"CONCATENATE(\"HP cap @\",IF('Intro & Unit Options'!B12=Dropdown_Menus!F1,CONVERT(95,\"F\",\"C\"),95),IF('Intro & Unit Options'!$B$12=Dropdown_Menus!F1,\" C\",\" F\"),IF('Intro & Unit Options'!$B$12=Dropdown_Menus!F1,\" [kW]\",\" [BTU/h]\"))","v":"HP cap @95 F [BTU/h]"},{"$f":"IF(OR('Step 5 Identify & Select ASHPs'!$I$62,'Step 5 Identify & Select ASHPs'!$I$63,'Step 5 Identify & Select ASHPs'!$I$27),'HP3'!C52,IFERROR(INDEX('HP3'!C52:C63,MATCH(IF('Intro & Unit Options'!B12=Dropdown_Menus!F1,CONVERT(95,\"F\",\"C\"),95),'HP3'!B52:B63,0)),SLOPE(I57:I58,J57:J58)*IF('Intro & Unit Options'!B12=Dropdown_Menus!F1,CONVERT(95,\"F\",\"C\"),95)+INTERCEPT(I57:I58,J57:J58)))","v":0},null,null,{"$f":"IF('Step 5 Identify & Select ASHPs'!$E$52=Dropdown_Menus!$A$2,\"\",'HP3'!B52)","v":95},{"$f":"IF(OR(M52=\"#N/A\",M52=\"\"),\"\",IFERROR(HLOOKUP('HP3'!M52,'Step 5 Identify & Select ASHPs'!$N$73:$AH$76,2,FALSE),\"\"))","v":0},{"$f":"IF(OR(M52=\"#N/A\",M52=\"\"),\"\",IFERROR(HLOOKUP(M52,'Step 5 Identify & Select ASHPs'!$N$73:$AH$76,IF('Step 5 Identify & Select ASHPs'!$I$74=\"EER\",4,3),FALSE),\"\"))","v":0},{"$f":"IF(OR(M52=\"#N/A\",M52=\"\"),\"\",IFERROR(HLOOKUP(M52,'Step 5 Identify & Select ASHPs'!$N$73:$AH$76,IF('Step 5 Identify & Select ASHPs'!$I$74=\"EER\",3,4),FALSE),\"\"))","v":""},null,null,null,{"$f":"CONCATENATE(\"HP cap @\",IF('Intro & Unit Options'!B12=Dropdown_Menus!F1,CONVERT(95,\"F\",\"C\"),95),IF('Intro & Unit Options'!$B$12=Dropdown_Menus!F1,\" C\",\" F\"),IF('Intro & Unit Options'!$B$12=Dropdown_Menus!F1,\" [kW]\",\" [BTU/h]\"))","v":"HP cap @95 F [BTU/h]"},{"$f":"IF('Step 5 Identify & Select ASHPs'!E71=\"Single Speed\",NA(),IF(OR('Step 5 Identify & Select ASHPs'!$I$62,'Step 5 Identify & Select ASHPs'!$I$63,'Step 5 Identify & Select ASHPs'!$I$27),'HP3'!N52,IFERROR(INDEX('HP3'!N52:N63,MATCH(IF('Intro & Unit Options'!B12=Dropdown_Menus!F1,CONVERT(95,\"F\",\"C\"),95),'HP3'!M52:M63,0)),SLOPE(T57:T58,U57:U58)*IF('Intro & Unit Options'!B12=Dropdown_Menus!F1,CONVERT(95,\"F\",\"C\"),95)+INTERCEPT(T57:T58,U57:U58))))","v":0}]
[null,{"$f":"IF(OR('Step 5 Identify & Select ASHPs'!$I$62,'Step 5 Identify & Select ASHPs'!$I$63),\"\",IF('Step 5 Identify & Select ASHPs'!$I$64,IF(MATCH(B52,$B$52:$B$63,0)>='Step 5 Identify & Select ASHPs'!$I$71,\"\",'Step 5 Identify & Select ASHPs'!$O$64),NA()))","v":""},{"$f":"IF(OR(B53=\"#N/A\",B53=\"\"),\"\",IFERROR(HLOOKUP('HP3'!B53,'Step 5 Identify & Select ASHPs'!$O$64:$Z$67,2,FALSE),\"\"))","v":""},{"$f":"IF(OR(B53=\"#N/A\",B53=\"\"),\"\",IFERROR(HLOOKUP(B53,'Step 5 Identify & Select ASHPs'!$O$64:$Z$67,IF('Step 5 Identify & Select ASHPs'!$I$74=\"EER\",4,3),FALSE),\"\"))","v":""},{"$f":"IF(OR(B53=\"#N/A\",B53=\"\"),\"\",IFERROR(HLOOKUP(B53,'Step 5 Identify & Select ASHPs'!$O$64:$Z$67,IF('Step 5 Identify & Select ASHPs'!$I$74=\"EER\",3,4),FALSE),\"\"))","v":""},null,null,null,{"$f":"CONCATENATE(\"HP COP @\",IF('Intro & Unit Options'!B13=Dropdown_Menus!F2,CONVERT(95,\"F\",\"C\"),95),IF('Intro & Unit Options'!$B$12=Dropdown_Menus!F2,\" C\",\" F\"),IF('Intro & Unit Options'!$B$12=Dropdown_Menus!F2,\" [kW]\",\" [BTU/h]\"))","v":"HP COP @95 F [BTU/h]"},{"$f":"IF(OR('Step 5 Identify & Select ASHPs'!$I$24,'Step 5 Identify & Select ASHPs'!$I$25,'Step 5 Identify & Select ASHPs'!$I$27),E52,IFERROR(INDEX(E52:E63,MATCH(IF('Intro & Unit Options'!B12=Dropdown_Menus!F1,CONVERT(95,\"F\",\"C\"),95),B52:B63,0)),SLOPE(G57:G58,J57:J58)*IF('Intro & Unit Options'!B12=Dropdown_Menus!F1,CONVERT(95,\"F\",\"C\"),95)+INTERCEPT(G57:G58,J57:J58)))","v":""},null,null,{"$f":"IF('Step 5 Identify & Select ASHPs'!$E$52=Dropdown_Menus!$A$2,\"\",'HP3'!B53)","v":""},{"$f":"IF(OR(M53=\"#N/A\",M53=\"\"),\"\",IFERROR(HLOOKUP('HP3'!M53,'Step 5 Identify & Select ASHPs'!$N$73:$AH$76,2,FALSE),\"\"))","v":""},{"$f":"IF(OR(M53=\"#N/A\",M53=\"\"),\"\",IFERROR(HLOOKUP(M53,'Step 5 Identify & Select ASHPs'!$N$73:$AH$76,IF('Step 5 Identify & Select ASHPs'!$I$74=\"EER\",4,3),FALSE),\"\"))","v":""},{"$f":"IF(OR(M53=\"#N/A\",M53=\"\"),\"\",IFERROR(HLOOKUP(M53,'Step 5 Identify & Select ASHPs'!$N$73:$AH$76,IF('Step 5 Identify & Select ASHPs'!$I$74=\"EER\",3,4),FALSE),\"\"))","v":""}]
[null,{"$f":"IF(OR('Step 5 Identify & Select ASHPs'!$I$62,'Step 5 Identify & Select ASHPs'!$I$63),\"\",IF('Step 5 Identify & Select ASHPs'!$I$64,IF(MATCH(B53,$B$52:$B$63,0)>='Step 5 Identify & Select ASHPs'!$I$71,\"\",'Step 5 Identify & Select ASHPs'!$P$64),NA()))","v":""},{"$f":"IF(OR(B54=\"#N/A\",B54=\"\"),\"\",IFERROR(HLOOKUP('HP3'!B54,'Step 5 Identify & Select ASHPs'!$O$64:$Z$67,2,FALSE),\"\"))","v":""},{"$f":"IF(OR(B54=\"#N/A\",B54=\"\"),\"\",IFERROR(HLOOKUP(B54,'Step 5 Identify & Select ASHPs'!$O$64:$Z$67,IF('Step 5 Identify & Select ASHPs'!$I$74=\"EER\",4,3),FALSE),\"\"))","v":""},{"$f":"IF(OR(B54=\"#N/A\",B54=\"\"),\"\",IFERROR(HLOOKUP(B54,'Step 5 Identify & Select ASHPs'!$O$64:$Z$67,IF('Step 5 Identify & Select ASHPs'!$I$74=\"EER\",3,4),FALSE),\"\"))","v":""},null,null,null,null,null,null,null,{"$f":"IF('Step 5 Identify & Select ASHPs'!$E$52=Dropdown_Menus!$A$2,\"\",'HP3'!B54)","v":""},{"$f":"IF(OR(M54=\"#N/A\",M54=\"\"),\"\",IFERROR(HLOOKUP('HP3'!M54,'Step 5 Identify & Select ASHPs'!$N$73:$AH$76,2,FALSE),\"\"))","v":""},{"$f":"IF(OR(M54=\"#N/A\",M54=\"\"),\"\",IFERROR(HLOOKUP(M54,'Step 5 Identify & Select ASHPs'!$N$73:$AH$76,IF('Step 5 Identify & Select ASHPs'!$I$74=\"EER\",4,3),FALSE),\"\"))","v":""},{"$f":"IF(OR(M54=\"#N/A\",M54=\"\"),\"\",IFERROR(HLOOKUP(M54,'Step 5 Identify & Select ASHPs'!$N$73:$AH$76,IF('Step 5 Identify & Select ASHPs'!$I$74=\"EER\",3,4),FALSE),\"\"))","v":""}]
[null,{"$f":"IF(OR('Step 5 Identify & Select ASHPs'!$I$62,'Step 5 Identify & Select ASHPs'!$I$63),\"\",IF('Step 5 Identify & Select ASHPs'!$I$64,IF(MATCH(B54,$B$52:$B$63,0)>='Step 5 Identify & Select ASHPs'!$I$71,\"\",'Step 5 Identify & Select ASHPs'!$Q$64),NA()))","v":""},{"$f":"IF(OR(B55=\"#N/A\",B55=\"\"),\"\",IFERROR(HLOOKUP('HP3'!B55,'Step 5 Identify & Select ASHPs'!$O$64:$Z$67,2,FALSE),\"\"))","v":""},{"$f":"IF(OR(B55=\"#N/A\",B55=\"\"),\"\",IFERROR(HLOOKUP(B55,'Step 5 Identify & Select ASHPs'!$O$64:$Z$67,IF('Step 5 Identify & Select ASHPs'!$I$74=\"EER\",4,3),FALSE),\"\"))","v":""},{"$f":"IF(OR(B55=\"#N/A\",B55=\"\"),\"\",IFERROR(HLOOKUP(B55,'Step 5 Identify & Select ASHPs'!$O$64:$Z$67,IF('Step 5 Identify & Select ASHPs'!$I$74=\"EER\",3,4),FALSE),\"\"))","v":""},null,"Slope and Intercept at Rated Conditions (HP Cap)",null,null,null,null,null,{"$f":"IF('Step 5 Identify & Select ASHPs'!$E$52=Dropdown_Menus!$A$2,\"\",'HP3'!B55)","v":""},{"$f":"IF(OR(M55=\"#N/A\",M55=\"\"),\"\",IFERROR(HLOOKUP('HP3'!M55,'Step 5 Identify & Select ASHPs'!$N$73:$AH$76,2,FALSE),\"\"))","v":""},{"$f":"IF(OR(M55=\"#N/A\",M55=\"\"),\"\",IFERROR(HLOOKUP(M55,'Step 5 Identify & Select ASHPs'!$N$73:$AH$76,IF('Step 5 Identify & Select ASHPs'!$I$74=\"EER\",4,3),FALSE),\"\"))","v":""},{"$f":"IF(OR(M55=\"#N/A\",M55=\"\"),\"\",IFERROR(HLOOKUP(M55,'Step 5 Identify & Select ASHPs'!$N$73:$AH$76,IF('Step 5 Identify & Select ASHPs'!$I$74=\"EER\",3,4),FALSE),\"\"))","v":""},null,null,null,"Slope and Intercept at Rated Conditions (HP Cap)"]
[null,{"$f":"IF(OR('Step 5 Identify & Select ASHPs'!$I$62,'Step 5 Identify & Select ASHPs'!$I$63),\"\",IF('Step 5 Identify & Select ASHPs'!$I$64,IF(MATCH(B55,$B$52:$B$63,0)>='Step 5 Identify & Select ASHPs'!$I$71,\"\",'Step 5 Identify & Select ASHPs'!$R$64),NA()))","v":""},{"$f":"IF(OR(B56=\"#N/A\",B56=\"\"),\"\",IFERROR(HLOOKUP('HP3'!B56,'Step 5 Identify & Select ASHPs'!$O$64:$Z$67,2,FALSE),\"\"))","v":""},{"$f":"IF(OR(B56=\"#N/A\",B56=\"\"),\"\",IFERROR(HLOOKUP(B56,'Step 5 Identify & Select ASHPs'!$O$64:$Z$67,IF('Step 5 Identify & Select ASHPs'!$I$74=\"EER\",4,3),FALSE),\"\"))","v":""},{"$f":"IF(OR(B56=\"#N/A\",B56=\"\"),\"\",IFERROR(HLOOKUP(B56,'Step 5 Identify & Select ASHPs'!$O$64:$Z$67,IF('Step 5 Identify & Select ASHPs'!$I$74=\"EER\",3,4),FALSE),\"\"))","v":""},null,"know ys (COP):",null,"know ys (capacity):","know xs",null,null,{"$f":"IF('Step 5 Identify & Select ASHPs'!$E$52=Dropdown_Menus!$A$2,\"\",'HP3'!B56)","v":""},{"$f":"IF(OR(M56=\"#N/A\",M56=\"\"),\"\",IFERROR(HLOOKUP('HP3'!M56,'Step 5 Identify & Select ASHPs'!$N$73:$AH$76,2,FALSE),\"\"))","v":""},{"$f":"IF(OR(M56=\"#N/A\",M56=\"\"),\"\",IFERROR(HLOOKUP(M56,'Step 5 Identify & Select ASHPs'!$N$73:$AH$76,IF('Step 5 Identify & Select ASHPs'!$I$74=\"EER\",4,3),FALSE),\"\"))","v":""},{"$f":"IF(OR(M56=\"#N/A\",M56=\"\"),\"\",IFERROR(HLOOKUP(M56,'Step 5 Identify & Select ASHPs'!$N$73:$AH$76,IF('Step 5 Identify & Select ASHPs'!$I$74=\"EER\",3,4),FALSE),\"\"))","v":""},null,null,null,"know ys (capacity):","know xs"]
[null,{"$f":"IF(OR('Step 5 Identify & Select ASHPs'!$I$62,'Step 5 Identify & Select ASHPs'!$I$63),\"\",IF('Step 5 Identify & Select ASHPs'!$I$64,IF(MATCH(B56,$B$52:$B$63,0)>='Step 5 Identify & Select ASHPs'!$I$71,\"\",'Step 5 Identify & Select ASHPs'!$S$64),NA()))","v":""},{"$f":"IF(OR(B57=\"#N/A\",B57=\"\"),\"\",IFERROR(HLOOKUP('HP3'!B57,'Step 5 Identify & Select ASHPs'!$O$64:$Z$67,2,FALSE),\"\"))","v":""},{"$f":"IF(OR(B57=\"#N/A\",B57=\"\"),\"\",IFERROR(HLOOKUP(B57,'Step 5 Identify & Select ASHPs'!$O$64:$Z$67,IF('Step 5 Identify & Select ASHPs'!$I$74=\"EER\",4,3),FALSE),\"\"))","v":""},{"$f":"IF(OR(B57=\"#N/A\",B57=\"\"),\"\",IFERROR(HLOOKUP(B57,'Step 5 Identify & Select ASHPs'!$O$64:$Z$67,IF('Step 5 Identify & Select ASHPs'!$I$74=\"EER\",3,4),FALSE),\"\"))","v":""},null,{"$f":"INDEX(E52:E63,MATCH(J57,B52:B63,0))","v":""},null,{"$f":"INDEX(C52:C63,MATCH(J57,B52:B63,0))","v":0},{"$f":"IF(MAX(B52:B63)<IF('Intro & Unit Options'!B12=Dropdown_Menus!F1,CONVERT(95,\"F\",\"C\"),95),MAX(B52:B63),INDEX(B52:B63,MATCH(IF('Intro & Unit Options'!B12=Dropdown_Menus!F1,CONVERT(95,\"F\",\"C\"),95),B52:B63,-1)))","v":95},null,null,{"$f":"IF('Step 5 Identify & Select ASHPs'!$E$52=Dropdown_Menus!$A$2,\"\",'HP3'!B57)","v":""},{"$f":"IF(OR(M57=\"#N/A\",M57=\"\"),\"\",IFERROR(HLOOKUP('HP3'!M57,'Step 5 Identify & Select ASHPs'!$N$73:$AH$76,2,FALSE),\"\"))","v":""},{"$f":"IF(OR(M57=\"#N/A\",M57=\"\"),\"\",IFERROR(HLOOKUP(M57,'Step 5 Identify & Select ASHPs'!$N$73:$AH$76,IF('Step 5 Identify & Select ASHPs'!$I$74=\"EER\",4,3),FALSE),\"\"))","v":""},{"$f":"IF(OR(M57=\"#N/A\",M57=\"\"),\"\",IFERROR(HLOOKUP(M57,'Step 5 Identify & Select ASHPs'!$N$73:$AH$76,IF('Step 5 Identify & Select ASHPs'!$I$74=\"EER\",3,4),FALSE),\"\"))","v":""},null,null,null,{"$f":"INDEX(N52:N63,MATCH(U57,M52:M63,0))","v":0},{"$f":"IF(MAX(M52:M63)<IF('Intro & Unit Options'!M12=Dropdown_Menus!Q1,CONVERT(95,\"F\",\"C\"),95),MAX(M52:M63),INDEX(M52:M63,MATCH(IF('Intro & Unit Options'!M12=Dropdown_Menus!Q1,CONVERT(95,\"F\",\"C\"),95),M52:M63,-1)))","v":95}]
[null,{"$f":"IF(OR('Step 5 Identify & Select ASHPs'!$I$62,'Step 5 Identify & Select ASHPs'!$I$63),\"\",IF('Step 5 Identify & Select ASHPs'!$I$64,IF(MATCH(B57,$B$52:$B$63,0)>='Step 5 Identify & Select ASHPs'!$I$71,\"\",'Step 5 Identify & Select ASHPs'!$T$64),NA()))","v":""},{"$f":"IF(OR(B58=\"#N/A\",B58=\"\"),\"\",IFERROR(HLOOKUP('HP3'!B58,'Step 5 Identify & Select ASHPs'!$O$64:$Z$67,2,FALSE),\"\"))","v":""},{"$f":"IF(OR(B58=\"#N/A\",B58=\"\"),\"\",IFERROR(HLOOKUP(B58,'Step 5 Identify & Select ASHPs'!$O$64:$Z$67,IF('Step 5 Identify & Select ASHPs'!$I$74=\"EER\",4,3),FALSE),\"\"))","v":""},{"$f":"IF(OR(B58=\"#N/A\",B58=\"\"),\"\",IFERROR(HLOOKUP(B58,'Step 5 Identify & Select ASHPs'!$O$64:$Z$67,IF('Step 5 Identify & Select ASHPs'!$I$74=\"EER\",3,4),FALSE),\"\"))","v":""},null,{"$f":"IF(J58=\"-\",\"-\",INDEX(E52:E63,MATCH(J58,B52:B63,0)))","v":""},null,{"$f":"IF(J58=\"-\",\"-\",INDEX(C52:C63,MATCH(J58,B52:B63,0)))","v":""},{"$f":"IF(J57=MIN(B52:B63),INDEX(B52:B63,MATCH(J57,B52:B63,0)-1),INDEX(B52:B63,MATCH(J57,B52:B63,0)+1))","v":""},null,null,{"$f":"IF('Step 5 Identify & Select ASHPs'!$E$52=Dropdown_Menus!$A$2,\"\",'HP3'!B58)","v":""},{"$f":"IF(OR(M58=\"#N/A\",M58=\"\"),\"\",IFERROR(HLOOKUP('HP3'!M58,'Step 5 Identify & Select ASHPs'!$N$73:$AH$76,2,FALSE),\"\"))","v":""},{"$f":"IF(OR(M58=\"#N/A\",M58=\"\"),\"\",IFERROR(HLOOKUP(M58,'Step 5 Identify & Select ASHPs'!$N$73:$AH$76,IF('Step 5 Identify & Select ASHPs'!$I$74=\"EER\",4,3),FALSE),\"\"))","v":""},{"$f":"IF(OR(M58=\"#N/A\",M58=\"\"),\"\",IFERROR(HLOOKUP(M58,'Step 5 Identify & Select ASHPs'!$N$73:$AH$76,IF('Step 5 Identify & Select ASHPs'!$I$74=\"EER\",3,4),FALSE),\"\"))","v":""},null,null,null,{"$f":"IF(U58=\"-\",\"-\",INDEX(N52:N63,MATCH(U58,M52:M63,0)))","v":""},{"$f":"IF(U57=MIN(M52:M63),INDEX(M52:M63,MATCH(U57,M52:M63,0)-1),INDEX(M52:M63,MATCH(U57,M52:M63,0)+1))","v":""}]
[null,{"$f":"IF(OR('Step 5 Identify & Select ASHPs'!$I$62,'Step 5 Identify & Select ASHPs'!$I$63),\"\",IF('Step 5 Identify & Select ASHPs'!$I$64,IF(MATCH(B58,$B$52:$B$63,0)>='Step 5 Identify & Select ASHPs'!$I$71,\"\",'Step 5 Identify & Select ASHPs'!$U$64),NA()))","v":""},{"$f":"IF(OR(B59=\"#N/A\",B59=\"\"),\"\",IFERROR(HLOOKUP('HP3'!B59,'Step 5 Identify & Select ASHPs'!$O$64:$Z$67,2,FALSE),\"\"))","v":""},{"$f":"IF(OR(B59=\"#N/A\",B59=\"\"),\"\",IFERROR(HLOOKUP(B59,'Step 5 Identify & Select ASHPs'!$O$64:$Z$67,IF('Step 5 Identify & Select ASHPs'!$I$74=\"EER\",4,3),FALSE),\"\"))","v":""},{"$f":"IF(OR(B59=\"#N/A\",B59=\"\"),\"\",IFERROR(HLOOKUP(B59,'Step 5 Identify & Select ASHPs'!$O$64:$Z$67,IF('Step 5 Identify & Select ASHPs'!$I$74=\"EER\",3,4),FALSE),\"\"))","v":""},null,null,null,null,null,null,null,{"$f":"IF('Step 5 Identify & Select ASHPs'!$E$52=Dropdown_Menus!$A$2,\"\",'HP3'!B59)","v":""},{"$f":"IF(OR(M59=\"#N/A\",M59=\"\"),\"\",IFERROR(HLOOKUP('HP3'!M59,'Step 5 Identify & Select ASHPs'!$N$73:$AH$76,2,FALSE),\"\"))","v":""},{"$f":"IF(OR(M59=\"#N/A\",M59=\"\"),\"\",IFERROR(HLOOKUP(M59,'Step 5 Identify & Select ASHPs'!$N$73:$AH$76,IF('Step 5 Identify & Select ASHPs'!$I$74=\"EER\",4,3),FALSE),\"\"))","v":""},{"$f":"IF(OR(M59=\"#N/A\",M59=\"\"),\"\",IFERROR(HLOOKUP(M59,'Step 5 Identify & Select ASHPs'!$N$73:$AH$76,IF('Step 5 Identify & Select ASHPs'!$I$74=\"EER\",3,4),FALSE),\"\"))","v":""}]
[null,{"$f":"IF(OR('Step 5 Identify & Select ASHPs'!$I$62,'Step 5 Identify & Select ASHPs'!$I$63),\"\",IF('Step 5 Identify & Select ASHPs'!$I$64,IF(MATCH(B59,$B$52:$B$63,0)>='Step 5 Identify & Select ASHPs'!$I$71,\"\",'Step 5 Identify & Select ASHPs'!$V$64),NA()))","v":""},{"$f":"IF(OR(B60=\"#N/A\",B60=\"\"),\"\",IFERROR(HLOOKUP('HP3'!B60,'Step 5 Identify & Select ASHPs'!$O$64:$Z$67,2,FALSE),\"\"))","v":""},{"$f":"IF(OR(B60=\"#N/A\",B60=\"\"),\"\",IFERROR(HLOOKUP(B60,'Step 5 Identify & Select ASHPs'!$O$64:$Z$67,IF('Step 5 Identify & Select ASHPs'!$I$74=\"EER\",4,3),FALSE),\"\"))","v":""},{"$f":"IF(OR(B60=\"#N/A\",B60=\"\"),\"\",IFERROR(HLOOKUP(B60,'Step 5 Identify & Select ASHPs'!$O$64:$Z$67,IF('Step 5 Identify & Select ASHPs'!$I$74=\"EER\",3,4),FALSE),\"\"))","v":""},null,null,null,"Slope and Intercept at the Design Temp.",null,null,null,{"$f":"IF('Step 5 Identify & Select ASHPs'!$E$52=Dropdown_Menus!$A$2,\"\",'HP3'!B60)","v":""},{"$f":"IF(OR(M60=\"#N/A\",M60=\"\"),\"\",IFERROR(HLOOKUP('HP3'!M60,'Step 5 Identify & Select ASHPs'!$N$73:$AH$76,2,FALSE),\"\"))","v":""},{"$f":"IF(OR(M60=\"#N/A\",M60=\"\"),\"\",IFERROR(HLOOKUP(M60,'Step 5 Identify & Select ASHPs'!$N$73:$AH$76,IF('Step 5 Identify & Select ASHPs'!$I$74=\"EER\",4,3),FALSE),\"\"))","v":""},{"$f":"IF(OR(M60=\"#N/A\",M60=\"\"),\"\",IFERROR(HLOOKUP(M60,'Step 5 Identify & Select ASHPs'!$N$73:$AH$76,IF('Step 5 Identify & Select ASHPs'!$I$74=\"EER\",3,4),FALSE),\"\"))","v":""},null,null,null,"Slope and Intercept at the Design Temp."]
[null,{"$f":"IF(OR('Step 5 Identify & Select ASHPs'!$I$62,'Step 5 Identify & Select ASHPs'!$I$63),\"\",IF('Step 5 Identify & Select ASHPs'!$I$64,IF(MATCH(B60,$B$52:$B$63,0)>='Step 5 Identify & Select ASHPs'!$I$71,\"\",'Step 5 Identify & Select ASHPs'!$W$64),NA()))","v":""},{"$f":"IF(OR(B61=\"#N/A\",B61=\"\"),\"\",IFERROR(HLOOKUP('HP3'!B61,'Step 5 Identify & Select ASHPs'!$O$64:$Z$67,2,FALSE),\"\"))","v":""},{"$f":"IF(OR(B61=\"#N/A\",B61=\"\"),\"\",IFERROR(HLOOKUP(B61,'Step 5 Identify & Select ASHPs'!$O$64:$Z$67,IF('Step 5 Identify & Select ASHPs'!$I$74=\"EER\",4,3),FALSE),\"\"))","v":""},{"$f":"IF(OR(B61=\"#N/A\",B61=\"\"),\"\",IFERROR(HLOOKUP(B61,'Step 5 Identify & Select ASHPs'!$O$64:$Z$67,IF('Step 5 Identify & Select ASHPs'!$I$74=\"EER\",3,4),FALSE),\"\"))","v":""},null,null,null,"know ys (capacity):","know xs",null,null,{"$f":"IF('Step 5 Identify & Select ASHPs'!$E$52=Dropdown_Menus!$A$2,\"\",'HP3'!B61)","v":""},{"$f":"IF(OR(M61=\"#N/A\",M61=\"\"),\"\",IFERROR(HLOOKUP('HP3'!M61,'Step 5 Identify & Select ASHPs'!$N$73:$AH$76,2,FALSE),\"\"))","v":""},{"$f":"IF(OR(M61=\"#N/A\",M61=\"\"),\"\",IFERROR(HLOOKUP(M61,'Step 5 Identify & Select ASHPs'!$N$73:$AH$76,IF('Step 5 Identify & Select ASHPs'!$I$74=\"EER\",4,3),FALSE),\"\"))","v":""},{"$f":"IF(OR(M61=\"#N/A\",M61=\"\"),\"\",IFERROR(HLOOKUP(M61,'Step 5 Identify & Select ASHPs'!$N$73:$AH$76,IF('Step 5 Identify & Select ASHPs'!$I$74=\"EER\",3,4),FALSE),\"\"))","v":""},null,null,null,"know ys (capacity):","know xs"]
[null,{"$f":"IF(OR('Step 5 Identify & Select ASHPs'!$I$62,'Step 5 Identify & Select ASHPs'!$I$63),\"\",IF('Step 5 Identify & Select ASHPs'!$I$64,IF(MATCH(B61,$B$52:$B$63,0)>='Step 5 Identify & Select ASHPs'!$I$71,\"\",'Step 5 Identify & Select ASHPs'!$X$64),NA()))","v":""},{"$f":"IF(OR(B62=\"#N/A\",B62=\"\"),\"\",IFERROR(HLOOKUP('HP3'!B62,'Step 5 Identify & Select ASHPs'!$O$64:$Z$67,2,FALSE),\"\"))","v":""},{"$f":"IF(OR(B62=\"#N/A\",B62=\"\"),\"\",IFERROR(HLOOKUP(B62,'Step 5 Identify & Select ASHPs'!$O$64:$Z$67,IF('Step 5 Identify & Select ASHPs'!$I$74=\"EER\",4,3),FALSE),\"\"))","v":""},{"$f":"IF(OR(B62=\"#N/A\",B62=\"\"),\"\",IFERROR(HLOOKUP(B62,'Step 5 Identify & Select ASHPs'!$O$64:$Z$67,IF('Step 5 Identify & Select ASHPs'!$I$74=\"EER\",3,4),FALSE),\"\"))","v":""},null,null,null,{"$f":"INDEX(C52:C63,MATCH(J62,B52:B63,0))","v":0},{"$f":"IF(C47<MIN(B52:B63),INDEX(B52:B63,MATCH(MIN(B52:B63),B52:B63,-1)),IFERROR(INDEX(B52:B63,MATCH(C47,B52:B63,0)),INDEX(B52:B63,MATCH(C47,B52:B63,-1))))","v":95},null,null,{"$f":"IF('Step 5 Identify & Select ASHPs'!$E$52=Dropdown_Menus!$A$2,\"\",'HP3'!B62)","v":""},{"$f":"IF(OR(M62=\"#N/A\",M62=\"\"),\"\",IFERROR(HLOOKUP('HP3'!M62,'Step 5 Identify & Select ASHPs'!$N$73:$AH$76,2,FALSE),\"\"))","v":""},{"$f":"IF(OR(M62=\"#N/A\",M62=\"\"),\"\",IFERROR(HLOOKUP(M62,'Step 5 Identify & Select ASHPs'!$N$73:$AH$76,IF('Step 5 Identify & Select ASHPs'!$I$74=\"EER\",4,3),FALSE),\"\"))","v":""},{"$f":"IF(OR(M62=\"#N/A\",M62=\"\"),\"\",IFERROR(HLOOKUP(M62,'Step 5 Identify & Select ASHPs'!$N$73:$AH$76,IF('Step 5 Identify & Select ASHPs'!$I$74=\"EER\",3,4),FALSE),\"\"))","v":""},null,null,null,{"$f":"INDEX(N52:N63,MATCH(U62,M52:M63,0))","v":0},{"$f":"IF(N47<MIN(M52:M63),INDEX(M52:M63,MATCH(MIN(M52:M63),M52:M63,-1)),IFERROR(INDEX(M52:M63,MATCH(N47,M52:M63,0)),INDEX(M52:M63,MATCH(N47,M52:M63,-1))))","v":95}]
[null,{"$f":"IF(OR('Step 5 Identify & Select ASHPs'!$I$62,'Step 5 Identify & Select ASHPs'!$I$63),\"\",IF('Step 5 Identify & Select ASHPs'!$I$64,IF(MATCH(B62,$B$52:$B$63,0)>='Step 5 Identify & Select ASHPs'!$I$71,\"\",'Step 5 Identify & Select ASHPs'!$Y$64),NA()))","v":""},{"$f":"IF(OR(B63=\"#N/A\",B63=\"\"),\"\",IFERROR(HLOOKUP('HP3'!B63,'Step 5 Identify & Select ASHPs'!$O$64:$Z$67,2,FALSE),\"\"))","v":""},{"$f":"IF(OR(B63=\"#N/A\",B63=\"\"),\"\",IFERROR(HLOOKUP(B63,'Step 5 Identify & Select ASHPs'!$O$64:$Z$67,IF('Step 5 Identify & Select ASHPs'!$I$74=\"EER\",4,3),FALSE),\"\"))","v":""},{"$f":"IF(OR(B63=\"#N/A\",B63=\"\"),\"\",IFERROR(HLOOKUP(B63,'Step 5 Identify & Select ASHPs'!$O$64:$Z$67,IF('Step 5 Identify & Select ASHPs'!$I$74=\"EER\",3,4),FALSE),\"\"))","v":""},null,null,null,{"$f":"IF(J63=\"-\",\"-\",INDEX(C52:C63,MATCH(J63,B52:B63,0)))","v":""},{"$f":"IF(J62=C47,\"-\",INDEX(B52:B63,MATCH(J62,B52:B63,0)+1))","v":""},null,null,{"$f":"IF('Step 5 Identify & Select ASHPs'!$E$52=Dropdown_Menus!$A$2,\"\",'HP3'!B63)","v":""},{"$f":"IF(OR(M63=\"#N/A\",M63=\"\"),\"\",IFERROR(HLOOKUP('HP3'!M63,'Step 5 Identify & Select ASHPs'!$N$73:$AH$76,2,FALSE),\"\"))","v":""},{"$f":"IF(OR(M63=\"#N/A\",M63=\"\"),\"\",IFERROR(HLOOKUP(M63,'Step 5 Identify & Select ASHPs'!$N$73:$AH$76,IF('Step 5 Identify & Select ASHPs'!$I$74=\"EER\",4,3),FALSE),\"\"))","v":""},{"$f":"IF(OR(M63=\"#N/A\",M63=\"\"),\"\",IFERROR(HLOOKUP(M63,'Step 5 Identify & Select ASHPs'!$N$73:$AH$76,IF('Step 5 Identify & Select ASHPs'!$I$74=\"EER\",3,4),FALSE),\"\"))","v":""},null,null,null,{"$f":"IF(U63=\"-\",\"-\",INDEX(N52:N63,MATCH(U63,M52:M63,0)))","v":""},{"$f":"IF(U62=N47,\"-\",INDEX(M52:M63,MATCH(U62,M52:M63,0)+1))","v":""}]

{"sheet":"HP4","index":21,"n_rows":63,"n_cols":21,"rows_kept":63,"cut":false,"hidden":true,"merged":[[6,8,6,9],[6,19,6,20],[7,6,8,6],[7,17,8,17],[31,1,31,3],[31,5,31,6],[31,12,31,14],[31,16,31,17],[24,8,24,9],[28,8,28,9],[59,8,59,9],[59,19,59,20],[36,1,36,4],[36,5,36,6],[36,12,36,15],[36,16,36,17],[48,8,48,9],[48,19,48,20],[54,19,54,20],[57,6,57,7],[32,8,32,9],[36,8,36,9],[54,6,54,9],[55,6,55,7],[56,6,56,7]]}
[null,"Actual Curves - HP #1"]
[]
[null,"Heating - High Stage",null,null,null,null,null,null,null,null,null,null,"Heating - Low Stage"]
[]
[null,"Design Temp. (heat)",{"$f":"'Design Load Calcs'!$B$24","v":0},null,null,null,null,null,null,null,null,null,"Design Temp. (heat)",{"$f":"'Design Load Calcs'!$B$24","v":0}]
[]
[null,"Performance Data and Heating Load Line",null,null,null,null,null,null,"Outputs:",null,null,null,null,null,null,null,null,null,null,"Outputs:"]
[null,"Outdoor Temp.","Actual Capacity","Actual Power","Actual COP","Heating Load Line ","Intersect. Cap/Htg Load Line",null,{"$f":"CONCATENATE(\"HP cap @ Design Temp.\",IF('Intro & Unit Options'!$B$12=Dropdown_Menus!F1,\" [kW]\",\" [BTU/h]\"))","v":"HP cap @ Design Temp. [BTU/h]"},{"$f":"IF(OR(G34=\"-\",G34=C5),F34,SLOPE(F34:F35,G34:G35)*C5+INTERCEPT(F34:F35,G34:G35))","v":0},null,null,"Outdoor Temp.","Actual Capacity","Actual Power","Actual COP","Heating Load Line ","Intersect. Cap/Htg Load Line",null,{"$f":"CONCATENATE(\"HP cap @ Design Temp.\",IF('Intro & Unit Options'!$B$12=Dropdown_Menus!Q1,\" [kW]\",\" [BTU/h]\"))","v":"HP cap @ Design Temp. [BTU/h]"},{"$f":"IF(OR(R34=\"-\",R34=N5),Q34,SLOPE(Q34:Q35,R34:R35)*N5+INTERCEPT(Q34:Q35,R34:R35))","v":0}]
[null,{"$f":"IF('Intro & Unit Options'!$B$12=Dropdown_Menus!$F$1,\"[°C]\",\"[°F]\")","v":"[°F]"},{"$f":"IF('Intro & Unit Options'!$B$12=Dropdown_Menus!$F$1,\"[kW]\",\"[BTU/h]\")","v":"[BTU/h]"},"[kW]","[-]",{"$f":"IF('Intro & Unit Options'!$B$12=Dropdown_Menus!$F$1,\"[kW]\",\"[BTU/h]\")","v":"[BTU/h]"},null,null,{"$f":"CONCATENATE(\"BPT\",IF('Intro & Unit Options'!$B$12=Dropdown_Menus!F1,\" [°C]\",\" [°F]\"))","v":"BPT [°F]"},{"$f":"IF((C10-F10)<0,\"None\",IF((INDEX(C10:C29,MATCH(C40,B10:B29,0))-INDEX(F10:F29,MATCH(C40,B10:B29,0)))>0,E41,C41))","v":"None"},null,null,{"$f":"IF('Intro & Unit Options'!$B$12=Dropdown_Menus!$F$1,\"[°C]\",\"[°F]\")","v":"[°F]"},{"$f":"IF('Intro & Unit Options'!$B$12=Dropdown_Menus!$F$1,\"[kW]\",\"[BTU/h]\")","v":"[BTU/h]"},"[kW]","[-]",{"$f":"IF('Intro & Unit Options'!$B$12=Dropdown_Menus!$F$1,\"[kW]\",\"[BTU/h]\")","v":"[BTU/h]"},null,null,{"$f":"CONCATENATE(\"BPT\",IF('Intro & Unit Options'!$B$12=Dropdown_Menus!Q1,\" [°C]\",\" [°F]\"))","v":"BPT [°F]"},{"$f":"IF((N10-Q10)<0,\"None\",IF((INDEX(N10:N29,MATCH(N40,M10:M29,0))-INDEX(Q10:Q29,MATCH(N40,M10:M29,0)))>0,P41,N41))","v":"None"}]
[null,{"$f":"IF(OR('Step 5 Identify & Select ASHPs'!$I$81,'Step 5 Identify & Select ASHPs'!$I$82,'Step 5 Identify & Select ASHPs'!$I$83),'Step 5 Identify & Select ASHPs'!$N$79,NA())","v":47},{"$f":"IF(OR(B10=\"#N/A\",B10=\"\"),\"\",IFERROR(HLOOKUP('HP4'!B10,'Step 5 Identify & Select ASHPs'!$N$79:$AH$82,2,FALSE),\"\"))","v":0},{"$f":"IF(OR(B10=\"#N/A\",B10=\"\"),\"\",IFERROR(HLOOKUP('HP4'!B10,'Step 5 Identify & Select ASHPs'!$N$79:$AD$82,IF('Step 5 Identify & Select ASHPs'!$I$92=\"COP\",4,3),FALSE),\"\"))","v":0},{"$f":"IF(OR(B10=\"#N/A\",B10=\"\"),\"\",IFERROR(HLOOKUP('HP4'!B10,'Step 5 Identify & Select ASHPs'!$N$79:$AD$83,IF('Step 5 Identify & Select ASHPs'!$I$92=\"COP\",3,4),FALSE),\"\"))","v":""},{"$f":"(B10*'Design Load Calcs'!$G$23+'Design Load Calcs'!$H$23)","v":10833.333333333328},{"$f":"IF(B10=\"\",\"\",ABS(C10-F10))","v":10833.333333333328},null,"Fraction of heating above BPT",{"$f":"IF(ISNUMBER(MATCH(J9,'Load %s'!N8:N24,0)),F39,SLOPE(F39:F40,G39:G40)*J9+INTERCEPT(F39:F40,G39:G40))","v":{"$error":"#N/A"}},null,null,{"$f":"IF('Step 5 Identify & Select ASHPs'!$E$90=Dropdown_Menus!$A$2,\"\",'HP4'!B10)","v":47},{"$f":"IF(OR(M10=\"#N/A\",M10=\"\"),\"\",IFERROR(HLOOKUP('HP4'!M10,'Step 5 Identify & Select ASHPs'!$N$88:$AH$91,2,FALSE),\"\"))","v":0},{"$f":"IF(OR(M10=\"#N/A\",M10=\"\"),\"\",IFERROR(HLOOKUP('HP4'!M10,'Step 5 Identify & Select ASHPs'!$N$88:$AH$91,IF('Step 5 Identify & Select ASHPs'!$I$92=\"COP\",4,3),FALSE),\"\"))","v":0},{"$f":"IF(OR(B10=\"#N/A\",B10=\"\"),\"\",IFERROR(HLOOKUP('HP4'!B10,'Step 5 Identify & Select ASHPs'!$N$88:$AH$91,IF('Step 5 Identify & Select ASHPs'!$I$92=\"COP\",3,4),FALSE),\"\"))","v":""},{"$f":"(M10*'Design Load Calcs'!$G$23+'Design Load Calcs'!$H$23)","v":10833.333333333328},{"$f":"IF(M10=\"\",\"\",ABS(N10-Q10))","v":10833.333333333328},null,"Fraction of heating above BPT",{"$f":"SLOPE(Q39:Q40,R39:R40)*U9+INTERCEPT(Q39:Q40,R39:R40)","v":{"$error":"#N/A"}}]
[null,{"$f":"IF(OR('Step 5 Identify & Select ASHPs'!$I$81,'Step 5 Identify & Select ASHPs'!$I$82,'Step 5 Identify & Select ASHPs'!$I$83),'Step 5 Identify & Select ASHPs'!$O$79,NA())","v":17},{"$f":"IF(OR(B11=\"#N/A\",B11=\"\"),\"\",IFERROR(HLOOKUP('HP4'!B11,'Step 5 Identify & Select ASHPs'!$N$79:$AH$82,2,FALSE),\"\"))","v":0},{"$f":"IF(OR(B11=\"#N/A\",B11=\"\"),\"\",IFERROR(HLOOKUP('HP4'!B11,'Step 5 Identify & Select ASHPs'!$N$79:$AH$82,IF('Step 5 Identify & Select ASHPs'!$I$92=\"COP\",4,3),FALSE),\"\"))","v":0},{"$f":"IF(OR(B11=\"#N/A\",B11=\"\"),\"\",IFERROR(HLOOKUP('HP4'!B11,'Step 5 Identify & Select ASHPs'!$N$79:$AH$83,IF('Step 5 Identify & Select ASHPs'!$I$92=\"COP\",3,4),FALSE),\"\"))","v":""},{"$f":"(B11*'Design Load Calcs'!$G$23+'Design Load Calcs'!$H$23)","v":35833.333333333328},{"$f":"IF(B11=\"\",\"\",ABS(C11-F11))","v":35833.333333333328},null,{"$f":"CONCATENATE(\"HP cap @ BPT\",IF('Intro & Unit Options'!$B$12=Dropdown_Menus!F1,\" [kW]\",\" [BTU/h]\"))","v":"HP cap @ BPT [BTU/h]"},{"$f":"IF((C10-F10)<0,\"None\",IF((INDEX(C10:C29,MATCH(C40,B10:B29,0))-INDEX(F10:F29,MATCH(C40,B10:B29,0)))>0,SLOPE(D39:D40,E39:E40)*J9+INTERCEPT(D39:D40,E39:E40),SLOPE(B39:B40,C39:C40)*J9+INTERCEPT(B39:B40,C39:C40)))","v":"None"},null,null,{"$f":"IF('Step 5 Identify & Select ASHPs'!$E$90=Dropdown_Menus!$A$2,\"\",'HP4'!B11)","v":17},{"$f":"IF(OR(M11=\"#N/A\",M11=\"\"),\"\",IFERROR(HLOOKUP('HP4'!M11,'Step 5 Identify & Select ASHPs'!$N$88:$AH$91,2,FALSE),\"\"))","v":0},{"$f":"IF(OR(M11=\"#N/A\",M11=\"\"),\"\",IFERROR(HLOOKUP('HP4'!M11,'Step 5 Identify & Select ASHPs'!$N$88:$AH$91,IF('Step 5 Identify & Select ASHPs'!$I$92=\"COP\",4,3),FALSE),\"\"))","v":0},{"$f":"IF(OR(B11=\"#N/A\",B11=\"\"),\"\",IFERROR(HLOOKUP('HP4'!B11,'Step 5 Identify & Select ASHPs'!$N$88:$AH$91,IF('Step 5 Identify & Select ASHPs'!$I$92=\"COP\",3,4),FALSE),\"\"))","v":""},{"$f":"(M11*'Design Load Calcs'!$G$23+'Design Load Calcs'!$H$23)","v":35833.333333333328},{"$f":"IF(M11=\"\",\"\",ABS(N11-Q11))","v":35833.333333333328},null,{"$f":"CONCATENATE(\"HP cap @ BPT\",IF('Intro & Unit Options'!$B$12=Dropdown_Menus!Q1,\" [kW]\",\" [BTU/h]\"))","v":"HP cap @ BPT [BTU/h]"},{"$f":"IF((N10-Q10)<0,\"None\",IF((INDEX(N10:N29,MATCH(N40,M10:M29,0))-INDEX(Q10:Q29,MATCH(N40,M10:M29,0)))>0,SLOPE(O39:O40,P39:P40)*U9+INTERCEPT(O39:O40,P39:P40),SLOPE(M39:M40,N39:N40)*U9+INTERCEPT(M39:M40,N39:N40)))","v":"None"}]
[null,{"$f":"IF('Step 5 Identify & Select ASHPs'!$I$81,\"\",IF(OR('Step 5 Identify & Select ASHPs'!$I$82,'Step 5 Identify & Select ASHPs'!$I$83),'Step 5 Identify & Select ASHPs'!$P$79,NA()))","v":""},{"$f":"IF(OR(B12=\"#N/A\",B12=\"\"),\"\",IFERROR(HLOOKUP('HP4'!B12,'Step 5 Identify & Select ASHPs'!$N$79:$AH$82,2,FALSE),\"\"))","v":""},{"$f":"IF(OR(B12=\"#N/A\",B12=\"\"),\"\",IFERROR(HLOOKUP('HP4'!B12,'Step 5 Identify & Select ASHPs'!$N$79:$AH$82,IF('Step 5 Identify & Select ASHPs'!$I$92=\"COP\",4,3),FALSE),\"\"))","v":""},{"$f":"IF(OR(B12=\"#N/A\",B12=\"\"),\"\",IFERROR(HLOOKUP('HP4'!B12,'Step 5 Identify & Select ASHPs'!$N$79:$AH$83,IF('Step 5 Identify & Select ASHPs'!$I$92=\"COP\",3,4),FALSE),\"\"))","v":""},{"$f":"(B12*'Design Load Calcs'!$G$23+'Design Load Calcs'!$H$23)","v":{"$error":"#VALUE!"}},"",null,{"$f":"CONCATENATE(\"HP cap @\",IF('Intro & Unit Options'!B12=Dropdown_Menus!F1,CONVERT(47,\"F\",\"C\"),47),IF('Intro & Unit Options'!$B$12=Dropdown_Menus!F1,\" C\",\" F\"),IF('Intro & Unit Options'!$B$12=Dropdown_Menus!F1,\" [kW]\",\" [BTU/h]\"))","v":"HP cap @47 F [BTU/h]"},{"$f":"IF(OR('Step 5 Identify & Select ASHPs'!$I$81,'Step 5 Identify & Select ASHPs'!$I$82,'Step 5 Identify & Select ASHPs'!$I$84),C10,IFERROR(INDEX(C10:C29,MATCH(IF('Intro & Unit Options'!B12=Dropdown_Menus!F1,CONVERT(47,\"F\",\"C\"),47),B10:B29,0)),SLOPE(I35:I36,J35:J36)*IF('Intro & Unit Options'!B12=Dropdown_Menus!F1,CONVERT(47,\"F\",\"C\"),47)+INTERCEPT(I35:I36,J35:J36)))","v":0},null,null,{"$f":"IF('Step 5 Identify & Select ASHPs'!$E$90=Dropdown_Menus!$A$2,\"\",'HP4'!B12)","v":""},{"$f":"IF(OR(M12=\"#N/A\",M12=\"\"),\"\",IFERROR(HLOOKUP('HP4'!M12,'Step 5 Identify & Select ASHPs'!$N$88:$AH$91,2,FALSE),\"\"))","v":""},{"$f":"IF(OR(M12=\"#N/A\",M12=\"\"),\"\",IFERROR(HLOOKUP('HP4'!M12,'Step 5 Identify & Select ASHPs'!$N$88:$AH$91,IF('Step 5 Identify & Select ASHPs'!$I$92=\"COP\",4,3),FALSE),\"\"))","v":""},{"$f":"IF(OR(B12=\"#N/A\",B12=\"\"),\"\",IFERROR(HLOOKUP('HP4'!B12,'Step 5 Identify & Select ASHPs'!$N$88:$AH$91,IF('Step 5 Identify & Select ASHPs'!$I$92=\"COP\",3,4),FALSE),\"\"))","v":""},{"$f":"(M12*'Design Load Calcs'!$G$23+'Design Load Calcs'!$H$23)","v":{"$error":"#VALUE!"}},""]
[null,{"$f":"IF(OR('Step 5 Identify & Select ASHPs'!$I$81,'Step 5 Identify & Select ASHPs'!$I$82),\"\",IF('Step 5 Identify & Select ASHPs'!$I$83,IF(MATCH(B12,$B$10:$B$29,0)>='Step 5 Identify & Select ASHPs'!$I$89,\"\",'Step 5 Identify & Select ASHPs'!$Q$79),NA()))","v":""},{"$f":"IF(OR(B13=\"#N/A\",B13=\"\"),\"\",IFERROR(HLOOKUP('HP4'!B13,'Step 5 Identify & Select ASHPs'!$N$79:$AH$82,2,FALSE),\"\"))","v":""},{"$f":"IF(OR(B13=\"#N/A\",B13=\"\"),\"\",IFERROR(HLOOKUP('HP4'!B13,'Step 5 Identify & Select ASHPs'!$N$79:$AH$82,IF('Step 5 Identify & Select ASHPs'!$I$92=\"COP\",4,3),FALSE),\"\"))","v":""},{"$f":"IF(OR(B13=\"#N/A\",B13=\"\"),\"\",IFERROR(HLOOKUP('HP4'!B13,'Step 5 Identify & Select ASHPs'!$N$79:$AH$83,IF('Step 5 Identify & Select ASHPs'!$I$92=\"COP\",3,4),FALSE),\"\"))","v":""},{"$f":"(B13*'Design Load Calcs'!$G$23+'Design Load Calcs'!$H$23)","v":{"$error":"#VALUE!"}},"",null,{"$f":"CONCATENATE(\"HP cap @\",IF('Intro & Unit Options'!B12=Dropdown_Menus!F1,CONVERT(17,\"F\",\"C\"),17),IF('Intro & Unit Options'!$B$12=Dropdown_Menus!F1,\" C\",\" F\"),IF('Intro & Unit Options'!$B$12=Dropdown_Menus!F1,\" [kW]\",\" [BTU/h]\"))","v":"HP cap @17 F [BTU/h]"},{"$f":"IF(OR('Step 5 Identify & Select ASHPs'!$I$81,'Step 5 Identify & Select ASHPs'!$I$82,'Step 5 Identify & Select ASHPs'!$I$84),C11,IFERROR(INDEX(C10:C29,MATCH(IF('Intro & Unit Options'!B12=Dropdown_Menus!F1,CONVERT(17,\"F\",\"C\"),17),B10:B29,0)),SLOPE(I39:I40,J39:J40)*IF('Intro & Unit Options'!B12=Dropdown_Menus!F1,CONVERT(17,\"F\",\"C\"),17)+INTERCEPT(I39:I40,J39:J40)))","v":0},null,null,{"$f":"IF('Step 5 Identify & Select ASHPs'!$E$90=Dropdown_Menus!$A$2,\"\",'HP4'!B13)","v":""},{"$f":"IF(OR(M13=\"#N/A\",M13=\"\"),\"\",IFERROR(HLOOKUP('HP4'!M13,'Step 5 Identify & Select ASHPs'!$N$88:$AH$91,2,FALSE),\"\"))","v":""},{"$f":"IF(OR(M13=\"#N/A\",M13=\"\"),\"\",IFERROR(HLOOKUP('HP4'!M13,'Step 5 Identify & Select ASHPs'!$N$88:$AH$91,IF('Step 5 Identify & Select ASHPs'!$I$92=\"COP\",4,3),FALSE),\"\"))","v":""},{"$f":"IF(OR(B13=\"#N/A\",B13=\"\"),\"\",IFERROR(HLOOKUP('HP4'!B13,'Step 5 Identify & Select ASHPs'!$N$88:$AH$91,IF('Step 5 Identify & Select ASHPs'!$I$92=\"COP\",3,4),FALSE),\"\"))","v":""},{"$f":"(M13*'Design Load Calcs'!$G$23+'Design Load Calcs'!$H$23)","v":{"$error":"#VALUE!"}},""]
[null,{"$f":"IF(OR('Step 5 Identify & Select ASHPs'!$I$81,'Step 5 Identify & Select ASHPs'!$I$82),\"\",IF('Step 5 Identify & Select ASHPs'!$I$83,IF(MATCH(B13,$B$10:$B$29,0)>='Step 5 Identify & Select ASHPs'!$I$89,\"\",'Step 5 Identify & Select ASHPs'!$R$79),NA()))","v":""},{"$f":"IF(OR(B14=\"#N/A\",B14=\"\"),\"\",IFERROR(HLOOKUP('HP4'!B14,'Step 5 Identify & Select ASHPs'!$N$79:$AH$82,2,FALSE),\"\"))","v":""},{"$f":"IF(OR(B14=\"#N/A\",B14=\"\"),\"\",IFERROR(HLOOKUP('HP4'!B14,'Step 5 Identify & Select ASHPs'!$N$79:$AH$82,IF('Step 5 Identify & Select ASHPs'!$I$92=\"COP\",4,3),FALSE),\"\"))","v":""},{"$f":"IF(OR(B14=\"#N/A\",B14=\"\"),\"\",IFERROR(HLOOKUP('HP4'!B14,'Step 5 Identify & Select ASHPs'!$N$79:$AH$83,IF('Step 5 Identify & Select ASHPs'!$I$92=\"COP\",3,4),FALSE),\"\"))","v":""},{"$f":"(B14*'Design Load Calcs'!$G$23+'Design Load Calcs'!$H$23)","v":{"$error":"#VALUE!"}},{"$f":"IF(B14=\"\",\"\",ABS(C14-F14))","v":""},null,"Max Cap",{"$f":"IFERROR(MAX(C10:C30),0)","v":0},null,null,{"$f":"IF('Step 5 Identify & Select ASHPs'!$E$90=Dropdown_Menus!$A$2,\"\",'HP4'!B14)","v":""},{"$f":"IF(OR(M14=\"#N/A\",M14=\"\"),\"\",IFERROR(HLOOKUP('HP4'!M14,'Step 5 Identify & Select ASHPs'!$N$88:$AH$91,2,FALSE),\"\"))","v":""},{"$f":"IF(OR(M14=\"#N/A\",M14=\"\"),\"\",IFERROR(HLOOKUP('HP4'!M14,'Step 5 Identify & Select ASHPs'!$N$88:$AH$91,IF('Step 5 Identify & Select ASHPs'!$I$92=\"COP\",4,3),FALSE),\"\"))","v":""},{"$f":"IF(OR(B14=\"#N/A\",B14=\"\"),\"\",IFERROR(HLOOKUP('HP4'!B14,'Step 5 Identify & Select ASHPs'!$N$88:$AH$91,IF('Step 5 Identify & Select ASHPs'!$I$92=\"COP\",3,4),FALSE),\"\"))","v":""},{"$f":"(M14*'Design Load Calcs'!$G$23+'Design Load Calcs'!$H$23)","v":{"$error":"#VALUE!"}},{"$f":"IF(M14=\"\",\"\",ABS(N14-Q14))","v":""}]
[null,{"$f":"IF(OR('Step 5 Identify & Select ASHPs'!$I$81,'Step 5 Identify & Select ASHPs'!$I$82),\"\",IF('Step 5 Identify & Select ASHPs'!$I$83,IF(MATCH(B14,$B$10:$B$29,0)>='Step 5 Identify & Select ASHPs'!$I$89,\"\",'Step 5 Identify & Select ASHPs'!$S$79),NA()))","v":""},{"$f":"IF(OR(B15=\"#N/A\",B15=\"\"),\"\",IFERROR(HLOOKUP('HP4'!B15,'Step 5 Identify & Select ASHPs'!$N$79:$AH$82,2,FALSE),\"\"))","v":""},{"$f":"IF(OR(B15=\"#N/A\",B15=\"\"),\"\",IFERROR(HLOOKUP('HP4'!B15,'Step 5 Identify & Select ASHPs'!$N$79:$AH$82,IF('Step 5 Identify & Select ASHPs'!$I$92=\"COP\",4,3),FALSE),\"\"))","v":""},{"$f":"IF(OR(B15=\"#N/A\",B15=\"\"),\"\",IFERROR(HLOOKUP('HP4'!B15,'Step 5 Identify & Select ASHPs'!$N$79:$AH$83,IF('Step 5 Identify & Select ASHPs'!$I$92=\"COP\",3,4),FALSE),\"\"))","v":""},{"$f":"(B15*'Design Load Calcs'!$G$23+'Design Load Calcs'!$H$23)","v":{"$error":"#VALUE!"}},"",null,{"$f":"CONCATENATE(\"HP pwr @\",IF('Intro & Unit Options'!B12=Dropdown_Menus!F1,CONVERT(47,\"F\",\"C\"),47),IF('Intro & Unit Options'!$B$12=Dropdown_Menus!F1,\" C\",\" F\"),IF('Intro & Unit Options'!$B$12=Dropdown_Menus!F1,\" [kW]\",\" [BTU/h]\"))","v":"HP pwr @47 F [BTU/h]"},{"$f":"IF(OR('Step 5 Identify & Select ASHPs'!$I$81,'Step 5 Identify & Select ASHPs'!$I$82,'Step 5 Identify & Select ASHPs'!$I$84),D10,IFERROR(INDEX(D10:D29,MATCH(IF('Intro & Unit Options'!B15=Dropdown_Menus!F4,CONVERT(47,\"F\",\"C\"),47),B10:B29,0)),SLOPE(I27:I28,J27:J28)*IF('Intro & Unit Options'!B15=Dropdown_Menus!F4,CONVERT(47,\"F\",\"C\"),47)+INTERCEPT(I27:I28,J27:J28)))","v":0},null,null,{"$f":"IF('Step 5 Identify & Select ASHPs'!$E$90=Dropdown_Menus!$A$2,\"\",'HP4'!B15)","v":""},{"$f":"IF(OR(M15=\"#N/A\",M15=\"\"),\"\",IFERROR(HLOOKUP('HP4'!M15,'Step 5 Identify & Select ASHPs'!$N$88:$AH$91,2,FALSE),\"\"))","v":""},{"$f":"IF(OR(M15=\"#N/A\",M15=\"\"),\"\",IFERROR(HLOOKUP('HP4'!M15,'Step 5 Identify & Select ASHPs'!$N$88:$AH$91,IF('Step 5 Identify & Select ASHPs'!$I$92=\"COP\",4,3),FALSE),\"\"))","v":""},{"$f":"IF(OR(B15=\"#N/A\",B15=\"\"),\"\",IFERROR(HLOOKUP('HP4'!B15,'Step 5 Identify & Select ASHPs'!$N$88:$AH$91,IF('Step 5 Identify & Select ASHPs'!$I$92=\"COP\",3,4),FALSE),\"\"))","v":""},{"$f":"(M15*'Design Load Calcs'!$G$23+'Design Load Calcs'!$H$23)","v":{"$error":"#VALUE!"}},""]
[null,{"$f":"IF(OR('Step 5 Identify & Select ASHPs'!$I$81,'Step 5 Identify & Select ASHPs'!$I$82),\"\",IF('Step 5 Identify & Select ASHPs'!$I$83,IF(MATCH(B15,$B$10:$B$29,0)>='Step 5 Identify & Select ASHPs'!$I$89,\"\",'Step 5 Identify & Select ASHPs'!$T$79),NA()))","v":""},{"$f":"IF(OR(B16=\"#N/A\",B16=\"\"),\"\",IFERROR(HLOOKUP('HP4'!B16,'Step 5 Identify & Select ASHPs'!$N$79:$AH$82,2,FALSE),\"\"))","v":""},{"$f":"IF(OR(B16=\"#N/A\",B16=\"\"),\"\",IFERROR(HLOOKUP('HP4'!B16,'Step 5 Identify & Select ASHPs'!$N$79:$AH$82,IF('Step 5 Identify & Select ASHPs'!$I$92=\"COP\",4,3),FALSE),\"\"))","v":""},{"$f":"IF(OR(B16=\"#N/A\",B16=\"\"),\"\",IFERROR(HLOOKUP('HP4'!B16,'Step 5 Identify & Select ASHPs'!$N$79:$AH$83,IF('Step 5 Identify & Select ASHPs'!$I$92=\"COP\",3,4),FALSE),\"\"))","v":""},{"$f":"(B16*'Design Load Calcs'!$G$23+'Design Load Calcs'!$H$23)","v":{"$error":"#VALUE!"}},"",null,{"$f":"CONCATENATE(\"HP pwr @\",IF('Intro & Unit Options'!B12=Dropdown_Menus!F1,CONVERT(17,\"F\",\"C\"),17),IF('Intro & Unit Options'!$B$12=Dropdown_Menus!F1,\" C\",\" F\"),IF('Intro & Unit Options'!$B$12=Dropdown_Menus!F1,\" [kW]\",\" [BTU/h]\"))","v":"HP pwr @17 F [BTU/h]"},{"$f":"IF(OR('Step 5 Identify & Select ASHPs'!$I$81,'Step 5 Identify & Select ASHPs'!$I$82,'Step 5 Identify & Select ASHPs'!$I$84),D11,IFERROR(INDEX(D10:D29,MATCH(IF('Intro & Unit Options'!B15=Dropdown_Menus!F4,CONVERT(17,\"F\",\"C\"),17),B10:B29,0)),SLOPE(I31:I32,J31:J32)*IF('Intro & Unit Options'!B15=Dropdown_Menus!F4,CONVERT(17,\"F\",\"C\"),17)+INTERCEPT(I31:I32,J31:J32)))","v":0},null,null,{"$f":"IF('Step 5 Identify & Select ASHPs'!$E$90=Dropdown_Menus!$A$2,\"\",'HP4'!B16)","v":""},{"$f":"IF(OR(M16=\"#N/A\",M16=\"\"),\"\",IFERROR(HLOOKUP('HP4'!M16,'Step 5 Identify & Select ASHPs'!$N$88:$AH$91,2,FALSE),\"\"))","v":""},{"$f":"IF(OR(M16=\"#N/A\",M16=\"\"),\"\",IFERROR(HLOOKUP('HP4'!M16,'Step 5 Identify & Select ASHPs'!$N$88:$AH$91,IF('Step 5 Identify & Select ASHPs'!$I$92=\"COP\",4,3),FALSE),\"\"))","v":""},{"$f":"IF(OR(B16=\"#N/A\",B16=\"\"),\"\",IFERROR(HLOOKUP('HP4'!B16,'Step 5 Identify & Select ASHPs'!$N$88:$AH$91,IF('Step 5 Identify & Select ASHPs'!$I$92=\"COP\",3,4),FALSE),\"\"))","v":""},{"$f":"(M16*'Design Load Calcs'!$G$23+'Design Load Calcs'!$H$23)","v":{"$error":"#VALUE!"}},"",null,"Slope @ t-BPT:",{"$f":"IF((N10-Q10)<0,\"None\",IF((INDEX(N10:N29,MATCH(N40,M10:M29,0))-INDEX(Q10:Q29,MATCH(N40,M10:M29,0)))>0,SLOPE(O39:O40,P39:P40),SLOPE(M39:M40,N39:N40)))","v":"None"}]
[null,{"$f":"IF(OR('Step 5 Identify & Select ASHPs'!$I$81,'Step 5 Identify & Select ASHPs'!$I$82),\"\",IF('Step 5 Identify & Select ASHPs'!$I$83,IF(MATCH(B16,$B$10:$B$29,0)>='Step 5 Identify & Select ASHPs'!$I$89,\"\",'Step 5 Identify & Select ASHPs'!$U$79),NA()))","v":""},{"$f":"IF(OR(B17=\"#N/A\",B17=\"\"),\"\",IFERROR(HLOOKUP('HP4'!B17,'Step 5 Identify & Select ASHPs'!$N$79:$AH$82,2,FALSE),\"\"))","v":""},{"$f":"IF(OR(B17=\"#N/A\",B17=\"\"),\"\",IFERROR(HLOOKUP('HP4'!B17,'Step 5 Identify & Select ASHPs'!$N$79:$AH$82,IF('Step 5 Identify & Select ASHPs'!$I$92=\"COP\",4,3),FALSE),\"\"))","v":""},{"$f":"IF(OR(B17=\"#N/A\",B17=\"\"),\"\",IFERROR(HLOOKUP('HP4'!B17,'Step 5 Identify & Select ASHPs'!$N$79:$AH$83,IF('Step 5 Identify & Select ASHPs'!$I$92=\"COP\",3,4),FALSE),\"\"))","v":""},{"$f":"(B17*'Design Load Calcs'!$G$23+'Design Load Calcs'!$H$23)","v":{"$error":"#VALUE!"}},"",null,"Slope @ t-BPT:",{"$f":"IF((C10-F10)<0,\"None\",IF((INDEX(C10:C29,MATCH(C40,B10:B29,0))-INDEX(F10:F29,MATCH(C40,B10:B29,0)))>0,SLOPE(D39:D40,E39:E40),SLOPE(B39:B40,C39:C40)))","v":"None"},null,null,{"$f":"IF('Step 5 Identify & Select ASHPs'!$E$90=Dropdown_Menus!$A$2,\"\",'HP4'!B17)","v":""},{"$f":"IF(OR(M17=\"#N/A\",M17=\"\"),\"\",IFERROR(HLOOKUP('HP4'!M17,'Step 5 Identify & Select ASHPs'!$N$88:$AH$91,2,FALSE),\"\"))","v":""},{"$f":"IF(OR(M17=\"#N/A\",M17=\"\"),\"\",IFERROR(HLOOKUP('HP4'!M17,'Step 5 Identify & Select ASHPs'!$N$88:$AH$91,IF('Step 5 Identify & Select ASHPs'!$I$92=\"COP\",4,3),FALSE),\"\"))","v":""},{"$f":"IF(OR(B17=\"#N/A\",B17=\"\"),\"\",IFERROR(HLOOKUP('HP4'!B17,'Step 5 Identify & Select ASHPs'!$N$88:$AH$91,IF('Step 5 Identify & Select ASHPs'!$I$92=\"COP\",3,4),FALSE),\"\"))","v":""},{"$f":"(M17*'Design Load Calcs'!$G$23+'Design Load Calcs'!$H$23)","v":{"$error":"#VALUE!"}},"",null,"Intercept @ t-BPT",{"$f":"IF((N10-Q10)<0,\"None\",IF((INDEX(N10:N29,MATCH(N40,M10:M29,0))-INDEX(Q10:Q29,MATCH(N40,M10:M29,0)))>0,INTERCEPT(O39:O40,P39:P40),INTERCEPT(M39:M40,N39:N40)))","v":"None"}]
[null,{"$f":"IF(OR('Step 5 Identify & Select ASHPs'!$I$81,'Step 5 Identify & Select ASHPs'!$I$82),\"\",IF('Step 5 Identify & Select ASHPs'!$I$83,IF(MATCH(B17,$B$10:$B$29,0)>='Step 5 Identify & Select ASHPs'!$I$89,\"\",'Step 5 Identify & Select ASHPs'!$V$79),NA()))","v":""},{"$f":"IF(OR(B18=\"#N/A\",B18=\"\"),\"\",IFERROR(HLOOKUP('HP4'!B18,'Step 5 Identify & Select ASHPs'!$N$79:$AH$82,2,FALSE),\"\"))","v":""},{"$f":"IF(OR(B18=\"#N/A\",B18=\"\"),\"\",IFERROR(HLOOKUP('HP4'!B18,'Step 5 Identify & Select ASHPs'!$N$79:$AH$82,IF('Step 5 Identify & Select ASHPs'!$I$92=\"COP\",4,3),FALSE),\"\"))","v":""},{"$f":"IF(OR(B18=\"#N/A\",B18=\"\"),\"\",IFERROR(HLOOKUP('HP4'!B18,'Step 5 Identify & Select ASHPs'!$N$79:$AH$83,IF('Step 5 Identify & Select ASHPs'!$I$92=\"COP\",3,4),FALSE),\"\"))","v":""},{"$f":"(B18*'Design Load Calcs'!$G$23+'Design Load Calcs'!$H$23)","v":{"$error":"#VALUE!"}},"",null,"Intercept @ t-BPT",{"$f":"IF((C10-F10)<0,\"None\",IF((INDEX(C10:C29,MATCH(C40,B10:B29,0))-INDEX(F10:F29,MATCH(C40,B10:B29,0)))>0,INTERCEPT(D39:D40,E39:E40),INTERCEPT(B39:B40,C39:C40)))","v":"None"},null,null,{"$f":"IF('Step 5 Identify & Select ASHPs'!$E$90=Dropdown_Menus!$A$2,\"\",'HP4'!B18)","v":""},{"$f":"IF(OR(M18=\"#N/A\",M18=\"\"),\"\",IFERROR(HLOOKUP('HP4'!M18,'Step 5 Identify & Select ASHPs'!$N$88:$AH$91,2,FALSE),\"\"))","v":""},{"$f":"IF(OR(M18=\"#N/A\",M18=\"\"),\"\",IFERROR(HLOOKUP('HP4'!M18,'Step 5 Identify & Select ASHPs'!$N$88:$AH$91,IF('Step 5 Identify & Select ASHPs'!$I$92=\"COP\",4,3),FALSE),\"\"))","v":""},{"$f":"IF(OR(B18=\"#N/A\",B18=\"\"),\"\",IFERROR(HLOOKUP('HP4'!B18,'Step 5 Identify & Select ASHPs'!$N$88:$AH$91,IF('Step 5 Identify & Select ASHPs'!$I$92=\"COP\",3,4),FALSE),\"\"))","v":""},{"$f":"(M18*'Design Load Calcs'!$G$23+'Design Load Calcs'!$H$23)","v":{"$error":"#VALUE!"}},""]
[null,{"$f":"IF(OR('Step 5 Identify & Select ASHPs'!$I$81,'Step 5 Identify & Select ASHPs'!$I$82),\"\",IF('Step 5 Identify & Select ASHPs'!$I$83,IF(MATCH(B18,$B$10:$B$29,0)>='Step 5 Identify & Select ASHPs'!$I$89,\"\",'Step 5 Identify & Select ASHPs'!$W$79),NA()))","v":""},{"$f":"IF(OR(B19=\"#N/A\",B19=\"\"),\"\",IFERROR(HLOOKUP('HP4'!B19,'Step 5 Identify & Select ASHPs'!$N$79:$AH$82,2,FALSE),\"\"))","v":""},{"$f":"IF(OR(B19=\"#N/A\",B19=\"\"),\"\",IFERROR(HLOOKUP('HP4'!B19,'Step 5 Identify & Select ASHPs'!$N$79:$AH$82,IF('Step 5 Identify & Select ASHPs'!$I$92=\"COP\",4,3),FALSE),\"\"))","v":""},{"$f":"IF(OR(B19=\"#N/A\",B19=\"\"),\"\",IFERROR(HLOOKUP('HP4'!B19,'Step 5 Identify & Select ASHPs'!$N$79:$AH$83,IF('Step 5 Identify & Select ASHPs'!$I$92=\"COP\",3,4),FALSE),\"\"))","v":""},{"$f":"(B19*'Design Load Calcs'!$G$23+'Design Load Calcs'!$H$23)","v":{"$error":"#VALUE!"}},"",null,"Cap @ cut-off T°",{"$f":"IFERROR(IF(B30=MIN(B10:B29),1,0),0)","v":0},null,null,{"$f":"IF('Step 5 Identify & Select ASHPs'!$E$90=Dropdown_Menus!$A$2,\"\",'HP4'!B19)","v":""},{"$f":"IF(OR(M19=\"#N/A\",M19=\"\"),\"\",IFERROR(HLOOKUP('HP4'!M19,'Step 5 Identify & Select ASHPs'!$N$88:$AH$91,2,FALSE),\"\"))","v":""},{"$f":"IF(OR(M19=\"#N/A\",M19=\"\"),\"\",IFERROR(HLOOKUP('HP4'!M19,'Step 5 Identify & Select ASHPs'!$N$88:$AH$91,IF('Step 5 Identify & Select ASHPs'!$I$92=\"COP\",4,3),FALSE),\"\"))","v":""},{"$f":"IF(OR(B19=\"#N/A\",B19=\"\"),\"\",IFERROR(HLOOKUP('HP4'!B19,'Step 5 Identify & Select ASHPs'!$N$88:$AH$91,IF('Step 5 Identify & Select ASHPs'!$I$92=\"COP\",3,4),FALSE),\"\"))","v":""},{"$f":"(M19*'Design Load Calcs'!$G$23+'Design Load Calcs'!$H$23)","v":{"$error":"#VALUE!"}},""]
[null,{"$f":"IF(OR('Step 5 Identify & Select ASHPs'!$I$81,'Step 5 Identify & Select ASHPs'!$I$82),\"\",IF('Step 5 Identify & Select ASHPs'!$I$83,IF(MATCH(B19,$B$10:$B$29,0)>='Step 5 Identify & Select ASHPs'!$I$89,\"\",'Step 5 Identify & Select ASHPs'!$X$79),NA()))","v":""},{"$f":"IF(OR(B20=\"#N/A\",B20=\"\"),\"\",IFERROR(HLOOKUP('HP4'!B20,'Step 5 Identify & Select ASHPs'!$N$79:$AH$82,2,FALSE),\"\"))","v":""},{"$f":"IF(OR(B20=\"#N/A\",B20=\"\"),\"\",IFERROR(HLOOKUP('HP4'!B20,'Step 5 Identify & Select ASHPs'!$N$79:$AH$82,IF('Step 5 Identify & Select ASHPs'!$I$92=\"COP\",4,3),FALSE),\"\"))","v":""},{"$f":"IF(OR(B20=\"#N/A\",B20=\"\"),\"\",IFERROR(HLOOKUP('HP4'!B20,'Step 5 Identify & Select ASHPs'!$N$79:$AH$83,IF('Step 5 Identify & Select ASHPs'!$I$92=\"COP\",3,4),FALSE),\"\"))","v":""},{"$f":"(B20*'Design Load Calcs'!$G$23+'Design Load Calcs'!$H$23)","v":{"$error":"#VALUE!"}},"",null,null,null,null,null,{"$f":"IF('Step 5 Identify & Select ASHPs'!$E$90=Dropdown_Menus!$A$2,\"\",'HP4'!B20)","v":""},{"$f":"IF(OR(M20=\"#N/A\",M20=\"\"),\"\",IFERROR(HLOOKUP('HP4'!M20,'Step 5 Identify & Select ASHPs'!$N$88:$AH$91,2,FALSE),\"\"))","v":""},{"$f":"IF(OR(M20=\"#N/A\",M20=\"\"),\"\",IFERROR(HLOOKUP('HP4'!M20,'Step 5 Identify & Select ASHPs'!$N$88:$AH$91,IF('Step 5 Identify & Select ASHPs'!$I$92=\"COP\",4,3),FALSE),\"\"))","v":""},{"$f":"IF(OR(B20=\"#N/A\",B20=\"\"),\"\",IFERROR(HLOOKUP('HP4'!B20,'Step 5 Identify & Select ASHPs'!$N$88:$AH$91,IF('Step 5 Identify & Select ASHPs'!$I$92=\"COP\",3,4),FALSE),\"\"))","v":""},{"$f":"(M20*'Design Load Calcs'!$G$23+'Design Load Calcs'!$H$23)","v":{"$error":"#VALUE!"}},""]
[null,{"$f":"IF(OR('Step 5 Identify & Select ASHPs'!$I$81,'Step 5 Identify & Select ASHPs'!$I$82),\"\",IF('Step 5 Identify & Select ASHPs'!$I$83,IF(MATCH(B20,$B$10:$B$29,0)>='Step 5 Identify & Select ASHPs'!$I$89,\"\",'Step 5 Identify & Select ASHPs'!$Y$79),NA()))","v":""},{"$f":"IF(OR(B21=\"#N/A\",B21=\"\"),\"\",IFERROR(HLOOKUP('HP4'!B21,'Step 5 Identify & Select ASHPs'!$N$79:$AH$82,2,FALSE),\"\"))","v":""},{"$f":"IF(OR(B21=\"#N/A\",B21=\"\"),\"\",IFERROR(HLOOKUP('HP4'!B21,'Step 5 Identify & Select ASHPs'!$N$79:$AH$82,IF('Step 5 Identify & Select ASHPs'!$I$92=\"COP\",4,3),FALSE),\"\"))","v":""},{"$f":"IF(OR(B21=\"#N/A\",B21=\"\"),\"\",IFERROR(HLOOKUP('HP4'!B21,'Step 5 Identify & Select ASHPs'!$N$79:$AH$83,IF('Step 5 Identify & Select ASHPs'!$I$92=\"COP\",3,4),FALSE),\"\"))","v":""},{"$f":"(B21*'Design Load Calcs'!$G$23+'Design Load Calcs'!$H$23)","v":{"$error":"#VALUE!"}},"",null,null,null,null,null,{"$f":"IF('Step 5 Identify & Select ASHPs'!$E$90=Dropdown_Menus!$A$2,\"\",'HP4'!B21)","v":""},{"$f":"IF(OR(M21=\"#N/A\",M21=\"\"),\"\",IFERROR(HLOOKUP('HP4'!M21,'Step 5 Identify & Select ASHPs'!$N$88:$AH$91,2,FALSE),\"\"))","v":""},{"$f":"IF(OR(M21=\"#N/A\",M21=\"\"),\"\",IFERROR(HLOOKUP('HP4'!M21,'Step 5 Identify & Select ASHPs'!$N$88:$AH$91,IF('Step 5 Identify & Select ASHPs'!$I$92=\"COP\",4,3),FALSE),\"\"))","v":""},{"$f":"IF(OR(B21=\"#N/A\",B21=\"\"),\"\",IFERROR(HLOOKUP('HP4'!B21,'Step 5 Identify & Select ASHPs'!$N$88:$AH$91,IF('Step 5 Identify & Select ASHPs'!$I$92=\"COP\",3,4),FALSE),\"\"))","v":""},{"$f":"(M21*'Design Load Calcs'!$G$23+'Design Load Calcs'!$H$23)","v":{"$error":"#VALUE!"}},""]
[null,{"$f":"IF(OR('Step 5 Identify & Select ASHPs'!$I$81,'Step 5 Identify & Select ASHPs'!$I$82),\"\",IF('Step 5 Identify & Select ASHPs'!$I$83,IF(MATCH(B21,$B$10:$B$29,0)>='Step 5 Identify & Select ASHPs'!$I$89,\"\",'Step 5 Identify & Select ASHPs'!$Z$79),NA()))","v":""},{"$f":"IF(OR(B22=\"#N/A\",B22=\"\"),\"\",IFERROR(HLOOKUP('HP4'!B22,'Step 5 Identify & Select ASHPs'!$N$79:$AH$82,2,FALSE),\"\"))","v":""},{"$f":"IF(OR(B22=\"#N/A\",B22=\"\"),\"\",IFERROR(HLOOKUP('HP4'!B22,'Step 5 Identify & Select ASHPs'!$N$79:$AH$82,IF('Step 5 Identify & Select ASHPs'!$I$92=\"COP\",4,3),FALSE),\"\"))","v":""},{"$f":"IF(OR(B22=\"#N/A\",B22=\"\"),\"\",IFERROR(HLOOKUP('HP4'!B22,'Step 5 Identify & Select ASHPs'!$N$79:$AH$83,IF('Step 5 Identify & Select ASHPs'!$I$92=\"COP\",3,4),FALSE),\"\"))","v":""},{"$f":"(B22*'Design Load Calcs'!$G$23+'Design Load Calcs'!$H$23)","v":{"$error":"#VALUE!"}},"",null,null,null,null,null,{"$f":"IF('Step 5 Identify & Select ASHPs'!$E$90=Dropdown_Menus!$A$2,\"\",'HP4'!B22)","v":""},{"$f":"IF(OR(M22=\"#N/A\",M22=\"\"),\"\",IFERROR(HLOOKUP('HP4'!M22,'Step 5 Identify & Select ASHPs'!$N$88:$AH$91,2,FALSE),\"\"))","v":""},{"$f":"IF(OR(M22=\"#N/A\",M22=\"\"),\"\",IFERROR(HLOOKUP('HP4'!M22,'Step 5 Identify & Select ASHPs'!$N$88:$AH$91,IF('Step 5 Identify & Select ASHPs'!$I$92=\"COP\",4,3),FALSE),\"\"))","v":""},{"$f":"IF(OR(B22=\"#N/A\",B22=\"\"),\"\",IFERROR(HLOOKUP('HP4'!B22,'Step 5 Identify & Select ASHPs'!$N$88:$AH$91,IF('Step 5 Identify & Select ASHPs'!$I$92=\"COP\",3,4),FALSE),\"\"))","v":""},{"$f":"(M22*'Design Load Calcs'!$G$23+'Design Load Calcs'!$H$23)","v":{"$error":"#VALUE!"}},""]
[null,{"$f":"IF(OR('Step 5 Identify & Select ASHPs'!$I$81,'Step 5 Identify & Select ASHPs'!$I$82),\"\",IF('Step 5 Identify & Select ASHPs'!$I$83,IF(MATCH(B22,$B$10:$B$29,0)>='Step 5 Identify & Select ASHPs'!$I$89,\"\",'Step 5 Identify & Select ASHPs'!$AA$79),NA()))","v":""},{"$f":"IF(OR(B23=\"#N/A\",B23=\"\"),\"\",IFERROR(HLOOKUP('HP4'!B23,'Step 5 Identify & Select ASHPs'!$N$79:$AH$82,2,FALSE),\"\"))","v":""},{"$f":"IF(OR(B23=\"#N/A\",B23=\"\"),\"\",IFERROR(HLOOKUP('HP4'!B23,'Step 5 Identify & Select ASHPs'!$N$79:$AH$82,IF('Step 5 Identify & Select ASHPs'!$I$92=\"COP\",4,3),FALSE),\"\"))","v":""},{"$f":"IF(OR(B23=\"#N/A\",B23=\"\"),\"\",IFERROR(HLOOKUP('HP4'!B23,'Step 5 Identify & Select ASHPs'!$N$79:$AH$83,IF('Step 5 Identify & Select ASHPs'!$I$92=\"COP\",3,4),FALSE),\"\"))","v":""},{"$f":"(B23*'Design Load Calcs'!$G$23+'Design Load Calcs'!$H$23)","v":{"$error":"#VALUE!"}},"",null,null,null,null,null,{"$f":"IF('Step 5 Identify & Select ASHPs'!$E$90=Dropdown_Menus!$A$2,\"\",'HP4'!B23)","v":""},{"$f":"IF(OR(M23=\"#N/A\",M23=\"\"),\"\",IFERROR(HLOOKUP('HP4'!M23,'Step 5 Identify & Select ASHPs'!$N$88:$AH$91,2,FALSE),\"\"))","v":""},{"$f":"IF(OR(M23=\"#N/A\",M23=\"\"),\"\",IFERROR(HLOOKUP('HP4'!M23,'Step 5 Identify & Select ASHPs'!$N$88:$AH$91,IF('Step 5 Identify & Select ASHPs'!$I$92=\"COP\",4,3),FALSE),\"\"))","v":""},{"$f":"IF(OR(B23=\"#N/A\",B23=\"\"),\"\",IFERROR(HLOOKUP('HP4'!B23,'Step 5 Identify & Select ASHPs'!$N$88:$AH$91,IF('Step 5 Identify & Select ASHPs'!$I$92=\"COP\",3,4),FALSE),\"\"))","v":""},{"$f":"(M23*'Design Load Calcs'!$G$23+'Design Load Calcs'!$H$23)","v":{"$error":"#VALUE!"}},""]
[null,{"$f":"IF(OR('Step 5 Identify & Select ASHPs'!$I$81,'Step 5 Identify & Select ASHPs'!$I$82),\"\",IF('Step 5 Identify & Select ASHPs'!$I$83,IF(MATCH(B23,$B$10:$B$29,0)>='Step 5 Identify & Select ASHPs'!$I$89,\"\",'Step 5 Identify & Select ASHPs'!$AB$79),NA()))","v":""},{"$f":"IF(OR(B24=\"#N/A\",B24=\"\"),\"\",IFERROR(HLOOKUP('HP4'!B24,'Step 5 Identify & Select ASHPs'!$N$79:$AH$82,2,FALSE),\"\"))","v":""},{"$f":"IF(OR(B24=\"#N/A\",B24=\"\"),\"\",IFERROR(HLOOKUP('HP4'!B24,'Step 5 Identify & Select ASHPs'!$N$79:$AH$82,IF('Step 5 Identify & Select ASHPs'!$I$92=\"COP\",4,3),FALSE),\"\"))","v":""},{"$f":"IF(OR(B24=\"#N/A\",B24=\"\"),\"\",IFERROR(HLOOKUP('HP4'!B24,'Step 5 Identify & Select ASHPs'!$N$79:$AH$83,IF('Step 5 Identify & Select ASHPs'!$I$92=\"COP\",3,4),FALSE),\"\"))","v":""},{"$f":"(B24*'Design Load Calcs'!$G$23+'Design Load Calcs'!$H$23)","v":{"$error":"#VALUE!"}},"",null,null,null,null,null,{"$f":"IF('Step 5 Identify & Select ASHPs'!$E$90=Dropdown_Menus!$A$2,\"\",'HP4'!B24)","v":""},{"$f":"IF(OR(M24=\"#N/A\",M24=\"\"),\"\",IFERROR(HLOOKUP('HP4'!M24,'Step 5 Identify & Select ASHPs'!$N$88:$AH$91,2,FALSE),\"\"))","v":""},{"$f":"IF(OR(M24=\"#N/A\",M24=\"\"),\"\",IFERROR(HLOOKUP('HP4'!M24,'Step 5 Identify & Select ASHPs'!$N$88:$AH$91,IF('Step 5 Identify & Select ASHPs'!$I$92=\"COP\",4,3),FALSE),\"\"))","v":""},{"$f":"IF(OR(B24=\"#N/A\",B24=\"\"),\"\",IFERROR(HLOOKUP('HP4'!B24,'Step 5 Identify & Select ASHPs'!$N$88:$AH$91,IF('Step 5 Identify & Select ASHPs'!$I$92=\"COP\",3,4),FALSE),\"\"))","v":""},{"$f":"(M24*'Design Load Calcs'!$G$23+'Design Load Calcs'!$H$23)","v":{"$error":"#VALUE!"}},""]
[null,{"$f":"IF(OR('Step 5 Identify & Select ASHPs'!$I$81,'Step 5 Identify & Select ASHPs'!$I$82),\"\",IF('Step 5 Identify & Select ASHPs'!$I$83,IF(MATCH(B24,$B$10:$B$29,0)>='Step 5 Identify & Select ASHPs'!$I$89,\"\",'Step 5 Identify & Select ASHPs'!$AC$79),NA()))","v":""},{"$f":"IF(OR(B25=\"#N/A\",B25=\"\"),\"\",IFERROR(HLOOKUP('HP4'!B25,'Step 5 Identify & Select ASHPs'!$N$79:$AH$82,2,FALSE),\"\"))","v":""},{"$f":"IF(OR(B25=\"#N/A\",B25=\"\"),\"\",IFERROR(HLOOKUP('HP4'!B25,'Step 5 Identify & Select ASHPs'!$N$79:$AH$82,IF('Step 5 Identify & Select ASHPs'!$I$92=\"COP\",4,3),FALSE),\"\"))","v":""},{"$f":"IF(OR(B25=\"#N/A\",B25=\"\"),\"\",IFERROR(HLOOKUP('HP4'!B25,'Step 5 Identify & Select ASHPs'!$N$79:$AH$83,IF('Step 5 Identify & Select ASHPs'!$I$92=\"COP\",3,4),FALSE),\"\"))","v":""},{"$f":"(B25*'Design Load Calcs'!$G$23+'Design Load Calcs'!$H$23)","v":{"$error":"#VALUE!"}},"",null,"Slope and Intercept at 47°F (HP Pwr)",null,null,null,{"$f":"IF('Step 5 Identify & Select ASHPs'!$E$90=Dropdown_Menus!$A$2,\"\",'HP4'!B25)","v":""},{"$f":"IF(OR(M25=\"#N/A\",M25=\"\"),\"\",IFERROR(HLOOKUP('HP4'!M25,'Step 5 Identify & Select ASHPs'!$N$88:$AH$91,2,FALSE),\"\"))","v":""},{"$f":"IF(OR(M25=\"#N/A\",M25=\"\"),\"\",IFERROR(HLOOKUP('HP4'!M25,'Step 5 Identify & Select ASHPs'!$N$88:$AH$91,IF('Step 5 Identify & Select ASHPs'!$I$92=\"COP\",4,3),FALSE),\"\"))","v":""},{"$f":"IF(OR(B25=\"#N/A\",B25=\"\"),\"\",IFERROR(HLOOKUP('HP4'!B25,'Step 5 Identify & Select ASHPs'!$N$88:$AH$91,IF('Step 5 Identify & Select ASHPs'!$I$92=\"COP\",3,4),FALSE),\"\"))","v":""},{"$f":"(M25*'Design Load Calcs'!$G$23+'Design Load Calcs'!$H$23)","v":{"$error":"#VALUE!"}},""]
[null,{"$f":"IF(OR('Step 5 Identify & Select ASHPs'!$I$81,'Step 5 Identify & Select ASHPs'!$I$82),\"\",IF('Step 5 Identify & Select ASHPs'!$I$83,IF(MATCH(B25,$B$10:$B$29,0)>='Step 5 Identify & Select ASHPs'!$I$89,\"\",'Step 5 Identify & Select ASHPs'!$AD$79),NA()))","v":""},{"$f":"IF(OR(B26=\"#N/A\",B26=\"\"),\"\",IFERROR(HLOOKUP('HP4'!B26,'Step 5 Identify & Select ASHPs'!$N$79:$AH$82,2,FALSE),\"\"))","v":""},{"$f":"IF(OR(B26=\"#N/A\",B26=\"\"),\"\",IFERROR(HLOOKUP('HP4'!B26,'Step 5 Identify & Select ASHPs'!$N$79:$AH$82,IF('Step 5 Identify & Select ASHPs'!$I$92=\"COP\",4,3),FALSE),\"\"))","v":""},{"$f":"IF(OR(B26=\"#N/A\",B26=\"\"),\"\",IFERROR(HLOOKUP('HP4'!B26,'Step 5 Identify & Select ASHPs'!$N$79:$AH$83,IF('Step 5 Identify & Select ASHPs'!$I$92=\"COP\",3,4),FALSE),\"\"))","v":""},{"$f":"(B26*'Design Load Calcs'!$G$23+'Design Load Calcs'!$H$23)","v":{"$error":"#VALUE!"}},"",null,"know ys (pwr):","know xs (temp)",null,null,{"$f":"IF('Step 5 Identify & Select ASHPs'!$E$90=Dropdown_Menus!$A$2,\"\",'HP4'!B26)","v":""},{"$f":"IF(OR(M26=\"#N/A\",M26=\"\"),\"\",IFERROR(HLOOKUP('HP4'!M26,'Step 5 Identify & Select ASHPs'!$N$88:$AH$91,2,FALSE),\"\"))","v":""},{"$f":"IF(OR(M26=\"#N/A\",M26=\"\"),\"\",IFERROR(HLOOKUP('HP4'!M26,'Step 5 Identify & Select ASHPs'!$N$88:$AH$91,IF('Step 5 Identify & Select ASHPs'!$I$92=\"COP\",4,3),FALSE),\"\"))","v":""},{"$f":"IF(OR(B26=\"#N/A\",B26=\"\"),\"\",IFERROR(HLOOKUP('HP4'!B26,'Step 5 Identify & Select ASHPs'!$N$88:$AH$91,IF('Step 5 Identify & Select ASHPs'!$I$92=\"COP\",3,4),FALSE),\"\"))","v":""},{"$f":"(M26*'Design Load Calcs'!$G$23+'Design Load Calcs'!$H$23)","v":{"$error":"#VALUE!"}},""]
[null,{"$f":"IF(OR('Step 5 Identify & Select ASHPs'!$I$81,'Step 5 Identify & Select ASHPs'!$I$82),\"\",IF('Step 5 Identify & Select ASHPs'!$I$83,IF(MATCH(B26,$B$10:$B$29,0)>='Step 5 Identify & Select ASHPs'!$I$89,\"\",'Step 5 Identify & Select ASHPs'!$AE$79),NA()))","v":""},{"$f":"IF(OR(B27=\"#N/A\",B27=\"\"),\"\",IFERROR(HLOOKUP('HP4'!B27,'Step 5 Identify & Select ASHPs'!$N$79:$AH$82,2,FALSE),\"\"))","v":""},{"$f":"IF(OR(B27=\"#N/A\",B27=\"\"),\"\",IFERROR(HLOOKUP('HP4'!B27,'Step 5 Identify & Select ASHPs'!$N$79:$AH$82,IF('Step 5 Identify & Select ASHPs'!$I$92=\"COP\",4,3),FALSE),\"\"))","v":""},{"$f":"IF(OR(B27=\"#N/A\",B27=\"\"),\"\",IFERROR(HLOOKUP('HP4'!B27,'Step 5 Identify & Select ASHPs'!$N$79:$AH$83,IF('Step 5 Identify & Select ASHPs'!$I$92=\"COP\",3,4),FALSE),\"\"))","v":""},{"$f":"(B27*'Design Load Calcs'!$G$23+'Design Load Calcs'!$H$23)","v":{"$error":"#VALUE!"}},"",null,{"$f":"INDEX(D10:D29,MATCH(J27,B10:B29,0))","v":0},{"$f":"IF(MAX(B10:B29)<IF('Intro & Unit Options'!B12=Dropdown_Menus!F1,CONVERT(47,\"F\",\"C\"),47),MAX(B10:B29),INDEX(B10:B29,MATCH(IF('Intro & Unit Options'!B12=Dropdown_Menus!F1,CONVERT(47,\"F\",\"C\"),47),B10:B29,-1)))","v":47},null,null,{"$f":"IF('Step 5 Identify & Select ASHPs'!$E$90=Dropdown_Menus!$A$2,\"\",'HP4'!B27)","v":""},{"$f":"IF(OR(M27=\"#N/A\",M27=\"\"),\"\",IFERROR(HLOOKUP('HP4'!M27,'Step 5 Identify & Select ASHPs'!$N$88:$AH$91,2,FALSE),\"\"))","v":""},{"$f":"IF(OR(M27=\"#N/A\",M27=\"\"),\"\",IFERROR(HLOOKUP('HP4'!M27,'Step 5 Identify & Select ASHPs'!$N$88:$AH$91,IF('Step 5 Identify & Select ASHPs'!$I$92=\"COP\",4,3),FALSE),\"\"))","v":""},{"$f":"IF(OR(B27=\"#N/A\",B27=\"\"),\"\",IFERROR(HLOOKUP('HP4'!B27,'Step 5 Identify & Select ASHPs'!$N$88:$AH$91,IF('Step 5 Identify & Select ASHPs'!$I$92=\"COP\",3,4),FALSE),\"\"))","v":""},{"$f":"(M27*'Design Load Calcs'!$G$23+'Design Load Calcs'!$H$23)","v":{"$error":"#VALUE!"}},""]
[null,{"$f":"IF(OR('Step 5 Identify & Select ASHPs'!$I$81,'Step 5 Identify & Select ASHPs'!$I$82),\"\",IF('Step 5 Identify & Select ASHPs'!$I$83,IF(MATCH(B27,$B$10:$B$29,0)>='Step 5 Identify & Select ASHPs'!$I$89,\"\",'Step 5 Identify & Select ASHPs'!$AF$79),NA()))","v":""},{"$f":"IF(OR(B28=\"#N/A\",B28=\"\"),\"\",IFERROR(HLOOKUP('HP4'!B28,'Step 5 Identify & Select ASHPs'!$N$79:$AH$82,2,FALSE),\"\"))","v":""},{"$f":"IF(OR(B28=\"#N/A\",B28=\"\"),\"\",IFERROR(HLOOKUP('HP4'!B28,'Step 5 Identify & Select ASHPs'!$N$79:$AH$82,IF('Step 5 Identify & Select ASHPs'!$I$92=\"COP\",4,3),FALSE),\"\"))","v":""},{"$f":"IF(OR(B28=\"#N/A\",B28=\"\"),\"\",IFERROR(HLOOKUP('HP4'!B28,'Step 5 Identify & Select ASHPs'!$N$79:$AH$83,IF('Step 5 Identify & Select ASHPs'!$I$92=\"COP\",3,4),FALSE),\"\"))","v":""},{"$f":"(B28*'Design Load Calcs'!$G$23+'Design Load Calcs'!$H$23)","v":{"$error":"#VALUE!"}},"",null,{"$f":"INDEX(D10:D29,MATCH(J28,B10:B29,0))","v":0},{"$f":"IF(J27=MIN(B10:B29),INDEX(B10:B29,MATCH(J27,B10:B29,0)-1),INDEX(B10:B29,MATCH(J27,B10:B29,0)+1))","v":17},null,null,{"$f":"IF('Step 5 Identify & Select ASHPs'!$E$90=Dropdown_Menus!$A$2,\"\",'HP4'!B28)","v":""},{"$f":"IF(OR(M28=\"#N/A\",M28=\"\"),\"\",IFERROR(HLOOKUP('HP4'!M28,'Step 5 Identify & Select ASHPs'!$N$88:$AH$91,2,FALSE),\"\"))","v":""},{"$f":"IF(OR(M28=\"#N/A\",M28=\"\"),\"\",IFERROR(HLOOKUP('HP4'!M28,'Step 5 Identify & Select ASHPs'!$N$88:$AH$91,IF('Step 5 Identify & Select ASHPs'!$I$92=\"COP\",4,3),FALSE),\"\"))","v":""},{"$f":"IF(OR(B28=\"#N/A\",B28=\"\"),\"\",IFERROR(HLOOKUP('HP4'!B28,'Step 5 Identify & Select ASHPs'!$N$88:$AH$91,IF('Step 5 Identify & Select ASHPs'!$I$92=\"COP\",3,4),FALSE),\"\"))","v":""},{"$f":"(M28*'Design Load Calcs'!$G$23+'Design Load Calcs'!$H$23)","v":{"$error":"#VALUE!"}},""]
[null,{"$f":"IF(OR('Step 5 Identify & Select ASHPs'!$I$81,'Step 5 Identify & Select ASHPs'!$I$82),\"\",IF('Step 5 Identify & Select ASHPs'!$I$83,IF(MATCH(B28,$B$10:$B$29,0)>='Step 5 Identify & Select ASHPs'!$I$89,\"\",'Step 5 Identify & Select ASHPs'!$AG$79),NA()))","v":""},{"$f":"IF(OR(B29=\"#N/A\",B29=\"\"),\"\",IFERROR(HLOOKUP('HP4'!B29,'Step 5 Identify & Select ASHPs'!$N$79:$AH$82,2,FALSE),\"\"))","v":""},{"$f":"IF(OR(B29=\"#N/A\",B29=\"\"),\"\",IFERROR(HLOOKUP('HP4'!B29,'Step 5 Identify & Select ASHPs'!$N$79:$AH$82,IF('Step 5 Identify & Select ASHPs'!$I$92=\"COP\",4,3),FALSE),\"\"))","v":""},{"$f":"IF(OR(B29=\"#N/A\",B29=\"\"),\"\",IFERROR(HLOOKUP('HP4'!B29,'Step 5 Identify & Select ASHPs'!$N$79:$AH$83,IF('Step 5 Identify & Select ASHPs'!$I$92=\"COP\",3,4),FALSE),\"\"))","v":""},{"$f":"(B29*'Design Load Calcs'!$G$23+'Design Load Calcs'!$H$23)","v":{"$error":"#VALUE!"}},"",null,"Slope and Intercept at 17°F (HP Cap)",null,null,null,{"$f":"IF('Step 5 Identify & Select ASHPs'!$E$90=Dropdown_Menus!$A$2,\"\",'HP4'!B29)","v":""},{"$f":"IF(OR(M29=\"#N/A\",M29=\"\"),\"\",IFERROR(HLOOKUP('HP4'!M29,'Step 5 Identify & Select ASHPs'!$N$88:$AH$91,2,FALSE),\"\"))","v":""},{"$f":"IF(OR(M29=\"#N/A\",M29=\"\"),\"\",IFERROR(HLOOKUP('HP4'!M29,'Step 5 Identify & Select ASHPs'!$N$88:$AH$91,IF('Step 5 Identify & Select ASHPs'!$I$92=\"COP\",4,3),FALSE),\"\"))","v":""},{"$f":"IF(OR(B29=\"#N/A\",B29=\"\"),\"\",IFERROR(HLOOKUP('HP4'!B29,'Step 5 Identify & Select ASHPs'!$N$88:$AH$91,IF('Step 5 Identify & Select ASHPs'!$I$92=\"COP\",3,4),FALSE),\"\"))","v":""},{"$f":"(M29*'Design Load Calcs'!$G$23+'Design Load Calcs'!$H$23)","v":{"$error":"#VALUE!"}},""]
[null,{"$f":"'Step 5 Identify & Select ASHPs'!$E$88","v":0},{"$f":"IF(D34=B30,B34,SLOPE(B34:B35,D34:D35)*B30+INTERCEPT(B34:B35,D34:D35))","v":0},{"$f":"IF(D34=B30,C34,SLOPE(C34:C35,D34:D35)*B30+INTERCEPT(C34:C35,D34:D35))","v":0},{"$f":"(C30/IF('Intro & Unit Options'!$B$12=Dropdown_Menus!$F$1,1,3412))/D30","v":{"$error":"#DIV/0!"}},{"$f":"IF(B30<C5,'Design Load Calcs'!$B$3,B30*'Design Load Calcs'!$G$23+'Design Load Calcs'!$H$23)","v":50000},{"$f":"IF(B30=\"\",\"\",ABS(C30-F30))","v":50000},null,"know ys (pwr):","know xs (temp)",null,null,{"$f":"'Step 5 Identify & Select ASHPs'!$E$88","v":0},{"$f":"IF(O34=M30,M34,SLOPE(M34:M35,O34:O35)*M30+INTERCEPT(M34:M35,O34:O35))","v":0},{"$f":"IF(O34=M30,N34,SLOPE(N34:N35,O34:O35)*M30+INTERCEPT(N34:N35,O34:O35))","v":0},{"$f":"(N30/IF('Intro & Unit Options'!$B$12=Dropdown_Menus!$F$1,1,3412))/O30","v":{"$error":"#DIV/0!"}},{"$f":"IF(M30<N5,'Design Load Calcs'!$B$3,M30*'Design Load Calcs'!$G$23+'Design Load Calcs'!$H$23)","v":50000},{"$f":"IF(M30=\"\",\"\",ABS(N30-Q30))","v":50000}]
[null,null,null,null,null,null,null,null,{"$f":"INDEX(D10:D29,MATCH(J31,B10:B29,0))","v":0},{"$f":"IF(MAX(B10:B29)<IF('Intro & Unit Options'!B12=Dropdown_Menus!F1,CONVERT(17,\"F\",\"C\"),17),MAX(B10:B29),INDEX(B10:B29,MATCH(IF('Intro & Unit Options'!B12=Dropdown_Menus!F1,CONVERT(17,\"F\",\"C\"),17),B10:B29,-1)))","v":17}]
[null,"Slope and Intercept at the cut-off temp. (HP Norm. Cap and pwr)",null,null,null,"Slope and Intercept at the Design Temp. (HP Cap)",null,null,{"$f":"INDEX(D10:D29,MATCH(J32,B10:B29,0))","v":0},{"$f":"IF(J31=MIN(B10:B29),INDEX(B10:B29,MATCH(J31,B10:B29,0)-1),INDEX(B10:B29,MATCH(J31,B10:B29,0)+1))","v":47},null,null,"Slope and Intercept at the cut-off temp. (HP Norm. Cap and pwr)",null,null,null,"Slope and Intercept at the Design Temp. (HP Cap)"]
[null,"know ys (capacity):","know ys (power):","know xs (temp)",null,"know ys (capacity):","know xs (temp)",null,"Slope and Intercept at 47°F (HP Cap)",null,null,null,"know ys (capacity):","know ys (power):","know xs (temp)",null,"know ys (capacity):","know xs"]
[null,{"$f":"INDEX(C10:C29,MATCH(D34,B10:B29,0))","v":0},{"$f":"INDEX(D10:D29,MATCH(B34,C10:C29,0))","v":0},{"$f":"IF(B30=MIN(B10:B29),B30,INDEX(B10:B29,MATCH(B30,B10:B29,-1)))","v":17},null,{"$f":"IF(G34=\"-\",0,INDEX(C10:C29,MATCH(G34,B10:B29,0)))","v":0},{"$f":"IF(C5<B30,\"-\",IFERROR(INDEX(B10:B29,MATCH(C5,B10:B29,0)),IF(C5<MIN(B10:B29),INDEX(B10:B29,MATCH(MIN(B10:B29),B10:B29,-1)),INDEX(B10:B29,MATCH(C5,B10:B29,-1)))))","v":17},null,"know ys (capacity):","know xs (temp)",null,null,{"$f":"INDEX(N10:N29,MATCH(O34,M10:M29,0))","v":0},{"$f":"INDEX(O10:O29,MATCH(M34,N10:N29,0))","v":0},{"$f":"IF(M30=MIN(M10:M29),M30,INDEX(M10:M29,MATCH(M30,M10:M29,-1)))","v":17},null,{"$f":"IF(R34=\"-\",0,INDEX(N10:N29,MATCH(R34,M10:M29,0)))","v":0},{"$f":"IF(N5<M30,\"-\",IFERROR(INDEX(M10:M29,MATCH(N5,M10:M29,0)),IF(N5<MIN(M10:M29),INDEX(M10:M29,MATCH(MIN(M10:M29),M10:M29,-1)),INDEX(M10:M29,MATCH(N5,M10:M29,-1)))))","v":17}]
[null,{"$f":"IF(D35=\"-\",\"-\",INDEX(C10:C29,MATCH(D35,B10:B29,0)))","v":0},{"$f":"IF(D35=\"-\",\"-\",INDEX($D$10:$D$29, MATCH(D35,$B$10:$B$29,0)))","v":0},{"$f":"IF(B30=MIN(B10:B29),\"-\",INDEX(B10:B29,MATCH(B30,B10:B29,-1)+IF(D34=MIN(B10:B29),-1,1)))","v":47},null,{"$f":"IF(G35=\"-\",0,INDEX(C10:C29,MATCH(G35,B10:B29,0)))","v":0},{"$f":"IF(C5<B30,\"-\",IF(G34=C5,\"-\",INDEX(B10:B29,MATCH(G34,B10:B29,0)+IF(G34=MIN(B10:B29),-1,1))))","v":47},null,{"$f":"INDEX(C10:C29,MATCH(J35,B10:B29,0))","v":0},{"$f":"IF(MAX(B10:B29)<IF('Intro & Unit Options'!B13=Dropdown_Menus!F2,CONVERT(47,\"F\",\"C\"),47),MAX(B10:B29),INDEX(B10:B29,MATCH(IF('Intro & Unit Options'!B13=Dropdown_Menus!F2,CONVERT(47,\"F\",\"C\"),47),B10:B29,-1)))","v":47},null,null,{"$f":"IF(O35=\"-\",\"-\",INDEX(N10:N29,MATCH(O35,M10:M29,0)))","v":0},{"$f":"IF(O35=\"-\",\"-\",INDEX($O$10:$O$29, MATCH(O35,$M$10:$M$29,0)))","v":0},{"$f":"IF(M30=MIN(M10:M29),\"-\",INDEX(M10:M29,MATCH(M30,M10:M29,-1)+IF(O34=MIN(M10:M29),-1,1)))","v":47},null,{"$f":"IF(R35=\"-\",0,INDEX(N10:N29,MATCH(R35,M10:M29,0)))","v":0},{"$f":"IF(N5<M30,\"-\",IF(R34=N5,\"-\",INDEX(M10:M29,MATCH(R34,M10:M29,0)+IF(R34=MIN(M10:M29),-1,1))))","v":47}]
[null,null,null,null,null,null,null,null,{"$f":"INDEX(C10:C29,MATCH(J36,B10:B29,0))","v":0},{"$f":"IF(J35=MIN(B10:B29),INDEX(B10:B29,MATCH(J35,B10:B29,0)-1),INDEX(B10:B29,MATCH(J35,B10:B29,0)+1))","v":17}]
[null,"Slope and Intercept at the BPT (HP Cap)",null,null,null,"Slope and Intercept at the BPT (Load%)",null,null,"Slope and Intercept at 17°F (HP Cap)",null,null,null,"Slope and Intercept at the BPT (HP Cap)",null,null,null,"Slope and Intercept at the BPT (Load%)"]
[null,"know ys (eq. 1):","know xs (eq. 1):","know ys (eq. 2):","know xs (eq. 2):","know ys (eq. 1):","know ys (eq. 2):",null,"know ys (capacity):","know xs (temp)",null,null,"know ys (eq. 1):","know xs (eq. 1):","know ys (eq. 2):","know xs (eq. 2):","know ys (eq. 1):","know ys (eq. 2):"]
[null,{"$f":"INDEX(C10:C29,MATCH(MIN(G10:G29),G10:G29,0)-1)","v":{"$error":"#VALUE!"}},{"$f":"INDEX(B10:B29,MATCH(MIN(G10:G29),G10:G29,0)-1)","v":{"$error":"#VALUE!"}},{"$f":"INDEX(C10:C29,MATCH(MIN(G10:G29),G10:G29,0))","v":0},{"$f":"INDEX(B10:B29,MATCH(MIN(G10:G29),G10:G29,0))","v":47},{"$f":"INDEX(INDIRECT(CONCATENATE(IFERROR(SUBSTITUTE('Step 3 Design Loads'!B8,\"-\",\"\"),'Step 3 Design Loads'!B8),\"_Load\")),MATCH(G39,'Load %s'!N8:N24))","v":{"$error":"#N/A"}},{"$f":"IF(ISNUMBER(MATCH(J9,'Load %s'!N8:N24,0)),'HP4'!J9,INDEX('Load %s'!N8:N24,MATCH('HP4'!J9,'Load %s'!N8:N24,1)))","v":{"$error":"#N/A"}},null,{"$f":"INDEX(C10:C29,MATCH(J39,B10:B29,0))","v":0},{"$f":"IF(MAX(B10:B29)<IF('Intro & Unit Options'!B12=Dropdown_Menus!F1,CONVERT(17,\"F\",\"C\"),17),MAX(B10:B29),INDEX(B10:B29,MATCH(IF('Intro & Unit Options'!B12=Dropdown_Menus!F1,CONVERT(17,\"F\",\"C\"),17),B10:B29,-1)))","v":17},null,null,{"$f":"INDEX(N10:N29,MATCH(MIN(R10:R29),R10:R29,0)-1)","v":{"$error":"#VALUE!"}},{"$f":"INDEX(M10:M29,MATCH(MIN(R10:R29),R10:R29,0)-1)","v":{"$error":"#VALUE!"}},{"$f":"INDEX(N10:N29,MATCH(MIN(R10:R29),R10:R29,0))","v":0},{"$f":"INDEX(M10:M29,MATCH(MIN(R10:R29),R10:R29,0))","v":47},{"$f":"INDEX(INDIRECT(CONCATENATE(IFERROR(SUBSTITUTE('Step 3 Design Loads'!B8,\"-\",\"\"),'Step 3 Design Loads'!B8),\"_Load\")),MATCH(R39,'Load %s'!N8:N24))","v":{"$error":"#N/A"}},{"$f":"IF(ISNUMBER(MATCH(U9,'Load %s'!N8:N24,0)),'HP4'!U9,INDEX('Load %s'!N8:N24,MATCH('HP4'!U9,'Load %s'!N8:N24,1)))","v":{"$error":"#N/A"}}]
[null,{"$f":"INDEX(C10:C29,MATCH(MIN(G10:G29),G10:G29,0))","v":0},{"$f":"INDEX(B10:B29,MATCH(MIN(G10:G29),G10:G29,0))","v":47},{"$f":"IF(OR(SUMIF(B10:B29,\"<>\"\"\")=0,INDEX(C10:C29,MATCH(MIN(G10:G29),G10:G29,0)+1)=\"\"),C30,INDEX(C10:C29,MATCH(MIN(G10:G29),G10:G29,0)+1))","v":0},{"$f":"IF(OR(AND(SUMIF(B12:B29,\"<>\"\"\")=0,B30<E39),INDEX(B10:B29,MATCH(MIN(G10:G29),G10:G29,0)+1)=\"\"),B30,INDEX(B10:B29,MATCH(MIN(G10:G29),G10:G29,0)+1))","v":0},{"$f":"INDEX(INDIRECT(CONCATENATE(IFERROR(SUBSTITUTE('Step 3 Design Loads'!B8,\"-\",\"\"),'Step 3 Design Loads'!B8),\"_Load\")),MATCH(G40,'Load %s'!N8:N24))","v":{"$error":"#N/A"}},{"$f":"IF(ISNUMBER(MATCH(E41,'Load %s'!N8:N24,0)),\"\",INDEX('Load %s'!N8:N24,MATCH(G39,'Load %s'!N8:N24,0)+1))","v":{"$error":"#N/A"}},null,{"$f":"INDEX(C10:C29,MATCH(J40,B10:B29,0))","v":0},{"$f":"IF(J39=MIN(B10:B29),INDEX(B10:B29,MATCH(J39,B10:B29,0)-1),INDEX(B10:B29,MATCH(J39,B10:B29,0)+1))","v":47},null,null,{"$f":"INDEX(N10:N29,MATCH(MIN(R10:R29),R10:R29,0))","v":0},{"$f":"INDEX(M10:M29,MATCH(MIN(R10:R29),R10:R29,0))","v":47},{"$f":"IF(OR(SUMIF(M12:M29,\"<>\"\"\")=0,INDEX(N10:N29,MATCH(MIN(R10:R29),R10:R29,0)+1)=\"\"),N30,INDEX(N10:N29,MATCH(MIN(R10:R29),R10:R29,0)+1))","v":0},{"$f":"IF(OR(AND(SUMIF(M12:M29,\"<>\"\"\")=0,M30<P39),INDEX(M10:M29,MATCH(MIN(R10:R29),R10:R29,0)+1)=\"\"),M30,INDEX(M10:M29,MATCH(MIN(R10:R29),R10:R29,0)+1))","v":0},{"$f":"INDEX(INDIRECT(CONCATENATE(IFERROR(SUBSTITUTE('Step 3 Design Loads'!B8,\"-\",\"\"),'Step 3 Design Loads'!B8),\"_Load\")),MATCH(R40,'Load %s'!N8:N24))","v":{"$error":"#N/A"}},{"$f":"IF(ISNUMBER(MATCH(P41,'Load %s'!N8:N24,0)),\"\",INDEX('Load %s'!N8:N24,MATCH(R39,'Load %s'!N8:N24,0)+1))","v":{"$error":"#N/A"}}]
[null,"BPT (eq. 1):",{"$f":"IF(IF(('Design Load Calcs'!$H$23-INTERCEPT(B39:B40,C39:C40))/(SLOPE(B39:B40,C39:C40)-'Design Load Calcs'!$G$23)<'Step 3 Design Loads'!B13,NA(),('Design Load Calcs'!$H$23-INTERCEPT(B39:B40,C39:C40))/(SLOPE(B39:B40,C39:C40)-'Design Load Calcs'!$G$23))>MAX(B10:B29),NA(),IF(('Design Load Calcs'!$H$23-INTERCEPT(B39:B40,C39:C40))/(SLOPE(B39:B40,C39:C40)-'Design Load Calcs'!$G$23)<'Step 3 Design Loads'!B13,NA(),('Design Load Calcs'!$H$23-INTERCEPT(B39:B40,C39:C40))/(SLOPE(B39:B40,C39:C40)-'Design Load Calcs'!$G$23)))","v":{"$error":"#VALUE!"}},"BPT (eq. 2):",{"$f":"IF(IF(('Design Load Calcs'!$H$23-INTERCEPT(D39:D40,E39:E40))/(SLOPE(D39:D40,E39:E40)-'Design Load Calcs'!$G$23)<'Step 3 Design Loads'!B13,NA(),('Design Load Calcs'!$H$23-INTERCEPT(D39:D40,E39:E40))/(SLOPE(D39:D40,E39:E40)-'Design Load Calcs'!$G$23))>MAX(B10:B29),NA(),IF(('Design Load Calcs'!$H$23-INTERCEPT(D39:D40,E39:E40))/(SLOPE(D39:D40,E39:E40)-'Design Load Calcs'!$G$23)<'Step 3 Design Loads'!B13,NA(),('Design Load Calcs'!$H$23-INTERCEPT(D39:D40,E39:E40))/(SLOPE(D39:D40,E39:E40)-'Design Load Calcs'!$G$23)))","v":{"$error":"#N/A"}},null,null,null,null,null,null,null,"BPT (eq. 1):",{"$f":"IF(IF(('Design Load Calcs'!$H$23-INTERCEPT(M39:M40,N39:N40))/(SLOPE(M39:M40,N39:N40)-'Design Load Calcs'!$G$23)<'Step 3 Design Loads'!B13,NA(),('Design Load Calcs'!$H$23-INTERCEPT(M39:M40,N39:N40))/(SLOPE(M39:M40,N39:N40)-'Design Load Calcs'!$G$23))>MAX(M10:M29),NA(),IF(('Design Load Calcs'!$H$23-INTERCEPT(M39:M40,N39:N40))/(SLOPE(M39:M40,N39:N40)-'Design Load Calcs'!$G$23)<'Step 3 Design Loads'!B13,NA(),('Design Load Calcs'!$H$23-INTERCEPT(M39:M40,N39:N40))/(SLOPE(M39:M40,N39:N40)-'Design Load Calcs'!$G$23)))","v":{"$error":"#VALUE!"}},"BPT (eq. 2):",{"$f":"IF(IF(('Design Load Calcs'!$H$23-INTERCEPT(O39:O40,P39:P40))/(SLOPE(O39:O40,P39:P40)-'Design Load Calcs'!$G$23)<'Step 3 Design Loads'!B13,NA(),('Design Load Calcs'!$H$23-INTERCEPT(O39:O40,P39:P40))/(SLOPE(O39:O40,P39:P40)-'Design Load Calcs'!$G$23))>MAX(M10:M29),NA(),IF(('Design Load Calcs'!$H$23-INTERCEPT(O39:O40,P39:P40))/(SLOPE(O39:O40,P39:P40)-'Design Load Calcs'!$G$23)<'Step 3 Design Loads'!B13,NA(),('Design Load Calcs'!$H$23-INTERCEPT(O39:O40,P39:P40))/(SLOPE(O39:O40,P39:P40)-'Design Load Calcs'!$G$23)))","v":{"$error":"#N/A"}}]
[null,"HP Cap (eq. 1): ",{"$f":"SLOPE(B39:B40,C39:C40)*C41+INTERCEPT(B39:B40,C39:C40)","v":{"$error":"#VALUE!"}},"HP Cap (eq. 2): ",{"$f":"SLOPE(D39:D40,E39:E40)*E41+INTERCEPT(D39:D40,E39:E40)","v":{"$error":"#N/A"}},null,null,null,null,null,null,null,"HP Cap (eq. 1): ",{"$f":"SLOPE(M39:M40,N39:N40)*N41+INTERCEPT(M39:M40,N39:N40)","v":{"$error":"#VALUE!"}},"HP Cap (eq. 2): ",{"$f":"SLOPE(O39:O40,P39:P40)*P41+INTERCEPT(O39:O40,P39:P40)","v":{"$error":"#N/A"}}]
[]
[]
[null,"Cooling - High Stage ",null,null,null,null,null,null,null,null,null,null,"Cooling - Low Stage "]
[]
[null,"Design Temp. (cool)",{"$f":"'Design Load Calcs'!B26","v":88},null,null,null,null,null,null,null,null,null,"Design Temp. (cool)",{"$f":"'Design Load Calcs'!B26","v":88}]
[]
[null,"Performance Data and Heating Load Line",null,null,null,null,null,null,"Outputs:",null,null,null,"Performance Data and Heating Load Line",null,null,null,null,null,null,"Outputs:"]
[null,"Outdoor Temp.","Actual Capacity","Actual Power","Actual COP",null,null,null,{"$f":"CONCATENATE(\"HP cap @ Design Temp.\",IF('Intro & Unit Options'!$B$12=Dropdown_Menus!F1,\" [kW]\",\" [BTU/h]\"))","v":"HP cap @ Design Temp. [BTU/h]"},{"$f":"IF(SUM(B53:B63)=0,I62,IF(OR(57=C47,J63=J62),I62,SLOPE(I62:I63,J62:J63)*C47+INTERCEPT(I62:I63,J62:J63)))","v":0},null,null,"Outdoor Temp.","Actual Capacity","Actual Power","Actual COP",null,null,null,{"$f":"CONCATENATE(\"HP cap @ Design Temp.\",IF('Intro & Unit Options'!$B$12=Dropdown_Menus!F1,\" [kW]\",\" [BTU/h]\"))","v":"HP cap @ Design Temp. [BTU/h]"},{"$f":"IF(SUM(M53:M63)=0,T62,IF(OR(57=N47,U63=U62),T62,SLOPE(T62:T63,U62:U63)*N47+INTERCEPT(T62:T63,U62:U63)))","v":0}]
[null,{"$f":"IF('Intro & Unit Options'!$B$12=Dropdown_Menus!$F$1,\"[°C]\",\"[°F]\")","v":"[°F]"},{"$f":"IF('Intro & Unit Options'!$B$12=Dropdown_Menus!$F$1,\"[kW]\",\"[BTU/h]\")","v":"[BTU/h]"},"[kW]","[-]",null,null,null,"% of Design Load",{"$f":"J50/'Design Load Calcs'!$B$25","v":0},null,null,{"$f":"IF('Intro & Unit Options'!$B$12=Dropdown_Menus!$F$1,\"[°C]\",\"[°F]\")","v":"[°F]"},{"$f":"IF('Intro & Unit Options'!$B$12=Dropdown_Menus!$F$1,\"[kW]\",\"[BTU/h]\")","v":"[BTU/h]"},"[kW]","[-]",null,null,null,"% of Design Load",{"$f":"U50/'Design Load Calcs'!$B$25","v":0}]
[null,{"$f":"IF(OR('Step 5 Identify & Select ASHPs'!$I$81,'Step 5 Identify & Select ASHPs'!$I$82,'Step 5 Identify & Select ASHPs'!$I$83),'Step 5 Identify & Select ASHPs'!$N$83,NA())","v":95},{"$f":"IF(OR(B52=\"#N/A\",B52=\"\"),\"\",IFERROR(HLOOKUP('HP4'!B52,'Step 5 Identify & Select ASHPs'!$N$83:$Z$86,2,FALSE),\"\"))","v":0},{"$f":"IF(OR(B52=\"#N/A\",B52=\"\"),\"\",IFERROR(HLOOKUP(B52,'Step 5 Identify & Select ASHPs'!$N$83:$Z$86,IF('Step 5 Identify & Select ASHPs'!$I$93=\"EER\",4,3),FALSE),\"\"))","v":0},{"$f":"IF(OR(B52=\"#N/A\",B52=\"\"),\"\",IFERROR(HLOOKUP(B52,'Step 5 Identify & Select ASHPs'!$N$83:$Z$86,IF('Step 5 Identify & Select ASHPs'!$I$93=\"EER\",3,4),FALSE),\"\"))","v":""},null,null,null,{"$f":"CONCATENATE(\"HP cap @\",IF('Intro & Unit Options'!B12=Dropdown_Menus!F1,CONVERT(95,\"F\",\"C\"),95),IF('Intro & Unit Options'!$B$12=Dropdown_Menus!F1,\" C\",\" F\"),IF('Intro & Unit Options'!$B$12=Dropdown_Menus!F1,\" [kW]\",\" [BTU/h]\"))","v":"HP cap @95 F [BTU/h]"},{"$f":"IF(OR('Step 5 Identify & Select ASHPs'!$I$81,'Step 5 Identify & Select ASHPs'!$I$82,'Step 5 Identify & Select ASHPs'!$I$27),'HP4'!C52,IFERROR(INDEX('HP4'!C52:C63,MATCH(IF('Intro & Unit Options'!B12=Dropdown_Menus!F1,CONVERT(95,\"F\",\"C\"),95),'HP4'!B52:B63,0)),SLOPE(I57:I58,J57:J58)*IF('Intro & Unit Options'!B12=Dropdown_Menus!F1,CONVERT(95,\"F\",\"C\"),95)+INTERCEPT(I57:I58,J57:J58)))","v":0},null,null,{"$f":"IF('Step 5 Identify & Select ASHPs'!$E$52=Dropdown_Menus!$A$2,\"\",'HP4'!B52)","v":95},{"$f":"IF(OR(M52=\"#N/A\",M52=\"\"),\"\",IFERROR(HLOOKUP('HP4'!M52,'Step 5 Identify & Select ASHPs'!$N$92:$AH$95,2,FALSE),\"\"))","v":0},{"$f":"IF(OR(M52=\"#N/A\",M52=\"\"),\"\",IFERROR(HLOOKUP(M52,'Step 5 Identify & Select ASHPs'!$N$92:$AH$95,IF('Step 5 Identify & Select ASHPs'!$I$93=\"EER\",4,3),FALSE),\"\"))","v":0},{"$f":"IF(OR(M52=\"#N/A\",M52=\"\"),\"\",IFERROR(HLOOKUP(M52,'Step 5 Identify & Select ASHPs'!$N$92:$AH$95,IF('Step 5 Identify & Select ASHPs'!$I$93=\"EER\",3,4),FALSE),\"\"))","v":""},null,null,null,{"$f":"CONCATENATE(\"HP cap @\",IF('Intro & Unit Options'!B12=Dropdown_Menus!F1,CONVERT(95,\"F\",\"C\"),95),IF('Intro & Unit Options'!$B$12=Dropdown_Menus!F1,\" C\",\" F\"),IF('Intro & Unit Options'!$B$12=Dropdown_Menus!F1,\" [kW]\",\" [BTU/h]\"))","v":"HP cap @95 F [BTU/h]"},{"$f":"IF('Step 5 Identify & Select ASHPs'!E90=\"Single Speed\",NA(),IF(OR('Step 5 Identify & Select ASHPs'!$I$81,'Step 5 Identify & Select ASHPs'!$I$82,'Step 5 Identify & Select ASHPs'!$I$27),'HP4'!N52,IFERROR(INDEX('HP4'!N52:N63,MATCH(IF('Intro & Unit Options'!B12=Dropdown_Menus!F1,CONVERT(95,\"F\",\"C\"),95),'HP4'!M52:M63,0)),SLOPE(T57:T58,U57:U58)*IF('Intro & Unit Options'!B12=Dropdown_Menus!F1,CONVERT(95,\"F\",\"C\"),95)+INTERCEPT(T57:T58,U57:U58))))","v":0}]
[null,{"$f":"IF(OR('Step 5 Identify & Select ASHPs'!$I$81,'Step 5 Identify & Select ASHPs'!$I$82),\"\",IF('Step 5 Identify & Select ASHPs'!$I$83,IF(MATCH(B52,$B$52:$B$63,0)>='Step 5 Identify & Select ASHPs'!$I$90,\"\",'Step 5 Identify & Select ASHPs'!$O$83),NA()))","v":""},{"$f":"IF(OR(B53=\"#N/A\",B53=\"\"),\"\",IFERROR(HLOOKUP('HP4'!B53,'Step 5 Identify & Select ASHPs'!$O$83:$Z$86,2,FALSE),\"\"))","v":""},{"$f":"IF(OR(B53=\"#N/A\",B53=\"\"),\"\",IFERROR(HLOOKUP(B53,'Step 5 Identify & Select ASHPs'!$O$83:$Z$86,IF('Step 5 Identify & Select ASHPs'!$I$93=\"EER\",4,3),FALSE),\"\"))","v":""},{"$f":"IF(OR(B53=\"#N/A\",B53=\"\"),\"\",IFERROR(HLOOKUP(B53,'Step 5 Identify & Select ASHPs'!$O$83:$Z$86,IF('Step 5 Identify & Select ASHPs'!$I$93=\"EER\",3,4),FALSE),\"\"))","v":""},null,null,null,{"$f":"CONCATENATE(\"HP COP @\",IF('Intro & Unit Options'!B13=Dropdown_Menus!F2,CONVERT(95,\"F\",\"C\"),95),IF('Intro & Unit Options'!$B$12=Dropdown_Menus!F2,\" C\",\" F\"),IF('Intro & Unit Options'!$B$12=Dropdown_Menus!F2,\" [kW]\",\" [BTU/h]\"))","v":"HP COP @95 F [BTU/h]"},{"$f":"IF(OR('Step 5 Identify & Select ASHPs'!$I$24,'Step 5 Identify & Select ASHPs'!$I$25,'Step 5 Identify & Select ASHPs'!$I$27),E52,IFERROR(INDEX(E52:E63,MATCH(IF('Intro & Unit Options'!B12=Dropdown_Menus!F1,CONVERT(95,\"F\",\"C\"),95),B52:B63,0)),SLOPE(G57:G58,J57:J58)*IF('Intro & Unit Options'!B12=Dropdown_Menus!F1,CONVERT(95,\"F\",\"C\"),95)+INTERCEPT(G57:G58,J57:J58)))","v":""},null,null,{"$f":"IF('Step 5 Identify & Select ASHPs'!$E$52=Dropdown_Menus!$A$2,\"\",'HP4'!B53)","v":""},{"$f":"IF(OR(M53=\"#N/A\",M53=\"\"),\"\",IFERROR(HLOOKUP('HP4'!M53,'Step 5 Identify & Select ASHPs'!$N$92:$AH$95,2,FALSE),\"\"))","v":""},{"$f":"IF(OR(M53=\"#N/A\",M53=\"\"),\"\",IFERROR(HLOOKUP(M53,'Step 5 Identify & Select ASHPs'!$N$92:$AH$95,IF('Step 5 Identify & Select ASHPs'!$I$93=\"EER\",4,3),FALSE),\"\"))","v":""},{"$f":"IF(OR(M53=\"#N/A\",M53=\"\"),\"\",IFERROR(HLOOKUP(M53,'Step 5 Identify & Select ASHPs'!$N$92:$AH$95,IF('Step 5 Identify & Select ASHPs'!$I$93=\"EER\",3,4),FALSE),\"\"))","v":""}]
[null,{"$f":"IF(OR('Step 5 Identify & Select ASHPs'!$I$81,'Step 5 Identify & Select ASHPs'!$I$82),\"\",IF('Step 5 Identify & Select ASHPs'!$I$83,IF(MATCH(B53,$B$52:$B$63,0)>='Step 5 Identify & Select ASHPs'!$I$90,\"\",'Step 5 Identify & Select ASHPs'!$P$83),NA()))","v":""},{"$f":"IF(OR(B54=\"#N/A\",B54=\"\"),\"\",IFERROR(HLOOKUP('HP4'!B54,'Step 5 Identify & Select ASHPs'!$O$83:$Z$86,2,FALSE),\"\"))","v":""},{"$f":"IF(OR(B54=\"#N/A\",B54=\"\"),\"\",IFERROR(HLOOKUP(B54,'Step 5 Identify & Select ASHPs'!$O$83:$Z$86,IF('Step 5 Identify & Select ASHPs'!$I$93=\"EER\",4,3),FALSE),\"\"))","v":""},{"$f":"IF(OR(B54=\"#N/A\",B54=\"\"),\"\",IFERROR(HLOOKUP(B54,'Step 5 Identify & Select ASHPs'!$O$83:$Z$86,IF('Step 5 Identify & Select ASHPs'!$I$93=\"EER\",3,4),FALSE),\"\"))","v":""},null,null,null,null,null,null,null,{"$f":"IF('Step 5 Identify & Select ASHPs'!$E$52=Dropdown_Menus!$A$2,\"\",'HP4'!B54)","v":""},{"$f":"IF(OR(M54=\"#N/A\",M54=\"\"),\"\",IFERROR(HLOOKUP('HP4'!M54,'Step 5 Identify & Select ASHPs'!$N$92:$AH$95,2,FALSE),\"\"))","v":""},{"$f":"IF(OR(M54=\"#N/A\",M54=\"\"),\"\",IFERROR(HLOOKUP(M54,'Step 5 Identify & Select ASHPs'!$N$92:$AH$95,IF('Step 5 Identify & Select ASHPs'!$I$93=\"EER\",4,3),FALSE),\"\"))","v":""},{"$f":"IF(OR(M54=\"#N/A\",M54=\"\"),\"\",IFERROR(HLOOKUP(M54,'Step 5 Identify & Select ASHPs'!$N$92:$AH$95,IF('Step 5 Identify & Select ASHPs'!$I$93=\"EER\",3,4),FALSE),\"\"))","v":""}]
[null,{"$f":"IF(OR('Step 5 Identify & Select ASHPs'!$I$81,'Step 5 Identify & Select ASHPs'!$I$82),\"\",IF('Step 5 Identify & Select ASHPs'!$I$83,IF(MATCH(B54,$B$52:$B$63,0)>='Step 5 Identify & Select ASHPs'!$I$90,\"\",'Step 5 Identify & Select ASHPs'!$Q$83),NA()))","v":""},{"$f":"IF(OR(B55=\"#N/A\",B55=\"\"),\"\",IFERROR(HLOOKUP('HP4'!B55,'Step 5 Identify & Select ASHPs'!$O$83:$Z$86,2,FALSE),\"\"))","v":""},{"$f":"IF(OR(B55=\"#N/A\",B55=\"\"),\"\",IFERROR(HLOOKUP(B55,'Step 5 Identify & Select ASHPs'!$O$83:$Z$86,IF('Step 5 Identify & Select ASHPs'!$I$93=\"EER\",4,3),FALSE),\"\"))","v":""},{"$f":"IF(OR(B55=\"#N/A\",B55=\"\"),\"\",IFERROR(HLOOKUP(B55,'Step 5 Identify & Select ASHPs'!$O$83:$Z$86,IF('Step 5 Identify & Select ASHPs'!$I$93=\"EER\",3,4),FALSE),\"\"))","v":""},null,"Slope and Intercept at Rated Conditions (HP Cap)",null,null,null,null,null,{"$f":"IF('Step 5 Identify & Select ASHPs'!$E$52=Dropdown_Menus!$A$2,\"\",'HP4'!B55)","v":""},{"$f":"IF(OR(M55=\"#N/A\",M55=\"\"),\"\",IFERROR(HLOOKUP('HP4'!M55,'Step 5 Identify & Select ASHPs'!$N$92:$AH$95,2,FALSE),\"\"))","v":""},{"$f":"IF(OR(M55=\"#N/A\",M55=\"\"),\"\",IFERROR(HLOOKUP(M55,'Step 5 Identify & Select ASHPs'!$N$92:$AH$95,IF('Step 5 Identify & Select ASHPs'!$I$93=\"EER\",4,3),FALSE),\"\"))","v":""},{"$f":"IF(OR(M55=\"#N/A\",M55=\"\"),\"\",IFERROR(HLOOKUP(M55,'Step 5 Identify & Select ASHPs'!$N$92:$AH$95,IF('Step 5 Identify & Select ASHPs'!$I$93=\"EER\",3,4),FALSE),\"\"))","v":""},null,null,null,"Slope and Intercept at Rated Conditions (HP Cap)"]
[null,{"$f":"IF(OR('Step 5 Identify & Select ASHPs'!$I$81,'Step 5 Identify & Select ASHPs'!$I$82),\"\",IF('Step 5 Identify & Select ASHPs'!$I$83,IF(MATCH(B55,$B$52:$B$63,0)>='Step 5 Identify & Select ASHPs'!$I$90,\"\",'Step 5 Identify & Select ASHPs'!$R$83),NA()))","v":""},{"$f":"IF(OR(B56=\"#N/A\",B56=\"\"),\"\",IFERROR(HLOOKUP('HP4'!B56,'Step 5 Identify & Select ASHPs'!$O$83:$Z$86,2,FALSE),\"\"))","v":""},{"$f":"IF(OR(B56=\"#N/A\",B56=\"\"),\"\",IFERROR(HLOOKUP(B56,'Step 5 Identify & Select ASHPs'!$O$83:$Z$86,IF('Step 5 Identify & Select ASHPs'!$I$93=\"EER\",4,3),FALSE),\"\"))","v":""},{"$f":"IF(OR(B56=\"#N/A\",B56=\"\"),\"\",IFERROR(HLOOKUP(B56,'Step 5 Identify & Select ASHPs'!$O$83:$Z$86,IF('Step 5 Identify & Select ASHPs'!$I$93=\"EER\",3,4),FALSE),\"\"))","v":""},null,"know ys (COP):",null,"know ys (capacity):","know xs",null,null,{"$f":"IF('Step 5 Identify & Select ASHPs'!$E$52=Dropdown_Menus!$A$2,\"\",'HP4'!B56)","v":""},{"$f":"IF(OR(M56=\"#N/A\",M56=\"\"),\"\",IFERROR(HLOOKUP('HP4'!M56,'Step 5 Identify & Select ASHPs'!$N$92:$AH$95,2,FALSE),\"\"))","v":""},{"$f":"IF(OR(M56=\"#N/A\",M56=\"\"),\"\",IFERROR(HLOOKUP(M56,'Step 5 Identify & Select ASHPs'!$N$92:$AH$95,IF('Step 5 Identify & Select ASHPs'!$I$93=\"EER\",4,3),FALSE),\"\"))","v":""},{"$f":"IF(OR(M56=\"#N/A\",M56=\"\"),\"\",IFERROR(HLOOKUP(M56,'Step 5 Identify & Select ASHPs'!$N$92:$AH$95,IF('Step 5 Identify & Select ASHPs'!$I$93=\"EER\",3,4),FALSE),\"\"))","v":""},null,null,null,"know ys (capacity):","know xs"]
[null,{"$f":"IF(OR('Step 5 Identify & Select ASHPs'!$I$81,'Step 5 Identify & Select ASHPs'!$I$82),\"\",IF('Step 5 Identify & Select ASHPs'!$I$83,IF(MATCH(B56,$B$52:$B$63,0)>='Step 5 Identify & Select ASHPs'!$I$90,\"\",'Step 5 Identify & Select ASHPs'!$S$83),NA()))","v":""},{"$f":"IF(OR(B57=\"#N/A\",B57=\"\"),\"\",IFERROR(HLOOKUP('HP4'!B57,'Step 5 Identify & Select ASHPs'!$O$83:$Z$86,2,FALSE),\"\"))","v":""},{"$f":"IF(OR(B57=\"#N/A\",B57=\"\"),\"\",IFERROR(HLOOKUP(B57,'Step 5 Identify & Select ASHPs'!$O$83:$Z$86,IF('Step 5 Identify & Select ASHPs'!$I$93=\"EER\",4,3),FALSE),\"\"))","v":""},{"$f":"IF(OR(B57=\"#N/A\",B57=\"\"),\"\",IFERROR(HLOOKUP(B57,'Step 5 Identify & Select ASHPs'!$O$83:$Z$86,IF('Step 5 Identify & Select ASHPs'!$I$93=\"EER\",3,4),FALSE),\"\"))","v":""},null,{"$f":"INDEX(E52:E63,MATCH(J57,B52:B63,0))","v":""},null,{"$f":"INDEX(C52:C63,MATCH(J57,B52:B63,0))","v":0},{"$f":"IF(MAX(B52:B63)<IF('Intro & Unit Options'!B12=Dropdown_Menus!F1,CONVERT(95,\"F\",\"C\"),95),MAX(B52:B63),INDEX(B52:B63,MATCH(IF('Intro & Unit Options'!B12=Dropdown_Menus!F1,CONVERT(95,\"F\",\"C\"),95),B52:B63,-1)))","v":95},null,null,{"$f":"IF('Step 5 Identify & Select ASHPs'!$E$52=Dropdown_Menus!$A$2,\"\",'HP4'!B57)","v":""},{"$f":"IF(OR(M57=\"#N/A\",M57=\"\"),\"\",IFERROR(HLOOKUP('HP4'!M57,'Step 5 Identify & Select ASHPs'!$N$92:$AH$95,2,FALSE),\"\"))","v":""},{"$f":"IF(OR(M57=\"#N/A\",M57=\"\"),\"\",IFERROR(HLOOKUP(M57,'Step 5 Identify & Select ASHPs'!$N$92:$AH$95,IF('Step 5 Identify & Select ASHPs'!$I$93=\"EER\",4,3),FALSE),\"\"))","v":""},{"$f":"IF(OR(M57=\"#N/A\",M57=\"\"),\"\",IFERROR(HLOOKUP(M57,'Step 5 Identify & Select ASHPs'!$N$92:$AH$95,IF('Step 5 Identify & Select ASHPs'!$I$93=\"EER\",3,4),FALSE),\"\"))","v":""},null,null,null,{"$f":"INDEX(N52:N63,MATCH(U57,M52:M63,0))","v":0},{"$f":"IF(MAX(M52:M63)<IF('Intro & Unit Options'!M12=Dropdown_Menus!Q1,CONVERT(95,\"F\",\"C\"),95),MAX(M52:M63),INDEX(M52:M63,MATCH(IF('Intro & Unit Options'!M12=Dropdown_Menus!Q1,CONVERT(95,\"F\",\"C\"),95),M52:M63,-1)))","v":95}]
[null,{"$f":"IF(OR('Step 5 Identify & Select ASHPs'!$I$81,'Step 5 Identify & Select ASHPs'!$I$82),\"\",IF('Step 5 Identify & Select ASHPs'!$I$83,IF(MATCH(B57,$B$52:$B$63,0)>='Step 5 Identify & Select ASHPs'!$I$90,\"\",'Step 5 Identify & Select ASHPs'!$T$83),NA()))","v":""},{"$f":"IF(OR(B58=\"#N/A\",B58=\"\"),\"\",IFERROR(HLOOKUP('HP4'!B58,'Step 5 Identify & Select ASHPs'!$O$83:$Z$86,2,FALSE),\"\"))","v":""},{"$f":"IF(OR(B58=\"#N/A\",B58=\"\"),\"\",IFERROR(HLOOKUP(B58,'Step 5 Identify & Select ASHPs'!$O$83:$Z$86,IF('Step 5 Identify & Select ASHPs'!$I$93=\"EER\",4,3),FALSE),\"\"))","v":""},{"$f":"IF(OR(B58=\"#N/A\",B58=\"\"),\"\",IFERROR(HLOOKUP(B58,'Step 5 Identify & Select ASHPs'!$O$83:$Z$86,IF('Step 5 Identify & Select ASHPs'!$I$93=\"EER\",3,4),FALSE),\"\"))","v":""},null,{"$f":"IF(J58=\"-\",\"-\",INDEX(E52:E63,MATCH(J58,B52:B63,0)))","v":""},null,{"$f":"IF(J58=\"-\",\"-\",INDEX(C52:C63,MATCH(J58,B52:B63,0)))","v":""},{"$f":"IF(J57=MIN(B52:B63),INDEX(B52:B63,MATCH(J57,B52:B63,0)-1),INDEX(B52:B63,MATCH(J57,B52:B63,0)+1))","v":""},null,null,{"$f":"IF('Step 5 Identify & Select ASHPs'!$E$52=Dropdown_Menus!$A$2,\"\",'HP4'!B58)","v":""},{"$f":"IF(OR(M58=\"#N/A\",M58=\"\"),\"\",IFERROR(HLOOKUP('HP4'!M58,'Step 5 Identify & Select ASHPs'!$N$92:$AH$95,2,FALSE),\"\"))","v":""},{"$f":"IF(OR(M58=\"#N/A\",M58=\"\"),\"\",IFERROR(HLOOKUP(M58,'Step 5 Identify & Select ASHPs'!$N$92:$AH$95,IF('Step 5 Identify & Select ASHPs'!$I$93=\"EER\",4,3),FALSE),\"\"))","v":""},{"$f":"IF(OR(M58=\"#N/A\",M58=\"\"),\"\",IFERROR(HLOOKUP(M58,'Step 5 Identify & Select ASHPs'!$N$92:$AH$95,IF('Step 5 Identify & Select ASHPs'!$I$93=\"EER\",3,4),FALSE),\"\"))","v":""},null,null,null,{"$f":"IF(U58=\"-\",\"-\",INDEX(N52:N63,MATCH(U58,M52:M63,0)))","v":""},{"$f":"IF(U57=MIN(M52:M63),INDEX(M52:M63,MATCH(U57,M52:M63,0)-1),INDEX(M52:M63,MATCH(U57,M52:M63,0)+1))","v":""}]
[null,{"$f":"IF(OR('Step 5 Identify & Select ASHPs'!$I$81,'Step 5 Identify & Select ASHPs'!$I$82),\"\",IF('Step 5 Identify & Select ASHPs'!$I$83,IF(MATCH(B58,$B$52:$B$63,0)>='Step 5 Identify & Select ASHPs'!$I$90,\"\",'Step 5 Identify & Select ASHPs'!$U$83),NA()))","v":""},{"$f":"IF(OR(B59=\"#N/A\",B59=\"\"),\"\",IFERROR(HLOOKUP('HP4'!B59,'Step 5 Identify & Select ASHPs'!$O$83:$Z$86,2,FALSE),\"\"))","v":""},{"$f":"IF(OR(B59=\"#N/A\",B59=\"\"),\"\",IFERROR(HLOOKUP(B59,'Step 5 Identify & Select ASHPs'!$O$83:$Z$86,IF('Step 5 Identify & Select ASHPs'!$I$93=\"EER\",4,3),FALSE),\"\"))","v":""},{"$f":"IF(OR(B59=\"#N/A\",B59=\"\"),\"\",IFERROR(HLOOKUP(B59,'Step 5 Identify & Select ASHPs'!$O$83:$Z$86,IF('Step 5 Identify & Select ASHPs'!$I$93=\"EER\",3,4),FALSE),\"\"))","v":""},null,null,null,null,null,null,null,{"$f":"IF('Step 5 Identify & Select ASHPs'!$E$52=Dropdown_Menus!$A$2,\"\",'HP4'!B59)","v":""},{"$f":"IF(OR(M59=\"#N/A\",M59=\"\"),\"\",IFERROR(HLOOKUP('HP4'!M59,'Step 5 Identify & Select ASHPs'!$N$92:$AH$95,2,FALSE),\"\"))","v":""},{"$f":"IF(OR(M59=\"#N/A\",M59=\"\"),\"\",IFERROR(HLOOKUP(M59,'Step 5 Identify & Select ASHPs'!$N$92:$AH$95,IF('Step 5 Identify & Select ASHPs'!$I$93=\"EER\",4,3),FALSE),\"\"))","v":""},{"$f":"IF(OR(M59=\"#N/A\",M59=\"\"),\"\",IFERROR(HLOOKUP(M59,'Step 5 Identify & Select ASHPs'!$N$92:$AH$95,IF('Step 5 Identify & Select ASHPs'!$I$93=\"EER\",3,4),FALSE),\"\"))","v":""}]
[null,{"$f":"IF(OR('Step 5 Identify & Select ASHPs'!$I$81,'Step 5 Identify & Select ASHPs'!$I$82),\"\",IF('Step 5 Identify & Select ASHPs'!$I$83,IF(MATCH(B59,$B$52:$B$63,0)>='Step 5 Identify & Select ASHPs'!$I$90,\"\",'Step 5 Identify & Select ASHPs'!$V$83),NA()))","v":""},{"$f":"IF(OR(B60=\"#N/A\",B60=\"\"),\"\",IFERROR(HLOOKUP('HP4'!B60,'Step 5 Identify & Select ASHPs'!$O$83:$Z$86,2,FALSE),\"\"))","v":""},{"$f":"IF(OR(B60=\"#N/A\",B60=\"\"),\"\",IFERROR(HLOOKUP(B60,'Step 5 Identify & Select ASHPs'!$O$83:$Z$86,IF('Step 5 Identify & Select ASHPs'!$I$93=\"EER\",4,3),FALSE),\"\"))","v":""},{"$f":"IF(OR(B60=\"#N/A\",B60=\"\"),\"\",IFERROR(HLOOKUP(B60,'Step 5 Identify & Select ASHPs'!$O$83:$Z$86,IF('Step 5 Identify & Select ASHPs'!$I$93=\"EER\",3,4),FALSE),\"\"))","v":""},null,null,null,"Slope and Intercept at the Design Temp.",null,null,null,{"$f":"IF('Step 5 Identify & Select ASHPs'!$E$52=Dropdown_Menus!$A$2,\"\",'HP4'!B60)","v":""},{"$f":"IF(OR(M60=\"#N/A\",M60=\"\"),\"\",IFERROR(HLOOKUP('HP4'!M60,'Step 5 Identify & Select ASHPs'!$N$92:$AH$95,2,FALSE),\"\"))","v":""},{"$f":"IF(OR(M60=\"#N/A\",M60=\"\"),\"\",IFERROR(HLOOKUP(M60,'Step 5 Identify & Select ASHPs'!$N$92:$AH$95,IF('Step 5 Identify & Select ASHPs'!$I$93=\"EER\",4,3),FALSE),\"\"))","v":""},{"$f":"IF(OR(M60=\"#N/A\",M60=\"\"),\"\",IFERROR(HLOOKUP(M60,'Step 5 Identify & Select ASHPs'!$N$92:$AH$95,IF('Step 5 Identify & Select ASHPs'!$I$93=\"EER\",3,4),FALSE),\"\"))","v":""},null,null,null,"Slope and Intercept at the Design Temp."]
[null,{"$f":"IF(OR('Step 5 Identify & Select ASHPs'!$I$81,'Step 5 Identify & Select ASHPs'!$I$82),\"\",IF('Step 5 Identify & Select ASHPs'!$I$83,IF(MATCH(B60,$B$52:$B$63,0)>='Step 5 Identify & Select ASHPs'!$I$90,\"\",'Step 5 Identify & Select ASHPs'!$W$83),NA()))","v":""},{"$f":"IF(OR(B61=\"#N/A\",B61=\"\"),\"\",IFERROR(HLOOKUP('HP4'!B61,'Step 5 Identify & Select ASHPs'!$O$83:$Z$86,2,FALSE),\"\"))","v":""},{"$f":"IF(OR(B61=\"#N/A\",B61=\"\"),\"\",IFERROR(HLOOKUP(B61,'Step 5 Identify & Select ASHPs'!$O$83:$Z$86,IF('Step 5 Identify & Select ASHPs'!$I$93=\"EER\",4,3),FALSE),\"\"))","v":""},{"$f":"IF(OR(B61=\"#N/A\",B61=\"\"),\"\",IFERROR(HLOOKUP(B61,'Step 5 Identify & Select ASHPs'!$O$83:$Z$86,IF('Step 5 Identify & Select ASHPs'!$I$93=\"EER\",3,4),FALSE),\"\"))","v":""},null,null,null,"know ys (capacity):","know xs",null,null,{"$f":"IF('Step 5 Identify & Select ASHPs'!$E$52=Dropdown_Menus!$A$2,\"\",'HP4'!B61)","v":""},{"$f":"IF(OR(M61=\"#N/A\",M61=\"\"),\"\",IFERROR(HLOOKUP('HP4'!M61,'Step 5 Identify & Select ASHPs'!$N$92:$AH$95,2,FALSE),\"\"))","v":""},{"$f":"IF(OR(M61=\"#N/A\",M61=\"\"),\"\",IFERROR(HLOOKUP(M61,'Step 5 Identify & Select ASHPs'!$N$92:$AH$95,IF('Step 5 Identify & Select ASHPs'!$I$93=\"EER\",4,3),FALSE),\"\"))","v":""},{"$f":"IF(OR(M61=\"#N/A\",M61=\"\"),\"\",IFERROR(HLOOKUP(M61,'Step 5 Identify & Select ASHPs'!$N$92:$AH$95,IF('Step 5 Identify & Select ASHPs'!$I$93=\"EER\",3,4),FALSE),\"\"))","v":""},null,null,null,"know ys (capacity):","know xs"]
[null,{"$f":"IF(OR('Step 5 Identify & Select ASHPs'!$I$81,'Step 5 Identify & Select ASHPs'!$I$82),\"\",IF('Step 5 Identify & Select ASHPs'!$I$83,IF(MATCH(B61,$B$52:$B$63,0)>='Step 5 Identify & Select ASHPs'!$I$90,\"\",'Step 5 Identify & Select ASHPs'!$X$83),NA()))","v":""},{"$f":"IF(OR(B62=\"#N/A\",B62=\"\"),\"\",IFERROR(HLOOKUP('HP4'!B62,'Step 5 Identify & Select ASHPs'!$O$83:$Z$86,2,FALSE),\"\"))","v":""},{"$f":"IF(OR(B62=\"#N/A\",B62=\"\"),\"\",IFERROR(HLOOKUP(B62,'Step 5 Identify & Select ASHPs'!$O$83:$Z$86,IF('Step 5 Identify & Select ASHPs'!$I$93=\"EER\",4,3),FALSE),\"\"))","v":""},{"$f":"IF(OR(B62=\"#N/A\",B62=\"\"),\"\",IFERROR(HLOOKUP(B62,'Step 5 Identify & Select ASHPs'!$O$83:$Z$86,IF('Step 5 Identify & Select ASHPs'!$I$93=\"EER\",3,4),FALSE),\"\"))","v":""},null,null,null,{"$f":"INDEX(C52:C63,MATCH(J62,B52:B63,0))","v":0},{"$f":"IF(C47<MIN(B52:B63),INDEX(B52:B63,MATCH(MIN(B52:B63),B52:B63,-1)),IFERROR(INDEX(B52:B63,MATCH(C47,B52:B63,0)),INDEX(B52:B63,MATCH(C47,B52:B63,-1))))","v":95},null,null,{"$f":"IF('Step 5 Identify & Select ASHPs'!$E$52=Dropdown_Menus!$A$2,\"\",'HP4'!B62)","v":""},{"$f":"IF(OR(M62=\"#N/A\",M62=\"\"),\"\",IFERROR(HLOOKUP('HP4'!M62,'Step 5 Identify & Select ASHPs'!$N$92:$AH$95,2,FALSE),\"\"))","v":""},{"$f":"IF(OR(M62=\"#N/A\",M62=\"\"),\"\",IFERROR(HLOOKUP(M62,'Step 5 Identify & Select ASHPs'!$N$92:$AH$95,IF('Step 5 Identify & Select ASHPs'!$I$93=\"EER\",4,3),FALSE),\"\"))","v":""},{"$f":"IF(OR(M62=\"#N/A\",M62=\"\"),\"\",IFERROR(HLOOKUP(M62,'Step 5 Identify & Select ASHPs'!$N$92:$AH$95,IF('Step 5 Identify & Select ASHPs'!$I$93=\"EER\",3,4),FALSE),\"\"))","v":""},null,null,null,{"$f":"INDEX(N52:N63,MATCH(U62,M52:M63,0))","v":0},{"$f":"IF(N47<MIN(M52:M63),INDEX(M52:M63,MATCH(MIN(M52:M63),M52:M63,-1)),IFERROR(INDEX(M52:M63,MATCH(N47,M52:M63,0)),INDEX(M52:M63,MATCH(N47,M52:M63,-1))))","v":95}]
[null,{"$f":"IF(OR('Step 5 Identify & Select ASHPs'!$I$81,'Step 5 Identify & Select ASHPs'!$I$82),\"\",IF('Step 5 Identify & Select ASHPs'!$I$83,IF(MATCH(B62,$B$52:$B$63,0)>='Step 5 Identify & Select ASHPs'!$I$90,\"\",'Step 5 Identify & Select ASHPs'!$Y$83),NA()))","v":""},{"$f":"IF(OR(B63=\"#N/A\",B63=\"\"),\"\",IFERROR(HLOOKUP('HP4'!B63,'Step 5 Identify & Select ASHPs'!$O$83:$Z$86,2,FALSE),\"\"))","v":""},{"$f":"IF(OR(B63=\"#N/A\",B63=\"\"),\"\",IFERROR(HLOOKUP(B63,'Step 5 Identify & Select ASHPs'!$O$83:$Z$86,IF('Step 5 Identify & Select ASHPs'!$I$93=\"EER\",4,3),FALSE),\"\"))","v":""},{"$f":"IF(OR(B63=\"#N/A\",B63=\"\"),\"\",IFERROR(HLOOKUP(B63,'Step 5 Identify & Select ASHPs'!$O$83:$Z$86,IF('Step 5 Identify & Select ASHPs'!$I$93=\"EER\",3,4),FALSE),\"\"))","v":""},null,null,null,{"$f":"IF(J63=\"-\",\"-\",INDEX(C52:C63,MATCH(J63,B52:B63,0)))","v":""},{"$f":"IF(J62=C47,\"-\",INDEX(B52:B63,MATCH(J62,B52:B63,0)+1))","v":""},null,null,{"$f":"IF('Step 5 Identify & Select ASHPs'!$E$52=Dropdown_Menus!$A$2,\"\",'HP4'!B63)","v":""},{"$f":"IF(OR(M63=\"#N/A\",M63=\"\"),\"\",IFERROR(HLOOKUP('HP4'!M63,'Step 5 Identify & Select ASHPs'!$N$92:$AH$95,2,FALSE),\"\"))","v":""},{"$f":"IF(OR(M63=\"#N/A\",M63=\"\"),\"\",IFERROR(HLOOKUP(M63,'Step 5 Identify & Select ASHPs'!$N$92:$AH$95,IF('Step 5 Identify & Select ASHPs'!$I$93=\"EER\",4,3),FALSE),\"\"))","v":""},{"$f":"IF(OR(M63=\"#N/A\",M63=\"\"),\"\",IFERROR(HLOOKUP(M63,'Step 5 Identify & Select ASHPs'!$N$92:$AH$95,IF('Step 5 Identify & Select ASHPs'!$I$93=\"EER\",3,4),FALSE),\"\"))","v":""},null,null,null,{"$f":"IF(U63=\"-\",\"-\",INDEX(N52:N63,MATCH(U63,M52:M63,0)))","v":""},{"$f":"IF(U62=N47,\"-\",INDEX(M52:M63,MATCH(U62,M52:M63,0)+1))","v":""}]

{"sheet":"HP1 Calcs","index":22,"n_rows":63,"n_cols":29,"rows_kept":63,"cut":false,"hidden":true,"merged":[]}
[null,"Representative Curves - HP #1"]
[]
[null,"Heating - High Stage",null,null,null,null,null,null,null,null,null,null,null,null,null,null,"Heating - Low Stage"]
[]
[null,"Capacity @47°F (High Stage) [BTU/h ] ou [kW]",{"$f":"IF('Step 5 Identify & Select ASHPs'!I27,'Step 5 Identify & Select ASHPs'!$N$23, \"This option has not been selected\")","v":"This option has not been selected"},null,null,null,null,null,null,null,null,null,null,null,null,null,"Capacity @47°F (High Stage) [BTU/h ] ou [kW]",{"$f":"IF('Step 5 Identify & Select ASHPs'!I27,'Step 5 Identify & Select ASHPs'!$N$23, \"This option has not been selected\")","v":"This option has not been selected"}]
[null,"Power @47°F (High Stage) [kW]",{"$f":"IF('Step 5 Identify & Select ASHPs'!I27,IF('Step 5 Identify & Select ASHPs'!I35=\"COP\",'Step 5 Identify & Select ASHPs'!N25,'Step 5 Identify & Select ASHPs'!N24), \"This option has not been selected\")","v":"This option has not been selected"},null,null,null,null,null,null,null,null,null,null,null,null,null,"Power @47°F (High Stage) [kW]",{"$f":"IF('Step 5 Identify & Select ASHPs'!I27,IF('Step 5 Identify & Select ASHPs'!I35=\"COP\",'Step 5 Identify & Select ASHPs'!N25,'Step 5 Identify & Select ASHPs'!N24), \"This option has not been selected\")","v":"This option has not been selected"}]
[]
[null,"Performance Table Name: ",{"$f":"IF(AND('Step 5 Identify & Select ASHPs'!E32=\"Centrally Ducted\",'Step 5 Identify & Select ASHPs'!E33=\"Single Speed\"),\"Perf_Htg_Ducted_Single\",IF(AND('Step 5 Identify & Select ASHPs'!E32=\"Centrally Ducted\",'Step 5 Identify & Select ASHPs'!E33=\"Two-Stage\"),\"Perf_Htg_Ducted_2S_HS\",IF(AND('Step 5 Identify & Select ASHPs'!E32=\"Centrally Ducted\",'Step 5 Identify & Select ASHPs'!E33=\"Variable\"),\"Perf_Htg_Ducted_Variable_HS\",IF(AND('Step 5 Identify & Select ASHPs'!E32=\"Single Split Ductless\",'Step 5 Identify & Select ASHPs'!E33=\"Regular Variable\"),\"Perf_Htg_DuctlessSingle_RegVar_HS\",IF(AND('Step 5 Identify & Select ASHPs'!E32=\"Single Split Ductless\",'Step 5 Identify & Select ASHPs'!E33=\"Cold Climate Variable\"),\"Perf_Htg_DuctlessSingle_CCVar_HS\",IF(AND('Step 5 Identify & Select ASHPs'!E32=\"Multi-split Ductless\",'Step 5 Identify & Select ASHPs'!E33=\"Regular Variable\"),\"Perf_Htg_DuctlessMulti_RegVar_HS\",IF(AND('Step 5 Identify & Select ASHPs'!E32=\"Multi-split Ductless\",'Step 5 Identify & Select ASHPs'!E33=\"Cold Climate Variable\"),\"Perf_Htg_DuctlessMulti_CCVar_HS\")))))))","v":"Perf_Htg_Ducted_Variable_HS"},null,null,null,null,null,null,null,null,null,null,null,null,null,"Performance Table Name: ",{"$f":"IF('Step 5 Identify & Select ASHPs'!$E$33=Dropdown_Menus!A2,NA(),IF(AND('Step 5 Identify & Select ASHPs'!E32=\"Centrally Ducted\",'Step 5 Identify & Select ASHPs'!E33=\"Single Speed\"),\"Perf_Htg_Ducted_Single\",IF(AND('Step 5 Identify & Select ASHPs'!E32=\"Centrally Ducted\",'Step 5 Identify & Select ASHPs'!E33=\"Two-Stage\"),\"Perf_Htg_Ducted_2S_LS\",IF(AND('Step 5 Identify & Select ASHPs'!E32=\"Centrally Ducted\",'Step 5 Identify & Select ASHPs'!E33=\"Variable\"),\"Perf_Htg_Ducted_Variable_LS\",IF(AND('Step 5 Identify & Select ASHPs'!E32=\"Single Split Ductless\",'Step 5 Identify & Select ASHPs'!E33=\"Regular Variable\"),\"Perf_Htg_DuctlessSingle_RegVar_LS\",IF(AND('Step 5 Identify & Select ASHPs'!E32=\"Single Split Ductless\",'Step 5 Identify & Select ASHPs'!E33=\"Cold Climate Variable\"),\"Perf_Htg_DuctlessSingle_CCVar_LS\",IF(AND('Step 5 Identify & Select ASHPs'!E32=\"Multi-split Ductless\",'Step 5 Identify & Select ASHPs'!E33=\"Regular Variable\"),\"Perf_Htg_DuctlessMulti_RegVar_LS\",IF(AND('Step 5 Identify & Select ASHPs'!E32=\"Multi-split Ductless\",'Step 5 Identify & Select ASHPs'!E33=\"Cold Climate Variable\"),\"Perf_Htg_DuctlessMulti_CCVar_LS\"))))))))","v":"Perf_Htg_Ducted_Variable_LS"}]
[]
[null,"Design Temp. (heat)",{"$f":"'Design Load Calcs'!$B$24","v":0},null,null,null,null,null,null,null,null,null,null,null,null,null,"Design Temp. (heat)",{"$f":"'Design Load Calcs'!$B$24","v":0}]
[]
[]
[null,"Performance Data and Heating Load Line",null,null,null,null,null,null,null,null,null,null,"Outputs:",null,null,null,"Performance Data and Heating Load Line",null,null,null,null,null,null,null,null,null,null,"Outputs:"]
[null,"Outdoor Temp.","Normalized Capacity","Normalized Power","Normalized Capacity","Normalized Power","Actual Capacity","Actual Power","Actual COP","Heating Load Line ","Intersect. Cap/Htg Load Line",null,"HP cap @ Design Temp. [BTU/h ou kW]",{"$f":"IF(OR(N37=\"-\",N37=C10),M37,SLOPE(M37:M38,N37:N38)*C10+INTERCEPT(M37:M38,N37:N38))","v":{"$error":"#VALUE!"}},null,null,"Outdoor Temp.","Normalized Capacity","Normalized Power","Normalized Capacity","Normalized Power","Actual Capacity","Actual Power","Actual COP","Heating Load Line ","Intersect. Cap/Htg Load Line",null,"HP cap @ Design Temp. [BTU/h ou kW]",{"$f":"IF(OR(AC37=\"-\",AC37=R10),AB37,SLOPE(AB37:AB38,AC37:AC38)*R10+INTERCEPT(AB37:AB38,AC37:AC38))","v":{"$error":"#VALUE!"}}]
[null,"[°C] ou [°F]",null,null,null,null,"[BTU/h] ou [kW]","[kW]","[-]","[BTU/h] ou [kW]",null,null,"BPT (Representative Curve) [°F ou°C]",{"$f":"IF((INDEX(G16:G33,MATCH(G38,B16:B33,0))-INDEX(J16:J33,MATCH(G38,B16:B33,0)))>0,G39,I39)","v":{"$error":"#VALUE!"}},null,null,"[°C] ou [°F]",null,null,null,null,"[BTU/h] ou [kW]","[kW]","[-]","[BTU/h] ou [kW]",null,null,"BPT (Representative Curve) [°F ou°C]",{"$f":"IF((INDEX(V16:V33,MATCH(V38,Q16:Q33,0))-INDEX(Y16:Y33,MATCH(V38,Q16:Q33,0)))>0,V39,X39)","v":{"$error":"#VALUE!"}}]
[null,{"$f":"'Step 5 Identify & Select ASHPs'!E31","v":0},{"$f":"IF(B16=D37,B37,IF(SLOPE(B37:B38,D37:D38)<0,B37,SLOPE(B37:B38,D37:D38)*B16+INTERCEPT(B37:B38,D37:D38)))","v":0.54925714285714289},{"$f":"IF(B16=D37,C37,SLOPE(C37:C38,D37:D38)*B16+INTERCEPT(C37:C38,D37:D38))","v":1.3659677419354841},{"$f":"C16","v":0.54925714285714289},{"$f":"D16","v":1.3659677419354841},{"$f":"C16*$C$5/C31","v":{"$error":"#VALUE!"}},{"$f":"D16*$C$6","v":{"$error":"#VALUE!"}},{"$f":"(G16/IF('Intro & Unit Options'!$B$12=\"Metric\",1,3412))/H16","v":{"$error":"#VALUE!"}},{"$f":"('Design Load Calcs'!$G$23*'HP1 Calcs'!B16+'Design Load Calcs'!$H$23)","v":50000},{"$f":"IF(G16=\"-\",\"\",ABS(G16-J16))","v":{"$error":"#VALUE!"}},null,{"$f":"CONCATENATE(\"HP cap @ BPT\",IF('Intro & Unit Options'!$B$12=Dropdown_Menus!#REF!,\" [kW]\",\" [BTU/h]\"))","v":{"$error":"#REF!"}},{"$f":"IF((INDEX(G16:G33,MATCH(G38,B16:B33,0))-INDEX(J16:J33,MATCH(G38,B16:B33,0)))>0,G40,I40)","v":{"$error":"#VALUE!"}},null,null,{"$f":"'Step 5 Identify & Select ASHPs'!E31","v":0},{"$f":"IF(Q16=S37,Q37,IF(SLOPE(Q37:Q38,S37:S38)<0,Q37,SLOPE(Q37:Q38,S37:S38)*Q16+INTERCEPT(Q37:Q38,S37:S38)))","v":0.35142857142857142},{"$f":"IF(Q16=S37,R37,SLOPE(R37:R38,S37:S38)*Q16+INTERCEPT(R37:R38,S37:S38))","v":0.70467741935483874},{"$f":"R16","v":0.35142857142857142},{"$f":"S16","v":0.70467741935483874},{"$f":"R16*$C$5/R31","v":{"$error":"#VALUE!"}},{"$f":"S16*$C$6","v":{"$error":"#VALUE!"}},{"$f":"(V16/IF('Intro & Unit Options'!$B$12=\"Metric\",1,3412))/W16","v":{"$error":"#VALUE!"}},{"$f":"('Design Load Calcs'!$G$23*'HP1 Calcs'!Q16+'Design Load Calcs'!$H$23)","v":50000},{"$f":"IF(V16=\"-\",\"\",ABS(V16-Y16))","v":{"$error":"#VALUE!"}},null,{"$f":"CONCATENATE(\"HP cap @ BPT\",IF('Intro & Unit Options'!$B$12=Dropdown_Menus!#REF!,\" [kW]\",\" [BTU/h]\"))","v":{"$error":"#REF!"}},{"$f":"IF((INDEX(V16:V33,MATCH(V38,Q16:Q33,0))-INDEX(Y16:Y33,MATCH(V38,Q16:Q33,0)))>0,V40,X40)","v":{"$error":"#VALUE!"}}]
[{"$f":"IF(C17<>\"-\",B17,\"\")","v":""},{"$f":"'Load %s'!B8","v":-23},{"$f":"INDEX(INDIRECT($C$8),MATCH(B17,$B$17:$B$33,0),2)","v":"-"},{"$f":"INDEX(INDIRECT($C$8),MATCH(B17,$B$17:$B$33,0),3)","v":"-"},{"$f":"IF(B17<=$B$16,\"-\",C17)","v":"-"},{"$f":"IF(B17<=$B$16,\"-\",D17)","v":"-"},{"$f":"IF(E17=\"-\",\"-\",E17*$C$5/$C$31)","v":"-"},{"$f":"IF(F17=\"-\",\"-\",F17*$C$6)","v":"-"},{"$f":"IF(G17=\"-\",\"-\",(G17/IF('Intro & Unit Options'!$B$12=\"Metric\",1,3412))/H17)","v":"-"},{"$f":"('Design Load Calcs'!$G$23*'HP1 Calcs'!B17+'Design Load Calcs'!$H$23)","v":69166.666666666672},{"$f":"IF(G17=\"-\",\"\",ABS(G17-J17))","v":""},null,"Fraction of heating above BPT",{"$f":"SLOPE(J37:J38,K37:K38)*N15+INTERCEPT(J37:J38,K37:K38)","v":{"$error":"#VALUE!"}},null,{"$f":"IF(R17<>\"-\",Q17,\"\")","v":""},{"$f":"'Load %s'!B8","v":-23},{"$f":"INDEX(INDIRECT($R$8),MATCH(Q17,$Q$17:$Q$33,0),2)","v":"-"},{"$f":"INDEX(INDIRECT($R$8),MATCH(Q17,$Q$17:$Q$33,0),3)","v":"-"},{"$f":"IF(Q17<=$B$16,\"-\",R17)","v":"-"},{"$f":"IF(Q17<=$B$16,\"-\",S17)","v":"-"},{"$f":"IF(T17=\"-\",\"-\",T17*$C$5/$C$31)","v":"-"},{"$f":"IF(U17=\"-\",\"-\",U17*$C$6)","v":"-"},{"$f":"IF(V17=\"-\",\"-\",(V17/IF('Intro & Unit Options'!$B$12=\"Metric\",1,3412))/W17)","v":"-"},{"$f":"('Design Load Calcs'!$G$23*'HP1 Calcs'!Q17+'Design Load Calcs'!$H$23)","v":69166.666666666672},{"$f":"IF(V17=\"-\",\"\",ABS(V17-Y17))","v":""},null,"Fraction of heating above BPT",{"$f":"SLOPE(Y37:Y38,Z37:Z38)*AC15+INTERCEPT(Y37:Y38,Z37:Z38)","v":{"$error":"#VALUE!"}}]
[{"$f":"IF(C18<>\"-\",B18,\"\")","v":""},{"$f":"'Load %s'!B9","v":-18},{"$f":"INDEX(INDIRECT($C$8),MATCH(B18,$B$17:$B$33,0),2)","v":"-"},"-",{"$f":"IF(B18<=$B$16,\"-\",C18)","v":"-"},{"$f":"IF(B18<=$B$16,\"-\",D18)","v":"-"},{"$f":"IF(E18=\"-\",\"-\",E18*$C$5/$C$31)","v":"-"},{"$f":"IF(F18=\"-\",\"-\",F18*$C$6)","v":"-"},{"$f":"IF(G18=\"-\",\"-\",(G18/IF('Intro & Unit Options'!$B$12=\"Metric\",1,3412))/H18)","v":"-"},{"$f":"('Design Load Calcs'!$G$23*'HP1 Calcs'!B18+'Design Load Calcs'!$H$23)","v":65000},{"$f":"IF(G18=\"-\",\"\",ABS(G18-J18))","v":""},null,"BPT (Selected for the graph) [°F ou°C]",{"$f":"IFERROR(IF('Step 5 Identify & Select ASHPs'!I27,'HP1 Calcs'!N15,'HP1'!J9),NA())","v":"None"},null,{"$f":"IF(R18<>\"-\",Q18,\"\")","v":""},{"$f":"'Load %s'!B9","v":-18},{"$f":"INDEX(INDIRECT($R$8),MATCH(Q18,$Q$17:$Q$33,0),2)","v":"-"},{"$f":"INDEX(INDIRECT($R$8),MATCH(Q18,$Q$17:$Q$33,0),3)","v":"-"},{"$f":"IF(Q18<=$B$16,\"-\",R18)","v":"-"},{"$f":"IF(Q18<=$B$16,\"-\",S18)","v":"-"},{"$f":"IF(T18=\"-\",\"-\",T18*$C$5/$C$31)","v":"-"},{"$f":"IF(U18=\"-\",\"-\",U18*$C$6)","v":"-"},{"$f":"IF(V18=\"-\",\"-\",(V18/IF('Intro & Unit Options'!$B$12=\"Metric\",1,3412))/W18)","v":"-"},{"$f":"('Design Load Calcs'!$G$23*'HP1 Calcs'!Q18+'Design Load Calcs'!$H$23)","v":65000},{"$f":"IF(V18=\"-\",\"\",ABS(V18-Y18))","v":""},null,"BPT (Selected for the graph) [°F ou°C]",{"$f":"IFERROR(IF('Step 5 Identify & Select ASHPs'!I27,'HP1 Calcs'!AC15,'HP1'!U9),NA())","v":"None"}]
["",{"$f":"'Load %s'!B10","v":-13},"-","-","-","-","-","-",{"$f":"IF(G19=\"-\",\"-\",(G19/IF('Intro & Unit Options'!$B$12=\"Metric\",1,3412))/H19)","v":"-"},{"$f":"('Design Load Calcs'!$G$23*'HP1 Calcs'!B19+'Design Load Calcs'!$H$23)","v":60833.333333333336},"",null,"Fraction of heating above BPT",{"$f":"IFERROR(IF('Step 5 Identify & Select ASHPs'!I27,'HP1 Calcs'!N17,'HP1'!J10),NA())","v":{"$error":"#N/A"}},null,"",{"$f":"'Load %s'!B10","v":-13},{"$f":"INDEX(INDIRECT($R$8),MATCH(Q19,$Q$17:$Q$33,0),2)","v":"-"},"-","-","-","-","-",{"$f":"IF(V19=\"-\",\"-\",(V19/IF('Intro & Unit Options'!$B$12=\"Metric\",1,3412))/W19)","v":"-"},{"$f":"('Design Load Calcs'!$G$23*'HP1 Calcs'!Q19+'Design Load Calcs'!$H$23)","v":60833.333333333336},"",null,"Fraction of heating above BPT",{"$f":"IFERROR(IF('Step 5 Identify & Select ASHPs'!I27,'HP1 Calcs'!AC17,'HP1'!U10),NA())","v":{"$error":"#N/A"}}]
[-8,{"$f":"'Load %s'!B11","v":-8},0.41714285714285709,1.3024193548387097,"-","-","-","-",{"$f":"IF(G20=\"-\",\"-\",(G20/IF('Intro & Unit Options'!$B$12=\"Metric\",1,3412))/H20)","v":"-"},{"$f":"('Design Load Calcs'!$G$23*'HP1 Calcs'!B20+'Design Load Calcs'!$H$23)","v":56666.666666666664},"",null,{"$f":"CONCATENATE(\"HP cap @\",IF('Intro & Unit Options'!B12=Dropdown_Menus!F1,CONVERT(47,\"F\",\"C\"),47),IF('Intro & Unit Options'!$B$12=Dropdown_Menus!F1,\" C\",\" F\"),IF('Intro & Unit Options'!$B$12=Dropdown_Menus!F1,\" [kW]\",\" [BTU/h]\"))","v":"HP cap @47 F [BTU/h]"},{"$f":"G31","v":{"$error":"#VALUE!"}},null,-8,{"$f":"'Load %s'!B11","v":-8},0.2674285714285714,0.6758064516129032,"-","-","-","-",{"$f":"IF(V20=\"-\",\"-\",(V20/IF('Intro & Unit Options'!$B$12=\"Metric\",1,3412))/W20)","v":"-"},{"$f":"('Design Load Calcs'!$G$23*'HP1 Calcs'!Q20+'Design Load Calcs'!$H$23)","v":56666.666666666664},""]
[-3,{"$f":"'Load %s'!B12","v":-3},0.50057142857142856,1.342741935483871,{"$f":"IF(B21<=$B$16,\"-\",C21)","v":"-"},"-","-","-",{"$f":"IF(G21=\"-\",\"-\",(G21/IF('Intro & Unit Options'!$B$12=\"Metric\",1,3412))/H21)","v":"-"},{"$f":"('Design Load Calcs'!$G$23*'HP1 Calcs'!B21+'Design Load Calcs'!$H$23)","v":52500},"",null,null,null,null,-3,{"$f":"'Load %s'!B12","v":-3},0.32057142857142856,0.69354838709677413,"-","-",{"$f":"IF(T21=\"-\",\"-\",T21*$C$5/$C$31)","v":"-"},"-",{"$f":"IF(V21=\"-\",\"-\",(V21/IF('Intro & Unit Options'!$B$12=\"Metric\",1,3412))/W21)","v":"-"},{"$f":"('Design Load Calcs'!$G$23*'HP1 Calcs'!Q21+'Design Load Calcs'!$H$23)","v":52500},""]
[2,{"$f":"'Load %s'!B13","v":2},0.58171428571428574,1.3814516129032259,0.58171428571428574,1.3814516129032259,{"$error":"#VALUE!"},{"$error":"#VALUE!"},{"$f":"IF(G22=\"-\",\"-\",(G22/IF('Intro & Unit Options'!$B$12=\"Metric\",1,3412))/H22)","v":{"$error":"#VALUE!"}},{"$f":"('Design Load Calcs'!$G$23*'HP1 Calcs'!B22+'Design Load Calcs'!$H$23)","v":48333.333333333336},{"$error":"#VALUE!"},null,"Max Cap",{"$f":"IFERROR(MAX(G16:G33),0)","v":0},null,2,{"$f":"'Load %s'!B13","v":2},0.372,0.71209677419354844,0.372,0.71209677419354844,{"$error":"#VALUE!"},{"$error":"#VALUE!"},{"$f":"IF(V22=\"-\",\"-\",(V22/IF('Intro & Unit Options'!$B$12=\"Metric\",1,3412))/W22)","v":{"$error":"#VALUE!"}},{"$f":"('Design Load Calcs'!$G$23*'HP1 Calcs'!Q22+'Design Load Calcs'!$H$23)","v":48333.333333333336},{"$error":"#VALUE!"}]
[7,{"$f":"'Load %s'!B14","v":7},0.66342857142857148,1.4193548387096775,0.66342857142857148,1.4193548387096775,{"$error":"#VALUE!"},{"$error":"#VALUE!"},{"$f":"IF(G23=\"-\",\"-\",(G23/IF('Intro & Unit Options'!$B$12=\"Metric\",1,3412))/H23)","v":{"$error":"#VALUE!"}},{"$f":"('Design Load Calcs'!$G$23*'HP1 Calcs'!B23+'Design Load Calcs'!$H$23)","v":44166.666666666664},{"$f":"IF(G23=\"-\",\"\",ABS(G23-J23))","v":{"$error":"#VALUE!"}},null,null,null,null,7,{"$f":"'Load %s'!B14","v":7},0.42342857142857143,0.72983870967741937,0.42342857142857143,0.72983870967741937,{"$error":"#VALUE!"},{"$error":"#VALUE!"},{"$f":"IF(V23=\"-\",\"-\",(V23/IF('Intro & Unit Options'!$B$12=\"Metric\",1,3412))/W23)","v":{"$error":"#VALUE!"}},{"$f":"('Design Load Calcs'!$G$23*'HP1 Calcs'!Q23+'Design Load Calcs'!$H$23)","v":44166.666666666664},{"$f":"IF(V23=\"-\",\"\",ABS(V23-Y23))","v":{"$error":"#VALUE!"}}]
[12,{"$f":"'Load %s'!B15","v":12},0.74342857142857144,1.4596774193548387,0.74342857142857144,1.4596774193548387,{"$error":"#VALUE!"},{"$error":"#VALUE!"},{"$f":"IF(G24=\"-\",\"-\",(G24/IF('Intro & Unit Options'!$B$12=\"Metric\",1,3412))/H24)","v":{"$error":"#VALUE!"}},{"$f":"('Design Load Calcs'!$G$23*'HP1 Calcs'!B24+'Design Load Calcs'!$H$23)","v":40000},{"$error":"#VALUE!"},null,"Slope @ t-BPT:",{"$f":"IF((INDEX(G16:G33,MATCH(G38,B16:B33,0))-INDEX(J16:J33,MATCH(G38,B16:B33,0)))>0,SLOPE(F37:F38,G37:G38),SLOPE(H37:H38,I37:I38))","v":{"$error":"#VALUE!"}},null,12,{"$f":"'Load %s'!B15","v":12},0.47485714285714287,0.74838709677419357,0.47485714285714287,0.74838709677419357,{"$error":"#VALUE!"},{"$error":"#VALUE!"},{"$f":"IF(V24=\"-\",\"-\",(V24/IF('Intro & Unit Options'!$B$12=\"Metric\",1,3412))/W24)","v":{"$error":"#VALUE!"}},{"$f":"('Design Load Calcs'!$G$23*'HP1 Calcs'!Q24+'Design Load Calcs'!$H$23)","v":40000},{"$f":"IF(V24=\"-\",\"\",ABS(V24-Y24))","v":{"$error":"#VALUE!"}},null,"Slope @ t-BPT:",{"$f":"IF((INDEX(V16:V33,MATCH(V38,Q16:Q33,0))-INDEX(Y16:Y33,MATCH(V38,Q16:Q33,0)))>0,SLOPE(U37:U38,V37:V38),SLOPE(W37:W38,X37:X38))","v":{"$error":"#VALUE!"}}]
[17,{"$f":"'Load %s'!B16","v":17},0.82285714285714284,1.5,0.82285714285714284,1.5,{"$error":"#VALUE!"},{"$error":"#VALUE!"},{"$f":"IF(G25=\"-\",\"-\",(G25/IF('Intro & Unit Options'!$B$12=\"Metric\",1,3412))/H25)","v":{"$error":"#VALUE!"}},{"$f":"('Design Load Calcs'!$G$23*'HP1 Calcs'!B25+'Design Load Calcs'!$H$23)","v":35833.333333333328},{"$error":"#VALUE!"},null,"Intercept @ t-BPT",{"$f":"IF((INDEX(G16:G33,MATCH(G38,B16:B33,0))-INDEX(J16:J33,MATCH(G38,B16:B33,0)))>0,INTERCEPT(F37:F38,G37:G38),INTERCEPT(H37:H38,I37:I38))","v":{"$error":"#VALUE!"}},null,17,{"$f":"'Load %s'!B16","v":17},0.52571428571428569,0.7661290322580645,0.52571428571428569,0.7661290322580645,{"$error":"#VALUE!"},{"$error":"#VALUE!"},{"$f":"IF(V25=\"-\",\"-\",(V25/IF('Intro & Unit Options'!$B$12=\"Metric\",1,3412))/W25)","v":{"$error":"#VALUE!"}},{"$f":"('Design Load Calcs'!$G$23*'HP1 Calcs'!Q25+'Design Load Calcs'!$H$23)","v":35833.333333333328},{"$error":"#VALUE!"},null,"Intercept @ t-BPT",{"$f":"IF((INDEX(V16:V33,MATCH(V38,Q16:Q33,0))-INDEX(Y16:Y33,MATCH(V38,Q16:Q33,0)))>0,INTERCEPT(U37:U38,V37:V38),INTERCEPT(W37:W38,X37:X38))","v":{"$error":"#VALUE!"}}]
[22,{"$f":"'Load %s'!B17","v":22},0.90114285714285713,1.5362903225806452,0.90114285714285713,1.5362903225806452,{"$error":"#VALUE!"},{"$error":"#VALUE!"},{"$f":"IF(G26=\"-\",\"-\",(G26/IF('Intro & Unit Options'!$B$12=\"Metric\",1,3412))/H26)","v":{"$error":"#VALUE!"}},{"$f":"('Design Load Calcs'!$G$23*'HP1 Calcs'!B26+'Design Load Calcs'!$H$23)","v":31666.666666666664},{"$error":"#VALUE!"},null,null,null,null,22,{"$f":"'Load %s'!B17","v":22},0.5754285714285714,0.782258064516129,0.5754285714285714,0.782258064516129,{"$error":"#VALUE!"},{"$error":"#VALUE!"},{"$f":"IF(V26=\"-\",\"-\",(V26/IF('Intro & Unit Options'!$B$12=\"Metric\",1,3412))/W26)","v":{"$error":"#VALUE!"}},{"$f":"('Design Load Calcs'!$G$23*'HP1 Calcs'!Q26+'Design Load Calcs'!$H$23)","v":31666.666666666664},{"$error":"#VALUE!"}]
[27,{"$f":"'Load %s'!B18","v":27},0.97771428571428565,1.5766129032258065,0.97771428571428565,1.5766129032258065,{"$error":"#VALUE!"},{"$error":"#VALUE!"},{"$f":"IF(G27=\"-\",\"-\",(G27/IF('Intro & Unit Options'!$B$12=\"Metric\",1,3412))/H27)","v":{"$error":"#VALUE!"}},{"$f":"('Design Load Calcs'!$G$23*'HP1 Calcs'!B27+'Design Load Calcs'!$H$23)","v":27500},{"$error":"#VALUE!"},null,null,null,null,27,{"$f":"'Load %s'!B18","v":27},0.62342857142857144,0.8008064516129032,0.62342857142857144,0.8008064516129032,{"$error":"#VALUE!"},{"$error":"#VALUE!"},{"$f":"IF(V27=\"-\",\"-\",(V27/IF('Intro & Unit Options'!$B$12=\"Metric\",1,3412))/W27)","v":{"$error":"#VALUE!"}},{"$f":"('Design Load Calcs'!$G$23*'HP1 Calcs'!Q27+'Design Load Calcs'!$H$23)","v":27500},{"$error":"#VALUE!"}]
[32,{"$f":"'Load %s'!B19","v":32},0.94799999999999995,1.3411290322580645,0.94799999999999995,1.3411290322580645,{"$error":"#VALUE!"},{"$error":"#VALUE!"},{"$f":"IF(G28=\"-\",\"-\",(G28/IF('Intro & Unit Options'!$B$12=\"Metric\",1,3412))/H28)","v":{"$error":"#VALUE!"}},{"$f":"('Design Load Calcs'!$G$23*'HP1 Calcs'!B28+'Design Load Calcs'!$H$23)","v":23333.333333333332},{"$error":"#VALUE!"},null,null,null,null,32,{"$f":"'Load %s'!B19","v":32},0.63257142857142856,0.70725806451612916,0.63257142857142856,0.70725806451612916,{"$error":"#VALUE!"},{"$error":"#VALUE!"},{"$f":"IF(V28=\"-\",\"-\",(V28/IF('Intro & Unit Options'!$B$12=\"Metric\",1,3412))/W28)","v":{"$error":"#VALUE!"}},{"$f":"('Design Load Calcs'!$G$23*'HP1 Calcs'!Q28+'Design Load Calcs'!$H$23)","v":23333.333333333332},{"$error":"#VALUE!"}]
[37,{"$f":"'Load %s'!B20","v":37},0.85885714285714287,0.95967741935483863,0.85885714285714287,0.95967741935483863,{"$error":"#VALUE!"},{"$error":"#VALUE!"},{"$f":"IF(G29=\"-\",\"-\",(G29/IF('Intro & Unit Options'!$B$12=\"Metric\",1,3412))/H29)","v":{"$error":"#VALUE!"}},{"$f":"('Design Load Calcs'!$G$23*'HP1 Calcs'!B29+'Design Load Calcs'!$H$23)","v":19166.666666666664},{"$error":"#VALUE!"},null,null,null,null,37,{"$f":"'Load %s'!B20","v":37},0.61942857142857144,0.55725806451612903,0.61942857142857144,0.55725806451612903,{"$error":"#VALUE!"},{"$error":"#VALUE!"},{"$f":"IF(V29=\"-\",\"-\",(V29/IF('Intro & Unit Options'!$B$12=\"Metric\",1,3412))/W29)","v":{"$error":"#VALUE!"}},{"$f":"('Design Load Calcs'!$G$23*'HP1 Calcs'!Q29+'Design Load Calcs'!$H$23)","v":19166.666666666664},{"$error":"#VALUE!"}]
[42,{"$f":"'Load %s'!B21","v":42},0.92742857142857138,0.97983870967741937,0.92742857142857138,0.97983870967741937,{"$error":"#VALUE!"},{"$error":"#VALUE!"},{"$f":"IF(G30=\"-\",\"-\",(G30/IF('Intro & Unit Options'!$B$12=\"Metric\",1,3412))/H30)","v":{"$error":"#VALUE!"}},{"$f":"('Design Load Calcs'!$G$23*'HP1 Calcs'!B30+'Design Load Calcs'!$H$23)","v":15000},{"$error":"#VALUE!"},null,null,null,null,42,{"$f":"'Load %s'!B21","v":42},0.66914285714285715,0.56774193548387086,0.66914285714285715,0.56774193548387086,{"$error":"#VALUE!"},{"$error":"#VALUE!"},{"$f":"IF(V30=\"-\",\"-\",(V30/IF('Intro & Unit Options'!$B$12=\"Metric\",1,3412))/W30)","v":{"$error":"#VALUE!"}},{"$f":"('Design Load Calcs'!$G$23*'HP1 Calcs'!Q30+'Design Load Calcs'!$H$23)","v":15000},{"$error":"#VALUE!"}]
[47,{"$f":"'Load %s'!B22","v":47},1,1,1,1,{"$error":"#VALUE!"},{"$error":"#VALUE!"},{"$f":"IF(G31=\"-\",\"-\",(G31/IF('Intro & Unit Options'!$B$12=\"Metric\",1,3412))/H31)","v":{"$error":"#VALUE!"}},{"$f":"('Design Load Calcs'!$G$23*'HP1 Calcs'!B31+'Design Load Calcs'!$H$23)","v":10833.333333333328},{"$error":"#VALUE!"},null,null,null,null,47,{"$f":"'Load %s'!B22","v":47},0.72,0.57661290322580638,0.72,0.57661290322580638,{"$error":"#VALUE!"},{"$error":"#VALUE!"},{"$f":"IF(V31=\"-\",\"-\",(V31/IF('Intro & Unit Options'!$B$12=\"Metric\",1,3412))/W31)","v":{"$error":"#VALUE!"}},{"$f":"('Design Load Calcs'!$G$23*'HP1 Calcs'!Q31+'Design Load Calcs'!$H$23)","v":10833.333333333328},{"$error":"#VALUE!"}]
[52,{"$f":"'Load %s'!B23","v":52},1.0754285714285716,1.0201612903225805,1.0754285714285716,1.0201612903225805,{"$error":"#VALUE!"},{"$error":"#VALUE!"},{"$f":"IF(G32=\"-\",\"-\",(G32/IF('Intro & Unit Options'!$B$12=\"Metric\",1,3412))/H32)","v":{"$error":"#VALUE!"}},{"$f":"('Design Load Calcs'!$G$23*'HP1 Calcs'!B32+'Design Load Calcs'!$H$23)","v":6666.6666666666642},{"$error":"#VALUE!"},null,null,null,null,52,{"$f":"'Load %s'!B23","v":52},0.77600000000000002,0.5879032258064516,0.77600000000000002,0.5879032258064516,{"$error":"#VALUE!"},{"$error":"#VALUE!"},{"$f":"IF(V32=\"-\",\"-\",(V32/IF('Intro & Unit Options'!$B$12=\"Metric\",1,3412))/W32)","v":{"$error":"#VALUE!"}},{"$f":"('Design Load Calcs'!$G$23*'HP1 Calcs'!Q32+'Design Load Calcs'!$H$23)","v":6666.6666666666642},{"$error":"#VALUE!"}]
[57,{"$f":"'Load %s'!B24","v":57},1.1485714285714286,1.0403225806451613,1.1485714285714286,1.0403225806451613,{"$error":"#VALUE!"},{"$error":"#VALUE!"},{"$f":"IF(G33=\"-\",\"-\",(G33/IF('Intro & Unit Options'!$B$12=\"Metric\",1,3412))/H33)","v":{"$error":"#VALUE!"}},{"$f":"('Design Load Calcs'!$G$23*'HP1 Calcs'!B33+'Design Load Calcs'!$H$23)","v":2500},{"$error":"#VALUE!"},null,null,null,null,57,{"$f":"'Load %s'!B24","v":57},0.82799999999999996,0.59758064516129039,0.82799999999999996,0.59758064516129039,{"$error":"#VALUE!"},{"$error":"#VALUE!"},{"$f":"IF(V33=\"-\",\"-\",(V33/IF('Intro & Unit Options'!$B$12=\"Metric\",1,3412))/W33)","v":{"$error":"#VALUE!"}},{"$f":"('Design Load Calcs'!$G$23*'HP1 Calcs'!Q33+'Design Load Calcs'!$H$23)","v":2500},{"$error":"#VALUE!"}]
[]
[null,"Slope and Intercept at the cut-off temp. (HP Norm. Cap and pwr)",null,null,null,"Slope and Intercept at the BPT (HP Cap)",null,null,null,"Slope and Intercept at the BPT (Load%)",null,null,"Slope and Intercept at the Design Temp. (HP Cap)",null,null,null,"Slope and Intercept at the cut-off temp. (HP Norm. Cap and pwr)",null,null,null,"Slope and Intercept at the BPT (HP Cap)",null,null,null,"Slope and Intercept at the BPT (Load%)",null,null,"Slope and Intercept at the Design Temp. (HP Cap)"]
[null,"know ys (capacity):","know ys (power):","know xs (temp)",null,"know ys (eq. 1):","know xs (eq. 1):","know ys (eq. 2):","know xs (eq. 2):","know ys (eq. 1):","know ys (eq. 2):",null,"know ys (capacity):","know xs",null,null,"know ys (capacity):","know ys (power):","know xs (temp)",null,"know ys (eq. 1):","know xs (eq. 1):","know ys (eq. 2):","know xs (eq. 2):","know ys (eq. 1):","know ys (eq. 2):",null,"know ys (capacity):","know xs"]
[null,{"$f":"INDEX(C17:C33,MATCH(D37,B17:B33,0))","v":0.50057142857142856},{"$f":"INDEX(D17:D33,SMALL(IF(B37=C17:C33,ROW(C17:C33)-ROW(C17)+1),1))","v":1.342741935483871},{"$f":"IF(MIN(IF(NOT(ISNA(A17:A33)),A17:A33))<=B16,IF(NOT(ISNA(INDEX(B17:B33,MATCH(B16,B17:B33,0)))),INDEX(B17:B33,MATCH(B16,B17:B33,0)),INDEX(B17:B33,MATCH(B16,B17:B33,1))),MIN(IF(NOT(ISNA(A17:A33)),A17:A33)))","v":-3},null,{"$f":"IF(INDEX(B17:B33,MATCH(MIN(K17:K33),K17:K33,0))=MIN(A17:A33),G16,INDEX(G17:G33,MATCH(MIN(K17:K33),K17:K33,0)-1))","v":{"$error":"#VALUE!"}},{"$f":"IF(INDEX(B17:B33,MATCH(MIN(K17:K33),K17:K33,0))=MIN(A17:A33),B16,INDEX(B17:B33,MATCH(MIN(K17:K33),K17:K33,0)-1))","v":{"$error":"#VALUE!"}},{"$f":"INDEX(G16:G33,MATCH(MIN(K16:K33),K16:K33,0))","v":{"$error":"#VALUE!"}},{"$f":"INDEX(B16:B33,MATCH(MIN(K16:K33),K16:K33,0))","v":{"$error":"#VALUE!"}},{"$f":"INDEX(INDIRECT(CONCATENATE(IFERROR(SUBSTITUTE('Step 3 Design Loads'!B8,\"-\",\"\"),'Step 3 Design Loads'!B8),\"_Load\")),MATCH(G37,B17:B33))","v":{"$error":"#VALUE!"}},{"$f":"G37","v":{"$error":"#VALUE!"}},null,{"$f":"IF(N37=B16,G16,IF(N37=\"-\",0,INDEX(G17:G33,MATCH(N37,B17:B33,0))))","v":"-"},{"$f":"IF(C10<B16,\"-\",IFERROR(INDEX(B17:B33,MATCH(C10,B17:B33,0)),INDEX(B17:B33,MATCH(C10,B17:B33,1))))","v":-3},null,null,{"$f":"INDEX(R17:R33,MATCH(S37,Q17:Q33,0))","v":0.32057142857142856},{"$f":"INDEX(S17:S33,SMALL(IF(Q37=R17:R33,ROW(R17:R33)-ROW(R17)+1),1))","v":0.69354838709677413},{"$f":"IF(MIN(IF(NOT(ISNA(P17:P33)),P17:P33))<=Q16,IF(NOT(ISNA(INDEX(Q17:Q33,MATCH(Q16,Q17:Q33,0)))),INDEX(Q17:Q33,MATCH(Q16,Q17:Q33,0)),INDEX(Q17:Q33,MATCH(Q16,Q17:Q33,1))),MIN(IF(NOT(ISNA(P17:P33)),P17:P33)))","v":-3},null,{"$f":"IF(INDEX(Q17:Q33,MATCH(MIN(Z17:Z33),Z17:Z33,0))=MIN(P17:P33),V16,INDEX(V17:V33,MATCH(MIN(Z17:Z33),Z17:Z33,0)-1))","v":{"$error":"#VALUE!"}},{"$f":"IF(INDEX(Q17:Q33,MATCH(MIN(Z17:Z33),Z17:Z33,0))=MIN(P17:P33),Q16,INDEX(Q17:Q33,MATCH(MIN(Z17:Z33),Z17:Z33,0)-1))","v":{"$error":"#VALUE!"}},{"$f":"INDEX(V16:V33,MATCH(MIN(Z16:Z33),Z16:Z33,0))","v":{"$error":"#VALUE!"}},{"$f":"INDEX(Q16:Q33,MATCH(MIN(Z16:Z33),Z16:Z33,0))","v":{"$error":"#VALUE!"}},{"$f":"INDEX(INDIRECT(CONCATENATE(IFERROR(SUBSTITUTE('Step 3 Design Loads'!B8,\"-\",\"\"),'Step 3 Design Loads'!B8),\"_Load\")),MATCH(V37,Q17:Q33))","v":{"$error":"#VALUE!"}},{"$f":"V37","v":{"$error":"#VALUE!"}},null,{"$f":"IF(AC37=Q16,V16,IF(AC37=\"-\",0,INDEX(V17:V33,MATCH(AC37,Q17:Q33,0))))","v":"-"},{"$f":"IF(R10<Q16,\"-\",IFERROR(INDEX(Q17:Q33,MATCH(R10,Q17:Q33,0)),INDEX(Q17:Q33,MATCH(R10,Q17:Q33,1))))","v":-3}]
[null,{"$f":"IF(D38=\"-\",\"-\",INDEX(C17:C33,MATCH(D38,B17:B33,0)))","v":0.58171428571428574},{"$f":"INDEX(D17:D33,SMALL(IF(B38=C17:C33,ROW(C17:C33)-ROW(C17)+1),1))","v":1.3814516129032259},{"$f":"IF(D37=B16,\"-\",INDEX(B17:B33,MATCH(D37,B17:B33,0)+1))","v":2},null,{"$f":"INDEX(G17:G33,MATCH(G38,B17:B33,0))","v":{"$error":"#VALUE!"}},{"$f":"INDEX(B16:B33,MATCH(MIN(K16:K33),K16:K33,0))","v":{"$error":"#VALUE!"}},{"$f":"INDEX(G16:G33,MATCH(MIN(K16:K33),K16:K33,0)+1)","v":{"$error":"#VALUE!"}},{"$f":"INDEX(B16:B33,MATCH(MIN(K16:K33),K16:K33,0)+1)","v":{"$error":"#VALUE!"}},{"$f":"INDEX(INDIRECT(CONCATENATE(IFERROR(SUBSTITUTE('Step 3 Design Loads'!B8,\"-\",\"\"),'Step 3 Design Loads'!B8),\"_Load\")),MATCH(I38,B17:B33))","v":{"$error":"#VALUE!"}},{"$f":"I38","v":{"$error":"#VALUE!"}},null,{"$f":"IF(N38=\"-\",0,INDEX(G17:G33,MATCH(N38,B17:B33,0)))","v":{"$error":"#VALUE!"}},{"$f":"IF(C10<B16,\"-\",IF(N37=C10,\"-\",INDEX(B17:B33,MATCH(C10,B17:B33,1)+1)))","v":2},null,null,{"$f":"IF(S38=\"-\",\"-\",INDEX(R17:R33,MATCH(S38,Q17:Q33,0)))","v":0.372},{"$f":"INDEX(S17:S33,SMALL(IF(Q38=R17:R33,ROW(R17:R33)-ROW(R17)+1),1))","v":0.71209677419354844},{"$f":"IF(S37=Q16,\"-\",INDEX(Q17:Q33,MATCH(S37,Q17:Q33,0)+1))","v":2},null,{"$f":"INDEX(V17:V33,MATCH(V38,Q17:Q33,0))","v":{"$error":"#VALUE!"}},{"$f":"INDEX(Q16:Q33,MATCH(MIN(Z16:Z33),Z16:Z33,0))","v":{"$error":"#VALUE!"}},{"$f":"INDEX(V16:V33,MATCH(MIN(Z16:Z33),Z16:Z33,0)+1)","v":{"$error":"#VALUE!"}},{"$f":"INDEX(Q16:Q33,MATCH(MIN(Z16:Z33),Z16:Z33,0)+1)","v":{"$error":"#VALUE!"}},{"$f":"INDEX(INDIRECT(CONCATENATE(IFERROR(SUBSTITUTE('Step 3 Design Loads'!B8,\"-\",\"\"),'Step 3 Design Loads'!B8),\"_Load\")),MATCH(X38,Q17:Q33))","v":{"$error":"#VALUE!"}},{"$f":"X38","v":{"$error":"#VALUE!"}},null,{"$f":"IF(AC38=\"-\",0,INDEX(V17:V33,MATCH(AC38,Q17:Q33,0)))","v":{"$error":"#VALUE!"}},{"$f":"IF(R10<Q16,\"-\",IF(AC37=R10,\"-\",INDEX(Q17:Q33,MATCH(R10,Q17:Q33,1)+1)))","v":2}]
[null,null,null,null,null,"BPT (eq. 1):",{"$f":"IF(IF(('Design Load Calcs'!$H$23-INTERCEPT(F37:F38,G37:G38))/(IF(SLOPE(F37:F38,G37:G38)<0,0,SLOPE(F37:F38,G37:G38))-'Design Load Calcs'!$G$23)<'Step 3 Design Loads'!B13,NA(),('Design Load Calcs'!$H$23-INTERCEPT(F37:F38,G37:G38))/(IF(SLOPE(F37:F38,G37:G38)<0,0,SLOPE(F37:F38,G37:G38))-'Design Load Calcs'!$G$23))>B33,NA(),IF(('Design Load Calcs'!$H$23-INTERCEPT(F37:F38,G37:G38))/(IF(SLOPE(F37:F38,G37:G38)<0,0,SLOPE(F37:F38,G37:G38))-'Design Load Calcs'!$G$23)<'Step 3 Design Loads'!B13,NA(),('Design Load Calcs'!$H$23-INTERCEPT(F37:F38,G37:G38))/(IF(SLOPE(F37:F38,G37:G38)<0,0,SLOPE(F37:F38,G37:G38))-'Design Load Calcs'!$G$23)))","v":{"$error":"#VALUE!"}},"BPT (eq. 2):",{"$f":"IF(IF(('Design Load Calcs'!$H$23-INTERCEPT(H37:H38,I37:I38))/(IF(SLOPE(H37:H38,I37:I38)<0,0,SLOPE(H37:H38,I37:I38))-'Design Load Calcs'!$G$23)<'Step 3 Design Loads'!B13,NA(),('Design Load Calcs'!$H$23-INTERCEPT(H37:H38,I37:I38))/(IF(SLOPE(H37:H38,I37:I38)<0,0,SLOPE(H37:H38,I37:I38))-'Design Load Calcs'!$G$23))>B33,NA(),IF(('Design Load Calcs'!$H$23-INTERCEPT(H37:H38,I37:I38))/(IF(SLOPE(H37:H38,I37:I38)<0,0,SLOPE(H37:H38,I37:I38))-'Design Load Calcs'!$G$23)<'Step 3 Design Loads'!B13,NA(),('Design Load Calcs'!$H$23-INTERCEPT(H37:H38,I37:I38))/(IF(SLOPE(H37:H38,I37:I38)<0,0,SLOPE(H37:H38,I37:I38))-'Design Load Calcs'!$G$23)))","v":{"$error":"#VALUE!"}},null,null,null,null,null,null,null,null,null,null,null,"BPT (eq. 1):",{"$f":"IF(IF(('Design Load Calcs'!$H$23-INTERCEPT(U37:U38,V37:V38))/(IF(SLOPE(U37:U38,V37:V38)<0,0,SLOPE(U37:U38,V37:V38))-'Design Load Calcs'!$G$23)<'Step 3 Design Loads'!B13,NA(),('Design Load Calcs'!$H$23-INTERCEPT(U37:U38,V37:V38))/(IF(SLOPE(U37:U38,V37:V38)<0,0,SLOPE(U37:U38,V37:V38))-'Design Load Calcs'!$G$23))>Q33,NA(),IF(('Design Load Calcs'!$H$23-INTERCEPT(U37:U38,V37:V38))/(IF(SLOPE(U37:U38,V37:V38)<0,0,SLOPE(U37:U38,V37:V38))-'Design Load Calcs'!$G$23)<'Step 3 Design Loads'!B13,NA(),('Design Load Calcs'!$H$23-INTERCEPT(U37:U38,V37:V38))/(IF(SLOPE(U37:U38,V37:V38)<0,0,SLOPE(U37:U38,V37:V38))-'Design Load Calcs'!$G$23)))","v":{"$error":"#VALUE!"}},"BPT (eq. 2):",{"$f":"IF(IF(('Design Load Calcs'!$H$23-INTERCEPT(W37:W38,X37:X38))/(IF(SLOPE(W37:W38,X37:X38)<0,0,SLOPE(W37:W38,X37:X38))-'Design Load Calcs'!$G$23)<'Step 3 Design Loads'!B13,NA(),('Design Load Calcs'!$H$23-INTERCEPT(W37:W38,X37:X38))/(IF(SLOPE(W37:W38,X37:X38)<0,0,SLOPE(W37:W38,X37:X38))-'Design Load Calcs'!$G$23))>Q33,NA(),IF(('Design Load Calcs'!$H$23-INTERCEPT(W37:W38,X37:X38))/(IF(SLOPE(W37:W38,X37:X38)<0,0,SLOPE(W37:W38,X37:X38))-'Design Load Calcs'!$G$23)<'Step 3 Design Loads'!B13,NA(),('Design Load Calcs'!$H$23-INTERCEPT(W37:W38,X37:X38))/(IF(SLOPE(W37:W38,X37:X38)<0,0,SLOPE(W37:W38,X37:X38))-'Design Load Calcs'!$G$23)))","v":{"$error":"#VALUE!"}}]
[null,null,null,null,null,"Cap (eq. 1):",{"$f":"SLOPE(F37:F38,G37:G38)*G39+INTERCEPT(F37:F38,G37:G38)","v":{"$error":"#VALUE!"}},"Cap (eq. 2):",{"$f":"SLOPE(H37:H38,I37:I38)*I39+INTERCEPT(H37:H38,I37:I38)","v":{"$error":"#VALUE!"}},null,null,null,null,null,null,null,null,null,null,null,"Cap (eq. 1):",{"$f":"SLOPE(U37:U38,V37:V38)*V39+INTERCEPT(U37:U38,V37:V38)","v":{"$error":"#VALUE!"}},"Cap (eq. 2):",{"$f":"SLOPE(W37:W38,X37:X38)*X39+INTERCEPT(W37:W38,X37:X38)","v":{"$error":"#VALUE!"}}]
[]
[]
[null,"Cooling - High Stage ",null,null,null,null,null,null,null,null,null,null,null,null,null,null,"Cooling - Low Stage "]
[]
[null,"Capacity @95°F (High Stage) [BTU/h ] ou [kW]",{"$f":"IF('Step 5 Identify & Select ASHPs'!I27,'Step 5 Identify & Select ASHPs'!N27,\"This option has not been selected\")","v":"This option has not been selected"},null,null,null,null,null,null,null,null,null,null,null,null,null,"Capacity @95°F (High Stage) [BTU/h ] ou [kW]",{"$f":"IF('Step 5 Identify & Select ASHPs'!I27,'Step 5 Identify & Select ASHPs'!N27,\"This option has not been selected\")","v":"This option has not been selected"}]
[null,"Power @95°F (High Stage) [kW]",{"$f":"IF('Step 5 Identify & Select ASHPs'!I27,IF('Step 5 Identify & Select ASHPs'!I35=\"EER\",'Step 5 Identify & Select ASHPs'!N29,'Step 5 Identify & Select ASHPs'!N28),\"This option has not been selected\")","v":"This option has not been selected"},null,null,null,null,null,null,null,null,null,null,null,null,null,"Power @95°F (High Stage) [kW]",{"$f":"IF('Step 5 Identify & Select ASHPs'!I27,IF('Step 5 Identify & Select ASHPs'!I35=\"EER\",'Step 5 Identify & Select ASHPs'!$N$29,'Step 5 Identify & Select ASHPs'!$N$28),\"This option has not been selected\")","v":"This option has not been selected"}]
[]
[null,"Performance Table Name: ",{"$f":"IF(AND('Step 5 Identify & Select ASHPs'!E32=\"Centrally Ducted\",'Step 5 Identify & Select ASHPs'!E33=\"Single Speed\"),\"Perf_Clg_Ducted_Single\",IF(AND('Step 5 Identify & Select ASHPs'!E32=\"Centrally Ducted\",'Step 5 Identify & Select ASHPs'!E33=\"Two-Stage\"),\"Perf_Clg_Ducted_2S_HS\",IF(AND('Step 5 Identify & Select ASHPs'!E32=\"Centrally Ducted\",'Step 5 Identify & Select ASHPs'!E33=\"Variable\"),\"Perf_Clg_Ducted_Variable_HS\",IF(AND('Step 5 Identify & Select ASHPs'!E32=\"Single Split Ductless\",'Step 5 Identify & Select ASHPs'!E33=\"Regular Variable\"),\"Perf_Clg_DuctlessSingle_RegVar_HS\",IF(AND('Step 5 Identify & Select ASHPs'!E32=\"Single Split Ductless\",'Step 5 Identify & Select ASHPs'!E33=\"Cold Climate Variable\"),\"Perf_Clg_DuctlessSingle_CCVar_HS\",IF(AND('Step 5 Identify & Select ASHPs'!E32=\"Multi-split Ductless\",'Step 5 Identify & Select ASHPs'!E33=\"Regular Variable\"),\"Perf_Clg_DuctlessMulti_RegVar_HS\",IF(AND('Step 5 Identify & Select ASHPs'!E32=\"Multi-split Ductless\",'Step 5 Identify & Select ASHPs'!E33=\"Cold Climate Variable\"),\"Perf_Clg_DuctlessMulti_CCVar_HS\")))))))","v":"Perf_Clg_Ducted_Variable_HS"},null,null,null,null,null,null,null,null,null,null,null,null,null,"Performance Table Name: ",{"$f":"IF('Step 5 Identify & Select ASHPs'!$E$33=Dropdown_Menus!A2,NA(),IF(AND('Step 5 Identify & Select ASHPs'!E32=\"Centrally Ducted\",'Step 5 Identify & Select ASHPs'!E33=\"Single Speed\"),\"Perf_Clg_Ducted_Single\",IF(AND('Step 5 Identify & Select ASHPs'!E32=\"Centrally Ducted\",'Step 5 Identify & Select ASHPs'!E33=\"Two-Stage\"),\"Perf_Clg_Ducted_2S_LS\",IF(AND('Step 5 Identify & Select ASHPs'!E32=\"Centrally Ducted\",'Step 5 Identify & Select ASHPs'!E33=\"Variable\"),\"Perf_Clg_Ducted_Variable_LS\",IF(AND('Step 5 Identify & Select ASHPs'!E32=\"Single Split Ductless\",'Step 5 Identify & Select ASHPs'!E33=\"Regular Variable\"),\"Perf_Clg_DuctlessSingle_RegVar_LS\",IF(AND('Step 5 Identify & Select ASHPs'!E32=\"Single Split Ductless\",'Step 5 Identify & Select ASHPs'!E33=\"Cold Climate Variable\"),\"Perf_Clg_DuctlessSingle_CCVar_LS\",IF(AND('Step 5 Identify & Select ASHPs'!E32=\"Multi-split Ductless\",'Step 5 Identify & Select ASHPs'!E33=\"Regular Variable\"),\"Perf_Clg_DuctlessMulti_RegVar_LS\",IF(AND('Step 5 Identify & Select ASHPs'!E32=\"Multi-split Ductless\",'Step 5 Identify & Select ASHPs'!E33=\"Cold Climate Variable\"),\"Perf_Clg_DuctlessMulti_CCVar_LS\"))))))))","v":"Perf_Clg_Ducted_Variable_LS"}]
[]
[null,"Design Temp. (cool)",{"$f":"'Design Load Calcs'!B26","v":88},null,null,null,null,null,null,null,null,null,null,null,null,null,"Design Temp. (cool)",{"$f":"'Design Load Calcs'!B26","v":88}]
[]
[null,"Performance Data and Heating Load Line",null,null,null,null,null,null,null,"Slope and Intercept at the Design Temp.",null,null,"Outputs:",null,null,null,"Performance Data and Heating Load Line",null,null,null,null,null,null,null,"Slope and Intercept at the Design Temp.",null,null,"Outputs:"]
[null,"Outdoor Temp.","Normalized Capacity","Normalized Power","Actual Capacity","Actual Power","Actual COP",null,null,"know ys (capacity):","know xs",null,"HP cap @ Design Temp. [BTU/h ou kW]",{"$f":"IF(OR(K54=\"-\",K54=C50),J54,SLOPE(J54:J55,K54:K55)*C50+INTERCEPT(J54:J55,K54:K55))","v":{"$error":"#VALUE!"}},null,null,"Outdoor Temp.","Normalized Capacity","Normalized Power","Actual Capacity","Actual Power","Actual COP",null,null,"know ys (capacity):","know xs",null,"HP cap @ Design Temp. [BTU/h ou kW]",{"$f":"IF(OR(Z54=\"-\",Z54=R50),Y54,SLOPE(Y54:Y55,Z54:Z55)*R50+INTERCEPT(Y54:Y55,Z54:Z55))","v":{"$error":"#VALUE!"}}]
[null,"[°C] ou [°F]",null,null,"[BTU/h] ou [kW]","[kW]","[-]",null,null,{"$f":"INDEX(E55:E63,MATCH(K54,B55:B63,0))","v":{"$error":"#VALUE!"}},{"$f":"IF(C50<B55,B55,IFERROR(INDEX(B55:B63,MATCH(C50,B55:B63,0)),INDEX(B55:B63,MATCH(C50,B55:B63,1))))","v":87},null,"% of Design Load",{"$f":"N53/'Design Load Calcs'!$B$25","v":{"$error":"#VALUE!"}},null,null,"[°C] ou [°F]",null,null,"[BTU/h] ou [kW]","[kW]","[-]",null,null,{"$f":"INDEX(T55:T63,MATCH(Z54,Q55:Q63,0))","v":{"$error":"#VALUE!"}},{"$f":"IF(R50<Q55,Q55,IFERROR(INDEX(Q55:Q63,MATCH(R50,Q55:Q63,0)),INDEX(Q55:Q63,MATCH(R50,Q55:Q63,1))))","v":87},null,"% of Design Load",{"$f":"AC53/'Design Load Calcs'!$B$25","v":{"$error":"#VALUE!"}}]
[null,{"$f":"IF('Intro & Unit Options'!B12=\"Metric\", CONVERT(72,\"F\",\"C\"),72)","v":72},{"$f":"INDEX(INDIRECT($C$48),MATCH(B55,$B$55:$B$63,0),2)","v":0.98107344632768301},{"$f":"INDEX(INDIRECT($C$48),MATCH(B55,$B$55:$B$63,0),3)","v":0.8335968379446641},{"$f":"IF(C55=\"-\",\"-\",IF('Step 5 Identify & Select ASHPs'!$E$33=\"Single Speed\",C55*$C$45,C55*$C$45))","v":{"$error":"#VALUE!"}},{"$f":"IF(D55=\"-\",\"-\",IF('Step 5 Identify & Select ASHPs'!$E$33=\"Single Speed\",D55*$C$46,D55*$C$46))","v":{"$error":"#VALUE!"}},{"$f":"IF(E55=\"-\",\"-\",(E55/IF('Intro & Unit Options'!$B$12=\"Metric\",1,3412))/F55)","v":{"$error":"#VALUE!"}},null,null,{"$f":"IF(K55=\"-\",\"-\",INDEX(E55:E63,MATCH(K55,B55:B63,0)))","v":{"$error":"#VALUE!"}},{"$f":"IF(C50<B55,B56,IF(K54=C50,\"-\",INDEX(B55:B63,MATCH(K54,B55:B63,0)+1)))","v":92},null,{"$f":"CONCATENATE(\"HP cap @\",IF('Intro & Unit Options'!B12=Dropdown_Menus!F1,CONVERT(95,\"F\",\"C\"),95),IF('Intro & Unit Options'!$B$12=Dropdown_Menus!F1,\" C\",\" F\"),IF('Intro & Unit Options'!$B$12=Dropdown_Menus!F1,\" [kW]\",\" [BTU/h]\"))","v":"HP cap @95 F [BTU/h]"},{"$f":"SLOPE(E59:E60,B59:B60)*IF('Intro & Unit Options'!B12=Dropdown_Menus!F1,CONVERT(95,\"F\",\"C\"),95)+INTERCEPT(E59:E60,B59:B60)","v":{"$error":"#VALUE!"}},null,null,{"$f":"IF('Intro & Unit Options'!Q12=\"Metric\", CONVERT(72,\"F\",\"C\"),72)","v":72},{"$f":"INDEX(INDIRECT($R$48),MATCH(Q55,$Q$55:$Q$63,0),2)","v":0.69717514124293789},{"$f":"INDEX(INDIRECT($R$48),MATCH(Q55,$Q$55:$Q$63,0),3)","v":0.56521739130434778},{"$f":"IF(R55=\"-\",\"-\",IF('Step 5 Identify & Select ASHPs'!$E$33=\"Single Speed\",R55*$R$45,R55*$R$45))","v":{"$error":"#VALUE!"}},{"$f":"IF(S55=\"-\",\"-\",IF('Step 5 Identify & Select ASHPs'!$E$33=\"Single Speed\",S55*$R$46,S55*$R$46))","v":{"$error":"#VALUE!"}},{"$f":"IF(T55=\"-\",\"-\",(T55/IF('Intro & Unit Options'!$B$12=\"Metric\",1,3412))/U55)","v":{"$error":"#VALUE!"}},null,null,{"$f":"IF(Z55=\"-\",\"-\",INDEX(T55:T63,MATCH(Z55,Q55:Q63,0)))","v":{"$error":"#VALUE!"}},{"$f":"IF(R50<Q55,Q56,IF(Z54=R50,\"-\",INDEX(Q55:Q63,MATCH(Z54,Q55:Q63,0)+1)))","v":92},null,{"$f":"CONCATENATE(\"HP cap @\",IF('Intro & Unit Options'!B12=Dropdown_Menus!F1,CONVERT(95,\"F\",\"C\"),95),IF('Intro & Unit Options'!$B$12=Dropdown_Menus!F1,\" C\",\" F\"),IF('Intro & Unit Options'!$B$12=Dropdown_Menus!F1,\" [kW]\",\" [BTU/h]\"))","v":"HP cap @95 F [BTU/h]"},{"$f":"SLOPE(T59:T60,Q59:Q60)*IF('Intro & Unit Options'!B12=Dropdown_Menus!F1,CONVERT(95,\"F\",\"C\"),95)+INTERCEPT(T59:T60,Q59:Q60)","v":{"$error":"#VALUE!"}}]
[null,{"$f":"IF('Intro & Unit Options'!B13=\"Metric\", CONVERT(77,\"F\",\"C\"),77)","v":77},{"$f":"INDEX(INDIRECT($C$48),MATCH(B56,$B$55:$B$63,0),2)","v":0.96723163841807913},{"$f":"INDEX(INDIRECT($C$48),MATCH(B56,$B$55:$B$63,0),3)","v":0.86482213438735178},{"$f":"IF(C56=\"-\",\"-\",IF('Step 5 Identify & Select ASHPs'!$E$33=\"Single Speed\",C56*$C$45,C56*$C$45))","v":{"$error":"#VALUE!"}},{"$f":"IF(D56=\"-\",\"-\",IF('Step 5 Identify & Select ASHPs'!$E$33=\"Single Speed\",D56*$C$46,D56*$C$46))","v":{"$error":"#VALUE!"}},{"$f":"IF(E56=\"-\",\"-\",(E56/IF('Intro & Unit Options'!$B$12=\"Metric\",1,3412))/F56)","v":{"$error":"#VALUE!"}},null,null,null,null,null,{"$f":"CONCATENATE(\"HP pwr @\",IF('Intro & Unit Options'!B13=Dropdown_Menus!F2,CONVERT(95,\"F\",\"C\"),95),IF('Intro & Unit Options'!$B$12=Dropdown_Menus!F2,\" C\",\" F\"),IF('Intro & Unit Options'!$B$12=Dropdown_Menus!F2,\" [kW]\",\" [BTU/h]\"))","v":"HP pwr @95 F [BTU/h]"},{"$f":"SLOPE(F59:F60,B59:B60)*IF('Intro & Unit Options'!B13=Dropdown_Menus!F2,CONVERT(95,\"F\",\"C\"),95)+INTERCEPT(F59:F60,B59:B60)","v":{"$error":"#VALUE!"}},null,null,{"$f":"IF('Intro & Unit Options'!Q13=\"Metric\", CONVERT(77,\"F\",\"C\"),77)","v":77},{"$f":"INDEX(INDIRECT($R$48),MATCH(Q56,$Q$55:$Q$63,0),2)","v":0.68870056497175136},{"$f":"INDEX(INDIRECT($R$48),MATCH(Q56,$Q$55:$Q$63,0),3)","v":0.58339920948616608},{"$f":"IF(R56=\"-\",\"-\",IF('Step 5 Identify & Select ASHPs'!$E$33=\"Single Speed\",R56*$R$45,R56*$R$45))","v":{"$error":"#VALUE!"}},{"$f":"IF(S56=\"-\",\"-\",IF('Step 5 Identify & Select ASHPs'!$E$33=\"Single Speed\",S56*$R$46,S56*$R$46))","v":{"$error":"#VALUE!"}},{"$f":"IF(T56=\"-\",\"-\",(T56/IF('Intro & Unit Options'!$B$12=\"Metric\",1,3412))/U56)","v":{"$error":"#VALUE!"}}]
[null,{"$f":"IF('Intro & Unit Options'!B14=\"Metric\", CONVERT(82,\"F\",\"C\"),82)","v":82},0.95593220338983054,0.89249011857707505,{"$f":"IF(C57=\"-\",\"-\",IF('Step 5 Identify & Select ASHPs'!$E$33=\"Single Speed\",C57*$C$45,C57*$C$45))","v":{"$error":"#VALUE!"}},{"$f":"IF(D57=\"-\",\"-\",IF('Step 5 Identify & Select ASHPs'!$E$33=\"Single Speed\",D57*$C$46,D57*$C$46))","v":{"$error":"#VALUE!"}},{"$f":"IF(E57=\"-\",\"-\",(E57/IF('Intro & Unit Options'!$B$12=\"Metric\",1,3412))/F57)","v":{"$error":"#VALUE!"}},null,null,null,null,null,{"$f":"CONCATENATE(\"HP COP @\",IF('Intro & Unit Options'!B14=Dropdown_Menus!F3,CONVERT(95,\"F\",\"C\"),95),IF('Intro & Unit Options'!$B$12=Dropdown_Menus!F3,\" C\",\" F\"),IF('Intro & Unit Options'!$B$12=Dropdown_Menus!F3,\" [kW]\",\" [BTU/h]\"))","v":"HP COP @95 F [BTU/h]"},{"$f":"SLOPE(G59:G60,B59:B60)*IF('Intro & Unit Options'!B14=Dropdown_Menus!F3,CONVERT(95,\"F\",\"C\"),95)+INTERCEPT(G59:G60,B59:B60)","v":{"$error":"#VALUE!"}},null,null,{"$f":"IF('Intro & Unit Options'!Q14=\"Metric\", CONVERT(82,\"F\",\"C\"),82)","v":82},0.68022598870056494,0.59920948616600789,{"$f":"IF(R57=\"-\",\"-\",IF('Step 5 Identify & Select ASHPs'!$E$33=\"Single Speed\",R57*$R$45,R57*$R$45))","v":{"$error":"#VALUE!"}},{"$f":"IF(S57=\"-\",\"-\",IF('Step 5 Identify & Select ASHPs'!$E$33=\"Single Speed\",S57*$R$46,S57*$R$46))","v":{"$error":"#VALUE!"}},{"$f":"IF(T57=\"-\",\"-\",(T57/IF('Intro & Unit Options'!$B$12=\"Metric\",1,3412))/U57)","v":{"$error":"#VALUE!"}}]
[null,{"$f":"IF('Intro & Unit Options'!B15=\"Metric\", CONVERT(87,\"F\",\"C\"),87)","v":87},0.94463276836158194,0.91857707509881426,{"$f":"IF(C58=\"-\",\"-\",IF('Step 5 Identify & Select ASHPs'!$E$33=\"Single Speed\",C58*$C$45,C58*$C$45))","v":{"$error":"#VALUE!"}},{"$f":"IF(D58=\"-\",\"-\",IF('Step 5 Identify & Select ASHPs'!$E$33=\"Single Speed\",D58*$C$46,D58*$C$46))","v":{"$error":"#VALUE!"}},{"$f":"IF(E58=\"-\",\"-\",(E58/IF('Intro & Unit Options'!$B$12=\"Metric\",1,3412))/F58)","v":{"$error":"#VALUE!"}},null,null,null,null,null,null,null,null,null,{"$f":"IF('Intro & Unit Options'!Q15=\"Metric\", CONVERT(87,\"F\",\"C\"),87)","v":87},0.67231638418079087,0.61501976284584992,{"$f":"IF(R58=\"-\",\"-\",IF('Step 5 Identify & Select ASHPs'!$E$33=\"Single Speed\",R58*$R$45,R58*$R$45))","v":{"$error":"#VALUE!"}},{"$f":"IF(S58=\"-\",\"-\",IF('Step 5 Identify & Select ASHPs'!$E$33=\"Single Speed\",S58*$R$46,S58*$R$46))","v":{"$error":"#VALUE!"}},{"$f":"IF(T58=\"-\",\"-\",(T58/IF('Intro & Unit Options'!$B$12=\"Metric\",1,3412))/U58)","v":{"$error":"#VALUE!"}}]
[null,{"$f":"IF('Intro & Unit Options'!B16=\"Metric\", CONVERT(92,\"F\",\"C\"),92)","v":92},0.93333333333333335,0.94229249011857708,{"$f":"IF(C59=\"-\",\"-\",IF('Step 5 Identify & Select ASHPs'!$E$33=\"Single Speed\",C59*$C$45,C59*$C$45))","v":{"$error":"#VALUE!"}},{"$f":"IF(D59=\"-\",\"-\",IF('Step 5 Identify & Select ASHPs'!$E$33=\"Single Speed\",D59*$C$46,D59*$C$46))","v":{"$error":"#VALUE!"}},{"$f":"IF(E59=\"-\",\"-\",(E59/IF('Intro & Unit Options'!$B$12=\"Metric\",1,3412))/F59)","v":{"$error":"#VALUE!"}},null,null,null,null,null,null,null,null,null,{"$f":"IF('Intro & Unit Options'!Q16=\"Metric\", CONVERT(92,\"F\",\"C\"),92)","v":92},0.6652542372881356,0.63083003952569172,{"$f":"IF(R59=\"-\",\"-\",IF('Step 5 Identify & Select ASHPs'!$E$33=\"Single Speed\",R59*$R$45,R59*$R$45))","v":{"$error":"#VALUE!"}},{"$f":"IF(S59=\"-\",\"-\",IF('Step 5 Identify & Select ASHPs'!$E$33=\"Single Speed\",S59*$R$46,S59*$R$46))","v":{"$error":"#VALUE!"}},{"$f":"IF(T59=\"-\",\"-\",(T59/IF('Intro & Unit Options'!$B$12=\"Metric\",1,3412))/U59)","v":{"$error":"#VALUE!"}}]
[null,{"$f":"IF('Intro & Unit Options'!B17=\"Metric\", CONVERT(97,\"F\",\"C\"),97)","v":97},0.91751412429378532,0.9652173913043478,{"$f":"IF(C60=\"-\",\"-\",IF('Step 5 Identify & Select ASHPs'!$E$33=\"Single Speed\",C60*$C$45,C60*$C$45))","v":{"$error":"#VALUE!"}},{"$f":"IF(D60=\"-\",\"-\",IF('Step 5 Identify & Select ASHPs'!$E$33=\"Single Speed\",D60*$C$46,D60*$C$46))","v":{"$error":"#VALUE!"}},{"$f":"IF(E60=\"-\",\"-\",(E60/IF('Intro & Unit Options'!$B$12=\"Metric\",1,3412))/F60)","v":{"$error":"#VALUE!"}},null,null,null,null,null,null,null,null,null,{"$f":"IF('Intro & Unit Options'!Q17=\"Metric\", CONVERT(97,\"F\",\"C\"),97)","v":97},0.65423728813559323,0.64584980237154155,{"$f":"IF(R60=\"-\",\"-\",IF('Step 5 Identify & Select ASHPs'!$E$33=\"Single Speed\",R60*$R$45,R60*$R$45))","v":{"$error":"#VALUE!"}},{"$f":"IF(S60=\"-\",\"-\",IF('Step 5 Identify & Select ASHPs'!$E$33=\"Single Speed\",S60*$R$46,S60*$R$46))","v":{"$error":"#VALUE!"}},{"$f":"IF(T60=\"-\",\"-\",(T60/IF('Intro & Unit Options'!$B$12=\"Metric\",1,3412))/U60)","v":{"$error":"#VALUE!"}}]
[null,{"$f":"IF('Intro & Unit Options'!B18=\"Metric\", CONVERT(102,\"F\",\"C\"),102)","v":102},0.89491525423728813,0.9869565217391304,{"$f":"IF(C61=\"-\",\"-\",IF('Step 5 Identify & Select ASHPs'!$E$33=\"Single Speed\",C61*$C$45,C61*$C$45))","v":{"$error":"#VALUE!"}},{"$f":"IF(D61=\"-\",\"-\",IF('Step 5 Identify & Select ASHPs'!$E$33=\"Single Speed\",D61*$C$46,D61*$C$46))","v":{"$error":"#VALUE!"}},{"$f":"IF(E61=\"-\",\"-\",(E61/IF('Intro & Unit Options'!$B$12=\"Metric\",1,3412))/F61)","v":{"$error":"#VALUE!"}},null,null,null,null,null,null,null,null,null,{"$f":"IF('Intro & Unit Options'!Q18=\"Metric\", CONVERT(102,\"F\",\"C\"),102)","v":102},0.63728813559322028,0.65968379446640324,{"$f":"IF(R61=\"-\",\"-\",IF('Step 5 Identify & Select ASHPs'!$E$33=\"Single Speed\",R61*$R$45,R61*$R$45))","v":{"$error":"#VALUE!"}},{"$f":"IF(S61=\"-\",\"-\",IF('Step 5 Identify & Select ASHPs'!$E$33=\"Single Speed\",S61*$R$46,S61*$R$46))","v":{"$error":"#VALUE!"}},{"$f":"IF(T61=\"-\",\"-\",(T61/IF('Intro & Unit Options'!$B$12=\"Metric\",1,3412))/U61)","v":{"$error":"#VALUE!"}}]
[null,{"$f":"IF('Intro & Unit Options'!B19=\"Metric\", CONVERT(107,\"F\",\"C\"),107)","v":107},0.86836158192090396,1.0071146245059288,{"$f":"IF(C62=\"-\",\"-\",IF('Step 5 Identify & Select ASHPs'!$E$33=\"Single Speed\",C62*$C$45,C62*$C$45))","v":{"$error":"#VALUE!"}},{"$f":"IF(D62=\"-\",\"-\",IF('Step 5 Identify & Select ASHPs'!$E$33=\"Single Speed\",D62*$C$46,D62*$C$46))","v":{"$error":"#VALUE!"}},{"$f":"IF(E62=\"-\",\"-\",(E62/IF('Intro & Unit Options'!$B$12=\"Metric\",1,3412))/F62)","v":{"$error":"#VALUE!"}},null,null,"Normalized rated cap","Normalized rated pwr",null,null,null,null,null,{"$f":"IF('Intro & Unit Options'!Q19=\"Metric\", CONVERT(107,\"F\",\"C\"),107)","v":107},0.61751412429378527,0.67193675889328064,{"$f":"IF(R62=\"-\",\"-\",IF('Step 5 Identify & Select ASHPs'!$E$33=\"Single Speed\",R62*$R$45,R62*$R$45))","v":{"$error":"#VALUE!"}},{"$f":"IF(S62=\"-\",\"-\",IF('Step 5 Identify & Select ASHPs'!$E$33=\"Single Speed\",S62*$R$46,S62*$R$46))","v":{"$error":"#VALUE!"}},{"$f":"IF(T62=\"-\",\"-\",(T62/IF('Intro & Unit Options'!$B$12=\"Metric\",1,3412))/U62)","v":{"$error":"#VALUE!"}},null,null,"Normalized rated cap","Normalized rated pwr"]
[null,{"$f":"IF('Intro & Unit Options'!B20=\"Metric\", CONVERT(112,\"F\",\"C\"),112)","v":112},0.83587570621468921,1.0249011857707511,{"$f":"IF(C63=\"-\",\"-\",IF('Step 5 Identify & Select ASHPs'!$E$33=\"Single Speed\",C63*$C$45,C63*$C$45))","v":{"$error":"#VALUE!"}},{"$f":"IF(D63=\"-\",\"-\",IF('Step 5 Identify & Select ASHPs'!$E$33=\"Single Speed\",D63*$C$46,D63*$C$46))","v":{"$error":"#VALUE!"}},{"$f":"IF(E63=\"-\",\"-\",(E63/IF('Intro & Unit Options'!$B$12=\"Metric\",1,3412))/F63)","v":{"$error":"#VALUE!"}},null,null,{"$f":"IF(AND('Step 5 Identify & Select ASHPs'!E32=\"Centrally Ducted\",'Step 5 Identify & Select ASHPs'!E33=\"Single Speed\"),\"\",IF(AND('Step 5 Identify & Select ASHPs'!E32=\"Centrally Ducted\",'Step 5 Identify & Select ASHPs'!E33=\"Two-Stage\"),'Ducted Performance Tables'!F67,IF(AND('Step 5 Identify & Select ASHPs'!E32=\"Centrally Ducted\",'Step 5 Identify & Select ASHPs'!E33=\"Variable\"),'Ducted Performance Tables'!B122,IF(AND('Step 5 Identify & Select ASHPs'!E32=\"Single Split Ductless\",'Step 5 Identify & Select ASHPs'!E33=\"Regular Variable\"),'Ductless Single Per Table'!B50,IF(AND('Step 5 Identify & Select ASHPs'!E32=\"Single Split Ductless\",'Step 5 Identify & Select ASHPs'!E33=\"Cold Climate Variable\"),'Ductless Single Per Table'!B117,IF(AND('Step 5 Identify & Select ASHPs'!E32=\"Multi-split Ductless\",'Step 5 Identify & Select ASHPs'!E33=\"Regular Variable\"),'Ductless Multi-split'!F20,IF(AND('Step 5 Identify & Select ASHPs'!E32=\"Multi-split Ductless\",'Step 5 Identify & Select ASHPs'!E33=\"Cold Climate Variable\"),'Ductless Multi-split'!F89)))))))","v":0.92655367231638419},{"$f":"IF(AND('Step 5 Identify & Select ASHPs'!E32=\"Centrally Ducted\",'Step 5 Identify & Select ASHPs'!E33=\"Single Speed\"),\"\",IF(AND('Step 5 Identify & Select ASHPs'!E32=\"Centrally Ducted\",'Step 5 Identify & Select ASHPs'!E33=\"Two-Stage\"),'Ducted Performance Tables'!G67,IF(AND('Step 5 Identify & Select ASHPs'!E32=\"Centrally Ducted\",'Step 5 Identify & Select ASHPs'!E33=\"Variable\"),'Ducted Performance Tables'!C122,IF(AND('Step 5 Identify & Select ASHPs'!E32=\"Single Split Ductless\",'Step 5 Identify & Select ASHPs'!E33=\"Regular Variable\"),'Ductless Single Per Table'!C50,IF(AND('Step 5 Identify & Select ASHPs'!E32=\"Single Split Ductless\",'Step 5 Identify & Select ASHPs'!E33=\"Cold Climate Variable\"),'Ductless Single Per Table'!C117,IF(AND('Step 5 Identify & Select ASHPs'!E32=\"Multi-split Ductless\",'Step 5 Identify & Select ASHPs'!E33=\"Regular Variable\"),'Ductless Multi-split'!G20,IF(AND('Step 5 Identify & Select ASHPs'!E32=\"Multi-split Ductless\",'Step 5 Identify & Select ASHPs'!E33=\"Cold Climate Variable\"),'Ductless Multi-split'!G89)))))))","v":0.95652173913043481},null,null,null,null,null,{"$f":"IF('Intro & Unit Options'!Q20=\"Metric\", CONVERT(112,\"F\",\"C\"),112)","v":112},0.59350282485875705,0.68181818181818188,{"$f":"IF(R63=\"-\",\"-\",IF('Step 5 Identify & Select ASHPs'!$E$33=\"Single Speed\",R63*$R$45,R63*$R$45))","v":{"$error":"#VALUE!"}},{"$f":"IF(S63=\"-\",\"-\",IF('Step 5 Identify & Select ASHPs'!$E$33=\"Single Speed\",S63*$R$46,S63*$R$46))","v":{"$error":"#VALUE!"}},{"$f":"IF(T63=\"-\",\"-\",(T63/IF('Intro & Unit Options'!$B$12=\"Metric\",1,3412))/U63)","v":{"$error":"#VALUE!"}},null,null,{"$f":"IF(AND('Step 5 Identify & Select ASHPs'!E32=\"Centrally Ducted\",'Step 5 Identify & Select ASHPs'!E33=\"Single Speed\"),\"\",IF(AND('Step 5 Identify & Select ASHPs'!E32=\"Centrally Ducted\",'Step 5 Identify & Select ASHPs'!E33=\"Two-Stage\"),'Ducted Performance Tables'!N67,IF(AND('Step 5 Identify & Select ASHPs'!E32=\"Centrally Ducted\",'Step 5 Identify & Select ASHPs'!E33=\"Variable\"),'Ducted Performance Tables'!J122,IF(AND('Step 5 Identify & Select ASHPs'!E32=\"Single Split Ductless\",'Step 5 Identify & Select ASHPs'!E33=\"Regular Variable\"),'Ductless Single Per Table'!K50,IF(AND('Step 5 Identify & Select ASHPs'!E32=\"Single Split Ductless\",'Step 5 Identify & Select ASHPs'!E33=\"Cold Climate Variable\"),'Ductless Single Per Table'!K117,IF(AND('Step 5 Identify & Select ASHPs'!E32=\"Multi-split Ductless\",'Step 5 Identify & Select ASHPs'!E33=\"Regular Variable\"),'Ductless Multi-split'!O20,IF(AND('Step 5 Identify & Select ASHPs'!E32=\"Multi-split Ductless\",'Step 5 Identify & Select ASHPs'!E33=\"Cold Climate Variable\"),'Ductless Multi-split'!O89)))))))","v":0.66101694915254239},{"$f":"IF(AND('Step 5 Identify & Select ASHPs'!E32=\"Centrally Ducted\",'Step 5 Identify & Select ASHPs'!E33=\"Single Speed\"),\"\",IF(AND('Step 5 Identify & Select ASHPs'!E32=\"Centrally Ducted\",'Step 5 Identify & Select ASHPs'!E33=\"Two-Stage\"),'Ducted Performance Tables'!O67,IF(AND('Step 5 Identify & Select ASHPs'!E32=\"Centrally Ducted\",'Step 5 Identify & Select ASHPs'!E33=\"Variable\"),'Ducted Performance Tables'!K122,IF(AND('Step 5 Identify & Select ASHPs'!E32=\"Single Split Ductless\",'Step 5 Identify & Select ASHPs'!E33=\"Regular Variable\"),'Ductless Single Per Table'!L50,IF(AND('Step 5 Identify & Select ASHPs'!E32=\"Single Split Ductless\",'Step 5 Identify & Select ASHPs'!E33=\"Cold Climate Variable\"),'Ductless Single Per Table'!L117,IF(AND('Step 5 Identify & Select ASHPs'!E32=\"Multi-split Ductless\",'Step 5 Identify & Select ASHPs'!E33=\"Regular Variable\"),'Ductless Multi-split'!P20,IF(AND('Step 5 Identify & Select ASHPs'!E32=\"Multi-split Ductless\",'Step 5 Identify & Select ASHPs'!E33=\"Cold Climate Variable\"),'Ductless Multi-split'!P89)))))))","v":0.64031620553359692}]

{"sheet":"HP2 Calcs","index":23,"n_rows":63,"n_cols":29,"rows_kept":63,"cut":false,"hidden":true,"merged":[]}
[null,"Representative Curves - HP #1"]
[]
[null,"Heating - High Stage",null,null,null,null,null,null,null,null,null,null,null,null,null,null,"Heating - Low Stage"]
[]
[null,"Capacity @47°F (High Stage) [BTU/h ] ou [kW]",{"$f":"IF('Step 5 Identify & Select ASHPs'!I46,'Step 5 Identify & Select ASHPs'!$N$42, \"This option has not been selected\")","v":"This option has not been selected"},null,null,null,null,null,null,null,null,null,null,null,null,null,"Capacity @47°F (High Stage) [BTU/h ] ou [kW]",{"$f":"IF('Step 5 Identify & Select ASHPs'!I46,'Step 5 Identify & Select ASHPs'!$N$42, \"This option has not been selected\")","v":"This option has not been selected"}]
[null,"Power @47°F (High Stage) [kW]",{"$f":"IF('Step 5 Identify & Select ASHPs'!I46,IF('Step 5 Identify & Select ASHPs'!I54=\"COP\",'Step 5 Identify & Select ASHPs'!N44,'Step 5 Identify & Select ASHPs'!N43), \"This option has not been selected\")","v":"This option has not been selected"},null,null,null,null,null,null,null,null,null,null,null,null,null,"Power @47°F (High Stage) [kW]",{"$f":"IF('Step 5 Identify & Select ASHPs'!I46,IF('Step 5 Identify & Select ASHPs'!I54=\"COP\",'Step 5 Identify & Select ASHPs'!N44,'Step 5 Identify & Select ASHPs'!N43), \"This option has not been selected\")","v":"This option has not been selected"}]
[]
[null,"Performance Table Name: ",{"$f":"IF(AND('Step 5 Identify & Select ASHPs'!E51=\"Centrally Ducted\",'Step 5 Identify & Select ASHPs'!E52=\"Single Speed\"),\"Perf_Htg_Ducted_Single\",IF(AND('Step 5 Identify & Select ASHPs'!E51=\"Centrally Ducted\",'Step 5 Identify & Select ASHPs'!E52=\"Two-Stage\"),\"Perf_Htg_Ducted_2S_HS\",IF(AND('Step 5 Identify & Select ASHPs'!E51=\"Centrally Ducted\",'Step 5 Identify & Select ASHPs'!E52=\"Variable\"),\"Perf_Htg_Ducted_Variable_HS\",IF(AND('Step 5 Identify & Select ASHPs'!E51=\"Single Split Ductless\",'Step 5 Identify & Select ASHPs'!E52=\"Regular Variable\"),\"Perf_Htg_DuctlessSingle_RegVar_HS\",IF(AND('Step 5 Identify & Select ASHPs'!E51=\"Single Split Ductless\",'Step 5 Identify & Select ASHPs'!E52=\"Cold Climate Variable\"),\"Perf_Htg_DuctlessSingle_CCVar_HS\",IF(AND('Step 5 Identify & Select ASHPs'!E51=\"Multi-split Ductless\",'Step 5 Identify & Select ASHPs'!E52=\"Regular Variable\"),\"Perf_Htg_DuctlessMulti_RegVar_HS\",IF(AND('Step 5 Identify & Select ASHPs'!E51=\"Multi-split Ductless\",'Step 5 Identify & Select ASHPs'!E52=\"Cold Climate Variable\"),\"Perf_Htg_DuctlessMulti_CCVar_HS\")))))))","v":"Perf_Htg_Ducted_Variable_HS"},null,null,null,null,null,null,null,null,null,null,null,null,null,"Performance Table Name: ",{"$f":"IF('Step 5 Identify & Select ASHPs'!$E$52=Dropdown_Menus!A2,NA(),IF(AND('Step 5 Identify & Select ASHPs'!E51=\"Centrally Ducted\",'Step 5 Identify & Select ASHPs'!E52=\"Single Speed\"),\"Perf_Htg_Ducted_Single\",IF(AND('Step 5 Identify & Select ASHPs'!E51=\"Centrally Ducted\",'Step 5 Identify & Select ASHPs'!E52=\"Two-Stage\"),\"Perf_Htg_Ducted_2S_LS\",IF(AND('Step 5 Identify & Select ASHPs'!E51=\"Centrally Ducted\",'Step 5 Identify & Select ASHPs'!E52=\"Variable\"),\"Perf_Htg_Ducted_Variable_LS\",IF(AND('Step 5 Identify & Select ASHPs'!E51=\"Single Split Ductless\",'Step 5 Identify & Select ASHPs'!E52=\"Regular Variable\"),\"Perf_Htg_DuctlessSingle_RegVar_LS\",IF(AND('Step 5 Identify & Select ASHPs'!E51=\"Single Split Ductless\",'Step 5 Identify & Select ASHPs'!E52=\"Cold Climate Variable\"),\"Perf_Htg_DuctlessSingle_CCVar_LS\",IF(AND('Step 5 Identify & Select ASHPs'!E51=\"Multi-split Ductless\",'Step 5 Identify & Select ASHPs'!E52=\"Regular Variable\"),\"Perf_Htg_DuctlessMulti_RegVar_LS\",IF(AND('Step 5 Identify & Select ASHPs'!E51=\"Multi-split Ductless\",'Step 5 Identify & Select ASHPs'!E52=\"Cold Climate Variable\"),\"Perf_Htg_DuctlessMulti_CCVar_LS\"))))))))","v":"Perf_Htg_Ducted_Variable_LS"}]
[]
[null,"Design Temp. (heat)",{"$f":"'Design Load Calcs'!$B$24","v":0},null,null,null,null,null,null,null,null,null,null,null,null,null,"Design Temp. (heat)",{"$f":"'Design Load Calcs'!$B$24","v":0}]
[]
[]
[null,"Performance Data and Heating Load Line",null,null,null,null,null,null,null,null,null,null,"Outputs:",null,null,null,"Performance Data and Heating Load Line",null,null,null,null,null,null,null,null,null,null,"Outputs:"]
[null,"Outdoor Temp.","Normalized Capacity","Normalized Power","Normalized Capacity","Normalized Power","Actual Capacity","Actual Power","Actual COP","Heating Load Line ","Intersect. Cap/Htg Load Line",null,"HP cap @ Design Temp. [BTU/h ou kW]",{"$f":"IF(OR(N37=\"-\",N37=C10),M37,SLOPE(M37:M38,N37:N38)*C10+INTERCEPT(M37:M38,N37:N38))","v":{"$error":"#VALUE!"}},null,null,"Outdoor Temp.","Normalized Capacity","Normalized Power","Normalized Capacity","Normalized Power","Actual Capacity","Actual Power","Actual COP","Heating Load Line ","Intersect. Cap/Htg Load Line",null,"HP cap @ Design Temp. [BTU/h ou kW]",{"$f":"IF(OR(AC37=\"-\",AC37=R10),AB37,SLOPE(AB37:AB38,AC37:AC38)*R10+INTERCEPT(AB37:AB38,AC37:AC38))","v":{"$error":"#VALUE!"}}]
[null,"[°C] ou [°F]",null,null,null,null,"[BTU/h] ou [kW]","[kW]","[-]","[BTU/h] ou [kW]",null,null,"BPT (Representative Curve) [°F ou°C]",{"$f":"IF((INDEX(G16:G33,MATCH(G38,B16:B33,0))-INDEX(J16:J33,MATCH(G38,B16:B33,0)))>0,G39,I39)","v":{"$error":"#VALUE!"}},null,null,"[°C] ou [°F]",null,null,null,null,"[BTU/h] ou [kW]","[kW]","[-]","[BTU/h] ou [kW]",null,null,"BPT (Representative Curve) [°F ou°C]",{"$f":"IF((INDEX(V16:V33,MATCH(V38,Q16:Q33,0))-INDEX(Y16:Y33,MATCH(V38,Q16:Q33,0)))>0,V39,X39)","v":{"$error":"#VALUE!"}}]
[null,{"$f":"'Step 5 Identify & Select ASHPs'!E50","v":0},{"$f":"IF(B16=D37,B37,IF(SLOPE(B37:B38,D37:D38)<0,B37,SLOPE(B37:B38,D37:D38)*B16+INTERCEPT(B37:B38,D37:D38)))","v":0.54925714285714289},{"$f":"IF(B16=D37,C37,SLOPE(C37:C38,D37:D38)*B16+INTERCEPT(C37:C38,D37:D38))","v":1.3659677419354841},{"$f":"C16","v":0.54925714285714289},{"$f":"D16","v":1.3659677419354841},{"$f":"C16*$C$5/C31","v":{"$error":"#VALUE!"}},{"$f":"D16*$C$6","v":{"$error":"#VALUE!"}},{"$f":"(G16/IF('Intro & Unit Options'!$B$12=\"Metric\",1,3412))/H16","v":{"$error":"#VALUE!"}},{"$f":"('Design Load Calcs'!$G$23*'HP2 Calcs'!B16+'Design Load Calcs'!$H$23)","v":50000},{"$f":"IF(G16=\"-\",\"\",ABS(G16-J16))","v":{"$error":"#VALUE!"}},null,{"$f":"CONCATENATE(\"HP cap @ BPT\",IF('Intro & Unit Options'!$B$12=Dropdown_Menus!#REF!,\" [kW]\",\" [BTU/h]\"))","v":{"$error":"#REF!"}},{"$f":"IF((INDEX(G16:G33,MATCH(G38,B16:B33,0))-INDEX(J16:J33,MATCH(G38,B16:B33,0)))>0,G40,I40)","v":{"$error":"#VALUE!"}},null,null,{"$f":"'Step 5 Identify & Select ASHPs'!E50","v":0},{"$f":"IF(Q16=S37,Q37,IF(SLOPE(Q37:Q38,S37:S38)<0,Q37,SLOPE(Q37:Q38,S37:S38)*Q16+INTERCEPT(Q37:Q38,S37:S38)))","v":0.35142857142857142},{"$f":"IF(Q16=S37,R37,SLOPE(R37:R38,S37:S38)*Q16+INTERCEPT(R37:R38,S37:S38))","v":0.70467741935483874},{"$f":"R16","v":0.35142857142857142},{"$f":"S16","v":0.70467741935483874},{"$f":"R16*$C$5/R31","v":{"$error":"#VALUE!"}},{"$f":"S16*$C$6","v":{"$error":"#VALUE!"}},{"$f":"(V16/IF('Intro & Unit Options'!$B$12=\"Metric\",1,3412))/W16","v":{"$error":"#VALUE!"}},{"$f":"('Design Load Calcs'!$G$23*'HP2 Calcs'!Q16+'Design Load Calcs'!$H$23)","v":50000},{"$f":"IF(V16=\"-\",\"\",ABS(V16-Y16))","v":{"$error":"#VALUE!"}},null,{"$f":"CONCATENATE(\"HP cap @ BPT\",IF('Intro & Unit Options'!$B$12=Dropdown_Menus!#REF!,\" [kW]\",\" [BTU/h]\"))","v":{"$error":"#REF!"}},{"$f":"IF((INDEX(V16:V33,MATCH(V38,Q16:Q33,0))-INDEX(Y16:Y33,MATCH(V38,Q16:Q33,0)))>0,V40,X40)","v":{"$error":"#VALUE!"}}]
[{"$f":"IF(C17<>\"-\",B17,\"\")","v":""},{"$f":"'Load %s'!B8","v":-23},{"$f":"INDEX(INDIRECT($C$8),MATCH(B17,$B$17:$B$33,0),2)","v":"-"},{"$f":"INDEX(INDIRECT($C$8),MATCH(B17,$B$17:$B$33,0),3)","v":"-"},{"$f":"IF(B17<=$B$16,\"-\",C17)","v":"-"},{"$f":"IF(B17<=$B$16,\"-\",D17)","v":"-"},{"$f":"IF(E17=\"-\",\"-\",E17*$C$5/$C$31)","v":"-"},{"$f":"IF(F17=\"-\",\"-\",F17*$C$6)","v":"-"},{"$f":"IF(G17=\"-\",\"-\",(G17/IF('Intro & Unit Options'!$B$12=\"Metric\",1,3412))/H17)","v":"-"},{"$f":"('Design Load Calcs'!$G$23*'HP2 Calcs'!B17+'Design Load Calcs'!$H$23)","v":69166.666666666672},{"$f":"IF(G17=\"-\",\"\",ABS(G17-J17))","v":""},null,"Fraction of heating above BPT",{"$f":"SLOPE(J37:J38,K37:K38)*N15+INTERCEPT(J37:J38,K37:K38)","v":{"$error":"#VALUE!"}},null,{"$f":"IF(R17<>\"-\",Q17,\"\")","v":""},{"$f":"'Load %s'!B8","v":-23},{"$f":"INDEX(INDIRECT($R$8),MATCH(Q17,$Q$17:$Q$33,0),2)","v":"-"},{"$f":"INDEX(INDIRECT($R$8),MATCH(Q17,$Q$17:$Q$33,0),3)","v":"-"},{"$f":"IF(Q17<=$B$16,\"-\",R17)","v":"-"},{"$f":"IF(Q17<=$B$16,\"-\",S17)","v":"-"},{"$f":"IF(T17=\"-\",\"-\",T17*$C$5/$C$31)","v":"-"},{"$f":"IF(U17=\"-\",\"-\",U17*$C$6)","v":"-"},{"$f":"IF(V17=\"-\",\"-\",(V17/IF('Intro & Unit Options'!$B$12=\"Metric\",1,3412))/W17)","v":"-"},{"$f":"('Design Load Calcs'!$G$23*'HP2 Calcs'!Q17+'Design Load Calcs'!$H$23)","v":69166.666666666672},{"$f":"IF(V17=\"-\",\"\",ABS(V17-Y17))","v":""},null,"Fraction of heating above BPT",{"$f":"SLOPE(Y37:Y38,Z37:Z38)*AC15+INTERCEPT(Y37:Y38,Z37:Z38)","v":{"$error":"#VALUE!"}}]
[{"$f":"IF(C18<>\"-\",B18,\"\")","v":""},{"$f":"'Load %s'!B9","v":-18},{"$f":"INDEX(INDIRECT($C$8),MATCH(B18,$B$17:$B$33,0),2)","v":"-"},"-",{"$f":"IF(B18<=$B$16,\"-\",C18)","v":"-"},{"$f":"IF(B18<=$B$16,\"-\",D18)","v":"-"},{"$f":"IF(E18=\"-\",\"-\",E18*$C$5/$C$31)","v":"-"},{"$f":"IF(F18=\"-\",\"-\",F18*$C$6)","v":"-"},{"$f":"IF(G18=\"-\",\"-\",(G18/IF('Intro & Unit Options'!$B$12=\"Metric\",1,3412))/H18)","v":"-"},{"$f":"('Design Load Calcs'!$G$23*'HP2 Calcs'!B18+'Design Load Calcs'!$H$23)","v":65000},{"$f":"IF(G18=\"-\",\"\",ABS(G18-J18))","v":""},null,"BPT (Selected for the graph) [°F ou°C]",{"$f":"IFERROR(IF('Step 5 Identify & Select ASHPs'!I46,'HP2 Calcs'!N15,'HP2'!J9),NA())","v":"None"},null,{"$f":"IF(R18<>\"-\",Q18,\"\")","v":""},{"$f":"'Load %s'!B9","v":-18},{"$f":"INDEX(INDIRECT($R$8),MATCH(Q18,$Q$17:$Q$33,0),2)","v":"-"},{"$f":"INDEX(INDIRECT($R$8),MATCH(Q18,$Q$17:$Q$33,0),3)","v":"-"},{"$f":"IF(Q18<=$B$16,\"-\",R18)","v":"-"},{"$f":"IF(Q18<=$B$16,\"-\",S18)","v":"-"},{"$f":"IF(T18=\"-\",\"-\",T18*$C$5/$C$31)","v":"-"},{"$f":"IF(U18=\"-\",\"-\",U18*$C$6)","v":"-"},{"$f":"IF(V18=\"-\",\"-\",(V18/IF('Intro & Unit Options'!$B$12=\"Metric\",1,3412))/W18)","v":"-"},{"$f":"('Design Load Calcs'!$G$23*'HP2 Calcs'!Q18+'Design Load Calcs'!$H$23)","v":65000},{"$f":"IF(V18=\"-\",\"\",ABS(V18-Y18))","v":""},null,"BPT (Selected for the graph) [°F ou°C]",{"$f":"IFERROR(IF('Step 5 Identify & Select ASHPs'!I46,'HP2 Calcs'!AC15,'HP2'!U9),NA())","v":"None"}]
["",{"$f":"'Load %s'!B10","v":-13},"-","-","-","-","-","-",{"$f":"IF(G19=\"-\",\"-\",(G19/IF('Intro & Unit Options'!$B$12=\"Metric\",1,3412))/H19)","v":"-"},{"$f":"('Design Load Calcs'!$G$23*'HP2 Calcs'!B19+'Design Load Calcs'!$H$23)","v":60833.333333333336},"",null,"Fraction of heating above BPT",{"$f":"IFERROR(IF('Step 5 Identify & Select ASHPs'!I46,'HP2 Calcs'!N17,'HP2'!J10),NA())","v":{"$error":"#N/A"}},null,"",{"$f":"'Load %s'!B10","v":-13},{"$f":"INDEX(INDIRECT($R$8),MATCH(Q19,$Q$17:$Q$33,0),2)","v":"-"},"-","-","-","-","-",{"$f":"IF(V19=\"-\",\"-\",(V19/IF('Intro & Unit Options'!$B$12=\"Metric\",1,3412))/W19)","v":"-"},{"$f":"('Design Load Calcs'!$G$23*'HP2 Calcs'!Q19+'Design Load Calcs'!$H$23)","v":60833.333333333336},"",null,"Fraction of heating above BPT",{"$f":"IFERROR(IF('Step 5 Identify & Select ASHPs'!I46,'HP2 Calcs'!AC17,'HP2'!U10),NA())","v":{"$error":"#N/A"}}]
[-8,{"$f":"'Load %s'!B11","v":-8},0.41714285714285709,1.3024193548387097,"-","-","-","-",{"$f":"IF(G20=\"-\",\"-\",(G20/IF('Intro & Unit Options'!$B$12=\"Metric\",1,3412))/H20)","v":"-"},{"$f":"('Design Load Calcs'!$G$23*'HP2 Calcs'!B20+'Design Load Calcs'!$H$23)","v":56666.666666666664},"",null,{"$f":"CONCATENATE(\"HP cap @\",IF('Intro & Unit Options'!B12=Dropdown_Menus!F1,CONVERT(47,\"F\",\"C\"),47),IF('Intro & Unit Options'!$B$12=Dropdown_Menus!F1,\" C\",\" F\"),IF('Intro & Unit Options'!$B$12=Dropdown_Menus!F1,\" [kW]\",\" [BTU/h]\"))","v":"HP cap @47 F [BTU/h]"},{"$f":"G31","v":{"$error":"#VALUE!"}},null,-8,{"$f":"'Load %s'!B11","v":-8},{"$f":"INDEX(INDIRECT($R$8),MATCH(Q20,$Q$17:$Q$33,0),2)","v":0.2674285714285714},0.6758064516129032,"-","-","-","-",{"$f":"IF(V20=\"-\",\"-\",(V20/IF('Intro & Unit Options'!$B$12=\"Metric\",1,3412))/W20)","v":"-"},{"$f":"('Design Load Calcs'!$G$23*'HP2 Calcs'!Q20+'Design Load Calcs'!$H$23)","v":56666.666666666664},""]
[-3,{"$f":"'Load %s'!B12","v":-3},0.50057142857142856,1.342741935483871,"-","-","-","-",{"$f":"IF(G21=\"-\",\"-\",(G21/IF('Intro & Unit Options'!$B$12=\"Metric\",1,3412))/H21)","v":"-"},{"$f":"('Design Load Calcs'!$G$23*'HP2 Calcs'!B21+'Design Load Calcs'!$H$23)","v":52500},"",null,null,null,null,-3,{"$f":"'Load %s'!B12","v":-3},0.32057142857142856,0.69354838709677413,"-","-","-","-",{"$f":"IF(V21=\"-\",\"-\",(V21/IF('Intro & Unit Options'!$B$12=\"Metric\",1,3412))/W21)","v":"-"},{"$f":"('Design Load Calcs'!$G$23*'HP2 Calcs'!Q21+'Design Load Calcs'!$H$23)","v":52500},""]
[2,{"$f":"'Load %s'!B13","v":2},0.58171428571428574,1.3814516129032259,0.58171428571428574,1.3814516129032259,{"$error":"#VALUE!"},{"$error":"#VALUE!"},{"$f":"IF(G22=\"-\",\"-\",(G22/IF('Intro & Unit Options'!$B$12=\"Metric\",1,3412))/H22)","v":{"$error":"#VALUE!"}},{"$f":"('Design Load Calcs'!$G$23*'HP2 Calcs'!B22+'Design Load Calcs'!$H$23)","v":48333.333333333336},{"$error":"#VALUE!"},null,"Max Cap",{"$f":"IFERROR(MAX(G16:G33),0)","v":0},null,2,{"$f":"'Load %s'!B13","v":2},0.372,0.71209677419354844,0.372,0.71209677419354844,{"$error":"#VALUE!"},{"$error":"#VALUE!"},{"$f":"IF(V22=\"-\",\"-\",(V22/IF('Intro & Unit Options'!$B$12=\"Metric\",1,3412))/W22)","v":{"$error":"#VALUE!"}},{"$f":"('Design Load Calcs'!$G$23*'HP2 Calcs'!Q22+'Design Load Calcs'!$H$23)","v":48333.333333333336},{"$error":"#VALUE!"}]
[7,{"$f":"'Load %s'!B14","v":7},0.66342857142857148,1.4193548387096775,0.66342857142857148,1.4193548387096775,{"$error":"#VALUE!"},{"$error":"#VALUE!"},{"$f":"IF(G23=\"-\",\"-\",(G23/IF('Intro & Unit Options'!$B$12=\"Metric\",1,3412))/H23)","v":{"$error":"#VALUE!"}},{"$f":"('Design Load Calcs'!$G$23*'HP2 Calcs'!B23+'Design Load Calcs'!$H$23)","v":44166.666666666664},{"$f":"IF(G23=\"-\",\"\",ABS(G23-J23))","v":{"$error":"#VALUE!"}},null,null,null,null,7,{"$f":"'Load %s'!B14","v":7},0.42342857142857143,0.72983870967741937,0.42342857142857143,0.72983870967741937,{"$error":"#VALUE!"},{"$error":"#VALUE!"},{"$f":"IF(V23=\"-\",\"-\",(V23/IF('Intro & Unit Options'!$B$12=\"Metric\",1,3412))/W23)","v":{"$error":"#VALUE!"}},{"$f":"('Design Load Calcs'!$G$23*'HP2 Calcs'!Q23+'Design Load Calcs'!$H$23)","v":44166.666666666664},{"$f":"IF(V23=\"-\",\"\",ABS(V23-Y23))","v":{"$error":"#VALUE!"}}]
[12,{"$f":"'Load %s'!B15","v":12},0.74342857142857144,1.4596774193548387,0.74342857142857144,1.4596774193548387,{"$error":"#VALUE!"},{"$error":"#VALUE!"},{"$f":"IF(G24=\"-\",\"-\",(G24/IF('Intro & Unit Options'!$B$12=\"Metric\",1,3412))/H24)","v":{"$error":"#VALUE!"}},{"$f":"('Design Load Calcs'!$G$23*'HP2 Calcs'!B24+'Design Load Calcs'!$H$23)","v":40000},{"$error":"#VALUE!"},null,"Slope @ t-BPT:",{"$f":"IF((INDEX(G16:G33,MATCH(G38,B16:B33,0))-INDEX(J16:J33,MATCH(G38,B16:B33,0)))>0,SLOPE(F37:F38,G37:G38),SLOPE(H37:H38,I37:I38))","v":{"$error":"#VALUE!"}},null,12,{"$f":"'Load %s'!B15","v":12},0.47485714285714287,0.74838709677419357,0.47485714285714287,0.74838709677419357,{"$error":"#VALUE!"},{"$error":"#VALUE!"},{"$f":"IF(V24=\"-\",\"-\",(V24/IF('Intro & Unit Options'!$B$12=\"Metric\",1,3412))/W24)","v":{"$error":"#VALUE!"}},{"$f":"('Design Load Calcs'!$G$23*'HP2 Calcs'!Q24+'Design Load Calcs'!$H$23)","v":40000},{"$f":"IF(V24=\"-\",\"\",ABS(V24-Y24))","v":{"$error":"#VALUE!"}},null,"Slope @ t-BPT:",{"$f":"IF((INDEX(V16:V33,MATCH(V38,Q16:Q33,0))-INDEX(Y16:Y33,MATCH(V38,Q16:Q33,0)))>0,SLOPE(U37:U38,V37:V38),SLOPE(W37:W38,X37:X38))","v":{"$error":"#VALUE!"}}]
[17,{"$f":"'Load %s'!B16","v":17},0.82285714285714284,1.5,0.82285714285714284,1.5,{"$error":"#VALUE!"},{"$error":"#VALUE!"},{"$f":"IF(G25=\"-\",\"-\",(G25/IF('Intro & Unit Options'!$B$12=\"Metric\",1,3412))/H25)","v":{"$error":"#VALUE!"}},{"$f":"('Design Load Calcs'!$G$23*'HP2 Calcs'!B25+'Design Load Calcs'!$H$23)","v":35833.333333333328},{"$error":"#VALUE!"},null,"Intercept @ t-BPT",{"$f":"IF((INDEX(G16:G33,MATCH(G38,B16:B33,0))-INDEX(J16:J33,MATCH(G38,B16:B33,0)))>0,INTERCEPT(F37:F38,G37:G38),INTERCEPT(H37:H38,I37:I38))","v":{"$error":"#VALUE!"}},null,17,{"$f":"'Load %s'!B16","v":17},0.52571428571428569,0.7661290322580645,0.52571428571428569,0.7661290322580645,{"$error":"#VALUE!"},{"$error":"#VALUE!"},{"$f":"IF(V25=\"-\",\"-\",(V25/IF('Intro & Unit Options'!$B$12=\"Metric\",1,3412))/W25)","v":{"$error":"#VALUE!"}},{"$f":"('Design Load Calcs'!$G$23*'HP2 Calcs'!Q25+'Design Load Calcs'!$H$23)","v":35833.333333333328},{"$error":"#VALUE!"},null,"Intercept @ t-BPT",{"$f":"IF((INDEX(V16:V33,MATCH(V38,Q16:Q33,0))-INDEX(Y16:Y33,MATCH(V38,Q16:Q33,0)))>0,INTERCEPT(U37:U38,V37:V38),INTERCEPT(W37:W38,X37:X38))","v":{"$error":"#VALUE!"}}]
[22,{"$f":"'Load %s'!B17","v":22},0.90114285714285713,1.5362903225806452,0.90114285714285713,1.5362903225806452,{"$error":"#VALUE!"},{"$error":"#VALUE!"},{"$f":"IF(G26=\"-\",\"-\",(G26/IF('Intro & Unit Options'!$B$12=\"Metric\",1,3412))/H26)","v":{"$error":"#VALUE!"}},{"$f":"('Design Load Calcs'!$G$23*'HP2 Calcs'!B26+'Design Load Calcs'!$H$23)","v":31666.666666666664},{"$error":"#VALUE!"},null,null,null,null,22,{"$f":"'Load %s'!B17","v":22},0.5754285714285714,0.782258064516129,0.5754285714285714,0.782258064516129,{"$error":"#VALUE!"},{"$error":"#VALUE!"},{"$f":"IF(V26=\"-\",\"-\",(V26/IF('Intro & Unit Options'!$B$12=\"Metric\",1,3412))/W26)","v":{"$error":"#VALUE!"}},{"$f":"('Design Load Calcs'!$G$23*'HP2 Calcs'!Q26+'Design Load Calcs'!$H$23)","v":31666.666666666664},{"$error":"#VALUE!"}]
[27,{"$f":"'Load %s'!B18","v":27},0.97771428571428565,1.5766129032258065,0.97771428571428565,1.5766129032258065,{"$error":"#VALUE!"},{"$error":"#VALUE!"},{"$f":"IF(G27=\"-\",\"-\",(G27/IF('Intro & Unit Options'!$B$12=\"Metric\",1,3412))/H27)","v":{"$error":"#VALUE!"}},{"$f":"('Design Load Calcs'!$G$23*'HP2 Calcs'!B27+'Design Load Calcs'!$H$23)","v":27500},{"$error":"#VALUE!"},null,null,null,null,27,{"$f":"'Load %s'!B18","v":27},0.62342857142857144,0.8008064516129032,0.62342857142857144,0.8008064516129032,{"$error":"#VALUE!"},{"$error":"#VALUE!"},{"$f":"IF(V27=\"-\",\"-\",(V27/IF('Intro & Unit Options'!$B$12=\"Metric\",1,3412))/W27)","v":{"$error":"#VALUE!"}},{"$f":"('Design Load Calcs'!$G$23*'HP2 Calcs'!Q27+'Design Load Calcs'!$H$23)","v":27500},{"$error":"#VALUE!"}]
[32,{"$f":"'Load %s'!B19","v":32},0.94799999999999995,1.3411290322580645,0.94799999999999995,1.3411290322580645,{"$error":"#VALUE!"},{"$error":"#VALUE!"},{"$f":"IF(G28=\"-\",\"-\",(G28/IF('Intro & Unit Options'!$B$12=\"Metric\",1,3412))/H28)","v":{"$error":"#VALUE!"}},{"$f":"('Design Load Calcs'!$G$23*'HP2 Calcs'!B28+'Design Load Calcs'!$H$23)","v":23333.333333333332},{"$error":"#VALUE!"},null,null,null,null,32,{"$f":"'Load %s'!B19","v":32},0.63257142857142856,0.70725806451612916,0.63257142857142856,0.70725806451612916,{"$error":"#VALUE!"},{"$error":"#VALUE!"},{"$f":"IF(V28=\"-\",\"-\",(V28/IF('Intro & Unit Options'!$B$12=\"Metric\",1,3412))/W28)","v":{"$error":"#VALUE!"}},{"$f":"('Design Load Calcs'!$G$23*'HP2 Calcs'!Q28+'Design Load Calcs'!$H$23)","v":23333.333333333332},{"$error":"#VALUE!"}]
[37,{"$f":"'Load %s'!B20","v":37},0.85885714285714287,0.95967741935483863,0.85885714285714287,0.95967741935483863,{"$error":"#VALUE!"},{"$error":"#VALUE!"},{"$f":"IF(G29=\"-\",\"-\",(G29/IF('Intro & Unit Options'!$B$12=\"Metric\",1,3412))/H29)","v":{"$error":"#VALUE!"}},{"$f":"('Design Load Calcs'!$G$23*'HP2 Calcs'!B29+'Design Load Calcs'!$H$23)","v":19166.666666666664},{"$error":"#VALUE!"},null,null,null,null,37,{"$f":"'Load %s'!B20","v":37},0.61942857142857144,0.55725806451612903,0.61942857142857144,0.55725806451612903,{"$error":"#VALUE!"},{"$error":"#VALUE!"},{"$f":"IF(V29=\"-\",\"-\",(V29/IF('Intro & Unit Options'!$B$12=\"Metric\",1,3412))/W29)","v":{"$error":"#VALUE!"}},{"$f":"('Design Load Calcs'!$G$23*'HP2 Calcs'!Q29+'Design Load Calcs'!$H$23)","v":19166.666666666664},{"$error":"#VALUE!"}]
[42,{"$f":"'Load %s'!B21","v":42},0.92742857142857138,0.97983870967741937,0.92742857142857138,0.97983870967741937,{"$error":"#VALUE!"},{"$error":"#VALUE!"},{"$f":"IF(G30=\"-\",\"-\",(G30/IF('Intro & Unit Options'!$B$12=\"Metric\",1,3412))/H30)","v":{"$error":"#VALUE!"}},{"$f":"('Design Load Calcs'!$G$23*'HP2 Calcs'!B30+'Design Load Calcs'!$H$23)","v":15000},{"$error":"#VALUE!"},null,null,null,null,42,{"$f":"'Load %s'!B21","v":42},0.66914285714285715,0.56774193548387086,0.66914285714285715,0.56774193548387086,{"$error":"#VALUE!"},{"$error":"#VALUE!"},{"$f":"IF(V30=\"-\",\"-\",(V30/IF('Intro & Unit Options'!$B$12=\"Metric\",1,3412))/W30)","v":{"$error":"#VALUE!"}},{"$f":"('Design Load Calcs'!$G$23*'HP2 Calcs'!Q30+'Design Load Calcs'!$H$23)","v":15000},{"$error":"#VALUE!"}]
[47,{"$f":"'Load %s'!B22","v":47},1,1,1,1,{"$error":"#VALUE!"},{"$error":"#VALUE!"},{"$f":"IF(G31=\"-\",\"-\",(G31/IF('Intro & Unit Options'!$B$12=\"Metric\",1,3412))/H31)","v":{"$error":"#VALUE!"}},{"$f":"('Design Load Calcs'!$G$23*'HP2 Calcs'!B31+'Design Load Calcs'!$H$23)","v":10833.333333333328},{"$error":"#VALUE!"},null,null,null,null,47,{"$f":"'Load %s'!B22","v":47},0.72,0.57661290322580638,0.72,0.57661290322580638,{"$error":"#VALUE!"},{"$error":"#VALUE!"},{"$f":"IF(V31=\"-\",\"-\",(V31/IF('Intro & Unit Options'!$B$12=\"Metric\",1,3412))/W31)","v":{"$error":"#VALUE!"}},{"$f":"('Design Load Calcs'!$G$23*'HP2 Calcs'!Q31+'Design Load Calcs'!$H$23)","v":10833.333333333328},{"$error":"#VALUE!"}]
[52,{"$f":"'Load %s'!B23","v":52},1.0754285714285716,1.0201612903225805,1.0754285714285716,1.0201612903225805,{"$error":"#VALUE!"},{"$error":"#VALUE!"},{"$f":"IF(G32=\"-\",\"-\",(G32/IF('Intro & Unit Options'!$B$12=\"Metric\",1,3412))/H32)","v":{"$error":"#VALUE!"}},{"$f":"('Design Load Calcs'!$G$23*'HP2 Calcs'!B32+'Design Load Calcs'!$H$23)","v":6666.6666666666642},{"$error":"#VALUE!"},null,null,null,null,52,{"$f":"'Load %s'!B23","v":52},0.77600000000000002,0.5879032258064516,0.77600000000000002,0.5879032258064516,{"$error":"#VALUE!"},{"$error":"#VALUE!"},{"$f":"IF(V32=\"-\",\"-\",(V32/IF('Intro & Unit Options'!$B$12=\"Metric\",1,3412))/W32)","v":{"$error":"#VALUE!"}},{"$f":"('Design Load Calcs'!$G$23*'HP2 Calcs'!Q32+'Design Load Calcs'!$H$23)","v":6666.6666666666642},{"$error":"#VALUE!"}]
[57,{"$f":"'Load %s'!B24","v":57},1.1485714285714286,1.0403225806451613,1.1485714285714286,1.0403225806451613,{"$error":"#VALUE!"},{"$error":"#VALUE!"},{"$f":"IF(G33=\"-\",\"-\",(G33/IF('Intro & Unit Options'!$B$12=\"Metric\",1,3412))/H33)","v":{"$error":"#VALUE!"}},{"$f":"('Design Load Calcs'!$G$23*'HP2 Calcs'!B33+'Design Load Calcs'!$H$23)","v":2500},{"$error":"#VALUE!"},null,null,null,null,57,{"$f":"'Load %s'!B24","v":57},0.82799999999999996,0.59758064516129039,0.82799999999999996,0.59758064516129039,{"$error":"#VALUE!"},{"$error":"#VALUE!"},{"$f":"IF(V33=\"-\",\"-\",(V33/IF('Intro & Unit Options'!$B$12=\"Metric\",1,3412))/W33)","v":{"$error":"#VALUE!"}},{"$f":"('Design Load Calcs'!$G$23*'HP2 Calcs'!Q33+'Design Load Calcs'!$H$23)","v":2500},{"$error":"#VALUE!"}]
[]
[null,"Slope and Intercept at the cut-off temp. (HP Norm. Cap and pwr)",null,null,null,"Slope and Intercept at the BPT (HP Cap)",null,null,null,"Slope and Intercept at the BPT (Load%)",null,null,"Slope and Intercept at the Design Temp. (HP Cap)",null,null,null,"Slope and Intercept at the cut-off temp. (HP Norm. Cap and pwr)",null,null,null,"Slope and Intercept at the BPT (HP Cap)",null,null,null,"Slope and Intercept at the BPT (Load%)",null,null,"Slope and Intercept at the Design Temp. (HP Cap)"]
[null,"know ys (capacity):","know ys (power):","know xs (temp)",null,"know ys (eq. 1):","know xs (eq. 1):","know ys (eq. 2):","know xs (eq. 2):","know ys (eq. 1):","know ys (eq. 2):",null,"know ys (capacity):","know xs",null,null,"know ys (capacity):","know ys (power):","know xs (temp)",null,"know ys (eq. 1):","know xs (eq. 1):","know ys (eq. 2):","know xs (eq. 2):","know ys (eq. 1):","know ys (eq. 2):",null,"know ys (capacity):","know xs"]
[null,{"$f":"INDEX(C17:C33,MATCH(D37,B17:B33,0))","v":0.50057142857142856},{"$f":"INDEX(D17:D33,SMALL(IF(B37=C17:C33,ROW(C17:C33)-ROW(C17)+1),1))","v":1.342741935483871},{"$f":"IF(MIN(IF(NOT(ISNA(A17:A33)),A17:A33))<=B16,IF(NOT(ISNA(INDEX(B17:B33,MATCH(B16,B17:B33,0)))),INDEX(B17:B33,MATCH(B16,B17:B33,0)),INDEX(B17:B33,MATCH(B16,B17:B33,1))),MIN(IF(NOT(ISNA(A17:A33)),A17:A33)))","v":-3},null,{"$f":"IF(INDEX(B17:B33,MATCH(MIN(K17:K33),K17:K33,0))=MIN(A17:A33),G16,INDEX(G17:G33,MATCH(MIN(K17:K33),K17:K33,0)-1))","v":{"$error":"#VALUE!"}},{"$f":"IF(INDEX(B17:B33,MATCH(MIN(K17:K33),K17:K33,0))=MIN(A17:A33),B16,INDEX(B17:B33,MATCH(MIN(K17:K33),K17:K33,0)-1))","v":{"$error":"#VALUE!"}},{"$f":"INDEX(G16:G33,MATCH(MIN(K16:K33),K16:K33,0))","v":{"$error":"#VALUE!"}},{"$f":"INDEX(B16:B33,MATCH(MIN(K16:K33),K16:K33,0))","v":{"$error":"#VALUE!"}},{"$f":"INDEX(INDIRECT(CONCATENATE(IFERROR(SUBSTITUTE('Step 3 Design Loads'!B8,\"-\",\"\"),'Step 3 Design Loads'!B8),\"_Load\")),MATCH(G37,B17:B33))","v":{"$error":"#VALUE!"}},{"$f":"G37","v":{"$error":"#VALUE!"}},null,{"$f":"IF(N37=B16,G16,IF(N37=\"-\",0,INDEX(G17:G33,MATCH(N37,B17:B33,0))))","v":"-"},{"$f":"IF(C10<B16,\"-\",IFERROR(INDEX(B17:B33,MATCH(C10,B17:B33,0)),INDEX(B17:B33,MATCH(C10,B17:B33,1))))","v":-3},null,null,{"$f":"INDEX(R17:R33,MATCH(S37,Q17:Q33,0))","v":0.32057142857142856},{"$f":"INDEX(S17:S33,SMALL(IF(Q37=R17:R33,ROW(R17:R33)-ROW(R17)+1),1))","v":0.69354838709677413},{"$f":"IF(MIN(IF(NOT(ISNA(P17:P33)),P17:P33))<=Q16,IF(NOT(ISNA(INDEX(Q17:Q33,MATCH(Q16,Q17:Q33,0)))),INDEX(Q17:Q33,MATCH(Q16,Q17:Q33,0)),INDEX(Q17:Q33,MATCH(Q16,Q17:Q33,1))),MIN(IF(NOT(ISNA(P17:P33)),P17:P33)))","v":-3},null,{"$f":"IF(INDEX(Q17:Q33,MATCH(MIN(Z17:Z33),Z17:Z33,0))=MIN(P17:P33),V16,INDEX(V17:V33,MATCH(MIN(Z17:Z33),Z17:Z33,0)-1))","v":{"$error":"#VALUE!"}},{"$f":"IF(INDEX(Q17:Q33,MATCH(MIN(Z17:Z33),Z17:Z33,0))=MIN(P17:P33),Q16,INDEX(Q17:Q33,MATCH(MIN(Z17:Z33),Z17:Z33,0)-1))","v":{"$error":"#VALUE!"}},{"$f":"INDEX(V16:V33,MATCH(MIN(Z16:Z33),Z16:Z33,0))","v":{"$error":"#VALUE!"}},{"$f":"INDEX(Q16:Q33,MATCH(MIN(Z16:Z33),Z16:Z33,0))","v":{"$error":"#VALUE!"}},{"$f":"INDEX(INDIRECT(CONCATENATE(IFERROR(SUBSTITUTE('Step 3 Design Loads'!B8,\"-\",\"\"),'Step 3 Design Loads'!B8),\"_Load\")),MATCH(V37,Q17:Q33))","v":{"$error":"#VALUE!"}},{"$f":"V37","v":{"$error":"#VALUE!"}},null,{"$f":"IF(AC37=Q16,V16,IF(AC37=\"-\",0,INDEX(V17:V33,MATCH(AC37,Q17:Q33,0))))","v":"-"},{"$f":"IF(R10<Q16,\"-\",IFERROR(INDEX(Q17:Q33,MATCH(R10,Q17:Q33,0)),INDEX(Q17:Q33,MATCH(R10,Q17:Q33,1))))","v":-3}]
[null,{"$f":"IF(D38=\"-\",\"-\",INDEX(C17:C33,MATCH(D38,B17:B33,0)))","v":0.58171428571428574},{"$f":"INDEX(D17:D33,SMALL(IF(B38=C17:C33,ROW(C17:C33)-ROW(C17)+1),1))","v":1.3814516129032259},{"$f":"IF(D37=B16,\"-\",INDEX(B17:B33,MATCH(D37,B17:B33,0)+1))","v":2},null,{"$f":"INDEX(G17:G33,MATCH(G38,B17:B33,0))","v":{"$error":"#VALUE!"}},{"$f":"INDEX(B16:B33,MATCH(MIN(K16:K33),K16:K33,0))","v":{"$error":"#VALUE!"}},{"$f":"INDEX(G16:G33,MATCH(MIN(K16:K33),K16:K33,0)+1)","v":{"$error":"#VALUE!"}},{"$f":"INDEX(B16:B33,MATCH(MIN(K16:K33),K16:K33,0)+1)","v":{"$error":"#VALUE!"}},{"$f":"INDEX(INDIRECT(CONCATENATE(IFERROR(SUBSTITUTE('Step 3 Design Loads'!B8,\"-\",\"\"),'Step 3 Design Loads'!B8),\"_Load\")),MATCH(I38,B17:B33))","v":{"$error":"#VALUE!"}},{"$f":"I38","v":{"$error":"#VALUE!"}},null,{"$f":"IF(N38=\"-\",0,INDEX(G17:G33,MATCH(N38,B17:B33,0)))","v":{"$error":"#VALUE!"}},{"$f":"IF(C10<B16,\"-\",IF(N37=C10,\"-\",INDEX(B17:B33,MATCH(C10,B17:B33,1)+1)))","v":2},null,null,{"$f":"IF(S38=\"-\",\"-\",INDEX(R17:R33,MATCH(S38,Q17:Q33,0)))","v":0.372},{"$f":"INDEX(S17:S33,SMALL(IF(Q38=R17:R33,ROW(R17:R33)-ROW(R17)+1),1))","v":0.71209677419354844},{"$f":"IF(S37=Q16,\"-\",INDEX(Q17:Q33,MATCH(S37,Q17:Q33,0)+1))","v":2},null,{"$f":"INDEX(V17:V33,MATCH(V38,Q17:Q33,0))","v":{"$error":"#VALUE!"}},{"$f":"INDEX(Q16:Q33,MATCH(MIN(Z16:Z33),Z16:Z33,0))","v":{"$error":"#VALUE!"}},{"$f":"INDEX(V16:V33,MATCH(MIN(Z16:Z33),Z16:Z33,0)+1)","v":{"$error":"#VALUE!"}},{"$f":"INDEX(Q16:Q33,MATCH(MIN(Z16:Z33),Z16:Z33,0)+1)","v":{"$error":"#VALUE!"}},{"$f":"INDEX(INDIRECT(CONCATENATE(IFERROR(SUBSTITUTE('Step 3 Design Loads'!B8,\"-\",\"\"),'Step 3 Design Loads'!B8),\"_Load\")),MATCH(X38,Q17:Q33))","v":{"$error":"#VALUE!"}},{"$f":"X38","v":{"$error":"#VALUE!"}},null,{"$f":"IF(AC38=\"-\",0,INDEX(V17:V33,MATCH(AC38,Q17:Q33,0)))","v":{"$error":"#VALUE!"}},{"$f":"IF(R10<Q16,\"-\",IF(AC37=R10,\"-\",INDEX(Q17:Q33,MATCH(R10,Q17:Q33,1)+1)))","v":2}]
[null,null,null,null,null,"BPT (eq. 1):",{"$f":"IF(IF(('Design Load Calcs'!$H$23-INTERCEPT(F37:F38,G37:G38))/(IF(SLOPE(F37:F38,G37:G38)<0,0,SLOPE(F37:F38,G37:G38))-'Design Load Calcs'!$G$23)<'Step 3 Design Loads'!B13,NA(),('Design Load Calcs'!$H$23-INTERCEPT(F37:F38,G37:G38))/(IF(SLOPE(F37:F38,G37:G38)<0,0,SLOPE(F37:F38,G37:G38))-'Design Load Calcs'!$G$23))>B33,NA(),IF(('Design Load Calcs'!$H$23-INTERCEPT(F37:F38,G37:G38))/(IF(SLOPE(F37:F38,G37:G38)<0,0,SLOPE(F37:F38,G37:G38))-'Design Load Calcs'!$G$23)<'Step 3 Design Loads'!B13,NA(),('Design Load Calcs'!$H$23-INTERCEPT(F37:F38,G37:G38))/(IF(SLOPE(F37:F38,G37:G38)<0,0,SLOPE(F37:F38,G37:G38))-'Design Load Calcs'!$G$23)))","v":{"$error":"#VALUE!"}},"BPT (eq. 2):",{"$f":"IF(IF(('Design Load Calcs'!$H$23-INTERCEPT(H37:H38,I37:I38))/(IF(SLOPE(H37:H38,I37:I38)<0,0,SLOPE(H37:H38,I37:I38))-'Design Load Calcs'!$G$23)<'Step 3 Design Loads'!B13,NA(),('Design Load Calcs'!$H$23-INTERCEPT(H37:H38,I37:I38))/(IF(SLOPE(H37:H38,I37:I38)<0,0,SLOPE(H37:H38,I37:I38))-'Design Load Calcs'!$G$23))>B33,NA(),IF(('Design Load Calcs'!$H$23-INTERCEPT(H37:H38,I37:I38))/(IF(SLOPE(H37:H38,I37:I38)<0,0,SLOPE(H37:H38,I37:I38))-'Design Load Calcs'!$G$23)<'Step 3 Design Loads'!B13,NA(),('Design Load Calcs'!$H$23-INTERCEPT(H37:H38,I37:I38))/(IF(SLOPE(H37:H38,I37:I38)<0,0,SLOPE(H37:H38,I37:I38))-'Design Load Calcs'!$G$23)))","v":{"$error":"#VALUE!"}},null,null,null,null,null,null,null,null,null,null,null,"BPT (eq. 1):",{"$f":"IF(IF(('Design Load Calcs'!$H$23-INTERCEPT(U37:U38,V37:V38))/(IF(SLOPE(U37:U38,V37:V38)<0,0,SLOPE(U37:U38,V37:V38))-'Design Load Calcs'!$G$23)<'Step 3 Design Loads'!B13,NA(),('Design Load Calcs'!$H$23-INTERCEPT(U37:U38,V37:V38))/(IF(SLOPE(U37:U38,V37:V38)<0,0,SLOPE(U37:U38,V37:V38))-'Design Load Calcs'!$G$23))>Q33,NA(),IF(('Design Load Calcs'!$H$23-INTERCEPT(U37:U38,V37:V38))/(IF(SLOPE(U37:U38,V37:V38)<0,0,SLOPE(U37:U38,V37:V38))-'Design Load Calcs'!$G$23)<'Step 3 Design Loads'!B13,NA(),('Design Load Calcs'!$H$23-INTERCEPT(U37:U38,V37:V38))/(IF(SLOPE(U37:U38,V37:V38)<0,0,SLOPE(U37:U38,V37:V38))-'Design Load Calcs'!$G$23)))","v":{"$error":"#VALUE!"}},"BPT (eq. 2):",{"$f":"IF(IF(('Design Load Calcs'!$H$23-INTERCEPT(W37:W38,X37:X38))/(IF(SLOPE(W37:W38,X37:X38)<0,0,SLOPE(W37:W38,X37:X38))-'Design Load Calcs'!$G$23)<'Step 3 Design Loads'!B13,NA(),('Design Load Calcs'!$H$23-INTERCEPT(W37:W38,X37:X38))/(IF(SLOPE(W37:W38,X37:X38)<0,0,SLOPE(W37:W38,X37:X38))-'Design Load Calcs'!$G$23))>Q33,NA(),IF(('Design Load Calcs'!$H$23-INTERCEPT(W37:W38,X37:X38))/(IF(SLOPE(W37:W38,X37:X38)<0,0,SLOPE(W37:W38,X37:X38))-'Design Load Calcs'!$G$23)<'Step 3 Design Loads'!B13,NA(),('Design Load Calcs'!$H$23-INTERCEPT(W37:W38,X37:X38))/(IF(SLOPE(W37:W38,X37:X38)<0,0,SLOPE(W37:W38,X37:X38))-'Design Load Calcs'!$G$23)))","v":{"$error":"#VALUE!"}}]
[null,null,null,null,null,"Cap (eq. 1):",{"$f":"SLOPE(F37:F38,G37:G38)*G39+INTERCEPT(F37:F38,G37:G38)","v":{"$error":"#VALUE!"}},"Cap (eq. 2):",{"$f":"SLOPE(H37:H38,I37:I38)*I39+INTERCEPT(H37:H38,I37:I38)","v":{"$error":"#VALUE!"}},null,null,null,null,null,null,null,null,null,null,null,"Cap (eq. 1):",{"$f":"SLOPE(U37:U38,V37:V38)*V39+INTERCEPT(U37:U38,V37:V38)","v":{"$error":"#VALUE!"}},"Cap (eq. 2):",{"$f":"SLOPE(W37:W38,X37:X38)*X39+INTERCEPT(W37:W38,X37:X38)","v":{"$error":"#VALUE!"}}]
[]
[]
[null,"Cooling - High Stage ",null,null,null,null,null,null,null,null,null,null,null,null,null,null,"Cooling - Low Stage "]
[]
[null,"Capacity @95°F (High Stage) [BTU/h ] ou [kW]",{"$f":"IF('Step 5 Identify & Select ASHPs'!I46,'Step 5 Identify & Select ASHPs'!N46,\"This option has not been selected\")","v":"This option has not been selected"},null,null,null,null,null,null,null,null,null,null,null,null,null,"Capacity @95°F (High Stage) [BTU/h ] ou [kW]",{"$f":"IF('Step 5 Identify & Select ASHPs'!I46,'Step 5 Identify & Select ASHPs'!N46,\"This option has not been selected\")","v":"This option has not been selected"}]
[null,"Power @95°F (High Stage) [kW]",{"$f":"IF('Step 5 Identify & Select ASHPs'!I46,IF('Step 5 Identify & Select ASHPs'!I54=\"EER\",'Step 5 Identify & Select ASHPs'!N48,'Step 5 Identify & Select ASHPs'!N47),\"This option has not been selected\")","v":"This option has not been selected"},null,null,null,null,null,null,null,null,null,null,null,null,null,"Power @95°F (High Stage) [kW]",{"$f":"IF('Step 5 Identify & Select ASHPs'!I46,IF('Step 5 Identify & Select ASHPs'!I54=\"EER\",'Step 5 Identify & Select ASHPs'!N48,'Step 5 Identify & Select ASHPs'!N47),\"This option has not been selected\")","v":"This option has not been selected"}]
[]
[null,"Performance Table Name: ",{"$f":"IF(AND('Step 5 Identify & Select ASHPs'!E51=\"Centrally Ducted\",'Step 5 Identify & Select ASHPs'!E52=\"Single Speed\"),\"Perf_Clg_Ducted_Single\",IF(AND('Step 5 Identify & Select ASHPs'!E51=\"Centrally Ducted\",'Step 5 Identify & Select ASHPs'!E52=\"Two-Stage\"),\"Perf_Clg_Ducted_2S_HS\",IF(AND('Step 5 Identify & Select ASHPs'!E51=\"Centrally Ducted\",'Step 5 Identify & Select ASHPs'!E52=\"Variable\"),\"Perf_Clg_Ducted_Variable_HS\",IF(AND('Step 5 Identify & Select ASHPs'!E51=\"Single Split Ductless\",'Step 5 Identify & Select ASHPs'!E52=\"Regular Variable\"),\"Perf_Clg_DuctlessSingle_RegVar_HS\",IF(AND('Step 5 Identify & Select ASHPs'!E51=\"Single Split Ductless\",'Step 5 Identify & Select ASHPs'!E52=\"Cold Climate Variable\"),\"Perf_Clg_DuctlessSingle_CCVar_HS\",IF(AND('Step 5 Identify & Select ASHPs'!E51=\"Multi-split Ductless\",'Step 5 Identify & Select ASHPs'!E52=\"Regular Variable\"),\"Perf_Clg_DuctlessMulti_RegVar_HS\",IF(AND('Step 5 Identify & Select ASHPs'!E51=\"Multi-split Ductless\",'Step 5 Identify & Select ASHPs'!E52=\"Cold Climate Variable\"),\"Perf_Clg_DuctlessMulti_CCVar_HS\")))))))","v":"Perf_Clg_Ducted_Variable_HS"},null,null,null,null,null,null,null,null,null,null,null,null,null,"Performance Table Name: ",{"$f":"IF('Step 5 Identify & Select ASHPs'!$E$52=Dropdown_Menus!A2,NA(),IF(AND('Step 5 Identify & Select ASHPs'!E51=\"Centrally Ducted\",'Step 5 Identify & Select ASHPs'!E52=\"Single Speed\"),\"Perf_Clg_Ducted_Single\",IF(AND('Step 5 Identify & Select ASHPs'!E51=\"Centrally Ducted\",'Step 5 Identify & Select ASHPs'!E52=\"Two-Stage\"),\"Perf_Clg_Ducted_2S_LS\",IF(AND('Step 5 Identify & Select ASHPs'!E51=\"Centrally Ducted\",'Step 5 Identify & Select ASHPs'!E52=\"Variable\"),\"Perf_Clg_Ducted_Variable_LS\",IF(AND('Step 5 Identify & Select ASHPs'!E51=\"Single Split Ductless\",'Step 5 Identify & Select ASHPs'!E52=\"Regular Variable\"),\"Perf_Clg_DuctlessSingle_RegVar_LS\",IF(AND('Step 5 Identify & Select ASHPs'!E51=\"Single Split Ductless\",'Step 5 Identify & Select ASHPs'!E52=\"Cold Climate Variable\"),\"Perf_Clg_DuctlessSingle_CCVar_LS\",IF(AND('Step 5 Identify & Select ASHPs'!E51=\"Multi-split Ductless\",'Step 5 Identify & Select ASHPs'!E52=\"Regular Variable\"),\"Perf_Clg_DuctlessMulti_RegVar_LS\",IF(AND('Step 5 Identify & Select ASHPs'!E51=\"Multi-split Ductless\",'Step 5 Identify & Select ASHPs'!E52=\"Cold Climate Variable\"),\"Perf_Clg_DuctlessMulti_CCVar_LS\"))))))))","v":"Perf_Clg_Ducted_Variable_LS"}]
[]
[null,"Design Temp. (cool)",{"$f":"'Design Load Calcs'!B26","v":88},null,null,null,null,null,null,null,null,null,null,null,null,null,"Design Temp. (cool)",{"$f":"'Design Load Calcs'!B26","v":88}]
[]
[null,"Performance Data and Heating Load Line",null,null,null,null,null,null,null,"Slope and Intercept at the Design Temp.",null,null,"Outputs:",null,null,null,"Performance Data and Heating Load Line",null,null,null,null,null,null,null,"Slope and Intercept at the Design Temp.",null,null,"Outputs:"]
[null,"Outdoor Temp.","Normalized Capacity","Normalized Power","Actual Capacity","Actual Power","Actual COP",null,null,"know ys (capacity):","know xs",null,"HP cap @ Design Temp. [BTU/h ou kW]",{"$f":"IF(OR(K54=\"-\",K54=C50),J54,SLOPE(J54:J55,K54:K55)*C50+INTERCEPT(J54:J55,K54:K55))","v":{"$error":"#VALUE!"}},null,null,"Outdoor Temp.","Normalized Capacity","Normalized Power","Actual Capacity","Actual Power","Actual COP",null,null,"know ys (capacity):","know xs",null,"HP cap @ Design Temp. [BTU/h ou kW]",{"$f":"IF(OR(Z54=\"-\",Z54=R50),Y54,SLOPE(Y54:Y55,Z54:Z55)*R50+INTERCEPT(Y54:Y55,Z54:Z55))","v":{"$error":"#VALUE!"}}]
[null,"[°C] ou [°F]",null,null,"[BTU/h] ou [kW]","[kW]","[-]",null,null,{"$f":"INDEX(E55:E63,MATCH(K54,B55:B63,0))","v":{"$error":"#VALUE!"}},{"$f":"IF(C50<B55,B55,IFERROR(INDEX(B55:B63,MATCH(C50,B55:B63,0)),INDEX(B55:B63,MATCH(C50,B55:B63,1))))","v":87},null,"% of Design Load",{"$f":"N53/'Design Load Calcs'!$B$25","v":{"$error":"#VALUE!"}},null,null,"[°C] ou [°F]",null,null,"[BTU/h] ou [kW]","[kW]","[-]",null,null,{"$f":"INDEX(T55:T63,MATCH(Z54,Q55:Q63,0))","v":{"$error":"#VALUE!"}},{"$f":"IF(R50<Q55,Q55,IFERROR(INDEX(Q55:Q63,MATCH(R50,Q55:Q63,0)),INDEX(Q55:Q63,MATCH(R50,Q55:Q63,1))))","v":87},null,"% of Design Load",{"$f":"AC53/'Design Load Calcs'!$B$25","v":{"$error":"#VALUE!"}}]
[null,{"$f":"IF('Intro & Unit Options'!B12=\"Metric\", CONVERT(72,\"F\",\"C\"),72)","v":72},{"$f":"INDEX(INDIRECT($C$48),MATCH(B55,$B$55:$B$63,0),2)","v":0.98107344632768301},{"$f":"INDEX(INDIRECT($C$48),MATCH(B55,$B$55:$B$63,0),3)","v":0.8335968379446641},{"$f":"IF(C55=\"-\",\"-\",IF('Step 5 Identify & Select ASHPs'!$E$33=\"Single Speed\",C55*$C$45,C55*$C$45))","v":{"$error":"#VALUE!"}},{"$f":"IF(D55=\"-\",\"-\",IF('Step 5 Identify & Select ASHPs'!$E$33=\"Single Speed\",D55*$C$46,D55*$C$46))","v":{"$error":"#VALUE!"}},{"$f":"IF(E55=\"-\",\"-\",(E55/IF('Intro & Unit Options'!$B$12=\"Metric\",1,3412))/F55)","v":{"$error":"#VALUE!"}},null,null,{"$f":"IF(K55=\"-\",\"-\",INDEX(E55:E63,MATCH(K55,B55:B63,0)))","v":{"$error":"#VALUE!"}},{"$f":"IF(C50<B55,B56,IF(K54=C50,\"-\",INDEX(B55:B63,MATCH(K54,B55:B63,0)+1)))","v":92},null,{"$f":"CONCATENATE(\"HP cap @\",IF('Intro & Unit Options'!B12=Dropdown_Menus!F1,CONVERT(95,\"F\",\"C\"),95),IF('Intro & Unit Options'!$B$12=Dropdown_Menus!F1,\" C\",\" F\"),IF('Intro & Unit Options'!$B$12=Dropdown_Menus!F1,\" [kW]\",\" [BTU/h]\"))","v":"HP cap @95 F [BTU/h]"},{"$f":"SLOPE(E59:E60,B59:B60)*IF('Intro & Unit Options'!B12=Dropdown_Menus!F1,CONVERT(95,\"F\",\"C\"),95)+INTERCEPT(E59:E60,B59:B60)","v":{"$error":"#VALUE!"}},null,null,{"$f":"IF('Intro & Unit Options'!Q12=\"Metric\", CONVERT(72,\"F\",\"C\"),72)","v":72},{"$f":"INDEX(INDIRECT($R$48),MATCH(Q55,$Q$55:$Q$63,0),2)","v":0.69717514124293789},{"$f":"INDEX(INDIRECT($R$48),MATCH(Q55,$Q$55:$Q$63,0),3)","v":0.56521739130434778},{"$f":"IF(R55=\"-\",\"-\",IF('Step 5 Identify & Select ASHPs'!$E$33=\"Single Speed\",R55*$R$45,R55*$R$45))","v":{"$error":"#VALUE!"}},{"$f":"IF(S55=\"-\",\"-\",IF('Step 5 Identify & Select ASHPs'!$E$33=\"Single Speed\",S55*$R$46,S55*$R$46))","v":{"$error":"#VALUE!"}},{"$f":"IF(T55=\"-\",\"-\",(T55/IF('Intro & Unit Options'!$B$12=\"Metric\",1,3412))/U55)","v":{"$error":"#VALUE!"}},null,null,{"$f":"IF(Z55=\"-\",\"-\",INDEX(T55:T63,MATCH(Z55,Q55:Q63,0)))","v":{"$error":"#VALUE!"}},{"$f":"IF(R50<Q55,Q56,IF(Z54=R50,\"-\",INDEX(Q55:Q63,MATCH(Z54,Q55:Q63,0)+1)))","v":92},null,{"$f":"CONCATENATE(\"HP cap @\",IF('Intro & Unit Options'!B12=Dropdown_Menus!F1,CONVERT(95,\"F\",\"C\"),95),IF('Intro & Unit Options'!$B$12=Dropdown_Menus!F1,\" C\",\" F\"),IF('Intro & Unit Options'!$B$12=Dropdown_Menus!F1,\" [kW]\",\" [BTU/h]\"))","v":"HP cap @95 F [BTU/h]"},{"$f":"SLOPE(T59:T60,Q59:Q60)*IF('Intro & Unit Options'!B12=Dropdown_Menus!F1,CONVERT(95,\"F\",\"C\"),95)+INTERCEPT(T59:T60,Q59:Q60)","v":{"$error":"#VALUE!"}}]
[null,{"$f":"IF('Intro & Unit Options'!B13=\"Metric\", CONVERT(77,\"F\",\"C\"),77)","v":77},{"$f":"INDEX(INDIRECT($C$48),MATCH(B56,$B$55:$B$63,0),2)","v":0.96723163841807913},{"$f":"INDEX(INDIRECT($C$48),MATCH(B56,$B$55:$B$63,0),3)","v":0.86482213438735178},{"$f":"IF(C56=\"-\",\"-\",IF('Step 5 Identify & Select ASHPs'!$E$33=\"Single Speed\",C56*$C$45,C56*$C$45))","v":{"$error":"#VALUE!"}},{"$f":"IF(D56=\"-\",\"-\",IF('Step 5 Identify & Select ASHPs'!$E$33=\"Single Speed\",D56*$C$46,D56*$C$46))","v":{"$error":"#VALUE!"}},{"$f":"IF(E56=\"-\",\"-\",(E56/IF('Intro & Unit Options'!$B$12=\"Metric\",1,3412))/F56)","v":{"$error":"#VALUE!"}},null,null,null,null,null,{"$f":"CONCATENATE(\"HP pwr @\",IF('Intro & Unit Options'!B13=Dropdown_Menus!F2,CONVERT(95,\"F\",\"C\"),95),IF('Intro & Unit Options'!$B$12=Dropdown_Menus!F2,\" C\",\" F\"),IF('Intro & Unit Options'!$B$12=Dropdown_Menus!F2,\" [kW]\",\" [BTU/h]\"))","v":"HP pwr @95 F [BTU/h]"},{"$f":"SLOPE(F59:F60,B59:B60)*IF('Intro & Unit Options'!B13=Dropdown_Menus!F2,CONVERT(95,\"F\",\"C\"),95)+INTERCEPT(F59:F60,B59:B60)","v":{"$error":"#VALUE!"}},null,null,{"$f":"IF('Intro & Unit Options'!Q13=\"Metric\", CONVERT(77,\"F\",\"C\"),77)","v":77},{"$f":"INDEX(INDIRECT($R$48),MATCH(Q56,$Q$55:$Q$63,0),2)","v":0.68870056497175136},{"$f":"INDEX(INDIRECT($R$48),MATCH(Q56,$Q$55:$Q$63,0),3)","v":0.58339920948616608},{"$f":"IF(R56=\"-\",\"-\",IF('Step 5 Identify & Select ASHPs'!$E$33=\"Single Speed\",R56*$R$45,R56*$R$45))","v":{"$error":"#VALUE!"}},{"$f":"IF(S56=\"-\",\"-\",IF('Step 5 Identify & Select ASHPs'!$E$33=\"Single Speed\",S56*$R$46,S56*$R$46))","v":{"$error":"#VALUE!"}},{"$f":"IF(T56=\"-\",\"-\",(T56/IF('Intro & Unit Options'!$B$12=\"Metric\",1,3412))/U56)","v":{"$error":"#VALUE!"}}]
[null,{"$f":"IF('Intro & Unit Options'!B14=\"Metric\", CONVERT(82,\"F\",\"C\"),82)","v":82},0.95593220338983054,0.89249011857707505,{"$f":"IF(C57=\"-\",\"-\",IF('Step 5 Identify & Select ASHPs'!$E$33=\"Single Speed\",C57*$C$45,C57*$C$45))","v":{"$error":"#VALUE!"}},{"$f":"IF(D57=\"-\",\"-\",IF('Step 5 Identify & Select ASHPs'!$E$33=\"Single Speed\",D57*$C$46,D57*$C$46))","v":{"$error":"#VALUE!"}},{"$f":"IF(E57=\"-\",\"-\",(E57/IF('Intro & Unit Options'!$B$12=\"Metric\",1,3412))/F57)","v":{"$error":"#VALUE!"}},null,null,null,null,null,{"$f":"CONCATENATE(\"HP COP @\",IF('Intro & Unit Options'!B14=Dropdown_Menus!F3,CONVERT(95,\"F\",\"C\"),95),IF('Intro & Unit Options'!$B$12=Dropdown_Menus!F3,\" C\",\" F\"),IF('Intro & Unit Options'!$B$12=Dropdown_Menus!F3,\" [kW]\",\" [BTU/h]\"))","v":"HP COP @95 F [BTU/h]"},{"$f":"SLOPE(G59:G60,B59:B60)*IF('Intro & Unit Options'!B14=Dropdown_Menus!F3,CONVERT(95,\"F\",\"C\"),95)+INTERCEPT(G59:G60,B59:B60)","v":{"$error":"#VALUE!"}},null,null,{"$f":"IF('Intro & Unit Options'!Q14=\"Metric\", CONVERT(82,\"F\",\"C\"),82)","v":82},0.68022598870056494,0.59920948616600789,{"$f":"IF(R57=\"-\",\"-\",IF('Step 5 Identify & Select ASHPs'!$E$33=\"Single Speed\",R57*$R$45,R57*$R$45))","v":{"$error":"#VALUE!"}},{"$f":"IF(S57=\"-\",\"-\",IF('Step 5 Identify & Select ASHPs'!$E$33=\"Single Speed\",S57*$R$46,S57*$R$46))","v":{"$error":"#VALUE!"}},{"$f":"IF(T57=\"-\",\"-\",(T57/IF('Intro & Unit Options'!$B$12=\"Metric\",1,3412))/U57)","v":{"$error":"#VALUE!"}}]
[null,{"$f":"IF('Intro & Unit Options'!B15=\"Metric\", CONVERT(87,\"F\",\"C\"),87)","v":87},0.94463276836158194,0.91857707509881426,{"$f":"IF(C58=\"-\",\"-\",IF('Step 5 Identify & Select ASHPs'!$E$33=\"Single Speed\",C58*$C$45,C58*$C$45))","v":{"$error":"#VALUE!"}},{"$f":"IF(D58=\"-\",\"-\",IF('Step 5 Identify & Select ASHPs'!$E$33=\"Single Speed\",D58*$C$46,D58*$C$46))","v":{"$error":"#VALUE!"}},{"$f":"IF(E58=\"-\",\"-\",(E58/IF('Intro & Unit Options'!$B$12=\"Metric\",1,3412))/F58)","v":{"$error":"#VALUE!"}},null,null,null,null,null,null,null,null,null,{"$f":"IF('Intro & Unit Options'!Q15=\"Metric\", CONVERT(87,\"F\",\"C\"),87)","v":87},0.67231638418079087,0.61501976284584992,{"$f":"IF(R58=\"-\",\"-\",IF('Step 5 Identify & Select ASHPs'!$E$33=\"Single Speed\",R58*$R$45,R58*$R$45))","v":{"$error":"#VALUE!"}},{"$f":"IF(S58=\"-\",\"-\",IF('Step 5 Identify & Select ASHPs'!$E$33=\"Single Speed\",S58*$R$46,S58*$R$46))","v":{"$error":"#VALUE!"}},{"$f":"IF(T58=\"-\",\"-\",(T58/IF('Intro & Unit Options'!$B$12=\"Metric\",1,3412))/U58)","v":{"$error":"#VALUE!"}}]
[null,{"$f":"IF('Intro & Unit Options'!B16=\"Metric\", CONVERT(92,\"F\",\"C\"),92)","v":92},0.93333333333333335,0.94229249011857708,{"$f":"IF(C59=\"-\",\"-\",IF('Step 5 Identify & Select ASHPs'!$E$33=\"Single Speed\",C59*$C$45,C59*$C$45))","v":{"$error":"#VALUE!"}},{"$f":"IF(D59=\"-\",\"-\",IF('Step 5 Identify & Select ASHPs'!$E$33=\"Single Speed\",D59*$C$46,D59*$C$46))","v":{"$error":"#VALUE!"}},{"$f":"IF(E59=\"-\",\"-\",(E59/IF('Intro & Unit Options'!$B$12=\"Metric\",1,3412))/F59)","v":{"$error":"#VALUE!"}},null,null,null,null,null,null,null,null,null,{"$f":"IF('Intro & Unit Options'!Q16=\"Metric\", CONVERT(92,\"F\",\"C\"),92)","v":92},0.6652542372881356,0.63083003952569172,{"$f":"IF(R59=\"-\",\"-\",IF('Step 5 Identify & Select ASHPs'!$E$33=\"Single Speed\",R59*$R$45,R59*$R$45))","v":{"$error":"#VALUE!"}},{"$f":"IF(S59=\"-\",\"-\",IF('Step 5 Identify & Select ASHPs'!$E$33=\"Single Speed\",S59*$R$46,S59*$R$46))","v":{"$error":"#VALUE!"}},{"$f":"IF(T59=\"-\",\"-\",(T59/IF('Intro & Unit Options'!$B$12=\"Metric\",1,3412))/U59)","v":{"$error":"#VALUE!"}}]
[null,{"$f":"IF('Intro & Unit Options'!B17=\"Metric\", CONVERT(97,\"F\",\"C\"),97)","v":97},0.91751412429378532,0.9652173913043478,{"$f":"IF(C60=\"-\",\"-\",IF('Step 5 Identify & Select ASHPs'!$E$33=\"Single Speed\",C60*$C$45,C60*$C$45))","v":{"$error":"#VALUE!"}},{"$f":"IF(D60=\"-\",\"-\",IF('Step 5 Identify & Select ASHPs'!$E$33=\"Single Speed\",D60*$C$46,D60*$C$46))","v":{"$error":"#VALUE!"}},{"$f":"IF(E60=\"-\",\"-\",(E60/IF('Intro & Unit Options'!$B$12=\"Metric\",1,3412))/F60)","v":{"$error":"#VALUE!"}},null,null,null,null,null,null,null,null,null,{"$f":"IF('Intro & Unit Options'!Q17=\"Metric\", CONVERT(97,\"F\",\"C\"),97)","v":97},0.65423728813559323,0.64584980237154155,{"$f":"IF(R60=\"-\",\"-\",IF('Step 5 Identify & Select ASHPs'!$E$33=\"Single Speed\",R60*$R$45,R60*$R$45))","v":{"$error":"#VALUE!"}},{"$f":"IF(S60=\"-\",\"-\",IF('Step 5 Identify & Select ASHPs'!$E$33=\"Single Speed\",S60*$R$46,S60*$R$46))","v":{"$error":"#VALUE!"}},{"$f":"IF(T60=\"-\",\"-\",(T60/IF('Intro & Unit Options'!$B$12=\"Metric\",1,3412))/U60)","v":{"$error":"#VALUE!"}}]
[null,{"$f":"IF('Intro & Unit Options'!B18=\"Metric\", CONVERT(102,\"F\",\"C\"),102)","v":102},0.89491525423728813,0.9869565217391304,{"$f":"IF(C61=\"-\",\"-\",IF('Step 5 Identify & Select ASHPs'!$E$33=\"Single Speed\",C61*$C$45,C61*$C$45))","v":{"$error":"#VALUE!"}},{"$f":"IF(D61=\"-\",\"-\",IF('Step 5 Identify & Select ASHPs'!$E$33=\"Single Speed\",D61*$C$46,D61*$C$46))","v":{"$error":"#VALUE!"}},{"$f":"IF(E61=\"-\",\"-\",(E61/IF('Intro & Unit Options'!$B$12=\"Metric\",1,3412))/F61)","v":{"$error":"#VALUE!"}},null,null,null,null,null,null,null,null,null,{"$f":"IF('Intro & Unit Options'!Q18=\"Metric\", CONVERT(102,\"F\",\"C\"),102)","v":102},0.63728813559322028,0.65968379446640324,{"$f":"IF(R61=\"-\",\"-\",IF('Step 5 Identify & Select ASHPs'!$E$33=\"Single Speed\",R61*$R$45,R61*$R$45))","v":{"$error":"#VALUE!"}},{"$f":"IF(S61=\"-\",\"-\",IF('Step 5 Identify & Select ASHPs'!$E$33=\"Single Speed\",S61*$R$46,S61*$R$46))","v":{"$error":"#VALUE!"}},{"$f":"IF(T61=\"-\",\"-\",(T61/IF('Intro & Unit Options'!$B$12=\"Metric\",1,3412))/U61)","v":{"$error":"#VALUE!"}}]
[null,{"$f":"IF('Intro & Unit Options'!B19=\"Metric\", CONVERT(107,\"F\",\"C\"),107)","v":107},0.86836158192090396,1.0071146245059288,{"$f":"IF(C62=\"-\",\"-\",IF('Step 5 Identify & Select ASHPs'!$E$33=\"Single Speed\",C62*$C$45,C62*$C$45))","v":{"$error":"#VALUE!"}},{"$f":"IF(D62=\"-\",\"-\",IF('Step 5 Identify & Select ASHPs'!$E$33=\"Single Speed\",D62*$C$46,D62*$C$46))","v":{"$error":"#VALUE!"}},{"$f":"IF(E62=\"-\",\"-\",(E62/IF('Intro & Unit Options'!$B$12=\"Metric\",1,3412))/F62)","v":{"$error":"#VALUE!"}},null,null,"Normalized rated cap","Normalized rated pwr",null,null,null,null,null,{"$f":"IF('Intro & Unit Options'!Q19=\"Metric\", CONVERT(107,\"F\",\"C\"),107)","v":107},0.61751412429378527,0.67193675889328064,{"$f":"IF(R62=\"-\",\"-\",IF('Step 5 Identify & Select ASHPs'!$E$33=\"Single Speed\",R62*$R$45,R62*$R$45))","v":{"$error":"#VALUE!"}},{"$f":"IF(S62=\"-\",\"-\",IF('Step 5 Identify & Select ASHPs'!$E$33=\"Single Speed\",S62*$R$46,S62*$R$46))","v":{"$error":"#VALUE!"}},{"$f":"IF(T62=\"-\",\"-\",(T62/IF('Intro & Unit Options'!$B$12=\"Metric\",1,3412))/U62)","v":{"$error":"#VALUE!"}},null,null,"Normalized rated cap","Normalized rated pwr"]
[null,{"$f":"IF('Intro & Unit Options'!B20=\"Metric\", CONVERT(112,\"F\",\"C\"),112)","v":112},0.83587570621468921,1.0249011857707511,{"$f":"IF(C63=\"-\",\"-\",IF('Step 5 Identify & Select ASHPs'!$E$33=\"Single Speed\",C63*$C$45,C63*$C$45))","v":{"$error":"#VALUE!"}},{"$f":"IF(D63=\"-\",\"-\",IF('Step 5 Identify & Select ASHPs'!$E$33=\"Single Speed\",D63*$C$46,D63*$C$46))","v":{"$error":"#VALUE!"}},{"$f":"IF(E63=\"-\",\"-\",(E63/IF('Intro & Unit Options'!$B$12=\"Metric\",1,3412))/F63)","v":{"$error":"#VALUE!"}},null,null,{"$f":"IF(AND('Step 5 Identify & Select ASHPs'!E32=\"Centrally Ducted\",'Step 5 Identify & Select ASHPs'!E33=\"Single Speed\"),\"\",IF(AND('Step 5 Identify & Select ASHPs'!E32=\"Centrally Ducted\",'Step 5 Identify & Select ASHPs'!E33=\"Two-Stage\"),'Ducted Performance Tables'!F67,IF(AND('Step 5 Identify & Select ASHPs'!E32=\"Centrally Ducted\",'Step 5 Identify & Select ASHPs'!E33=\"Variable\"),'Ducted Performance Tables'!B122,IF(AND('Step 5 Identify & Select ASHPs'!E32=\"Single Split Ductless\",'Step 5 Identify & Select ASHPs'!E33=\"Regular Variable\"),'Ductless Single Per Table'!B50,IF(AND('Step 5 Identify & Select ASHPs'!E32=\"Single Split Ductless\",'Step 5 Identify & Select ASHPs'!E33=\"Cold Climate Variable\"),'Ductless Single Per Table'!B117,IF(AND('Step 5 Identify & Select ASHPs'!E32=\"Multi-split Ductless\",'Step 5 Identify & Select ASHPs'!E33=\"Regular Variable\"),'Ductless Multi-split'!F20,IF(AND('Step 5 Identify & Select ASHPs'!E32=\"Multi-split Ductless\",'Step 5 Identify & Select ASHPs'!E33=\"Cold Climate Variable\"),'Ductless Multi-split'!F89)))))))","v":0.92655367231638419},{"$f":"IF(AND('Step 5 Identify & Select ASHPs'!E32=\"Centrally Ducted\",'Step 5 Identify & Select ASHPs'!E33=\"Single Speed\"),\"\",IF(AND('Step 5 Identify & Select ASHPs'!E32=\"Centrally Ducted\",'Step 5 Identify & Select ASHPs'!E33=\"Two-Stage\"),'Ducted Performance Tables'!G67,IF(AND('Step 5 Identify & Select ASHPs'!E32=\"Centrally Ducted\",'Step 5 Identify & Select ASHPs'!E33=\"Variable\"),'Ducted Performance Tables'!C122,IF(AND('Step 5 Identify & Select ASHPs'!E32=\"Single Split Ductless\",'Step 5 Identify & Select ASHPs'!E33=\"Regular Variable\"),'Ductless Single Per Table'!C50,IF(AND('Step 5 Identify & Select ASHPs'!E32=\"Single Split Ductless\",'Step 5 Identify & Select ASHPs'!E33=\"Cold Climate Variable\"),'Ductless Single Per Table'!C117,IF(AND('Step 5 Identify & Select ASHPs'!E32=\"Multi-split Ductless\",'Step 5 Identify & Select ASHPs'!E33=\"Regular Variable\"),'Ductless Multi-split'!G20,IF(AND('Step 5 Identify & Select ASHPs'!E32=\"Multi-split Ductless\",'Step 5 Identify & Select ASHPs'!E33=\"Cold Climate Variable\"),'Ductless Multi-split'!G89)))))))","v":0.95652173913043481},null,null,null,null,null,{"$f":"IF('Intro & Unit Options'!Q20=\"Metric\", CONVERT(112,\"F\",\"C\"),112)","v":112},0.59350282485875705,0.68181818181818188,{"$f":"IF(R63=\"-\",\"-\",IF('Step 5 Identify & Select ASHPs'!$E$33=\"Single Speed\",R63*$R$45,R63*$R$45))","v":{"$error":"#VALUE!"}},{"$f":"IF(S63=\"-\",\"-\",IF('Step 5 Identify & Select ASHPs'!$E$33=\"Single Speed\",S63*$R$46,S63*$R$46))","v":{"$error":"#VALUE!"}},{"$f":"IF(T63=\"-\",\"-\",(T63/IF('Intro & Unit Options'!$B$12=\"Metric\",1,3412))/U63)","v":{"$error":"#VALUE!"}},null,null,{"$f":"IF(AND('Step 5 Identify & Select ASHPs'!E32=\"Centrally Ducted\",'Step 5 Identify & Select ASHPs'!E33=\"Single Speed\"),\"\",IF(AND('Step 5 Identify & Select ASHPs'!E32=\"Centrally Ducted\",'Step 5 Identify & Select ASHPs'!E33=\"Two-Stage\"),'Ducted Performance Tables'!N67,IF(AND('Step 5 Identify & Select ASHPs'!E32=\"Centrally Ducted\",'Step 5 Identify & Select ASHPs'!E33=\"Variable\"),'Ducted Performance Tables'!J122,IF(AND('Step 5 Identify & Select ASHPs'!E32=\"Single Split Ductless\",'Step 5 Identify & Select ASHPs'!E33=\"Regular Variable\"),'Ductless Single Per Table'!K50,IF(AND('Step 5 Identify & Select ASHPs'!E32=\"Single Split Ductless\",'Step 5 Identify & Select ASHPs'!E33=\"Cold Climate Variable\"),'Ductless Single Per Table'!K117,IF(AND('Step 5 Identify & Select ASHPs'!E32=\"Multi-split Ductless\",'Step 5 Identify & Select ASHPs'!E33=\"Regular Variable\"),'Ductless Multi-split'!O20,IF(AND('Step 5 Identify & Select ASHPs'!E32=\"Multi-split Ductless\",'Step 5 Identify & Select ASHPs'!E33=\"Cold Climate Variable\"),'Ductless Multi-split'!O89)))))))","v":0.66101694915254239},{"$f":"IF(AND('Step 5 Identify & Select ASHPs'!E32=\"Centrally Ducted\",'Step 5 Identify & Select ASHPs'!E33=\"Single Speed\"),\"\",IF(AND('Step 5 Identify & Select ASHPs'!E32=\"Centrally Ducted\",'Step 5 Identify & Select ASHPs'!E33=\"Two-Stage\"),'Ducted Performance Tables'!O67,IF(AND('Step 5 Identify & Select ASHPs'!E32=\"Centrally Ducted\",'Step 5 Identify & Select ASHPs'!E33=\"Variable\"),'Ducted Performance Tables'!K122,IF(AND('Step 5 Identify & Select ASHPs'!E32=\"Single Split Ductless\",'Step 5 Identify & Select ASHPs'!E33=\"Regular Variable\"),'Ductless Single Per Table'!L50,IF(AND('Step 5 Identify & Select ASHPs'!E32=\"Single Split Ductless\",'Step 5 Identify & Select ASHPs'!E33=\"Cold Climate Variable\"),'Ductless Single Per Table'!L117,IF(AND('Step 5 Identify & Select ASHPs'!E32=\"Multi-split Ductless\",'Step 5 Identify & Select ASHPs'!E33=\"Regular Variable\"),'Ductless Multi-split'!P20,IF(AND('Step 5 Identify & Select ASHPs'!E32=\"Multi-split Ductless\",'Step 5 Identify & Select ASHPs'!E33=\"Cold Climate Variable\"),'Ductless Multi-split'!P89)))))))","v":0.64031620553359692}]

{"sheet":"HP3 Calcs","index":24,"n_rows":63,"n_cols":29,"rows_kept":63,"cut":false,"hidden":true,"merged":[]}
[null,"Representative Curves - HP #1"]
[]
[null,"Heating - High Stage",null,null,null,null,null,null,null,null,null,null,null,null,null,null,"Heating - Low Stage"]
[]
[null,"Capacity @47°F (High Stage) [BTU/h ] ou [kW]",{"$f":"IF('Step 5 Identify & Select ASHPs'!I65,'Step 5 Identify & Select ASHPs'!$N$61, \"This option has not been selected\")","v":"This option has not been selected"},null,null,null,null,null,null,null,null,null,null,null,null,null,"Capacity @47°F (High Stage) [BTU/h ] ou [kW]",{"$f":"IF('Step 5 Identify & Select ASHPs'!I65,'Step 5 Identify & Select ASHPs'!$N$61, \"This option has not been selected\")","v":"This option has not been selected"}]
[null,"Power @47°F (High Stage) [kW]",{"$f":"IF('Step 5 Identify & Select ASHPs'!I65,IF('Step 5 Identify & Select ASHPs'!I73=\"COP\",'Step 5 Identify & Select ASHPs'!N63,'Step 5 Identify & Select ASHPs'!N62), \"This option has not been selected\")","v":"This option has not been selected"},null,null,null,null,null,null,null,null,null,null,null,null,null,"Power @47°F (High Stage) [kW]",{"$f":"IF('Step 5 Identify & Select ASHPs'!I65,IF('Step 5 Identify & Select ASHPs'!I73=\"COP\",'Step 5 Identify & Select ASHPs'!N63,'Step 5 Identify & Select ASHPs'!N62), \"This option has not been selected\")","v":"This option has not been selected"}]
[]
[null,"Performance Table Name: ",{"$f":"IF(AND('Step 5 Identify & Select ASHPs'!E70=\"Centrally Ducted\",'Step 5 Identify & Select ASHPs'!E71=\"Single Speed\"),\"Perf_Htg_Ducted_Single\",IF(AND('Step 5 Identify & Select ASHPs'!E70=\"Centrally Ducted\",'Step 5 Identify & Select ASHPs'!E71=\"Two-Stage\"),\"Perf_Htg_Ducted_2S_HS\",IF(AND('Step 5 Identify & Select ASHPs'!E70=\"Centrally Ducted\",'Step 5 Identify & Select ASHPs'!E71=\"Variable\"),\"Perf_Htg_Ducted_Variable_HS\",IF(AND('Step 5 Identify & Select ASHPs'!E70=\"Single Split Ductless\",'Step 5 Identify & Select ASHPs'!E71=\"Regular Variable\"),\"Perf_Htg_DuctlessSingle_RegVar_HS\",IF(AND('Step 5 Identify & Select ASHPs'!E70=\"Single Split Ductless\",'Step 5 Identify & Select ASHPs'!E71=\"Cold Climate Variable\"),\"Perf_Htg_DuctlessSingle_CCVar_HS\",IF(AND('Step 5 Identify & Select ASHPs'!E70=\"Multi-split Ductless\",'Step 5 Identify & Select ASHPs'!E71=\"Regular Variable\"),\"Perf_Htg_DuctlessMulti_RegVar_HS\",IF(AND('Step 5 Identify & Select ASHPs'!E70=\"Multi-split Ductless\",'Step 5 Identify & Select ASHPs'!E71=\"Cold Climate Variable\"),\"Perf_Htg_DuctlessMulti_CCVar_HS\")))))))","v":"Perf_Htg_Ducted_2S_HS"},null,null,null,null,null,null,null,null,null,null,null,null,null,"Performance Table Name: ",{"$f":"IF('Step 5 Identify & Select ASHPs'!$E$71=Dropdown_Menus!A2,NA(),IF(AND('Step 5 Identify & Select ASHPs'!E70=\"Centrally Ducted\",'Step 5 Identify & Select ASHPs'!E71=\"Single Speed\"),\"Perf_Htg_Ducted_Single\",IF(AND('Step 5 Identify & Select ASHPs'!E70=\"Centrally Ducted\",'Step 5 Identify & Select ASHPs'!E71=\"Two-Stage\"),\"Perf_Htg_Ducted_2S_LS\",IF(AND('Step 5 Identify & Select ASHPs'!E70=\"Centrally Ducted\",'Step 5 Identify & Select ASHPs'!E71=\"Variable\"),\"Perf_Htg_Ducted_Variable_LS\",IF(AND('Step 5 Identify & Select ASHPs'!E70=\"Single Split Ductless\",'Step 5 Identify & Select ASHPs'!E71=\"Regular Variable\"),\"Perf_Htg_DuctlessSingle_RegVar_LS\",IF(AND('Step 5 Identify & Select ASHPs'!E70=\"Single Split Ductless\",'Step 5 Identify & Select ASHPs'!E71=\"Cold Climate Variable\"),\"Perf_Htg_DuctlessSingle_CCVar_LS\",IF(AND('Step 5 Identify & Select ASHPs'!E70=\"Multi-split Ductless\",'Step 5 Identify & Select ASHPs'!E71=\"Regular Variable\"),\"Perf_Htg_DuctlessMulti_RegVar_LS\",IF(AND('Step 5 Identify & Select ASHPs'!E70=\"Multi-split Ductless\",'Step 5 Identify & Select ASHPs'!E71=\"Cold Climate Variable\"),\"Perf_Htg_DuctlessMulti_CCVar_LS\"))))))))","v":"Perf_Htg_Ducted_2S_LS"}]
[]
[null,"Design Temp. (heat)",{"$f":"'Design Load Calcs'!$B$24","v":0},null,null,null,null,null,null,null,null,null,null,null,null,null,"Design Temp. (heat)",{"$f":"'Design Load Calcs'!$B$24","v":0}]
[]
[]
[null,"Performance Data and Heating Load Line",null,null,null,null,null,null,null,null,null,null,"Outputs:",null,null,null,"Performance Data and Heating Load Line",null,null,null,null,null,null,null,null,null,null,"Outputs:"]
[null,"Outdoor Temp.","Normalized Capacity","Normalized Power","Normalized Capacity","Normalized Power","Actual Capacity","Actual Power","Actual COP","Heating Load Line ","Intersect. Cap/Htg Load Line",null,"HP cap @ Design Temp. [BTU/h ou kW]",{"$f":"IF(OR(N37=\"-\",N37=C10),M37,SLOPE(M37:M38,N37:N38)*C10+INTERCEPT(M37:M38,N37:N38))","v":{"$error":"#VALUE!"}},null,null,"Outdoor Temp.","Normalized Capacity","Normalized Power","Normalized Capacity","Normalized Power","Actual Capacity","Actual Power","Actual COP","Heating Load Line ","Intersect. Cap/Htg Load Line",null,"HP cap @ Design Temp. [BTU/h ou kW]",{"$f":"IF(OR(AC37=\"-\",AC37=R10),AB37,SLOPE(AB37:AB38,AC37:AC38)*R10+INTERCEPT(AB37:AB38,AC37:AC38))","v":{"$error":"#VALUE!"}}]
[null,"[°C] ou [°F]",null,null,null,null,"[BTU/h] ou [kW]","[kW]","[-]","[BTU/h] ou [kW]",null,null,"BPT (Representative Curve) [°F ou°C]",{"$f":"IF((INDEX(G16:G33,MATCH(G38,B16:B33,0))-INDEX(J16:J33,MATCH(G38,B16:B33,0)))>0,G39,I39)","v":{"$error":"#VALUE!"}},null,null,"[°C] ou [°F]",null,null,null,null,"[BTU/h] ou [kW]","[kW]","[-]","[BTU/h] ou [kW]",null,null,"BPT (Representative Curve) [°F ou°C]",{"$f":"IF((INDEX(V16:V33,MATCH(V38,Q16:Q33,0))-INDEX(Y16:Y33,MATCH(V38,Q16:Q33,0)))>0,V39,X39)","v":{"$error":"#VALUE!"}}]
[null,{"$f":"'Step 5 Identify & Select ASHPs'!E69","v":0},{"$f":"IF(B16=D37,B37,IF(SLOPE(B37:B38,D37:D38)<0,B37,SLOPE(B37:B38,D37:D38)*B16+INTERCEPT(B37:B38,D37:D38)))","v":0.36419999999999991},{"$f":"IF(B16=D37,C37,SLOPE(C37:C38,D37:D38)*B16+INTERCEPT(C37:C38,D37:D38))","v":0.82670454545454541},{"$f":"C16","v":0.36419999999999991},{"$f":"D16","v":0.82670454545454541},{"$f":"C16*$C$5/C31","v":{"$error":"#VALUE!"}},{"$f":"D16*$C$6","v":{"$error":"#VALUE!"}},{"$f":"(G16/IF('Intro & Unit Options'!$B$12=\"Metric\",1,3412))/H16","v":{"$error":"#VALUE!"}},{"$f":"('Design Load Calcs'!$G$23*'HP3 Calcs'!B16+'Design Load Calcs'!$H$23)","v":50000},{"$f":"IF(G16=\"-\",\"\",ABS(G16-J16))","v":{"$error":"#VALUE!"}},null,{"$f":"CONCATENATE(\"HP cap @ BPT\",IF('Intro & Unit Options'!$B$12=Dropdown_Menus!$F$1,\" [kW]\",\" [BTU/h]\"))","v":"HP cap @ BPT [BTU/h]"},{"$f":"IF((INDEX(G16:G33,MATCH(G38,B16:B33,0))-INDEX(J16:J33,MATCH(G38,B16:B33,0)))>0,G40,I40)","v":{"$error":"#VALUE!"}},null,null,{"$f":"'Step 5 Identify & Select ASHPs'!E69","v":0},{"$f":"IF(Q16=S37,Q37,IF(SLOPE(Q37:Q38,S37:S38)<0,Q37,SLOPE(Q37:Q38,S37:S38)*Q16+INTERCEPT(Q37:Q38,S37:S38)))","v":0.19483999999999999},{"$f":"IF(Q16=S37,R37,SLOPE(R37:R38,S37:S38)*Q16+INTERCEPT(R37:R38,S37:S38))","v":0.65056818181818177},{"$f":"R16","v":0.19483999999999999},{"$f":"S16","v":0.65056818181818177},{"$f":"R16*$C$5/R31","v":{"$error":"#VALUE!"}},{"$f":"S16*$C$6","v":{"$error":"#VALUE!"}},{"$f":"(V16/IF('Intro & Unit Options'!$B$12=\"Metric\",1,3412))/W16","v":{"$error":"#VALUE!"}},{"$f":"('Design Load Calcs'!$G$23*'HP3 Calcs'!Q16+'Design Load Calcs'!$H$23)","v":50000},{"$f":"IF(V16=\"-\",\"\",ABS(V16-Y16))","v":{"$error":"#VALUE!"}},null,{"$f":"CONCATENATE(\"HP cap @ BPT\",IF('Intro & Unit Options'!$B$12=Dropdown_Menus!#REF!,\" [kW]\",\" [BTU/h]\"))","v":{"$error":"#REF!"}},{"$f":"IF((INDEX(V16:V33,MATCH(V38,Q16:Q33,0))-INDEX(Y16:Y33,MATCH(V38,Q16:Q33,0)))>0,V40,X40)","v":{"$error":"#VALUE!"}}]
[{"$f":"IF(C17<>\"-\",B17,\"\")","v":""},{"$f":"'Load %s'!B8","v":-23},{"$f":"INDEX(INDIRECT($C$8),MATCH(B17,$B$17:$B$33,0),2)","v":"-"},{"$f":"INDEX(INDIRECT($C$8),MATCH(B17,$B$17:$B$33,0),3)","v":"-"},{"$f":"IF(B17<=$B$16,\"-\",C17)","v":"-"},{"$f":"IF(B17<=$B$16,\"-\",D17)","v":"-"},{"$f":"IF(E17=\"-\",\"-\",E17*$C$5/$C$31)","v":"-"},{"$f":"IF(F17=\"-\",\"-\",F17*$C$6)","v":"-"},{"$f":"IF(G17=\"-\",\"-\",(G17/IF('Intro & Unit Options'!$B$12=\"Metric\",1,3412))/H17)","v":"-"},{"$f":"('Design Load Calcs'!$G$23*'HP3 Calcs'!B17+'Design Load Calcs'!$H$23)","v":69166.666666666672},{"$f":"IF(G17=\"-\",\"\",ABS(G17-J17))","v":""},null,"Fraction of heating above BPT",{"$f":"SLOPE(J37:J38,K37:K38)*N15+INTERCEPT(J37:J38,K37:K38)","v":{"$error":"#VALUE!"}},null,{"$f":"IF(R17<>\"-\",Q17,\"\")","v":""},{"$f":"'Load %s'!B8","v":-23},{"$f":"INDEX(INDIRECT($R$8),MATCH(Q17,$Q$17:$Q$33,0),2)","v":"-"},{"$f":"INDEX(INDIRECT($R$8),MATCH(Q17,$Q$17:$Q$33,0),3)","v":"-"},{"$f":"IF(Q17<=$B$16,\"-\",R17)","v":"-"},{"$f":"IF(Q17<=$B$16,\"-\",S17)","v":"-"},{"$f":"IF(T17=\"-\",\"-\",T17*$C$5/$C$31)","v":"-"},{"$f":"IF(U17=\"-\",\"-\",U17*$C$6)","v":"-"},{"$f":"IF(V17=\"-\",\"-\",(V17/IF('Intro & Unit Options'!$B$12=\"Metric\",1,3412))/W17)","v":"-"},{"$f":"('Design Load Calcs'!$G$23*'HP3 Calcs'!Q17+'Design Load Calcs'!$H$23)","v":69166.666666666672},{"$f":"IF(V17=\"-\",\"\",ABS(V17-Y17))","v":""},null,"Fraction of heating above BPT",{"$f":"SLOPE(Y37:Y38,Z37:Z38)*AC15+INTERCEPT(Y37:Y38,Z37:Z38)","v":{"$error":"#VALUE!"}}]
[{"$f":"IF(C18<>\"-\",B18,\"\")","v":""},{"$f":"'Load %s'!B9","v":-18},{"$f":"INDEX(INDIRECT($C$8),MATCH(B18,$B$17:$B$33,0),2)","v":"-"},"-",{"$f":"IF(B18<=$B$16,\"-\",C18)","v":"-"},{"$f":"IF(B18<=$B$16,\"-\",D18)","v":"-"},{"$f":"IF(E18=\"-\",\"-\",E18*$C$5/$C$31)","v":"-"},{"$f":"IF(F18=\"-\",\"-\",F18*$C$6)","v":"-"},{"$f":"IF(G18=\"-\",\"-\",(G18/IF('Intro & Unit Options'!$B$12=\"Metric\",1,3412))/H18)","v":"-"},{"$f":"('Design Load Calcs'!$G$23*'HP3 Calcs'!B18+'Design Load Calcs'!$H$23)","v":65000},{"$f":"IF(G18=\"-\",\"\",ABS(G18-J18))","v":""},null,"BPT (Selected for the graph) [°F ou°C]",{"$f":"IFERROR(IF('Step 5 Identify & Select ASHPs'!I65,'HP3 Calcs'!N15,'HP3'!J9),NA())","v":"None"},null,{"$f":"IF(R18<>\"-\",Q18,\"\")","v":""},{"$f":"'Load %s'!B9","v":-18},{"$f":"INDEX(INDIRECT($R$8),MATCH(Q18,$Q$17:$Q$33,0),2)","v":"-"},{"$f":"INDEX(INDIRECT($R$8),MATCH(Q18,$Q$17:$Q$33,0),3)","v":"-"},{"$f":"IF(Q18<=$B$16,\"-\",R18)","v":"-"},{"$f":"IF(Q18<=$B$16,\"-\",S18)","v":"-"},{"$f":"IF(T18=\"-\",\"-\",T18*$C$5/$C$31)","v":"-"},{"$f":"IF(U18=\"-\",\"-\",U18*$C$6)","v":"-"},{"$f":"IF(V18=\"-\",\"-\",(V18/IF('Intro & Unit Options'!$B$12=\"Metric\",1,3412))/W18)","v":"-"},{"$f":"('Design Load Calcs'!$G$23*'HP3 Calcs'!Q18+'Design Load Calcs'!$H$23)","v":65000},{"$f":"IF(V18=\"-\",\"\",ABS(V18-Y18))","v":""},null,"BPT (Selected for the graph) [°F ou°C]",{"$f":"IFERROR(IF('Step 5 Identify & Select ASHPs'!I65,'HP3 Calcs'!AC15,'HP3'!U9),NA())","v":"None"}]
["",{"$f":"'Load %s'!B10","v":-13},"-","-","-","-","-","-",{"$f":"IF(G19=\"-\",\"-\",(G19/IF('Intro & Unit Options'!$B$12=\"Metric\",1,3412))/H19)","v":"-"},{"$f":"('Design Load Calcs'!$G$23*'HP3 Calcs'!B19+'Design Load Calcs'!$H$23)","v":60833.333333333336},"",null,"Fraction of heating above BPT",{"$f":"IFERROR(IF('Step 5 Identify & Select ASHPs'!I65,'HP3 Calcs'!N17,'HP3'!J10),NA())","v":{"$error":"#N/A"}},null,"",{"$f":"'Load %s'!B10","v":-13},{"$f":"INDEX(INDIRECT($R$8),MATCH(Q19,$Q$17:$Q$33,0),2)","v":"-"},"-","-","-","-","-",{"$f":"IF(V19=\"-\",\"-\",(V19/IF('Intro & Unit Options'!$B$12=\"Metric\",1,3412))/W19)","v":"-"},{"$f":"('Design Load Calcs'!$G$23*'HP3 Calcs'!Q19+'Design Load Calcs'!$H$23)","v":60833.333333333336},"",null,"Fraction of heating above BPT",{"$f":"IFERROR(IF('Step 5 Identify & Select ASHPs'!I65,'HP3 Calcs'!AC17,'HP3'!U10),NA())","v":{"$error":"#N/A"}}]
["",{"$f":"'Load %s'!B11","v":-8},"-","-","-","-","-","-",{"$f":"IF(G20=\"-\",\"-\",(G20/IF('Intro & Unit Options'!$B$12=\"Metric\",1,3412))/H20)","v":"-"},{"$f":"('Design Load Calcs'!$G$23*'HP3 Calcs'!B20+'Design Load Calcs'!$H$23)","v":56666.666666666664},"",null,{"$f":"CONCATENATE(\"HP cap @\",IF('Intro & Unit Options'!B12=Dropdown_Menus!F1,CONVERT(47,\"F\",\"C\"),47),IF('Intro & Unit Options'!$B$12=Dropdown_Menus!F1,\" C\",\" F\"),IF('Intro & Unit Options'!$B$12=Dropdown_Menus!F1,\" [kW]\",\" [BTU/h]\"))","v":"HP cap @47 F [BTU/h]"},{"$f":"G31","v":{"$error":"#VALUE!"}},null,"",{"$f":"'Load %s'!B11","v":-8},{"$f":"INDEX(INDIRECT($R$8),MATCH(Q20,$Q$17:$Q$33,0),2)","v":"-"},"-","-","-","-","-",{"$f":"IF(V20=\"-\",\"-\",(V20/IF('Intro & Unit Options'!$B$12=\"Metric\",1,3412))/W20)","v":"-"},{"$f":"('Design Load Calcs'!$G$23*'HP3 Calcs'!Q20+'Design Load Calcs'!$H$23)","v":56666.666666666664},""]
[-3,{"$f":"'Load %s'!B12","v":-3},0.33119999999999999,0.81818181818181812,"-","-","-","-",{"$f":"IF(G21=\"-\",\"-\",(G21/IF('Intro & Unit Options'!$B$12=\"Metric\",1,3412))/H21)","v":"-"},{"$f":"('Design Load Calcs'!$G$23*'HP3 Calcs'!B21+'Design Load Calcs'!$H$23)","v":52500},"",null,null,null,null,-3,{"$f":"'Load %s'!B12","v":-3},0.158,0.64204545454545447,"-","-","-","-",{"$f":"IF(V21=\"-\",\"-\",(V21/IF('Intro & Unit Options'!$B$12=\"Metric\",1,3412))/W21)","v":"-"},{"$f":"('Design Load Calcs'!$G$23*'HP3 Calcs'!Q21+'Design Load Calcs'!$H$23)","v":52500},""]
[2,{"$f":"'Load %s'!B13","v":2},0.38619999999999988,0.83238636363636354,0.38619999999999988,0.83238636363636354,{"$error":"#VALUE!"},{"$error":"#VALUE!"},{"$f":"IF(G22=\"-\",\"-\",(G22/IF('Intro & Unit Options'!$B$12=\"Metric\",1,3412))/H22)","v":{"$error":"#VALUE!"}},{"$f":"('Design Load Calcs'!$G$23*'HP3 Calcs'!B22+'Design Load Calcs'!$H$23)","v":48333.333333333336},{"$error":"#VALUE!"},null,"Max Cap",{"$f":"IFERROR(MAX(G16:G33),0)","v":0},null,2,{"$f":"'Load %s'!B13","v":2},0.21939999999999998,0.65624999999999989,0.21939999999999998,0.65624999999999989,{"$error":"#VALUE!"},{"$error":"#VALUE!"},{"$f":"IF(V22=\"-\",\"-\",(V22/IF('Intro & Unit Options'!$B$12=\"Metric\",1,3412))/W22)","v":{"$error":"#VALUE!"}},{"$f":"('Design Load Calcs'!$G$23*'HP3 Calcs'!Q22+'Design Load Calcs'!$H$23)","v":48333.333333333336},{"$error":"#VALUE!"}]
[7,{"$f":"'Load %s'!B14","v":7},0.44119999999999998,0.84659090909090906,0.44119999999999998,0.84659090909090906,{"$error":"#VALUE!"},{"$error":"#VALUE!"},{"$f":"IF(G23=\"-\",\"-\",(G23/IF('Intro & Unit Options'!$B$12=\"Metric\",1,3412))/H23)","v":{"$error":"#VALUE!"}},{"$f":"('Design Load Calcs'!$G$23*'HP3 Calcs'!B23+'Design Load Calcs'!$H$23)","v":44166.666666666664},{"$f":"IF(G23=\"-\",\"\",ABS(G23-J23))","v":{"$error":"#VALUE!"}},null,null,null,null,7,{"$f":"'Load %s'!B14","v":7},0.28079999999999999,0.67045454545454541,0.28079999999999999,0.67045454545454541,{"$error":"#VALUE!"},{"$error":"#VALUE!"},{"$f":"IF(V23=\"-\",\"-\",(V23/IF('Intro & Unit Options'!$B$12=\"Metric\",1,3412))/W23)","v":{"$error":"#VALUE!"}},{"$f":"('Design Load Calcs'!$G$23*'HP3 Calcs'!Q23+'Design Load Calcs'!$H$23)","v":44166.666666666664},{"$f":"IF(V23=\"-\",\"\",ABS(V23-Y23))","v":{"$error":"#VALUE!"}}]
[12,{"$f":"'Load %s'!B15","v":12},0.50319999999999998,0.86363636363636365,0.50319999999999998,0.86363636363636365,{"$error":"#VALUE!"},{"$error":"#VALUE!"},{"$f":"IF(G24=\"-\",\"-\",(G24/IF('Intro & Unit Options'!$B$12=\"Metric\",1,3412))/H24)","v":{"$error":"#VALUE!"}},{"$f":"('Design Load Calcs'!$G$23*'HP3 Calcs'!B24+'Design Load Calcs'!$H$23)","v":40000},{"$error":"#VALUE!"},null,"Slope @ t-BPT:",{"$f":"IF((INDEX(G16:G33,MATCH(G38,B16:B33,0))-INDEX(J16:J33,MATCH(G38,B16:B33,0)))>0,SLOPE(F37:F38,G37:G38),SLOPE(H37:H38,I37:I38))","v":{"$error":"#VALUE!"}},null,12,{"$f":"'Load %s'!B15","v":12},0.33600000000000002,0.67613636363636365,0.33600000000000002,0.67613636363636365,{"$error":"#VALUE!"},{"$error":"#VALUE!"},{"$f":"IF(V24=\"-\",\"-\",(V24/IF('Intro & Unit Options'!$B$12=\"Metric\",1,3412))/W24)","v":{"$error":"#VALUE!"}},{"$f":"('Design Load Calcs'!$G$23*'HP3 Calcs'!Q24+'Design Load Calcs'!$H$23)","v":40000},{"$f":"IF(V24=\"-\",\"\",ABS(V24-Y24))","v":{"$error":"#VALUE!"}},null,"Slope @ t-BPT:",{"$f":"IF((INDEX(V16:V33,MATCH(V38,Q16:Q33,0))-INDEX(Y16:Y33,MATCH(V38,Q16:Q33,0)))>0,SLOPE(U37:U38,V37:V38),SLOPE(W37:W38,X37:X38))","v":{"$error":"#VALUE!"}}]
[17,{"$f":"'Load %s'!B16","v":17},0.56520000000000004,0.88068181818181823,0.56520000000000004,0.88068181818181823,{"$error":"#VALUE!"},{"$error":"#VALUE!"},{"$f":"IF(G25=\"-\",\"-\",(G25/IF('Intro & Unit Options'!$B$12=\"Metric\",1,3412))/H25)","v":{"$error":"#VALUE!"}},{"$f":"('Design Load Calcs'!$G$23*'HP3 Calcs'!B25+'Design Load Calcs'!$H$23)","v":35833.333333333328},{"$error":"#VALUE!"},null,"Intercept @ t-BPT",{"$f":"IF((INDEX(G16:G33,MATCH(G38,B16:B33,0))-INDEX(J16:J33,MATCH(G38,B16:B33,0)))>0,INTERCEPT(F37:F38,G37:G38),INTERCEPT(H37:H38,I37:I38))","v":{"$error":"#VALUE!"}},null,17,{"$f":"'Load %s'!B16","v":17},0.39119999999999999,0.68181818181818177,0.39119999999999999,0.68181818181818177,{"$error":"#VALUE!"},{"$error":"#VALUE!"},{"$f":"IF(V25=\"-\",\"-\",(V25/IF('Intro & Unit Options'!$B$12=\"Metric\",1,3412))/W25)","v":{"$error":"#VALUE!"}},{"$f":"('Design Load Calcs'!$G$23*'HP3 Calcs'!Q25+'Design Load Calcs'!$H$23)","v":35833.333333333328},{"$error":"#VALUE!"},null,"Intercept @ t-BPT",{"$f":"IF((INDEX(V16:V33,MATCH(V38,Q16:Q33,0))-INDEX(Y16:Y33,MATCH(V38,Q16:Q33,0)))>0,INTERCEPT(U37:U38,V37:V38),INTERCEPT(W37:W38,X37:X38))","v":{"$error":"#VALUE!"}}]
[22,{"$f":"'Load %s'!B17","v":22},0.61060000000000003,0.89488636363636376,0.61060000000000003,0.89488636363636376,{"$error":"#VALUE!"},{"$error":"#VALUE!"},{"$f":"IF(G26=\"-\",\"-\",(G26/IF('Intro & Unit Options'!$B$12=\"Metric\",1,3412))/H26)","v":{"$error":"#VALUE!"}},{"$f":"('Design Load Calcs'!$G$23*'HP3 Calcs'!B26+'Design Load Calcs'!$H$23)","v":31666.666666666664},{"$error":"#VALUE!"},null,null,null,null,22,{"$f":"'Load %s'!B17","v":22},0.43780000000000002,0.6875,0.43780000000000002,0.6875,{"$error":"#VALUE!"},{"$error":"#VALUE!"},{"$f":"IF(V26=\"-\",\"-\",(V26/IF('Intro & Unit Options'!$B$12=\"Metric\",1,3412))/W26)","v":{"$error":"#VALUE!"}},{"$f":"('Design Load Calcs'!$G$23*'HP3 Calcs'!Q26+'Design Load Calcs'!$H$23)","v":31666.666666666664},{"$error":"#VALUE!"}]
[27,{"$f":"'Load %s'!B18","v":27},0.65599999999999992,0.90909090909090917,0.65599999999999992,0.90909090909090917,{"$error":"#VALUE!"},{"$error":"#VALUE!"},{"$f":"IF(G27=\"-\",\"-\",(G27/IF('Intro & Unit Options'!$B$12=\"Metric\",1,3412))/H27)","v":{"$error":"#VALUE!"}},{"$f":"('Design Load Calcs'!$G$23*'HP3 Calcs'!B27+'Design Load Calcs'!$H$23)","v":27500},{"$error":"#VALUE!"},null,null,null,null,27,{"$f":"'Load %s'!B18","v":27},0.4844,0.69318181818181812,0.4844,0.69318181818181812,{"$error":"#VALUE!"},{"$error":"#VALUE!"},{"$f":"IF(V27=\"-\",\"-\",(V27/IF('Intro & Unit Options'!$B$12=\"Metric\",1,3412))/W27)","v":{"$error":"#VALUE!"}},{"$f":"('Design Load Calcs'!$G$23*'HP3 Calcs'!Q27+'Design Load Calcs'!$H$23)","v":27500},{"$error":"#VALUE!"}]
[32,{"$f":"'Load %s'!B19","v":32},0.72180000000000011,0.93181818181818188,0.72180000000000011,0.93181818181818188,{"$error":"#VALUE!"},{"$error":"#VALUE!"},{"$f":"IF(G28=\"-\",\"-\",(G28/IF('Intro & Unit Options'!$B$12=\"Metric\",1,3412))/H28)","v":{"$error":"#VALUE!"}},{"$f":"('Design Load Calcs'!$G$23*'HP3 Calcs'!B28+'Design Load Calcs'!$H$23)","v":23333.333333333332},{"$error":"#VALUE!"},null,null,null,null,32,{"$f":"'Load %s'!B19","v":32},0.54220000000000002,0.69602272727272729,0.54220000000000002,0.69602272727272729,{"$error":"#VALUE!"},{"$error":"#VALUE!"},{"$f":"IF(V28=\"-\",\"-\",(V28/IF('Intro & Unit Options'!$B$12=\"Metric\",1,3412))/W28)","v":{"$error":"#VALUE!"}},{"$f":"('Design Load Calcs'!$G$23*'HP3 Calcs'!Q28+'Design Load Calcs'!$H$23)","v":23333.333333333332},{"$error":"#VALUE!"}]
[37,{"$f":"'Load %s'!B20","v":37},0.78760000000000008,0.95454545454545447,0.78760000000000008,0.95454545454545447,{"$error":"#VALUE!"},{"$error":"#VALUE!"},{"$f":"IF(G29=\"-\",\"-\",(G29/IF('Intro & Unit Options'!$B$12=\"Metric\",1,3412))/H29)","v":{"$error":"#VALUE!"}},{"$f":"('Design Load Calcs'!$G$23*'HP3 Calcs'!B29+'Design Load Calcs'!$H$23)","v":19166.666666666664},{"$error":"#VALUE!"},null,null,null,null,37,{"$f":"'Load %s'!B20","v":37},0.6,0.69886363636363635,0.6,0.69886363636363635,{"$error":"#VALUE!"},{"$error":"#VALUE!"},{"$f":"IF(V29=\"-\",\"-\",(V29/IF('Intro & Unit Options'!$B$12=\"Metric\",1,3412))/W29)","v":{"$error":"#VALUE!"}},{"$f":"('Design Load Calcs'!$G$23*'HP3 Calcs'!Q29+'Design Load Calcs'!$H$23)","v":19166.666666666664},{"$error":"#VALUE!"}]
[42,{"$f":"'Load %s'!B21","v":42},0.89379999999999993,0.97727272727272729,0.89379999999999993,0.97727272727272729,{"$error":"#VALUE!"},{"$error":"#VALUE!"},{"$f":"IF(G30=\"-\",\"-\",(G30/IF('Intro & Unit Options'!$B$12=\"Metric\",1,3412))/H30)","v":{"$error":"#VALUE!"}},{"$f":"('Design Load Calcs'!$G$23*'HP3 Calcs'!B30+'Design Load Calcs'!$H$23)","v":15000},{"$error":"#VALUE!"},null,null,null,null,42,{"$f":"'Load %s'!B21","v":42},0.67420000000000002,0.69886363636363635,0.67420000000000002,0.69886363636363635,{"$error":"#VALUE!"},{"$error":"#VALUE!"},{"$f":"IF(V30=\"-\",\"-\",(V30/IF('Intro & Unit Options'!$B$12=\"Metric\",1,3412))/W30)","v":{"$error":"#VALUE!"}},{"$f":"('Design Load Calcs'!$G$23*'HP3 Calcs'!Q30+'Design Load Calcs'!$H$23)","v":15000},{"$error":"#VALUE!"}]
[47,{"$f":"'Load %s'!B22","v":47},1,1,1,1,{"$error":"#VALUE!"},{"$error":"#VALUE!"},{"$f":"IF(G31=\"-\",\"-\",(G31/IF('Intro & Unit Options'!$B$12=\"Metric\",1,3412))/H31)","v":{"$error":"#VALUE!"}},{"$f":"('Design Load Calcs'!$G$23*'HP3 Calcs'!B31+'Design Load Calcs'!$H$23)","v":10833.333333333328},{"$error":"#VALUE!"},null,null,null,null,47,{"$f":"'Load %s'!B22","v":47},0.74840000000000007,0.69886363636363635,0.74840000000000007,0.69886363636363635,{"$error":"#VALUE!"},{"$error":"#VALUE!"},{"$f":"IF(V31=\"-\",\"-\",(V31/IF('Intro & Unit Options'!$B$12=\"Metric\",1,3412))/W31)","v":{"$error":"#VALUE!"}},{"$f":"('Design Load Calcs'!$G$23*'HP3 Calcs'!Q31+'Design Load Calcs'!$H$23)","v":10833.333333333328},{"$error":"#VALUE!"}]
[52,{"$f":"'Load %s'!B23","v":52},1.0713999999999999,1.03125,1.0713999999999999,1.03125,{"$error":"#VALUE!"},{"$error":"#VALUE!"},{"$f":"IF(G32=\"-\",\"-\",(G32/IF('Intro & Unit Options'!$B$12=\"Metric\",1,3412))/H32)","v":{"$error":"#VALUE!"}},{"$f":"('Design Load Calcs'!$G$23*'HP3 Calcs'!B32+'Design Load Calcs'!$H$23)","v":6666.6666666666642},{"$error":"#VALUE!"},null,null,null,null,52,{"$f":"'Load %s'!B23","v":52},0.79139999999999999,0.69886363636363635,0.79139999999999999,0.69886363636363635,{"$error":"#VALUE!"},{"$error":"#VALUE!"},{"$f":"IF(V32=\"-\",\"-\",(V32/IF('Intro & Unit Options'!$B$12=\"Metric\",1,3412))/W32)","v":{"$error":"#VALUE!"}},{"$f":"('Design Load Calcs'!$G$23*'HP3 Calcs'!Q32+'Design Load Calcs'!$H$23)","v":6666.6666666666642},{"$error":"#VALUE!"}]
[57,{"$f":"'Load %s'!B24","v":57},1.1428,1.0625,1.1428,1.0625,{"$error":"#VALUE!"},{"$error":"#VALUE!"},{"$f":"IF(G33=\"-\",\"-\",(G33/IF('Intro & Unit Options'!$B$12=\"Metric\",1,3412))/H33)","v":{"$error":"#VALUE!"}},{"$f":"('Design Load Calcs'!$G$23*'HP3 Calcs'!B33+'Design Load Calcs'!$H$23)","v":2500},{"$error":"#VALUE!"},null,null,null,null,57,{"$f":"'Load %s'!B24","v":57},0.83440000000000003,0.69886363636363635,0.83440000000000003,0.69886363636363635,{"$error":"#VALUE!"},{"$error":"#VALUE!"},{"$f":"IF(V33=\"-\",\"-\",(V33/IF('Intro & Unit Options'!$B$12=\"Metric\",1,3412))/W33)","v":{"$error":"#VALUE!"}},{"$f":"('Design Load Calcs'!$G$23*'HP3 Calcs'!Q33+'Design Load Calcs'!$H$23)","v":2500},{"$error":"#VALUE!"}]
[]
[null,"Slope and Intercept at the cut-off temp. (HP Norm. Cap and pwr)",null,null,null,"Slope and Intercept at the BPT (HP Cap)",null,null,null,"Slope and Intercept at the BPT (Load%)",null,null,"Slope and Intercept at the Design Temp. (HP Cap)",null,null,null,"Slope and Intercept at the cut-off temp. (HP Norm. Cap and pwr)",null,null,null,"Slope and Intercept at the BPT (HP Cap)",null,null,null,"Slope and Intercept at the BPT (Load%)",null,null,"Slope and Intercept at the Design Temp. (HP Cap)"]
[null,"know ys (capacity):","know ys (power):","know xs (temp)",null,"know ys (eq. 1):","know xs (eq. 1):","know ys (eq. 2):","know xs (eq. 2):","know ys (eq. 1):","know ys (eq. 2):",null,"know ys (capacity):","know xs",null,null,"know ys (capacity):","know ys (power):","know xs (temp)",null,"know ys (eq. 1):","know xs (eq. 1):","know ys (eq. 2):","know xs (eq. 2):","know ys (eq. 1):","know ys (eq. 2):",null,"know ys (capacity):","know xs"]
[null,{"$f":"INDEX(C17:C33,MATCH(D37,B17:B33,0))","v":0.33119999999999999},{"$f":"INDEX(D17:D33,SMALL(IF(B37=C17:C33,ROW(C17:C33)-ROW(C17)+1),1))","v":0.81818181818181812},{"$f":"IF(MIN(IF(NOT(ISNA(A17:A33)),A17:A33))<=B16,IF(NOT(ISNA(INDEX(B17:B33,MATCH(B16,B17:B33,0)))),INDEX(B17:B33,MATCH(B16,B17:B33,0)),INDEX(B17:B33,MATCH(B16,B17:B33,1))),MIN(IF(NOT(ISNA(A17:A33)),A17:A33)))","v":-3},null,{"$f":"IF(INDEX(B17:B33,MATCH(MIN(K17:K33),K17:K33,0))=MIN(A17:A33),G16,INDEX(G17:G33,MATCH(MIN(K17:K33),K17:K33,0)-1))","v":{"$error":"#VALUE!"}},{"$f":"IF(INDEX(B17:B33,MATCH(MIN(K17:K33),K17:K33,0))=MIN(A17:A33),B16,INDEX(B17:B33,MATCH(MIN(K17:K33),K17:K33,0)-1))","v":{"$error":"#VALUE!"}},{"$f":"INDEX(G16:G33,MATCH(MIN(K16:K33),K16:K33,0))","v":{"$error":"#VALUE!"}},{"$f":"INDEX(B16:B33,MATCH(MIN(K16:K33),K16:K33,0))","v":{"$error":"#VALUE!"}},{"$f":"INDEX(INDIRECT(CONCATENATE(IFERROR(SUBSTITUTE('Step 3 Design Loads'!B8,\"-\",\"\"),'Step 3 Design Loads'!B8),\"_Load\")),MATCH(G37,B17:B33))","v":{"$error":"#VALUE!"}},{"$f":"G37","v":{"$error":"#VALUE!"}},null,{"$f":"IF(N37=B16,G16,IF(N37=\"-\",0,INDEX(G17:G33,MATCH(N37,B17:B33,0))))","v":"-"},{"$f":"IF(C10<B16,\"-\",IFERROR(INDEX(B17:B33,MATCH(C10,B17:B33,0)),INDEX(B17:B33,MATCH(C10,B17:B33,1))))","v":-3},null,null,{"$f":"INDEX(R17:R33,MATCH(S37,Q17:Q33,0))","v":0.158},{"$f":"INDEX(S17:S33,SMALL(IF(Q37=R17:R33,ROW(R17:R33)-ROW(R17)+1),1))","v":0.64204545454545447},{"$f":"IF(MIN(IF(NOT(ISNA(P17:P33)),P17:P33))<=Q16,IF(NOT(ISNA(INDEX(Q17:Q33,MATCH(Q16,Q17:Q33,0)))),INDEX(Q17:Q33,MATCH(Q16,Q17:Q33,0)),INDEX(Q17:Q33,MATCH(Q16,Q17:Q33,1))),MIN(IF(NOT(ISNA(P17:P33)),P17:P33)))","v":-3},null,{"$f":"IF(INDEX(Q17:Q33,MATCH(MIN(Z17:Z33),Z17:Z33,0))=MIN(P17:P33),V16,INDEX(V17:V33,MATCH(MIN(Z17:Z33),Z17:Z33,0)-1))","v":{"$error":"#VALUE!"}},{"$f":"IF(INDEX(Q17:Q33,MATCH(MIN(Z17:Z33),Z17:Z33,0))=MIN(P17:P33),Q16,INDEX(Q17:Q33,MATCH(MIN(Z17:Z33),Z17:Z33,0)-1))","v":{"$error":"#VALUE!"}},{"$f":"INDEX(V16:V33,MATCH(MIN(Z16:Z33),Z16:Z33,0))","v":{"$error":"#VALUE!"}},{"$f":"INDEX(Q16:Q33,MATCH(MIN(Z16:Z33),Z16:Z33,0))","v":{"$error":"#VALUE!"}},{"$f":"INDEX(INDIRECT(CONCATENATE(IFERROR(SUBSTITUTE('Step 3 Design Loads'!B8,\"-\",\"\"),'Step 3 Design Loads'!B8),\"_Load\")),MATCH(V37,Q17:Q33))","v":{"$error":"#VALUE!"}},{"$f":"V37","v":{"$error":"#VALUE!"}},null,{"$f":"IF(AC37=Q16,V16,IF(AC37=\"-\",0,INDEX(V17:V33,MATCH(AC37,Q17:Q33,0))))","v":"-"},{"$f":"IF(R10<Q16,\"-\",IFERROR(INDEX(Q17:Q33,MATCH(R10,Q17:Q33,0)),INDEX(Q17:Q33,MATCH(R10,Q17:Q33,1))))","v":-3}]
[null,{"$f":"IF(D38=\"-\",\"-\",INDEX(C17:C33,MATCH(D38,B17:B33,0)))","v":0.38619999999999988},{"$f":"INDEX(D17:D33,SMALL(IF(B38=C17:C33,ROW(C17:C33)-ROW(C17)+1),1))","v":0.83238636363636354},{"$f":"IF(D37=B16,\"-\",INDEX(B17:B33,MATCH(D37,B17:B33,0)+1))","v":2},null,{"$f":"INDEX(G17:G33,MATCH(G38,B17:B33,0))","v":{"$error":"#VALUE!"}},{"$f":"INDEX(B16:B33,MATCH(MIN(K16:K33),K16:K33,0))","v":{"$error":"#VALUE!"}},{"$f":"INDEX(G16:G33,MATCH(MIN(K16:K33),K16:K33,0)+1)","v":{"$error":"#VALUE!"}},{"$f":"INDEX(B16:B33,MATCH(MIN(K16:K33),K16:K33,0)+1)","v":{"$error":"#VALUE!"}},{"$f":"INDEX(INDIRECT(CONCATENATE(IFERROR(SUBSTITUTE('Step 3 Design Loads'!B8,\"-\",\"\"),'Step 3 Design Loads'!B8),\"_Load\")),MATCH(I38,B17:B33))","v":{"$error":"#VALUE!"}},{"$f":"I38","v":{"$error":"#VALUE!"}},null,{"$f":"IF(N38=\"-\",0,INDEX(G17:G33,MATCH(N38,B17:B33,0)))","v":{"$error":"#VALUE!"}},{"$f":"IF(C10<B16,\"-\",IF(N37=C10,\"-\",INDEX(B17:B33,MATCH(C10,B17:B33,1)+1)))","v":2},null,null,{"$f":"IF(S38=\"-\",\"-\",INDEX(R17:R33,MATCH(S38,Q17:Q33,0)))","v":0.21939999999999998},{"$f":"INDEX(S17:S33,SMALL(IF(Q38=R17:R33,ROW(R17:R33)-ROW(R17)+1),1))","v":0.65624999999999989},{"$f":"IF(S37=Q16,\"-\",INDEX(Q17:Q33,MATCH(S37,Q17:Q33,0)+1))","v":2},null,{"$f":"INDEX(V17:V33,MATCH(V38,Q17:Q33,0))","v":{"$error":"#VALUE!"}},{"$f":"INDEX(Q16:Q33,MATCH(MIN(Z16:Z33),Z16:Z33,0))","v":{"$error":"#VALUE!"}},{"$f":"INDEX(V16:V33,MATCH(MIN(Z16:Z33),Z16:Z33,0)+1)","v":{"$error":"#VALUE!"}},{"$f":"INDEX(Q16:Q33,MATCH(MIN(Z16:Z33),Z16:Z33,0)+1)","v":{"$error":"#VALUE!"}},{"$f":"INDEX(INDIRECT(CONCATENATE(IFERROR(SUBSTITUTE('Step 3 Design Loads'!B8,\"-\",\"\"),'Step 3 Design Loads'!B8),\"_Load\")),MATCH(X38,Q17:Q33))","v":{"$error":"#VALUE!"}},{"$f":"X38","v":{"$error":"#VALUE!"}},null,{"$f":"IF(AC38=\"-\",0,INDEX(V17:V33,MATCH(AC38,Q17:Q33,0)))","v":{"$error":"#VALUE!"}},{"$f":"IF(R10<Q16,\"-\",IF(AC37=R10,\"-\",INDEX(Q17:Q33,MATCH(R10,Q17:Q33,1)+1)))","v":2}]
[null,null,null,null,null,"BPT (eq. 1):",{"$f":"IF(IF(('Design Load Calcs'!$H$23-INTERCEPT(F37:F38,G37:G38))/(IF(SLOPE(F37:F38,G37:G38)<0,0,SLOPE(F37:F38,G37:G38))-'Design Load Calcs'!$G$23)<'Step 3 Design Loads'!B13,NA(),('Design Load Calcs'!$H$23-INTERCEPT(F37:F38,G37:G38))/(IF(SLOPE(F37:F38,G37:G38)<0,0,SLOPE(F37:F38,G37:G38))-'Design Load Calcs'!$G$23))>B33,NA(),IF(('Design Load Calcs'!$H$23-INTERCEPT(F37:F38,G37:G38))/(IF(SLOPE(F37:F38,G37:G38)<0,0,SLOPE(F37:F38,G37:G38))-'Design Load Calcs'!$G$23)<'Step 3 Design Loads'!B13,NA(),('Design Load Calcs'!$H$23-INTERCEPT(F37:F38,G37:G38))/(IF(SLOPE(F37:F38,G37:G38)<0,0,SLOPE(F37:F38,G37:G38))-'Design Load Calcs'!$G$23)))","v":{"$error":"#VALUE!"}},"BPT (eq. 2):",{"$f":"IF(IF(('Design Load Calcs'!$H$23-INTERCEPT(H37:H38,I37:I38))/(IF(SLOPE(H37:H38,I37:I38)<0,0,SLOPE(H37:H38,I37:I38))-'Design Load Calcs'!$G$23)<'Step 3 Design Loads'!B13,NA(),('Design Load Calcs'!$H$23-INTERCEPT(H37:H38,I37:I38))/(IF(SLOPE(H37:H38,I37:I38)<0,0,SLOPE(H37:H38,I37:I38))-'Design Load Calcs'!$G$23))>B33,NA(),IF(('Design Load Calcs'!$H$23-INTERCEPT(H37:H38,I37:I38))/(IF(SLOPE(H37:H38,I37:I38)<0,0,SLOPE(H37:H38,I37:I38))-'Design Load Calcs'!$G$23)<'Step 3 Design Loads'!B13,NA(),('Design Load Calcs'!$H$23-INTERCEPT(H37:H38,I37:I38))/(IF(SLOPE(H37:H38,I37:I38)<0,0,SLOPE(H37:H38,I37:I38))-'Design Load Calcs'!$G$23)))","v":{"$error":"#VALUE!"}},null,null,null,null,null,null,null,null,null,null,null,"BPT (eq. 1):",{"$f":"IF(IF(('Design Load Calcs'!$H$23-INTERCEPT(U37:U38,V37:V38))/(IF(SLOPE(U37:U38,V37:V38)<0,0,SLOPE(U37:U38,V37:V38))-'Design Load Calcs'!$G$23)<'Step 3 Design Loads'!B13,NA(),('Design Load Calcs'!$H$23-INTERCEPT(U37:U38,V37:V38))/(IF(SLOPE(U37:U38,V37:V38)<0,0,SLOPE(U37:U38,V37:V38))-'Design Load Calcs'!$G$23))>Q33,NA(),IF(('Design Load Calcs'!$H$23-INTERCEPT(U37:U38,V37:V38))/(IF(SLOPE(U37:U38,V37:V38)<0,0,SLOPE(U37:U38,V37:V38))-'Design Load Calcs'!$G$23)<'Step 3 Design Loads'!B13,NA(),('Design Load Calcs'!$H$23-INTERCEPT(U37:U38,V37:V38))/(IF(SLOPE(U37:U38,V37:V38)<0,0,SLOPE(U37:U38,V37:V38))-'Design Load Calcs'!$G$23)))","v":{"$error":"#VALUE!"}},"BPT (eq. 2):",{"$f":"IF(IF(('Design Load Calcs'!$H$23-INTERCEPT(W37:W38,X37:X38))/(IF(SLOPE(W37:W38,X37:X38)<0,0,SLOPE(W37:W38,X37:X38))-'Design Load Calcs'!$G$23)<'Step 3 Design Loads'!B13,NA(),('Design Load Calcs'!$H$23-INTERCEPT(W37:W38,X37:X38))/(IF(SLOPE(W37:W38,X37:X38)<0,0,SLOPE(W37:W38,X37:X38))-'Design Load Calcs'!$G$23))>Q33,NA(),IF(('Design Load Calcs'!$H$23-INTERCEPT(W37:W38,X37:X38))/(IF(SLOPE(W37:W38,X37:X38)<0,0,SLOPE(W37:W38,X37:X38))-'Design Load Calcs'!$G$23)<'Step 3 Design Loads'!B13,NA(),('Design Load Calcs'!$H$23-INTERCEPT(W37:W38,X37:X38))/(IF(SLOPE(W37:W38,X37:X38)<0,0,SLOPE(W37:W38,X37:X38))-'Design Load Calcs'!$G$23)))","v":{"$error":"#VALUE!"}}]
[null,null,null,null,null,"Cap (eq. 1):",{"$f":"SLOPE(F37:F38,G37:G38)*G39+INTERCEPT(F37:F38,G37:G38)","v":{"$error":"#VALUE!"}},"Cap (eq. 2):",{"$f":"SLOPE(H37:H38,I37:I38)*I39+INTERCEPT(H37:H38,I37:I38)","v":{"$error":"#VALUE!"}},null,null,null,null,null,null,null,null,null,null,null,"Cap (eq. 1):",{"$f":"SLOPE(U37:U38,V37:V38)*V39+INTERCEPT(U37:U38,V37:V38)","v":{"$error":"#VALUE!"}},"Cap (eq. 2):",{"$f":"SLOPE(W37:W38,X37:X38)*X39+INTERCEPT(W37:W38,X37:X38)","v":{"$error":"#VALUE!"}}]
[]
[]
[null,"Cooling - High Stage ",null,null,null,null,null,null,null,null,null,null,null,null,null,null,"Cooling - Low Stage "]
[]
[null,"Capacity @95°F (High Stage) [BTU/h ] ou [kW]",{"$f":"IF('Step 5 Identify & Select ASHPs'!I65,'Step 5 Identify & Select ASHPs'!N65,\"This option has not been selected\")","v":"This option has not been selected"},null,null,null,null,null,null,null,null,null,null,null,null,null,"Capacity @95°F (High Stage) [BTU/h ] ou [kW]",{"$f":"IF('Step 5 Identify & Select ASHPs'!I65,'Step 5 Identify & Select ASHPs'!N65,\"This option has not been selected\")","v":"This option has not been selected"}]
[null,"Power @95°F (High Stage) [kW]",{"$f":"IF('Step 5 Identify & Select ASHPs'!I65,IF('Step 5 Identify & Select ASHPs'!I73=\"EER\",'Step 5 Identify & Select ASHPs'!N67,'Step 5 Identify & Select ASHPs'!N66),\"This option has not been selected\")","v":"This option has not been selected"},null,null,null,null,null,null,null,null,null,null,null,null,null,"Power @95°F (High Stage) [kW]",{"$f":"IF('Step 5 Identify & Select ASHPs'!I65,IF('Step 5 Identify & Select ASHPs'!I73=\"EER\",'Step 5 Identify & Select ASHPs'!N67,'Step 5 Identify & Select ASHPs'!N66),\"This option has not been selected\")","v":"This option has not been selected"}]
[]
[null,"Performance Table Name: ",{"$f":"IF(AND('Step 5 Identify & Select ASHPs'!E70=\"Centrally Ducted\",'Step 5 Identify & Select ASHPs'!E71=\"Single Speed\"),\"Perf_Clg_Ducted_Single\",IF(AND('Step 5 Identify & Select ASHPs'!E70=\"Centrally Ducted\",'Step 5 Identify & Select ASHPs'!E71=\"Two-Stage\"),\"Perf_Clg_Ducted_2S_HS\",IF(AND('Step 5 Identify & Select ASHPs'!E70=\"Centrally Ducted\",'Step 5 Identify & Select ASHPs'!E71=\"Variable\"),\"Perf_Clg_Ducted_Variable_HS\",IF(AND('Step 5 Identify & Select ASHPs'!E70=\"Single Split Ductless\",'Step 5 Identify & Select ASHPs'!E71=\"Regular Variable\"),\"Perf_Clg_DuctlessSingle_RegVar_HS\",IF(AND('Step 5 Identify & Select ASHPs'!E70=\"Single Split Ductless\",'Step 5 Identify & Select ASHPs'!E71=\"Cold Climate Variable\"),\"Perf_Clg_DuctlessSingle_CCVar_HS\",IF(AND('Step 5 Identify & Select ASHPs'!E70=\"Multi-split Ductless\",'Step 5 Identify & Select ASHPs'!E71=\"Regular Variable\"),\"Perf_Clg_DuctlessMulti_RegVar_HS\",IF(AND('Step 5 Identify & Select ASHPs'!E70=\"Multi-split Ductless\",'Step 5 Identify & Select ASHPs'!E71=\"Cold Climate Variable\"),\"Perf_Clg_DuctlessMulti_CCVar_HS\")))))))","v":"Perf_Clg_Ducted_2S_HS"},null,null,null,null,null,null,null,null,null,null,null,null,null,"Performance Table Name: ",{"$f":"IF('Step 5 Identify & Select ASHPs'!$E$71=Dropdown_Menus!A2,NA(),IF(AND('Step 5 Identify & Select ASHPs'!E70=\"Centrally Ducted\",'Step 5 Identify & Select ASHPs'!E71=\"Single Speed\"),\"Perf_Clg_Ducted_Single\",IF(AND('Step 5 Identify & Select ASHPs'!E70=\"Centrally Ducted\",'Step 5 Identify & Select ASHPs'!E71=\"Two-Stage\"),\"Perf_Clg_Ducted_2S_LS\",IF(AND('Step 5 Identify & Select ASHPs'!E70=\"Centrally Ducted\",'Step 5 Identify & Select ASHPs'!E71=\"Variable\"),\"Perf_Clg_Ducted_Variable_LS\",IF(AND('Step 5 Identify & Select ASHPs'!E70=\"Single Split Ductless\",'Step 5 Identify & Select ASHPs'!E71=\"Regular Variable\"),\"Perf_Clg_DuctlessSingle_RegVar_LS\",IF(AND('Step 5 Identify & Select ASHPs'!E70=\"Single Split Ductless\",'Step 5 Identify & Select ASHPs'!E71=\"Cold Climate Variable\"),\"Perf_Clg_DuctlessSingle_CCVar_LS\",IF(AND('Step 5 Identify & Select ASHPs'!E70=\"Multi-split Ductless\",'Step 5 Identify & Select ASHPs'!E71=\"Regular Variable\"),\"Perf_Clg_DuctlessMulti_RegVar_LS\",IF(AND('Step 5 Identify & Select ASHPs'!E70=\"Multi-split Ductless\",'Step 5 Identify & Select ASHPs'!E71=\"Cold Climate Variable\"),\"Perf_Clg_DuctlessMulti_CCVar_LS\"))))))))","v":"Perf_Clg_Ducted_2S_LS"}]
[]
[null,"Design Temp. (cool)",{"$f":"'Design Load Calcs'!B26","v":88},null,null,null,null,null,null,null,null,null,null,null,null,null,"Design Temp. (cool)",{"$f":"'Design Load Calcs'!B26","v":88}]
[]
[null,"Performance Data and Heating Load Line",null,null,null,null,null,null,null,"Slope and Intercept at the Design Temp.",null,null,"Outputs:",null,null,null,"Performance Data and Heating Load Line",null,null,null,null,null,null,null,"Slope and Intercept at the Design Temp.",null,null,"Outputs:"]
[null,"Outdoor Temp.","Normalized Capacity","Normalized Power","Actual Capacity","Actual Power","Actual COP",null,null,"know ys (capacity):","know xs",null,"HP cap @ Design Temp. [BTU/h ou kW]",{"$f":"IF(OR(K54=\"-\",K54=C50),J54,SLOPE(J54:J55,K54:K55)*C50+INTERCEPT(J54:J55,K54:K55))","v":{"$error":"#VALUE!"}},null,null,"Outdoor Temp.","Normalized Capacity","Normalized Power","Actual Capacity","Actual Power","Actual COP",null,null,"know ys (capacity):","know xs",null,"HP cap @ Design Temp. [BTU/h ou kW]",{"$f":"IF(OR(Z54=\"-\",Z54=R50),Y54,SLOPE(Y54:Y55,Z54:Z55)*R50+INTERCEPT(Y54:Y55,Z54:Z55))","v":{"$error":"#VALUE!"}}]
[null,"[°C] ou [°F]",null,null,"[BTU/h] ou [kW]","[kW]","[-]",null,null,{"$f":"INDEX(E55:E63,MATCH(K54,B55:B63,0))","v":{"$error":"#VALUE!"}},{"$f":"IF(C50<B55,B55,IFERROR(INDEX(B55:B63,MATCH(C50,B55:B63,0)),INDEX(B55:B63,MATCH(C50,B55:B63,1))))","v":87},null,"% of Design Load",{"$f":"N53/'Design Load Calcs'!$B$25","v":{"$error":"#VALUE!"}},null,null,"[°C] ou [°F]",null,null,"[BTU/h] ou [kW]","[kW]","[-]",null,null,{"$f":"INDEX(T55:T63,MATCH(Z54,Q55:Q63,0))","v":{"$error":"#VALUE!"}},{"$f":"IF(R50<Q55,Q55,IFERROR(INDEX(Q55:Q63,MATCH(R50,Q55:Q63,0)),INDEX(Q55:Q63,MATCH(R50,Q55:Q63,1))))","v":87},null,"% of Design Load",{"$f":"AC53/'Design Load Calcs'!$B$25","v":{"$error":"#VALUE!"}}]
[null,{"$f":"IF('Intro & Unit Options'!B12=\"Metric\", CONVERT(72,\"F\",\"C\"),72)","v":72},{"$f":"INDEX(INDIRECT($C$48),MATCH(B55,$B$55:$B$63,0),2)","v":0},{"$f":"INDEX(INDIRECT($C$48),MATCH(B55,$B$55:$B$63,0),3)","v":0},{"$f":"IF(C55=\"-\",\"-\",IF('Step 5 Identify & Select ASHPs'!$E$33=\"Single Speed\",C55*$C$45,C55*$C$45))","v":{"$error":"#VALUE!"}},{"$f":"IF(D55=\"-\",\"-\",IF('Step 5 Identify & Select ASHPs'!$E$33=\"Single Speed\",D55*$C$46,D55*$C$46))","v":{"$error":"#VALUE!"}},{"$f":"IF(E55=\"-\",\"-\",(E55/IF('Intro & Unit Options'!$B$12=\"Metric\",1,3412))/F55)","v":{"$error":"#VALUE!"}},null,null,{"$f":"IF(K55=\"-\",\"-\",INDEX(E55:E63,MATCH(K55,B55:B63,0)))","v":{"$error":"#VALUE!"}},{"$f":"IF(C50<B55,B56,IF(K54=C50,\"-\",INDEX(B55:B63,MATCH(K54,B55:B63,0)+1)))","v":92},null,{"$f":"CONCATENATE(\"HP cap @\",IF('Intro & Unit Options'!B12=Dropdown_Menus!F1,CONVERT(95,\"F\",\"C\"),95),IF('Intro & Unit Options'!$B$12=Dropdown_Menus!F1,\" C\",\" F\"),IF('Intro & Unit Options'!$B$12=Dropdown_Menus!F1,\" [kW]\",\" [BTU/h]\"))","v":"HP cap @95 F [BTU/h]"},{"$f":"SLOPE(E59:E60,B59:B60)*IF('Intro & Unit Options'!B12=Dropdown_Menus!F1,CONVERT(95,\"F\",\"C\"),95)+INTERCEPT(E59:E60,B59:B60)","v":{"$error":"#VALUE!"}},null,null,{"$f":"IF('Intro & Unit Options'!Q12=\"Metric\", CONVERT(72,\"F\",\"C\"),72)","v":72},{"$f":"INDEX(INDIRECT($R$48),MATCH(Q55,$Q$55:$Q$63,0),2)","v":0},{"$f":"INDEX(INDIRECT($R$48),MATCH(Q55,$Q$55:$Q$63,0),3)","v":0},{"$f":"IF(R55=\"-\",\"-\",IF('Step 5 Identify & Select ASHPs'!$E$33=\"Single Speed\",R55*$R$45,R55*$R$45))","v":{"$error":"#VALUE!"}},{"$f":"IF(S55=\"-\",\"-\",IF('Step 5 Identify & Select ASHPs'!$E$33=\"Single Speed\",S55*$R$46,S55*$R$46))","v":{"$error":"#VALUE!"}},{"$f":"IF(T55=\"-\",\"-\",(T55/IF('Intro & Unit Options'!$B$12=\"Metric\",1,3412))/U55)","v":{"$error":"#VALUE!"}},null,null,{"$f":"IF(Z55=\"-\",\"-\",INDEX(T55:T63,MATCH(Z55,Q55:Q63,0)))","v":{"$error":"#VALUE!"}},{"$f":"IF(R50<Q55,Q56,IF(Z54=R50,\"-\",INDEX(Q55:Q63,MATCH(Z54,Q55:Q63,0)+1)))","v":92},null,{"$f":"CONCATENATE(\"HP cap @\",IF('Intro & Unit Options'!B12=Dropdown_Menus!F1,CONVERT(95,\"F\",\"C\"),95),IF('Intro & Unit Options'!$B$12=Dropdown_Menus!F1,\" C\",\" F\"),IF('Intro & Unit Options'!$B$12=Dropdown_Menus!F1,\" [kW]\",\" [BTU/h]\"))","v":"HP cap @95 F [BTU/h]"},{"$f":"SLOPE(T59:T60,Q59:Q60)*IF('Intro & Unit Options'!B12=Dropdown_Menus!F1,CONVERT(95,\"F\",\"C\"),95)+INTERCEPT(T59:T60,Q59:Q60)","v":{"$error":"#VALUE!"}}]
[null,{"$f":"IF('Intro & Unit Options'!B13=\"Metric\", CONVERT(77,\"F\",\"C\"),77)","v":77},{"$f":"INDEX(INDIRECT($C$48),MATCH(B56,$B$55:$B$63,0),2)","v":1.0652419354838709},{"$f":"INDEX(INDIRECT($C$48),MATCH(B56,$B$55:$B$63,0),3)","v":0.79673913043478239},{"$f":"IF(C56=\"-\",\"-\",IF('Step 5 Identify & Select ASHPs'!$E$33=\"Single Speed\",C56*$C$45,C56*$C$45))","v":{"$error":"#VALUE!"}},{"$f":"IF(D56=\"-\",\"-\",IF('Step 5 Identify & Select ASHPs'!$E$33=\"Single Speed\",D56*$C$46,D56*$C$46))","v":{"$error":"#VALUE!"}},{"$f":"IF(E56=\"-\",\"-\",(E56/IF('Intro & Unit Options'!$B$12=\"Metric\",1,3412))/F56)","v":{"$error":"#VALUE!"}},null,null,null,null,null,{"$f":"CONCATENATE(\"HP pwr @\",IF('Intro & Unit Options'!B13=Dropdown_Menus!F2,CONVERT(95,\"F\",\"C\"),95),IF('Intro & Unit Options'!$B$12=Dropdown_Menus!F2,\" C\",\" F\"),IF('Intro & Unit Options'!$B$12=Dropdown_Menus!F2,\" [kW]\",\" [BTU/h]\"))","v":"HP pwr @95 F [BTU/h]"},{"$f":"SLOPE(F59:F60,B59:B60)*IF('Intro & Unit Options'!B13=Dropdown_Menus!F2,CONVERT(95,\"F\",\"C\"),95)+INTERCEPT(F59:F60,B59:B60)","v":{"$error":"#VALUE!"}},null,null,{"$f":"IF('Intro & Unit Options'!Q13=\"Metric\", CONVERT(77,\"F\",\"C\"),77)","v":77},{"$f":"INDEX(INDIRECT($R$48),MATCH(Q56,$Q$55:$Q$63,0),2)","v":0.81612903225806455},{"$f":"INDEX(INDIRECT($R$48),MATCH(Q56,$Q$55:$Q$63,0),3)","v":0.55760869565217386},{"$f":"IF(R56=\"-\",\"-\",IF('Step 5 Identify & Select ASHPs'!$E$33=\"Single Speed\",R56*$R$45,R56*$R$45))","v":{"$error":"#VALUE!"}},{"$f":"IF(S56=\"-\",\"-\",IF('Step 5 Identify & Select ASHPs'!$E$33=\"Single Speed\",S56*$R$46,S56*$R$46))","v":{"$error":"#VALUE!"}},{"$f":"IF(T56=\"-\",\"-\",(T56/IF('Intro & Unit Options'!$B$12=\"Metric\",1,3412))/U56)","v":{"$error":"#VALUE!"}}]
[null,{"$f":"IF('Intro & Unit Options'!B14=\"Metric\", CONVERT(82,\"F\",\"C\"),82)","v":82},1.0253266536331052,0.8461462450592887,{"$f":"IF(C57=\"-\",\"-\",IF('Step 5 Identify & Select ASHPs'!$E$33=\"Single Speed\",C57*$C$45,C57*$C$45))","v":{"$error":"#VALUE!"}},{"$f":"IF(D57=\"-\",\"-\",IF('Step 5 Identify & Select ASHPs'!$E$33=\"Single Speed\",D57*$C$46,D57*$C$46))","v":{"$error":"#VALUE!"}},{"$f":"IF(E57=\"-\",\"-\",(E57/IF('Intro & Unit Options'!$B$12=\"Metric\",1,3412))/F57)","v":{"$error":"#VALUE!"}},null,null,null,null,null,{"$f":"CONCATENATE(\"HP COP @\",IF('Intro & Unit Options'!B14=Dropdown_Menus!F3,CONVERT(95,\"F\",\"C\"),95),IF('Intro & Unit Options'!$B$12=Dropdown_Menus!F3,\" C\",\" F\"),IF('Intro & Unit Options'!$B$12=Dropdown_Menus!F3,\" [kW]\",\" [BTU/h]\"))","v":"HP COP @95 F [BTU/h]"},{"$f":"SLOPE(G59:G60,B59:B60)*IF('Intro & Unit Options'!B14=Dropdown_Menus!F3,CONVERT(95,\"F\",\"C\"),95)+INTERCEPT(G59:G60,B59:B60)","v":{"$error":"#VALUE!"}},null,null,{"$f":"IF('Intro & Unit Options'!Q14=\"Metric\", CONVERT(82,\"F\",\"C\"),82)","v":82},0.78659986966438578,0.60701581027667961,{"$f":"IF(R57=\"-\",\"-\",IF('Step 5 Identify & Select ASHPs'!$E$33=\"Single Speed\",R57*$R$45,R57*$R$45))","v":{"$error":"#VALUE!"}},{"$f":"IF(S57=\"-\",\"-\",IF('Step 5 Identify & Select ASHPs'!$E$33=\"Single Speed\",S57*$R$46,S57*$R$46))","v":{"$error":"#VALUE!"}},{"$f":"IF(T57=\"-\",\"-\",(T57/IF('Intro & Unit Options'!$B$12=\"Metric\",1,3412))/U57)","v":{"$error":"#VALUE!"}}]
[null,{"$f":"IF('Intro & Unit Options'!B15=\"Metric\", CONVERT(87,\"F\",\"C\"),87)","v":87},0.9855414746543778,0.89967218771566626,{"$f":"IF(C58=\"-\",\"-\",IF('Step 5 Identify & Select ASHPs'!$E$33=\"Single Speed\",C58*$C$45,C58*$C$45))","v":{"$error":"#VALUE!"}},{"$f":"IF(D58=\"-\",\"-\",IF('Step 5 Identify & Select ASHPs'!$E$33=\"Single Speed\",D58*$C$46,D58*$C$46))","v":{"$error":"#VALUE!"}},{"$f":"IF(E58=\"-\",\"-\",(E58/IF('Intro & Unit Options'!$B$12=\"Metric\",1,3412))/F58)","v":{"$error":"#VALUE!"}},null,null,null,null,null,null,null,null,null,{"$f":"IF('Intro & Unit Options'!Q15=\"Metric\", CONVERT(87,\"F\",\"C\"),87)","v":87},0.75679083461341512,0.65942028985507262,{"$f":"IF(R58=\"-\",\"-\",IF('Step 5 Identify & Select ASHPs'!$E$33=\"Single Speed\",R58*$R$45,R58*$R$45))","v":{"$error":"#VALUE!"}},{"$f":"IF(S58=\"-\",\"-\",IF('Step 5 Identify & Select ASHPs'!$E$33=\"Single Speed\",S58*$R$46,S58*$R$46))","v":{"$error":"#VALUE!"}},{"$f":"IF(T58=\"-\",\"-\",(T58/IF('Intro & Unit Options'!$B$12=\"Metric\",1,3412))/U58)","v":{"$error":"#VALUE!"}}]
[null,{"$f":"IF('Intro & Unit Options'!B16=\"Metric\", CONVERT(92,\"F\",\"C\"),92)","v":92},0.94593894009216584,0.95898033126294013,{"$f":"IF(C59=\"-\",\"-\",IF('Step 5 Identify & Select ASHPs'!$E$33=\"Single Speed\",C59*$C$45,C59*$C$45))","v":{"$error":"#VALUE!"}},{"$f":"IF(D59=\"-\",\"-\",IF('Step 5 Identify & Select ASHPs'!$E$33=\"Single Speed\",D59*$C$46,D59*$C$46))","v":{"$error":"#VALUE!"}},{"$f":"IF(E59=\"-\",\"-\",(E59/IF('Intro & Unit Options'!$B$12=\"Metric\",1,3412))/F59)","v":{"$error":"#VALUE!"}},null,null,null,null,null,null,null,null,null,{"$f":"IF('Intro & Unit Options'!Q16=\"Metric\", CONVERT(92,\"F\",\"C\"),92)","v":92},0.72658890168970802,0.71603260869565233,{"$f":"IF(R59=\"-\",\"-\",IF('Step 5 Identify & Select ASHPs'!$E$33=\"Single Speed\",R59*$R$45,R59*$R$45))","v":{"$error":"#VALUE!"}},{"$f":"IF(S59=\"-\",\"-\",IF('Step 5 Identify & Select ASHPs'!$E$33=\"Single Speed\",S59*$R$46,S59*$R$46))","v":{"$error":"#VALUE!"}},{"$f":"IF(T59=\"-\",\"-\",(T59/IF('Intro & Unit Options'!$B$12=\"Metric\",1,3412))/U59)","v":{"$error":"#VALUE!"}}]
[null,{"$f":"IF('Intro & Unit Options'!B17=\"Metric\", CONVERT(97,\"F\",\"C\"),97)","v":97},0.90625640040962607,1.0215234644582474,{"$f":"IF(C60=\"-\",\"-\",IF('Step 5 Identify & Select ASHPs'!$E$33=\"Single Speed\",C60*$C$45,C60*$C$45))","v":{"$error":"#VALUE!"}},{"$f":"IF(D60=\"-\",\"-\",IF('Step 5 Identify & Select ASHPs'!$E$33=\"Single Speed\",D60*$C$46,D60*$C$46))","v":{"$error":"#VALUE!"}},{"$f":"IF(E60=\"-\",\"-\",(E60/IF('Intro & Unit Options'!$B$12=\"Metric\",1,3412))/F60)","v":{"$error":"#VALUE!"}},null,null,null,null,null,null,null,null,null,{"$f":"IF('Intro & Unit Options'!Q17=\"Metric\", CONVERT(97,\"F\",\"C\"),97)","v":97},0.69614695340501787,0.77587991718426508,{"$f":"IF(R60=\"-\",\"-\",IF('Step 5 Identify & Select ASHPs'!$E$33=\"Single Speed\",R60*$R$45,R60*$R$45))","v":{"$error":"#VALUE!"}},{"$f":"IF(S60=\"-\",\"-\",IF('Step 5 Identify & Select ASHPs'!$E$33=\"Single Speed\",S60*$R$46,S60*$R$46))","v":{"$error":"#VALUE!"}},{"$f":"IF(T60=\"-\",\"-\",(T60/IF('Intro & Unit Options'!$B$12=\"Metric\",1,3412))/U60)","v":{"$error":"#VALUE!"}}]
[null,{"$f":"IF('Intro & Unit Options'!B18=\"Metric\", CONVERT(102,\"F\",\"C\"),102)","v":102},0.86645385304659506,1.0889190821256038,{"$f":"IF(C61=\"-\",\"-\",IF('Step 5 Identify & Select ASHPs'!$E$33=\"Single Speed\",C61*$C$45,C61*$C$45))","v":{"$error":"#VALUE!"}},{"$f":"IF(D61=\"-\",\"-\",IF('Step 5 Identify & Select ASHPs'!$E$33=\"Single Speed\",D61*$C$46,D61*$C$46))","v":{"$error":"#VALUE!"}},{"$f":"IF(E61=\"-\",\"-\",(E61/IF('Intro & Unit Options'!$B$12=\"Metric\",1,3412))/F61)","v":{"$error":"#VALUE!"}},null,null,null,null,null,null,null,null,null,{"$f":"IF('Intro & Unit Options'!Q18=\"Metric\", CONVERT(102,\"F\",\"C\"),102)","v":102},0.66534498207885306,0.84057971014492738,{"$f":"IF(R61=\"-\",\"-\",IF('Step 5 Identify & Select ASHPs'!$E$33=\"Single Speed\",R61*$R$45,R61*$R$45))","v":{"$error":"#VALUE!"}},{"$f":"IF(S61=\"-\",\"-\",IF('Step 5 Identify & Select ASHPs'!$E$33=\"Single Speed\",S61*$R$46,S61*$R$46))","v":{"$error":"#VALUE!"}},{"$f":"IF(T61=\"-\",\"-\",(T61/IF('Intro & Unit Options'!$B$12=\"Metric\",1,3412))/U61)","v":{"$error":"#VALUE!"}}]
[null,{"$f":"IF('Intro & Unit Options'!B19=\"Metric\", CONVERT(107,\"F\",\"C\"),107)","v":107},0.8263734115347019,1.1610013175230565,{"$f":"IF(C62=\"-\",\"-\",IF('Step 5 Identify & Select ASHPs'!$E$33=\"Single Speed\",C62*$C$45,C62*$C$45))","v":{"$error":"#VALUE!"}},{"$f":"IF(D62=\"-\",\"-\",IF('Step 5 Identify & Select ASHPs'!$E$33=\"Single Speed\",D62*$C$46,D62*$C$46))","v":{"$error":"#VALUE!"}},{"$f":"IF(E62=\"-\",\"-\",(E62/IF('Intro & Unit Options'!$B$12=\"Metric\",1,3412))/F62)","v":{"$error":"#VALUE!"}},null,null,"Normalized rated cap","Normalized rated pwr",null,null,null,null,null,{"$f":"IF('Intro & Unit Options'!Q19=\"Metric\", CONVERT(107,\"F\",\"C\"),107)","v":107},0.63448435972629524,0.91100131752305658,{"$f":"IF(R62=\"-\",\"-\",IF('Step 5 Identify & Select ASHPs'!$E$33=\"Single Speed\",R62*$R$45,R62*$R$45))","v":{"$error":"#VALUE!"}},{"$f":"IF(S62=\"-\",\"-\",IF('Step 5 Identify & Select ASHPs'!$E$33=\"Single Speed\",S62*$R$46,S62*$R$46))","v":{"$error":"#VALUE!"}},{"$f":"IF(T62=\"-\",\"-\",(T62/IF('Intro & Unit Options'!$B$12=\"Metric\",1,3412))/U62)","v":{"$error":"#VALUE!"}},null,null,"Normalized rated cap","Normalized rated pwr"]
[null,{"$f":"IF('Intro & Unit Options'!B20=\"Metric\", CONVERT(112,\"F\",\"C\"),112)","v":112},0.78584718149234278,1.2406016688625383,{"$f":"IF(C63=\"-\",\"-\",IF('Step 5 Identify & Select ASHPs'!$E$33=\"Single Speed\",C63*$C$45,C63*$C$45))","v":{"$error":"#VALUE!"}},{"$f":"IF(D63=\"-\",\"-\",IF('Step 5 Identify & Select ASHPs'!$E$33=\"Single Speed\",D63*$C$46,D63*$C$46))","v":{"$error":"#VALUE!"}},{"$f":"IF(E63=\"-\",\"-\",(E63/IF('Intro & Unit Options'!$B$12=\"Metric\",1,3412))/F63)","v":{"$error":"#VALUE!"}},null,null,{"$f":"IF(AND('Step 5 Identify & Select ASHPs'!E32=\"Centrally Ducted\",'Step 5 Identify & Select ASHPs'!E33=\"Single Speed\"),\"\",IF(AND('Step 5 Identify & Select ASHPs'!E32=\"Centrally Ducted\",'Step 5 Identify & Select ASHPs'!E33=\"Two-Stage\"),'Ducted Performance Tables'!F67,IF(AND('Step 5 Identify & Select ASHPs'!E32=\"Centrally Ducted\",'Step 5 Identify & Select ASHPs'!E33=\"Variable\"),'Ducted Performance Tables'!B122,IF(AND('Step 5 Identify & Select ASHPs'!E32=\"Single Split Ductless\",'Step 5 Identify & Select ASHPs'!E33=\"Regular Variable\"),'Ductless Single Per Table'!B50,IF(AND('Step 5 Identify & Select ASHPs'!E32=\"Single Split Ductless\",'Step 5 Identify & Select ASHPs'!E33=\"Cold Climate Variable\"),'Ductless Single Per Table'!B117,IF(AND('Step 5 Identify & Select ASHPs'!E32=\"Multi-split Ductless\",'Step 5 Identify & Select ASHPs'!E33=\"Regular Variable\"),'Ductless Multi-split'!F20,IF(AND('Step 5 Identify & Select ASHPs'!E32=\"Multi-split Ductless\",'Step 5 Identify & Select ASHPs'!E33=\"Cold Climate Variable\"),'Ductless Multi-split'!F89)))))))","v":0.92655367231638419},{"$f":"IF(AND('Step 5 Identify & Select ASHPs'!E32=\"Centrally Ducted\",'Step 5 Identify & Select ASHPs'!E33=\"Single Speed\"),\"\",IF(AND('Step 5 Identify & Select ASHPs'!E32=\"Centrally Ducted\",'Step 5 Identify & Select ASHPs'!E33=\"Two-Stage\"),'Ducted Performance Tables'!G67,IF(AND('Step 5 Identify & Select ASHPs'!E32=\"Centrally Ducted\",'Step 5 Identify & Select ASHPs'!E33=\"Variable\"),'Ducted Performance Tables'!C122,IF(AND('Step 5 Identify & Select ASHPs'!E32=\"Single Split Ductless\",'Step 5 Identify & Select ASHPs'!E33=\"Regular Variable\"),'Ductless Single Per Table'!C50,IF(AND('Step 5 Identify & Select ASHPs'!E32=\"Single Split Ductless\",'Step 5 Identify & Select ASHPs'!E33=\"Cold Climate Variable\"),'Ductless Single Per Table'!C117,IF(AND('Step 5 Identify & Select ASHPs'!E32=\"Multi-split Ductless\",'Step 5 Identify & Select ASHPs'!E33=\"Regular Variable\"),'Ductless Multi-split'!G20,IF(AND('Step 5 Identify & Select ASHPs'!E32=\"Multi-split Ductless\",'Step 5 Identify & Select ASHPs'!E33=\"Cold Climate Variable\"),'Ductless Multi-split'!G89)))))))","v":0.95652173913043481},null,null,null,null,null,{"$f":"IF('Intro & Unit Options'!Q20=\"Metric\", CONVERT(112,\"F\",\"C\"),112)","v":112},0.60352965135223202,0.99060166886253842,{"$f":"IF(R63=\"-\",\"-\",IF('Step 5 Identify & Select ASHPs'!$E$33=\"Single Speed\",R63*$R$45,R63*$R$45))","v":{"$error":"#VALUE!"}},{"$f":"IF(S63=\"-\",\"-\",IF('Step 5 Identify & Select ASHPs'!$E$33=\"Single Speed\",S63*$R$46,S63*$R$46))","v":{"$error":"#VALUE!"}},{"$f":"IF(T63=\"-\",\"-\",(T63/IF('Intro & Unit Options'!$B$12=\"Metric\",1,3412))/U63)","v":{"$error":"#VALUE!"}},null,null,{"$f":"IF(AND('Step 5 Identify & Select ASHPs'!E32=\"Centrally Ducted\",'Step 5 Identify & Select ASHPs'!E33=\"Single Speed\"),\"\",IF(AND('Step 5 Identify & Select ASHPs'!E32=\"Centrally Ducted\",'Step 5 Identify & Select ASHPs'!E33=\"Two-Stage\"),'Ducted Performance Tables'!N67,IF(AND('Step 5 Identify & Select ASHPs'!E32=\"Centrally Ducted\",'Step 5 Identify & Select ASHPs'!E33=\"Variable\"),'Ducted Performance Tables'!J122,IF(AND('Step 5 Identify & Select ASHPs'!E32=\"Single Split Ductless\",'Step 5 Identify & Select ASHPs'!E33=\"Regular Variable\"),'Ductless Single Per Table'!K50,IF(AND('Step 5 Identify & Select ASHPs'!E32=\"Single Split Ductless\",'Step 5 Identify & Select ASHPs'!E33=\"Cold Climate Variable\"),'Ductless Single Per Table'!K117,IF(AND('Step 5 Identify & Select ASHPs'!E32=\"Multi-split Ductless\",'Step 5 Identify & Select ASHPs'!E33=\"Regular Variable\"),'Ductless Multi-split'!O20,IF(AND('Step 5 Identify & Select ASHPs'!E32=\"Multi-split Ductless\",'Step 5 Identify & Select ASHPs'!E33=\"Cold Climate Variable\"),'Ductless Multi-split'!O89)))))))","v":0.66101694915254239},{"$f":"IF(AND('Step 5 Identify & Select ASHPs'!E32=\"Centrally Ducted\",'Step 5 Identify & Select ASHPs'!E33=\"Single Speed\"),\"\",IF(AND('Step 5 Identify & Select ASHPs'!E32=\"Centrally Ducted\",'Step 5 Identify & Select ASHPs'!E33=\"Two-Stage\"),'Ducted Performance Tables'!O67,IF(AND('Step 5 Identify & Select ASHPs'!E32=\"Centrally Ducted\",'Step 5 Identify & Select ASHPs'!E33=\"Variable\"),'Ducted Performance Tables'!K122,IF(AND('Step 5 Identify & Select ASHPs'!E32=\"Single Split Ductless\",'Step 5 Identify & Select ASHPs'!E33=\"Regular Variable\"),'Ductless Single Per Table'!L50,IF(AND('Step 5 Identify & Select ASHPs'!E32=\"Single Split Ductless\",'Step 5 Identify & Select ASHPs'!E33=\"Cold Climate Variable\"),'Ductless Single Per Table'!L117,IF(AND('Step 5 Identify & Select ASHPs'!E32=\"Multi-split Ductless\",'Step 5 Identify & Select ASHPs'!E33=\"Regular Variable\"),'Ductless Multi-split'!P20,IF(AND('Step 5 Identify & Select ASHPs'!E32=\"Multi-split Ductless\",'Step 5 Identify & Select ASHPs'!E33=\"Cold Climate Variable\"),'Ductless Multi-split'!P89)))))))","v":0.64031620553359692}]

{"sheet":"HP4 Calcs","index":25,"n_rows":68,"n_cols":29,"rows_kept":68,"cut":false,"hidden":true,"merged":[]}
[null,"Representative Curves - HP #1"]
[]
[null,"Heating - High Stage",null,null,null,null,null,null,null,null,null,null,null,null,null,null,"Heating - Low Stage"]
[]
[null,"Capacity @47°F (High Stage) [BTU/h ] ou [kW]",{"$f":"IF('Step 5 Identify & Select ASHPs'!I84,'Step 5 Identify & Select ASHPs'!$N$80, \"This option has not been selected\")","v":"This option has not been selected"},null,null,null,null,null,null,null,null,null,null,null,null,null,"Capacity @47°F (High Stage) [BTU/h ] ou [kW]",{"$f":"IF('Step 5 Identify & Select ASHPs'!I84,'Step 5 Identify & Select ASHPs'!$N$80, \"This option has not been selected\")","v":"This option has not been selected"}]
[null,"Power @47°F (High Stage) [kW]",{"$f":"IF('Step 5 Identify & Select ASHPs'!I84,IF('Step 5 Identify & Select ASHPs'!I92=\"COP\",'Step 5 Identify & Select ASHPs'!N82,'Step 5 Identify & Select ASHPs'!N81), \"This option has not been selected\")","v":"This option has not been selected"},null,null,null,null,null,null,null,null,null,null,null,null,null,"Power @47°F (High Stage) [kW]",{"$f":"IF('Step 5 Identify & Select ASHPs'!I84,IF('Step 5 Identify & Select ASHPs'!I92=\"COP\",'Step 5 Identify & Select ASHPs'!N82,'Step 5 Identify & Select ASHPs'!N81), \"This option has not been selected\")","v":"This option has not been selected"}]
[]
[null,"Performance Table Name: ",{"$f":"IF(AND('Step 5 Identify & Select ASHPs'!E89=\"Centrally Ducted\",'Step 5 Identify & Select ASHPs'!E90=\"Single Speed\"),\"Perf_Htg_Ducted_Single\",IF(AND('Step 5 Identify & Select ASHPs'!E89=\"Centrally Ducted\",'Step 5 Identify & Select ASHPs'!E90=\"Two-Stage\"),\"Perf_Htg_Ducted_2S_HS\",IF(AND('Step 5 Identify & Select ASHPs'!E89=\"Centrally Ducted\",'Step 5 Identify & Select ASHPs'!E90=\"Variable\"),\"Perf_Htg_Ducted_Variable_HS\",IF(AND('Step 5 Identify & Select ASHPs'!E89=\"Single Split Ductless\",'Step 5 Identify & Select ASHPs'!E90=\"Regular Variable\"),\"Perf_Htg_DuctlessSingle_RegVar_HS\",IF(AND('Step 5 Identify & Select ASHPs'!E89=\"Single Split Ductless\",'Step 5 Identify & Select ASHPs'!E90=\"Cold Climate Variable\"),\"Perf_Htg_DuctlessSingle_CCVar_HS\",IF(AND('Step 5 Identify & Select ASHPs'!E89=\"Multi-split Ductless\",'Step 5 Identify & Select ASHPs'!E90=\"Regular Variable\"),\"Perf_Htg_DuctlessMulti_RegVar_HS\",IF(AND('Step 5 Identify & Select ASHPs'!E89=\"Multi-split Ductless\",'Step 5 Identify & Select ASHPs'!E90=\"Cold Climate Variable\"),\"Perf_Htg_DuctlessMulti_CCVar_HS\")))))))","v":"Perf_Htg_Ducted_Variable_HS"},null,null,null,null,null,null,null,null,null,null,null,null,null,"Performance Table Name: ",{"$f":"IF('Step 5 Identify & Select ASHPs'!$E$90=Dropdown_Menus!A2,NA(),IF(AND('Step 5 Identify & Select ASHPs'!E89=\"Centrally Ducted\",'Step 5 Identify & Select ASHPs'!E90=\"Single Speed\"),\"Perf_Htg_Ducted_Single\",IF(AND('Step 5 Identify & Select ASHPs'!E89=\"Centrally Ducted\",'Step 5 Identify & Select ASHPs'!E90=\"Two-Stage\"),\"Perf_Htg_Ducted_2S_LS\",IF(AND('Step 5 Identify & Select ASHPs'!E89=\"Centrally Ducted\",'Step 5 Identify & Select ASHPs'!E90=\"Variable\"),\"Perf_Htg_Ducted_Variable_LS\",IF(AND('Step 5 Identify & Select ASHPs'!E89=\"Single Split Ductless\",'Step 5 Identify & Select ASHPs'!E90=\"Regular Variable\"),\"Perf_Htg_DuctlessSingle_RegVar_LS\",IF(AND('Step 5 Identify & Select ASHPs'!E89=\"Single Split Ductless\",'Step 5 Identify & Select ASHPs'!E90=\"Cold Climate Variable\"),\"Perf_Htg_DuctlessSingle_CCVar_LS\",IF(AND('Step 5 Identify & Select ASHPs'!E89=\"Multi-split Ductless\",'Step 5 Identify & Select ASHPs'!E90=\"Regular Variable\"),\"Perf_Htg_DuctlessMulti_RegVar_LS\",IF(AND('Step 5 Identify & Select ASHPs'!E89=\"Multi-split Ductless\",'Step 5 Identify & Select ASHPs'!E90=\"Cold Climate Variable\"),\"Perf_Htg_DuctlessMulti_CCVar_LS\"))))))))","v":"Perf_Htg_Ducted_Variable_LS"}]
[]
[null,"Design Temp. (heat)",{"$f":"'Design Load Calcs'!$B$24","v":0},null,null,null,null,null,null,null,null,null,null,null,null,null,"Design Temp. (heat)",{"$f":"'Design Load Calcs'!$B$24","v":0}]
[]
[]
[null,"Performance Data and Heating Load Line",null,null,null,null,null,null,null,null,null,null,"Outputs:",null,null,null,"Performance Data and Heating Load Line",null,null,null,null,null,null,null,null,null,null,"Outputs:"]
[null,"Outdoor Temp.","Normalized Capacity","Normalized Power","Normalized Capacity","Normalized Power","Actual Capacity","Actual Power","Actual COP","Heating Load Line ","Intersect. Cap/Htg Load Line",null,"HP cap @ Design Temp. [BTU/h ou kW]",{"$f":"IF(OR(N37=\"-\",N37=C10),M37,SLOPE(M37:M38,N37:N38)*C10+INTERCEPT(M37:M38,N37:N38))","v":{"$error":"#VALUE!"}},null,null,"Outdoor Temp.","Normalized Capacity","Normalized Power","Normalized Capacity","Normalized Power","Actual Capacity","Actual Power","Actual COP","Heating Load Line ","Intersect. Cap/Htg Load Line",null,"HP cap @ Design Temp. [BTU/h ou kW]",{"$f":"IF(OR(AC37=\"-\",AC37=R10),AB37,SLOPE(AB37:AB38,AC37:AC38)*R10+INTERCEPT(AB37:AB38,AC37:AC38))","v":{"$error":"#VALUE!"}}]
[null,"[°C] ou [°F]",null,null,null,null,"[BTU/h] ou [kW]","[kW]","[-]","[BTU/h] ou [kW]",null,null,"BPT (Representative Curve) [°F ou°C]",{"$f":"IF((INDEX(G16:G33,MATCH(G38,B16:B33,0))-INDEX(J16:J33,MATCH(G38,B16:B33,0)))>0,G39,I39)","v":{"$error":"#VALUE!"}},null,null,"[°C] ou [°F]",null,null,null,null,"[BTU/h] ou [kW]","[kW]","[-]","[BTU/h] ou [kW]",null,null,"BPT (Representative Curve) [°F ou°C]",{"$f":"IF((INDEX(V16:V33,MATCH(V38,Q16:Q33,0))-INDEX(Y16:Y33,MATCH(V38,Q16:Q33,0)))>0,V39,X39)","v":{"$error":"#VALUE!"}}]
[null,{"$f":"'Step 5 Identify & Select ASHPs'!E88","v":0},{"$f":"IF(B16=D37,B37,IF(SLOPE(B37:B38,D37:D38)<0,B37,SLOPE(B37:B38,D37:D38)*B16+INTERCEPT(B37:B38,D37:D38)))","v":0.54925714285714289},{"$f":"IF(B16=D37,C37,SLOPE(C37:C38,D37:D38)*B16+INTERCEPT(C37:C38,D37:D38))","v":1.3659677419354841},{"$f":"C16","v":0.54925714285714289},{"$f":"D16","v":1.3659677419354841},{"$f":"C16*$C$5/C31","v":{"$error":"#VALUE!"}},{"$f":"D16*$C$6","v":{"$error":"#VALUE!"}},{"$f":"(G16/IF('Intro & Unit Options'!$B$12=\"Metric\",1,3412))/H16","v":{"$error":"#VALUE!"}},{"$f":"('Design Load Calcs'!$G$23*'HP4 Calcs'!B16+'Design Load Calcs'!$H$23)","v":50000},{"$f":"IF(G16=\"-\",\"\",ABS(G16-J16))","v":{"$error":"#VALUE!"}},null,{"$f":"CONCATENATE(\"HP cap @ BPT\",IF('Intro & Unit Options'!$B$12=Dropdown_Menus!#REF!,\" [kW]\",\" [BTU/h]\"))","v":{"$error":"#REF!"}},{"$f":"IF((INDEX(G16:G33,MATCH(G38,B16:B33,0))-INDEX(J16:J33,MATCH(G38,B16:B33,0)))>0,G40,I40)","v":{"$error":"#VALUE!"}},null,null,{"$f":"'Step 5 Identify & Select ASHPs'!E88","v":0},{"$f":"IF(Q16=S37,Q37,IF(SLOPE(Q37:Q38,S37:S38)<0,Q37,SLOPE(Q37:Q38,S37:S38)*Q16+INTERCEPT(Q37:Q38,S37:S38)))","v":0.35142857142857142},{"$f":"IF(Q16=S37,R37,SLOPE(R37:R38,S37:S38)*Q16+INTERCEPT(R37:R38,S37:S38))","v":0.70467741935483874},{"$f":"R16","v":0.35142857142857142},{"$f":"S16","v":0.70467741935483874},{"$f":"R16*$C$5/R31","v":{"$error":"#VALUE!"}},{"$f":"S16*$C$6","v":{"$error":"#VALUE!"}},{"$f":"(V16/IF('Intro & Unit Options'!$B$12=\"Metric\",1,3412))/W16","v":{"$error":"#VALUE!"}},{"$f":"('Design Load Calcs'!$G$23*'HP4 Calcs'!Q16+'Design Load Calcs'!$H$23)","v":50000},{"$f":"IF(V16=\"-\",\"\",ABS(V16-Y16))","v":{"$error":"#VALUE!"}},null,{"$f":"CONCATENATE(\"HP cap @ BPT\",IF('Intro & Unit Options'!$B$12=Dropdown_Menus!#REF!,\" [kW]\",\" [BTU/h]\"))","v":{"$error":"#REF!"}},{"$f":"IF((INDEX(V16:V33,MATCH(V38,Q16:Q33,0))-INDEX(Y16:Y33,MATCH(V38,Q16:Q33,0)))>0,V40,X40)","v":{"$error":"#VALUE!"}}]
[{"$f":"IF(C17<>\"-\",B17,\"\")","v":""},{"$f":"'Load %s'!B8","v":-23},{"$f":"INDEX(INDIRECT($C$8),MATCH(B17,$B$17:$B$33,0),2)","v":"-"},{"$f":"INDEX(INDIRECT($C$8),MATCH(B17,$B$17:$B$33,0),3)","v":"-"},{"$f":"IF(B17<=$B$16,\"-\",C17)","v":"-"},{"$f":"IF(B17<=$B$16,\"-\",D17)","v":"-"},{"$f":"IF(E17=\"-\",\"-\",E17*$C$5/$C$31)","v":"-"},{"$f":"IF(F17=\"-\",\"-\",F17*$C$6)","v":"-"},{"$f":"IF(G17=\"-\",\"-\",(G17/IF('Intro & Unit Options'!$B$12=\"Metric\",1,3412))/H17)","v":"-"},{"$f":"('Design Load Calcs'!$G$23*'HP4 Calcs'!B17+'Design Load Calcs'!$H$23)","v":69166.666666666672},{"$f":"IF(G17=\"-\",\"\",ABS(G17-J17))","v":""},null,"Fraction of heating above BPT",{"$f":"SLOPE(J37:J38,K37:K38)*N15+INTERCEPT(J37:J38,K37:K38)","v":{"$error":"#VALUE!"}},null,{"$f":"IF(R17<>\"-\",Q17,\"\")","v":""},{"$f":"'Load %s'!B8","v":-23},{"$f":"INDEX(INDIRECT($R$8),MATCH(Q17,$Q$17:$Q$33,0),2)","v":"-"},{"$f":"INDEX(INDIRECT($R$8),MATCH(Q17,$Q$17:$Q$33,0),3)","v":"-"},{"$f":"IF(Q17<=$B$16,\"-\",R17)","v":"-"},{"$f":"IF(Q17<=$B$16,\"-\",S17)","v":"-"},{"$f":"IF(T17=\"-\",\"-\",T17*$C$5/$C$31)","v":"-"},{"$f":"IF(U17=\"-\",\"-\",U17*$C$6)","v":"-"},{"$f":"IF(V17=\"-\",\"-\",(V17/IF('Intro & Unit Options'!$B$12=\"Metric\",1,3412))/W17)","v":"-"},{"$f":"('Design Load Calcs'!$G$23*'HP4 Calcs'!Q17+'Design Load Calcs'!$H$23)","v":69166.666666666672},{"$f":"IF(V17=\"-\",\"\",ABS(V17-Y17))","v":""},null,"Fraction of heating above BPT",{"$f":"SLOPE(Y37:Y38,Z37:Z38)*AC15+INTERCEPT(Y37:Y38,Z37:Z38)","v":{"$error":"#VALUE!"}}]
[{"$f":"IF(C18<>\"-\",B18,\"\")","v":""},{"$f":"'Load %s'!B9","v":-18},{"$f":"INDEX(INDIRECT($C$8),MATCH(B18,$B$17:$B$33,0),2)","v":"-"},"-",{"$f":"IF(B18<=$B$16,\"-\",C18)","v":"-"},{"$f":"IF(B18<=$B$16,\"-\",D18)","v":"-"},{"$f":"IF(E18=\"-\",\"-\",E18*$C$5/$C$31)","v":"-"},{"$f":"IF(F18=\"-\",\"-\",F18*$C$6)","v":"-"},{"$f":"IF(G18=\"-\",\"-\",(G18/IF('Intro & Unit Options'!$B$12=\"Metric\",1,3412))/H18)","v":"-"},{"$f":"('Design Load Calcs'!$G$23*'HP4 Calcs'!B18+'Design Load Calcs'!$H$23)","v":65000},{"$f":"IF(G18=\"-\",\"\",ABS(G18-J18))","v":""},null,"BPT (Selected for the graph) [°F ou°C]",{"$f":"IFERROR(IF('Step 5 Identify & Select ASHPs'!I84,'HP4 Calcs'!N15,'HP4'!J9),NA())","v":"None"},null,{"$f":"IF(R18<>\"-\",Q18,\"\")","v":""},{"$f":"'Load %s'!B9","v":-18},{"$f":"INDEX(INDIRECT($R$8),MATCH(Q18,$Q$17:$Q$33,0),2)","v":"-"},{"$f":"INDEX(INDIRECT($R$8),MATCH(Q18,$Q$17:$Q$33,0),3)","v":"-"},{"$f":"IF(Q18<=$B$16,\"-\",R18)","v":"-"},{"$f":"IF(Q18<=$B$16,\"-\",S18)","v":"-"},{"$f":"IF(T18=\"-\",\"-\",T18*$C$5/$C$31)","v":"-"},{"$f":"IF(U18=\"-\",\"-\",U18*$C$6)","v":"-"},{"$f":"IF(V18=\"-\",\"-\",(V18/IF('Intro & Unit Options'!$B$12=\"Metric\",1,3412))/W18)","v":"-"},{"$f":"('Design Load Calcs'!$G$23*'HP4 Calcs'!Q18+'Design Load Calcs'!$H$23)","v":65000},{"$f":"IF(V18=\"-\",\"\",ABS(V18-Y18))","v":""},null,"BPT (Selected for the graph) [°F ou°C]",{"$f":"IFERROR(IF('Step 5 Identify & Select ASHPs'!I65,'HP4 Calcs'!AC15,'HP3'!U9),NA())","v":"None"}]
["",{"$f":"'Load %s'!B10","v":-13},"-","-","-","-","-","-",{"$f":"IF(G19=\"-\",\"-\",(G19/IF('Intro & Unit Options'!$B$12=\"Metric\",1,3412))/H19)","v":"-"},{"$f":"('Design Load Calcs'!$G$23*'HP4 Calcs'!B19+'Design Load Calcs'!$H$23)","v":60833.333333333336},"",null,"Fraction of heating above BPT",{"$f":"IFERROR(IF('Step 5 Identify & Select ASHPs'!I84,'HP4 Calcs'!N17,'HP4'!J10),NA())","v":{"$error":"#N/A"}},null,"",{"$f":"'Load %s'!B10","v":-13},{"$f":"INDEX(INDIRECT($R$8),MATCH(Q19,$Q$17:$Q$33,0),2)","v":"-"},"-","-","-","-","-",{"$f":"IF(V19=\"-\",\"-\",(V19/IF('Intro & Unit Options'!$B$12=\"Metric\",1,3412))/W19)","v":"-"},{"$f":"('Design Load Calcs'!$G$23*'HP4 Calcs'!Q19+'Design Load Calcs'!$H$23)","v":60833.333333333336},"",null,"Fraction of heating above BPT",{"$f":"IFERROR(IF('Step 5 Identify & Select ASHPs'!I65,'HP4 Calcs'!AC17,'HP3'!U10),NA())","v":{"$error":"#N/A"}}]
[-8,{"$f":"'Load %s'!B11","v":-8},0.41714285714285709,1.3024193548387097,"-","-","-","-",{"$f":"IF(G20=\"-\",\"-\",(G20/IF('Intro & Unit Options'!$B$12=\"Metric\",1,3412))/H20)","v":"-"},{"$f":"('Design Load Calcs'!$G$23*'HP4 Calcs'!B20+'Design Load Calcs'!$H$23)","v":56666.666666666664},"",null,{"$f":"CONCATENATE(\"HP cap @\",IF('Intro & Unit Options'!B12=Dropdown_Menus!F1,CONVERT(47,\"F\",\"C\"),47),IF('Intro & Unit Options'!$B$12=Dropdown_Menus!F1,\" C\",\" F\"),IF('Intro & Unit Options'!$B$12=Dropdown_Menus!F1,\" [kW]\",\" [BTU/h]\"))","v":"HP cap @47 F [BTU/h]"},{"$f":"G31","v":{"$error":"#VALUE!"}},null,-8,{"$f":"'Load %s'!B11","v":-8},{"$f":"INDEX(INDIRECT($R$8),MATCH(Q20,$Q$17:$Q$33,0),2)","v":0.2674285714285714},0.6758064516129032,"-","-","-","-",{"$f":"IF(V20=\"-\",\"-\",(V20/IF('Intro & Unit Options'!$B$12=\"Metric\",1,3412))/W20)","v":"-"},{"$f":"('Design Load Calcs'!$G$23*'HP4 Calcs'!Q20+'Design Load Calcs'!$H$23)","v":56666.666666666664},""]
[-3,{"$f":"'Load %s'!B12","v":-3},0.50057142857142856,1.342741935483871,"-","-","-","-",{"$f":"IF(G21=\"-\",\"-\",(G21/IF('Intro & Unit Options'!$B$12=\"Metric\",1,3412))/H21)","v":"-"},{"$f":"('Design Load Calcs'!$G$23*'HP4 Calcs'!B21+'Design Load Calcs'!$H$23)","v":52500},"",null,null,null,null,-3,{"$f":"'Load %s'!B12","v":-3},0.32057142857142856,0.69354838709677413,"-","-","-","-",{"$f":"IF(V21=\"-\",\"-\",(V21/IF('Intro & Unit Options'!$B$12=\"Metric\",1,3412))/W21)","v":"-"},{"$f":"('Design Load Calcs'!$G$23*'HP4 Calcs'!Q21+'Design Load Calcs'!$H$23)","v":52500},""]
[2,{"$f":"'Load %s'!B13","v":2},0.58171428571428574,1.3814516129032259,0.58171428571428574,1.3814516129032259,{"$error":"#VALUE!"},{"$error":"#VALUE!"},{"$f":"IF(G22=\"-\",\"-\",(G22/IF('Intro & Unit Options'!$B$12=\"Metric\",1,3412))/H22)","v":{"$error":"#VALUE!"}},{"$f":"('Design Load Calcs'!$G$23*'HP4 Calcs'!B22+'Design Load Calcs'!$H$23)","v":48333.333333333336},{"$error":"#VALUE!"},null,"Max Cap",{"$f":"IFERROR(MAX(G16:G33),0)","v":0},null,2,{"$f":"'Load %s'!B13","v":2},0.372,0.71209677419354844,0.372,0.71209677419354844,{"$error":"#VALUE!"},{"$error":"#VALUE!"},{"$f":"IF(V22=\"-\",\"-\",(V22/IF('Intro & Unit Options'!$B$12=\"Metric\",1,3412))/W22)","v":{"$error":"#VALUE!"}},{"$f":"('Design Load Calcs'!$G$23*'HP4 Calcs'!Q22+'Design Load Calcs'!$H$23)","v":48333.333333333336},{"$error":"#VALUE!"}]
[7,{"$f":"'Load %s'!B14","v":7},0.66342857142857148,1.4193548387096775,0.66342857142857148,1.4193548387096775,{"$error":"#VALUE!"},{"$error":"#VALUE!"},{"$f":"IF(G23=\"-\",\"-\",(G23/IF('Intro & Unit Options'!$B$12=\"Metric\",1,3412))/H23)","v":{"$error":"#VALUE!"}},{"$f":"('Design Load Calcs'!$G$23*'HP4 Calcs'!B23+'Design Load Calcs'!$H$23)","v":44166.666666666664},{"$f":"IF(G23=\"-\",\"\",ABS(G23-J23))","v":{"$error":"#VALUE!"}},null,null,null,null,7,{"$f":"'Load %s'!B14","v":7},0.42342857142857143,0.72983870967741937,0.42342857142857143,0.72983870967741937,{"$error":"#VALUE!"},{"$error":"#VALUE!"},{"$f":"IF(V23=\"-\",\"-\",(V23/IF('Intro & Unit Options'!$B$12=\"Metric\",1,3412))/W23)","v":{"$error":"#VALUE!"}},{"$f":"('Design Load Calcs'!$G$23*'HP4 Calcs'!Q23+'Design Load Calcs'!$H$23)","v":44166.666666666664},{"$f":"IF(V23=\"-\",\"\",ABS(V23-Y23))","v":{"$error":"#VALUE!"}}]
[12,{"$f":"'Load %s'!B15","v":12},0.74342857142857144,1.4596774193548387,0.74342857142857144,1.4596774193548387,{"$error":"#VALUE!"},{"$error":"#VALUE!"},{"$f":"IF(G24=\"-\",\"-\",(G24/IF('Intro & Unit Options'!$B$12=\"Metric\",1,3412))/H24)","v":{"$error":"#VALUE!"}},{"$f":"('Design Load Calcs'!$G$23*'HP4 Calcs'!B24+'Design Load Calcs'!$H$23)","v":40000},{"$error":"#VALUE!"},null,"Slope @ t-BPT:",{"$f":"IF((INDEX(G16:G33,MATCH(G38,B16:B33,0))-INDEX(J16:J33,MATCH(G38,B16:B33,0)))>0,SLOPE(F37:F38,G37:G38),SLOPE(H37:H38,I37:I38))","v":{"$error":"#VALUE!"}},null,12,{"$f":"'Load %s'!B15","v":12},0.47485714285714287,0.74838709677419357,0.47485714285714287,0.74838709677419357,{"$error":"#VALUE!"},{"$error":"#VALUE!"},{"$f":"IF(V24=\"-\",\"-\",(V24/IF('Intro & Unit Options'!$B$12=\"Metric\",1,3412))/W24)","v":{"$error":"#VALUE!"}},{"$f":"('Design Load Calcs'!$G$23*'HP4 Calcs'!Q24+'Design Load Calcs'!$H$23)","v":40000},{"$f":"IF(V24=\"-\",\"\",ABS(V24-Y24))","v":{"$error":"#VALUE!"}},null,"Slope @ t-BPT:",{"$f":"IF((INDEX(V16:V33,MATCH(V38,Q16:Q33,0))-INDEX(Y16:Y33,MATCH(V38,Q16:Q33,0)))>0,SLOPE(U37:U38,V37:V38),SLOPE(W37:W38,X37:X38))","v":{"$error":"#VALUE!"}}]
[17,{"$f":"'Load %s'!B16","v":17},0.82285714285714284,1.5,0.82285714285714284,1.5,{"$error":"#VALUE!"},{"$error":"#VALUE!"},{"$f":"IF(G25=\"-\",\"-\",(G25/IF('Intro & Unit Options'!$B$12=\"Metric\",1,3412))/H25)","v":{"$error":"#VALUE!"}},{"$f":"('Design Load Calcs'!$G$23*'HP4 Calcs'!B25+'Design Load Calcs'!$H$23)","v":35833.333333333328},{"$error":"#VALUE!"},null,"Intercept @ t-BPT",{"$f":"IF((INDEX(G16:G33,MATCH(G38,B16:B33,0))-INDEX(J16:J33,MATCH(G38,B16:B33,0)))>0,INTERCEPT(F37:F38,G37:G38),INTERCEPT(H37:H38,I37:I38))","v":{"$error":"#VALUE!"}},null,17,{"$f":"'Load %s'!B16","v":17},0.52571428571428569,0.7661290322580645,0.52571428571428569,0.7661290322580645,{"$error":"#VALUE!"},{"$error":"#VALUE!"},{"$f":"IF(V25=\"-\",\"-\",(V25/IF('Intro & Unit Options'!$B$12=\"Metric\",1,3412))/W25)","v":{"$error":"#VALUE!"}},{"$f":"('Design Load Calcs'!$G$23*'HP4 Calcs'!Q25+'Design Load Calcs'!$H$23)","v":35833.333333333328},{"$error":"#VALUE!"},null,"Intercept @ t-BPT",{"$f":"IF((INDEX(V16:V33,MATCH(V38,Q16:Q33,0))-INDEX(Y16:Y33,MATCH(V38,Q16:Q33,0)))>0,INTERCEPT(U37:U38,V37:V38),INTERCEPT(W37:W38,X37:X38))","v":{"$error":"#VALUE!"}}]
[22,{"$f":"'Load %s'!B17","v":22},0.90114285714285713,1.5362903225806452,0.90114285714285713,1.5362903225806452,{"$error":"#VALUE!"},{"$error":"#VALUE!"},{"$f":"IF(G26=\"-\",\"-\",(G26/IF('Intro & Unit Options'!$B$12=\"Metric\",1,3412))/H26)","v":{"$error":"#VALUE!"}},{"$f":"('Design Load Calcs'!$G$23*'HP4 Calcs'!B26+'Design Load Calcs'!$H$23)","v":31666.666666666664},{"$error":"#VALUE!"},null,null,null,null,22,{"$f":"'Load %s'!B17","v":22},0.5754285714285714,0.782258064516129,0.5754285714285714,0.782258064516129,{"$error":"#VALUE!"},{"$error":"#VALUE!"},{"$f":"IF(V26=\"-\",\"-\",(V26/IF('Intro & Unit Options'!$B$12=\"Metric\",1,3412))/W26)","v":{"$error":"#VALUE!"}},{"$f":"('Design Load Calcs'!$G$23*'HP4 Calcs'!Q26+'Design Load Calcs'!$H$23)","v":31666.666666666664},{"$error":"#VALUE!"}]
[27,{"$f":"'Load %s'!B18","v":27},0.97771428571428565,1.5766129032258065,0.97771428571428565,1.5766129032258065,{"$error":"#VALUE!"},{"$error":"#VALUE!"},{"$f":"IF(G27=\"-\",\"-\",(G27/IF('Intro & Unit Options'!$B$12=\"Metric\",1,3412))/H27)","v":{"$error":"#VALUE!"}},{"$f":"('Design Load Calcs'!$G$23*'HP4 Calcs'!B27+'Design Load Calcs'!$H$23)","v":27500},{"$error":"#VALUE!"},null,null,null,null,27,{"$f":"'Load %s'!B18","v":27},0.62342857142857144,0.8008064516129032,0.62342857142857144,0.8008064516129032,{"$error":"#VALUE!"},{"$error":"#VALUE!"},{"$f":"IF(V27=\"-\",\"-\",(V27/IF('Intro & Unit Options'!$B$12=\"Metric\",1,3412))/W27)","v":{"$error":"#VALUE!"}},{"$f":"('Design Load Calcs'!$G$23*'HP4 Calcs'!Q27+'Design Load Calcs'!$H$23)","v":27500},{"$error":"#VALUE!"}]
[32,{"$f":"'Load %s'!B19","v":32},0.94799999999999995,1.3411290322580645,0.94799999999999995,1.3411290322580645,{"$error":"#VALUE!"},{"$error":"#VALUE!"},{"$f":"IF(G28=\"-\",\"-\",(G28/IF('Intro & Unit Options'!$B$12=\"Metric\",1,3412))/H28)","v":{"$error":"#VALUE!"}},{"$f":"('Design Load Calcs'!$G$23*'HP4 Calcs'!B28+'Design Load Calcs'!$H$23)","v":23333.333333333332},{"$error":"#VALUE!"},null,null,null,null,32,{"$f":"'Load %s'!B19","v":32},0.63257142857142856,0.70725806451612916,0.63257142857142856,0.70725806451612916,{"$error":"#VALUE!"},{"$error":"#VALUE!"},{"$f":"IF(V28=\"-\",\"-\",(V28/IF('Intro & Unit Options'!$B$12=\"Metric\",1,3412))/W28)","v":{"$error":"#VALUE!"}},{"$f":"('Design Load Calcs'!$G$23*'HP4 Calcs'!Q28+'Design Load Calcs'!$H$23)","v":23333.333333333332},{"$error":"#VALUE!"}]
[37,{"$f":"'Load %s'!B20","v":37},0.85885714285714287,0.95967741935483863,0.85885714285714287,0.95967741935483863,{"$error":"#VALUE!"},{"$error":"#VALUE!"},{"$f":"IF(G29=\"-\",\"-\",(G29/IF('Intro & Unit Options'!$B$12=\"Metric\",1,3412))/H29)","v":{"$error":"#VALUE!"}},{"$f":"('Design Load Calcs'!$G$23*'HP4 Calcs'!B29+'Design Load Calcs'!$H$23)","v":19166.666666666664},{"$error":"#VALUE!"},null,null,null,null,37,{"$f":"'Load %s'!B20","v":37},0.61942857142857144,0.55725806451612903,0.61942857142857144,0.55725806451612903,{"$error":"#VALUE!"},{"$error":"#VALUE!"},{"$f":"IF(V29=\"-\",\"-\",(V29/IF('Intro & Unit Options'!$B$12=\"Metric\",1,3412))/W29)","v":{"$error":"#VALUE!"}},{"$f":"('Design Load Calcs'!$G$23*'HP4 Calcs'!Q29+'Design Load Calcs'!$H$23)","v":19166.666666666664},{"$error":"#VALUE!"}]
[42,{"$f":"'Load %s'!B21","v":42},0.92742857142857138,0.97983870967741937,0.92742857142857138,0.97983870967741937,{"$error":"#VALUE!"},{"$error":"#VALUE!"},{"$f":"IF(G30=\"-\",\"-\",(G30/IF('Intro & Unit Options'!$B$12=\"Metric\",1,3412))/H30)","v":{"$error":"#VALUE!"}},{"$f":"('Design Load Calcs'!$G$23*'HP4 Calcs'!B30+'Design Load Calcs'!$H$23)","v":15000},{"$error":"#VALUE!"},null,null,null,null,42,{"$f":"'Load %s'!B21","v":42},0.66914285714285715,0.56774193548387086,0.66914285714285715,0.56774193548387086,{"$error":"#VALUE!"},{"$error":"#VALUE!"},{"$f":"IF(V30=\"-\",\"-\",(V30/IF('Intro & Unit Options'!$B$12=\"Metric\",1,3412))/W30)","v":{"$error":"#VALUE!"}},{"$f":"('Design Load Calcs'!$G$23*'HP4 Calcs'!Q30+'Design Load Calcs'!$H$23)","v":15000},{"$error":"#VALUE!"}]
[47,{"$f":"'Load %s'!B22","v":47},1,1,1,1,{"$error":"#VALUE!"},{"$error":"#VALUE!"},{"$f":"IF(G31=\"-\",\"-\",(G31/IF('Intro & Unit Options'!$B$12=\"Metric\",1,3412))/H31)","v":{"$error":"#VALUE!"}},{"$f":"('Design Load Calcs'!$G$23*'HP4 Calcs'!B31+'Design Load Calcs'!$H$23)","v":10833.333333333328},{"$error":"#VALUE!"},null,null,null,null,47,{"$f":"'Load %s'!B22","v":47},0.72,0.57661290322580638,0.72,0.57661290322580638,{"$error":"#VALUE!"},{"$error":"#VALUE!"},{"$f":"IF(V31=\"-\",\"-\",(V31/IF('Intro & Unit Options'!$B$12=\"Metric\",1,3412))/W31)","v":{"$error":"#VALUE!"}},{"$f":"('Design Load Calcs'!$G$23*'HP4 Calcs'!Q31+'Design Load Calcs'!$H$23)","v":10833.333333333328},{"$error":"#VALUE!"}]
[52,{"$f":"'Load %s'!B23","v":52},1.0754285714285716,1.0201612903225805,1.0754285714285716,1.0201612903225805,{"$error":"#VALUE!"},{"$error":"#VALUE!"},{"$f":"IF(G32=\"-\",\"-\",(G32/IF('Intro & Unit Options'!$B$12=\"Metric\",1,3412))/H32)","v":{"$error":"#VALUE!"}},{"$f":"('Design Load Calcs'!$G$23*'HP4 Calcs'!B32+'Design Load Calcs'!$H$23)","v":6666.6666666666642},{"$error":"#VALUE!"},null,null,null,null,52,{"$f":"'Load %s'!B23","v":52},0.77600000000000002,0.5879032258064516,0.77600000000000002,0.5879032258064516,{"$error":"#VALUE!"},{"$error":"#VALUE!"},{"$f":"IF(V32=\"-\",\"-\",(V32/IF('Intro & Unit Options'!$B$12=\"Metric\",1,3412))/W32)","v":{"$error":"#VALUE!"}},{"$f":"('Design Load Calcs'!$G$23*'HP4 Calcs'!Q32+'Design Load Calcs'!$H$23)","v":6666.6666666666642},{"$error":"#VALUE!"}]
[57,{"$f":"'Load %s'!B24","v":57},1.1485714285714286,1.0403225806451613,1.1485714285714286,1.0403225806451613,{"$error":"#VALUE!"},{"$error":"#VALUE!"},{"$f":"IF(G33=\"-\",\"-\",(G33/IF('Intro & Unit Options'!$B$12=\"Metric\",1,3412))/H33)","v":{"$error":"#VALUE!"}},{"$f":"('Design Load Calcs'!$G$23*'HP4 Calcs'!B33+'Design Load Calcs'!$H$23)","v":2500},{"$error":"#VALUE!"},null,null,null,null,57,{"$f":"'Load %s'!B24","v":57},0.82799999999999996,0.59758064516129039,0.82799999999999996,0.59758064516129039,{"$error":"#VALUE!"},{"$error":"#VALUE!"},{"$f":"IF(V33=\"-\",\"-\",(V33/IF('Intro & Unit Options'!$B$12=\"Metric\",1,3412))/W33)","v":{"$error":"#VALUE!"}},{"$f":"('Design Load Calcs'!$G$23*'HP4 Calcs'!Q33+'Design Load Calcs'!$H$23)","v":2500},{"$error":"#VALUE!"}]
[]
[null,"Slope and Intercept at the cut-off temp. (HP Norm. Cap and pwr)",null,null,null,"Slope and Intercept at the BPT (HP Cap)",null,null,null,"Slope and Intercept at the BPT (Load%)",null,null,"Slope and Intercept at the Design Temp. (HP Cap)",null,null,null,"Slope and Intercept at the cut-off temp. (HP Norm. Cap and pwr)",null,null,null,"Slope and Intercept at the BPT (HP Cap)",null,null,null,"Slope and Intercept at the BPT (Load%)",null,null,"Slope and Intercept at the Design Temp. (HP Cap)"]
[null,"know ys (capacity):","know ys (power):","know xs (temp)",null,"know ys (eq. 1):","know xs (eq. 1):","know ys (eq. 2):","know xs (eq. 2):","know ys (eq. 1):","know ys (eq. 2):",null,"know ys (capacity):","know xs",null,null,"know ys (capacity):","know ys (power):","know xs (temp)",null,"know ys (eq. 1):","know xs (eq. 1):","know ys (eq. 2):","know xs (eq. 2):","know ys (eq. 1):","know ys (eq. 2):",null,"know ys (capacity):","know xs"]
[null,{"$f":"INDEX(C17:C33,MATCH(D37,B17:B33,0))","v":0.50057142857142856},{"$f":"INDEX(D17:D33,SMALL(IF(B37=C17:C33,ROW(C17:C33)-ROW(C17)+1),1))","v":1.342741935483871},{"$f":"IF(MIN(IF(NOT(ISNA(A17:A33)),A17:A33))<=B16,IF(NOT(ISNA(INDEX(B17:B33,MATCH(B16,B17:B33,0)))),INDEX(B17:B33,MATCH(B16,B17:B33,0)),INDEX(B17:B33,MATCH(B16,B17:B33,1))),MIN(IF(NOT(ISNA(A17:A33)),A17:A33)))","v":-3},null,{"$f":"IF(INDEX(B17:B33,MATCH(MIN(K17:K33),K17:K33,0))=MIN(A17:A33),G16,INDEX(G17:G33,MATCH(MIN(K17:K33),K17:K33,0)-1))","v":{"$error":"#VALUE!"}},{"$f":"IF(INDEX(B17:B33,MATCH(MIN(K17:K33),K17:K33,0))=MIN(A17:A33),B16,INDEX(B17:B33,MATCH(MIN(K17:K33),K17:K33,0)-1))","v":{"$error":"#VALUE!"}},{"$f":"INDEX(G16:G33,MATCH(MIN(K16:K33),K16:K33,0))","v":{"$error":"#VALUE!"}},{"$f":"INDEX(B16:B33,MATCH(MIN(K16:K33),K16:K33,0))","v":{"$error":"#VALUE!"}},{"$f":"INDEX(INDIRECT(CONCATENATE(IFERROR(SUBSTITUTE('Step 3 Design Loads'!B8,\"-\",\"\"),'Step 3 Design Loads'!B8),\"_Load\")),MATCH(G37,B17:B33))","v":{"$error":"#VALUE!"}},{"$f":"G37","v":{"$error":"#VALUE!"}},null,{"$f":"IF(N37=B16,G16,IF(N37=\"-\",0,INDEX(G17:G33,MATCH(N37,B17:B33,0))))","v":"-"},{"$f":"IF(C10<B16,\"-\",IFERROR(INDEX(B17:B33,MATCH(C10,B17:B33,0)),INDEX(B17:B33,MATCH(C10,B17:B33,1))))","v":-3},null,null,{"$f":"INDEX(R17:R33,MATCH(S37,Q17:Q33,0))","v":0.32057142857142856},{"$f":"INDEX(S17:S33,SMALL(IF(Q37=R17:R33,ROW(R17:R33)-ROW(R17)+1),1))","v":0.69354838709677413},{"$f":"IF(MIN(IF(NOT(ISNA(P17:P33)),P17:P33))<=Q16,IF(NOT(ISNA(INDEX(Q17:Q33,MATCH(Q16,Q17:Q33,0)))),INDEX(Q17:Q33,MATCH(Q16,Q17:Q33,0)),INDEX(Q17:Q33,MATCH(Q16,Q17:Q33,1))),MIN(IF(NOT(ISNA(P17:P33)),P17:P33)))","v":-3},null,{"$f":"IF(INDEX(Q17:Q33,MATCH(MIN(Z17:Z33),Z17:Z33,0))=MIN(P17:P33),V16,INDEX(V17:V33,MATCH(MIN(Z17:Z33),Z17:Z33,0)-1))","v":{"$error":"#VALUE!"}},{"$f":"IF(INDEX(Q17:Q33,MATCH(MIN(Z17:Z33),Z17:Z33,0))=MIN(P17:P33),Q16,INDEX(Q17:Q33,MATCH(MIN(Z17:Z33),Z17:Z33,0)-1))","v":{"$error":"#VALUE!"}},{"$f":"INDEX(V16:V33,MATCH(MIN(Z16:Z33),Z16:Z33,0))","v":{"$error":"#VALUE!"}},{"$f":"INDEX(Q16:Q33,MATCH(MIN(Z16:Z33),Z16:Z33,0))","v":{"$error":"#VALUE!"}},{"$f":"INDEX(INDIRECT(CONCATENATE(IFERROR(SUBSTITUTE('Step 3 Design Loads'!B8,\"-\",\"\"),'Step 3 Design Loads'!B8),\"_Load\")),MATCH(V37,Q17:Q33))","v":{"$error":"#VALUE!"}},{"$f":"V37","v":{"$error":"#VALUE!"}},null,{"$f":"IF(AC37=Q16,V16,IF(AC37=\"-\",0,INDEX(V17:V33,MATCH(AC37,Q17:Q33,0))))","v":"-"},{"$f":"IF(R10<Q16,\"-\",IFERROR(INDEX(Q17:Q33,MATCH(R10,Q17:Q33,0)),INDEX(Q17:Q33,MATCH(R10,Q17:Q33,1))))","v":-3}]
[null,{"$f":"IF(D38=\"-\",\"-\",INDEX(C17:C33,MATCH(D38,B17:B33,0)))","v":0.58171428571428574},{"$f":"INDEX(D17:D33,SMALL(IF(B38=C17:C33,ROW(C17:C33)-ROW(C17)+1),1))","v":1.3814516129032259},{"$f":"IF(D37=B16,\"-\",INDEX(B17:B33,MATCH(D37,B17:B33,0)+1))","v":2},null,{"$f":"INDEX(G17:G33,MATCH(G38,B17:B33,0))","v":{"$error":"#VALUE!"}},{"$f":"INDEX(B16:B33,MATCH(MIN(K16:K33),K16:K33,0))","v":{"$error":"#VALUE!"}},{"$f":"INDEX(G16:G33,MATCH(MIN(K16:K33),K16:K33,0)+1)","v":{"$error":"#VALUE!"}},{"$f":"INDEX(B16:B33,MATCH(MIN(K16:K33),K16:K33,0)+1)","v":{"$error":"#VALUE!"}},{"$f":"INDEX(INDIRECT(CONCATENATE(IFERROR(SUBSTITUTE('Step 3 Design Loads'!B8,\"-\",\"\"),'Step 3 Design Loads'!B8),\"_Load\")),MATCH(I38,B17:B33))","v":{"$error":"#VALUE!"}},{"$f":"I38","v":{"$error":"#VALUE!"}},null,{"$f":"IF(N38=\"-\",0,INDEX(G17:G33,MATCH(N38,B17:B33,0)))","v":{"$error":"#VALUE!"}},{"$f":"IF(C10<B16,\"-\",IF(N37=C10,\"-\",INDEX(B17:B33,MATCH(C10,B17:B33,1)+1)))","v":2},null,null,{"$f":"IF(S38=\"-\",\"-\",INDEX(R17:R33,MATCH(S38,Q17:Q33,0)))","v":0.372},{"$f":"INDEX(S17:S33,SMALL(IF(Q38=R17:R33,ROW(R17:R33)-ROW(R17)+1),1))","v":0.71209677419354844},{"$f":"IF(S37=Q16,\"-\",INDEX(Q17:Q33,MATCH(S37,Q17:Q33,0)+1))","v":2},null,{"$f":"INDEX(V17:V33,MATCH(V38,Q17:Q33,0))","v":{"$error":"#VALUE!"}},{"$f":"INDEX(Q16:Q33,MATCH(MIN(Z16:Z33),Z16:Z33,0))","v":{"$error":"#VALUE!"}},{"$f":"INDEX(V16:V33,MATCH(MIN(Z16:Z33),Z16:Z33,0)+1)","v":{"$error":"#VALUE!"}},{"$f":"INDEX(Q16:Q33,MATCH(MIN(Z16:Z33),Z16:Z33,0)+1)","v":{"$error":"#VALUE!"}},{"$f":"INDEX(INDIRECT(CONCATENATE(IFERROR(SUBSTITUTE('Step 3 Design Loads'!B8,\"-\",\"\"),'Step 3 Design Loads'!B8),\"_Load\")),MATCH(X38,Q17:Q33))","v":{"$error":"#VALUE!"}},{"$f":"X38","v":{"$error":"#VALUE!"}},null,{"$f":"IF(AC38=\"-\",0,INDEX(V17:V33,MATCH(AC38,Q17:Q33,0)))","v":{"$error":"#VALUE!"}},{"$f":"IF(R10<Q16,\"-\",IF(AC37=R10,\"-\",INDEX(Q17:Q33,MATCH(R10,Q17:Q33,1)+1)))","v":2}]
[null,null,null,null,null,"BPT (eq. 1):",{"$f":"IF(IF(('Design Load Calcs'!$H$23-INTERCEPT(F37:F38,G37:G38))/(IF(SLOPE(F37:F38,G37:G38)<0,0,SLOPE(F37:F38,G37:G38))-'Design Load Calcs'!$G$23)<'Step 3 Design Loads'!B13,NA(),('Design Load Calcs'!$H$23-INTERCEPT(F37:F38,G37:G38))/(IF(SLOPE(F37:F38,G37:G38)<0,0,SLOPE(F37:F38,G37:G38))-'Design Load Calcs'!$G$23))>B33,NA(),IF(('Design Load Calcs'!$H$23-INTERCEPT(F37:F38,G37:G38))/(IF(SLOPE(F37:F38,G37:G38)<0,0,SLOPE(F37:F38,G37:G38))-'Design Load Calcs'!$G$23)<'Step 3 Design Loads'!B13,NA(),('Design Load Calcs'!$H$23-INTERCEPT(F37:F38,G37:G38))/(IF(SLOPE(F37:F38,G37:G38)<0,0,SLOPE(F37:F38,G37:G38))-'Design Load Calcs'!$G$23)))","v":{"$error":"#VALUE!"}},"BPT (eq. 2):",{"$f":"IF(IF(('Design Load Calcs'!$H$23-INTERCEPT(H37:H38,I37:I38))/(IF(SLOPE(H37:H38,I37:I38)<0,0,SLOPE(H37:H38,I37:I38))-'Design Load Calcs'!$G$23)<'Step 3 Design Loads'!B13,NA(),('Design Load Calcs'!$H$23-INTERCEPT(H37:H38,I37:I38))/(IF(SLOPE(H37:H38,I37:I38)<0,0,SLOPE(H37:H38,I37:I38))-'Design Load Calcs'!$G$23))>B33,NA(),IF(('Design Load Calcs'!$H$23-INTERCEPT(H37:H38,I37:I38))/(IF(SLOPE(H37:H38,I37:I38)<0,0,SLOPE(H37:H38,I37:I38))-'Design Load Calcs'!$G$23)<'Step 3 Design Loads'!B13,NA(),('Design Load Calcs'!$H$23-INTERCEPT(H37:H38,I37:I38))/(IF(SLOPE(H37:H38,I37:I38)<0,0,SLOPE(H37:H38,I37:I38))-'Design Load Calcs'!$G$23)))","v":{"$error":"#VALUE!"}},null,null,null,null,null,null,null,null,null,null,null,"BPT (eq. 1):",{"$f":"IF(IF(('Design Load Calcs'!$H$23-INTERCEPT(U37:U38,V37:V38))/(IF(SLOPE(U37:U38,V37:V38)<0,0,SLOPE(U37:U38,V37:V38))-'Design Load Calcs'!$G$23)<'Step 3 Design Loads'!B13,NA(),('Design Load Calcs'!$H$23-INTERCEPT(U37:U38,V37:V38))/(IF(SLOPE(U37:U38,V37:V38)<0,0,SLOPE(U37:U38,V37:V38))-'Design Load Calcs'!$G$23))>Q33,NA(),IF(('Design Load Calcs'!$H$23-INTERCEPT(U37:U38,V37:V38))/(IF(SLOPE(U37:U38,V37:V38)<0,0,SLOPE(U37:U38,V37:V38))-'Design Load Calcs'!$G$23)<'Step 3 Design Loads'!B13,NA(),('Design Load Calcs'!$H$23-INTERCEPT(U37:U38,V37:V38))/(IF(SLOPE(U37:U38,V37:V38)<0,0,SLOPE(U37:U38,V37:V38))-'Design Load Calcs'!$G$23)))","v":{"$error":"#VALUE!"}},"BPT (eq. 2):",{"$f":"IF(IF(('Design Load Calcs'!$H$23-INTERCEPT(W37:W38,X37:X38))/(IF(SLOPE(W37:W38,X37:X38)<0,0,SLOPE(W37:W38,X37:X38))-'Design Load Calcs'!$G$23)<'Step 3 Design Loads'!B13,NA(),('Design Load Calcs'!$H$23-INTERCEPT(W37:W38,X37:X38))/(IF(SLOPE(W37:W38,X37:X38)<0,0,SLOPE(W37:W38,X37:X38))-'Design Load Calcs'!$G$23))>Q33,NA(),IF(('Design Load Calcs'!$H$23-INTERCEPT(W37:W38,X37:X38))/(IF(SLOPE(W37:W38,X37:X38)<0,0,SLOPE(W37:W38,X37:X38))-'Design Load Calcs'!$G$23)<'Step 3 Design Loads'!B13,NA(),('Design Load Calcs'!$H$23-INTERCEPT(W37:W38,X37:X38))/(IF(SLOPE(W37:W38,X37:X38)<0,0,SLOPE(W37:W38,X37:X38))-'Design Load Calcs'!$G$23)))","v":{"$error":"#VALUE!"}}]
[null,null,null,null,null,"Cap (eq. 1):",{"$f":"SLOPE(F37:F38,G37:G38)*G39+INTERCEPT(F37:F38,G37:G38)","v":{"$error":"#VALUE!"}},"Cap (eq. 2):",{"$f":"SLOPE(H37:H38,I37:I38)*I39+INTERCEPT(H37:H38,I37:I38)","v":{"$error":"#VALUE!"}},null,null,null,null,null,null,null,null,null,null,null,"Cap (eq. 1):",{"$f":"SLOPE(U37:U38,V37:V38)*V39+INTERCEPT(U37:U38,V37:V38)","v":{"$error":"#VALUE!"}},"Cap (eq. 2):",{"$f":"SLOPE(W37:W38,X37:X38)*X39+INTERCEPT(W37:W38,X37:X38)","v":{"$error":"#VALUE!"}}]
[]
[]
[null,"Cooling - High Stage ",null,null,null,null,null,null,null,null,null,null,null,null,null,null,"Cooling - Low Stage "]
[]
[null,"Capacity @95°F (High Stage) [BTU/h ] ou [kW]",{"$f":"IF('Step 5 Identify & Select ASHPs'!I84,'Step 5 Identify & Select ASHPs'!N84,\"This option has not been selected\")","v":"This option has not been selected"},null,null,null,null,null,null,null,null,null,null,null,null,null,"Capacity @95°F (High Stage) [BTU/h ] ou [kW]",{"$f":"IF('Step 5 Identify & Select ASHPs'!I84,'Step 5 Identify & Select ASHPs'!N84,\"This option has not been selected\")","v":"This option has not been selected"}]
[null,"Power @95°F (High Stage) [kW]",{"$f":"IF('Step 5 Identify & Select ASHPs'!I84,IF('Step 5 Identify & Select ASHPs'!I92=\"EER\",'Step 5 Identify & Select ASHPs'!N86,'Step 5 Identify & Select ASHPs'!N85),\"This option has not been selected\")","v":"This option has not been selected"},null,null,null,null,null,null,null,null,null,null,null,null,null,"Power @95°F (High Stage) [kW]",{"$f":"IF('Step 5 Identify & Select ASHPs'!I84,IF('Step 5 Identify & Select ASHPs'!I92=\"EER\",'Step 5 Identify & Select ASHPs'!N86,'Step 5 Identify & Select ASHPs'!N85),\"This option has not been selected\")","v":"This option has not been selected"}]
[]
[null,"Performance Table Name: ",{"$f":"IF(AND('Step 5 Identify & Select ASHPs'!E89=\"Centrally Ducted\",'Step 5 Identify & Select ASHPs'!E90=\"Single Speed\"),\"Perf_Clg_Ducted_Single\",IF(AND('Step 5 Identify & Select ASHPs'!E89=\"Centrally Ducted\",'Step 5 Identify & Select ASHPs'!E90=\"Two-Stage\"),\"Perf_Clg_Ducted_2S_HS\",IF(AND('Step 5 Identify & Select ASHPs'!E89=\"Centrally Ducted\",'Step 5 Identify & Select ASHPs'!E90=\"Variable\"),\"Perf_Clg_Ducted_Variable_HS\",IF(AND('Step 5 Identify & Select ASHPs'!E89=\"Single Split Ductless\",'Step 5 Identify & Select ASHPs'!E90=\"Regular Variable\"),\"Perf_Clg_DuctlessSingle_RegVar_HS\",IF(AND('Step 5 Identify & Select ASHPs'!E89=\"Single Split Ductless\",'Step 5 Identify & Select ASHPs'!E90=\"Cold Climate Variable\"),\"Perf_Clg_DuctlessSingle_CCVar_HS\",IF(AND('Step 5 Identify & Select ASHPs'!E89=\"Multi-split Ductless\",'Step 5 Identify & Select ASHPs'!E90=\"Regular Variable\"),\"Perf_Clg_DuctlessMulti_RegVar_HS\",IF(AND('Step 5 Identify & Select ASHPs'!E89=\"Multi-split Ductless\",'Step 5 Identify & Select ASHPs'!E90=\"Cold Climate Variable\"),\"Perf_Clg_DuctlessMulti_CCVar_HS\")))))))","v":"Perf_Clg_Ducted_Variable_HS"},null,null,null,null,null,null,null,null,null,null,null,null,null,"Performance Table Name: ",{"$f":"IF('Step 5 Identify & Select ASHPs'!$E$90=Dropdown_Menus!A2,NA(),IF(AND('Step 5 Identify & Select ASHPs'!E89=\"Centrally Ducted\",'Step 5 Identify & Select ASHPs'!E90=\"Single Speed\"),\"Perf_Clg_Ducted_Single\",IF(AND('Step 5 Identify & Select ASHPs'!E89=\"Centrally Ducted\",'Step 5 Identify & Select ASHPs'!E90=\"Two-Stage\"),\"Perf_Clg_Ducted_2S_LS\",IF(AND('Step 5 Identify & Select ASHPs'!E89=\"Centrally Ducted\",'Step 5 Identify & Select ASHPs'!E90=\"Variable\"),\"Perf_Clg_Ducted_Variable_LS\",IF(AND('Step 5 Identify & Select ASHPs'!E89=\"Single Split Ductless\",'Step 5 Identify & Select ASHPs'!E90=\"Regular Variable\"),\"Perf_Clg_DuctlessSingle_RegVar_LS\",IF(AND('Step 5 Identify & Select ASHPs'!E89=\"Single Split Ductless\",'Step 5 Identify & Select ASHPs'!E90=\"Cold Climate Variable\"),\"Perf_Clg_DuctlessSingle_CCVar_LS\",IF(AND('Step 5 Identify & Select ASHPs'!E89=\"Multi-split Ductless\",'Step 5 Identify & Select ASHPs'!E90=\"Regular Variable\"),\"Perf_Clg_DuctlessMulti_RegVar_LS\",IF(AND('Step 5 Identify & Select ASHPs'!E89=\"Multi-split Ductless\",'Step 5 Identify & Select ASHPs'!E90=\"Cold Climate Variable\"),\"Perf_Clg_DuctlessMulti_CCVar_LS\"))))))))","v":"Perf_Clg_Ducted_Variable_LS"}]
[]
[null,"Design Temp. (cool)",{"$f":"'Design Load Calcs'!B26","v":88},null,null,null,null,null,null,null,null,null,null,null,null,null,"Design Temp. (cool)",{"$f":"'Design Load Calcs'!B26","v":88}]
[]
[null,"Performance Data and Heating Load Line",null,null,null,null,null,null,null,"Slope and Intercept at the Design Temp.",null,null,"Outputs:",null,null,null,"Performance Data and Heating Load Line",null,null,null,null,null,null,null,"Slope and Intercept at the Design Temp.",null,null,"Outputs:"]
[null,"Outdoor Temp.","Normalized Capacity","Normalized Power","Actual Capacity","Actual Power","Actual COP",null,null,"know ys (capacity):","know xs",null,"HP cap @ Design Temp. [BTU/h ou kW]",{"$f":"IF(OR(K54=\"-\",K54=C50),J54,SLOPE(J54:J55,K54:K55)*C50+INTERCEPT(J54:J55,K54:K55))","v":{"$error":"#VALUE!"}},null,null,"Outdoor Temp.","Normalized Capacity","Normalized Power","Actual Capacity","Actual Power","Actual COP",null,null,"know ys (capacity):","know xs",null,"HP cap @ Design Temp. [BTU/h ou kW]",{"$f":"IF(OR(Z54=\"-\",Z54=R50),Y54,SLOPE(Y54:Y55,Z54:Z55)*R50+INTERCEPT(Y54:Y55,Z54:Z55))","v":{"$error":"#VALUE!"}}]
[null,"[°C] ou [°F]",null,null,"[BTU/h] ou [kW]","[kW]","[-]",null,null,{"$f":"INDEX(E55:E63,MATCH(K54,B55:B63,0))","v":{"$error":"#VALUE!"}},{"$f":"IF(C50<B55,B55,IFERROR(INDEX(B55:B63,MATCH(C50,B55:B63,0)),INDEX(B55:B63,MATCH(C50,B55:B63,1))))","v":87},null,"% of Design Load",{"$f":"N53/'Design Load Calcs'!$B$25","v":{"$error":"#VALUE!"}},null,null,"[°C] ou [°F]",null,null,"[BTU/h] ou [kW]","[kW]","[-]",null,null,{"$f":"INDEX(T55:T63,MATCH(Z54,Q55:Q63,0))","v":{"$error":"#VALUE!"}},{"$f":"IF(R50<Q55,Q55,IFERROR(INDEX(Q55:Q63,MATCH(R50,Q55:Q63,0)),INDEX(Q55:Q63,MATCH(R50,Q55:Q63,1))))","v":87},null,"% of Design Load",{"$f":"AC53/'Design Load Calcs'!$B$25","v":{"$error":"#VALUE!"}}]
[null,{"$f":"IF('Intro & Unit Options'!B12=\"Metric\", CONVERT(72,\"F\",\"C\"),72)","v":72},{"$f":"INDEX(INDIRECT($C$48),MATCH(B55,$B$55:$B$63,0),2)","v":0.98107344632768301},{"$f":"INDEX(INDIRECT($C$48),MATCH(B55,$B$55:$B$63,0),3)","v":0.8335968379446641},{"$f":"IF(C55=\"-\",\"-\",IF('Step 5 Identify & Select ASHPs'!$E$33=\"Single Speed\",C55*$C$45,C55*$C$45))","v":{"$error":"#VALUE!"}},{"$f":"IF(D55=\"-\",\"-\",IF('Step 5 Identify & Select ASHPs'!$E$33=\"Single Speed\",D55*$C$46,D55*$C$46))","v":{"$error":"#VALUE!"}},{"$f":"IF(E55=\"-\",\"-\",(E55/IF('Intro & Unit Options'!$B$12=\"Metric\",1,3412))/F55)","v":{"$error":"#VALUE!"}},null,null,{"$f":"IF(K55=\"-\",\"-\",INDEX(E55:E63,MATCH(K55,B55:B63,0)))","v":{"$error":"#VALUE!"}},{"$f":"IF(C50<B55,B56,IF(K54=C50,\"-\",INDEX(B55:B63,MATCH(K54,B55:B63,0)+1)))","v":92},null,{"$f":"CONCATENATE(\"HP cap @\",IF('Intro & Unit Options'!B12=Dropdown_Menus!F1,CONVERT(95,\"F\",\"C\"),95),IF('Intro & Unit Options'!$B$12=Dropdown_Menus!F1,\" C\",\" F\"),IF('Intro & Unit Options'!$B$12=Dropdown_Menus!F1,\" [kW]\",\" [BTU/h]\"))","v":"HP cap @95 F [BTU/h]"},{"$f":"SLOPE(E59:E60,B59:B60)*IF('Intro & Unit Options'!B12=Dropdown_Menus!F1,CONVERT(95,\"F\",\"C\"),95)+INTERCEPT(E59:E60,B59:B60)","v":{"$error":"#VALUE!"}},null,null,{"$f":"IF('Intro & Unit Options'!Q12=\"Metric\", CONVERT(72,\"F\",\"C\"),72)","v":72},{"$f":"INDEX(INDIRECT($R$48),MATCH(Q55,$Q$55:$Q$63,0),2)","v":0.69717514124293789},{"$f":"INDEX(INDIRECT($R$48),MATCH(Q55,$Q$55:$Q$63,0),3)","v":0.56521739130434778},{"$f":"IF(R55=\"-\",\"-\",IF('Step 5 Identify & Select ASHPs'!$E$33=\"Single Speed\",R55*$R$45,R55*$R$45))","v":{"$error":"#VALUE!"}},{"$f":"IF(S55=\"-\",\"-\",IF('Step 5 Identify & Select ASHPs'!$E$33=\"Single Speed\",S55*$R$46,S55*$R$46))","v":{"$error":"#VALUE!"}},{"$f":"IF(T55=\"-\",\"-\",(T55/IF('Intro & Unit Options'!$B$12=\"Metric\",1,3412))/U55)","v":{"$error":"#VALUE!"}},null,null,{"$f":"IF(Z55=\"-\",\"-\",INDEX(T55:T63,MATCH(Z55,Q55:Q63,0)))","v":{"$error":"#VALUE!"}},{"$f":"IF(R50<Q55,Q56,IF(Z54=R50,\"-\",INDEX(Q55:Q63,MATCH(Z54,Q55:Q63,0)+1)))","v":92},null,{"$f":"CONCATENATE(\"HP cap @\",IF('Intro & Unit Options'!B12=Dropdown_Menus!F1,CONVERT(95,\"F\",\"C\"),95),IF('Intro & Unit Options'!$B$12=Dropdown_Menus!F1,\" C\",\" F\"),IF('Intro & Unit Options'!$B$12=Dropdown_Menus!F1,\" [kW]\",\" [BTU/h]\"))","v":"HP cap @95 F [BTU/h]"},{"$f":"SLOPE(T59:T60,Q59:Q60)*IF('Intro & Unit Options'!B12=Dropdown_Menus!F1,CONVERT(95,\"F\",\"C\"),95)+INTERCEPT(T59:T60,Q59:Q60)","v":{"$error":"#VALUE!"}}]
[null,{"$f":"IF('Intro & Unit Options'!B13=\"Metric\", CONVERT(77,\"F\",\"C\"),77)","v":77},{"$f":"INDEX(INDIRECT($C$48),MATCH(B56,$B$55:$B$63,0),2)","v":0.96723163841807913},{"$f":"INDEX(INDIRECT($C$48),MATCH(B56,$B$55:$B$63,0),3)","v":0.86482213438735178},{"$f":"IF(C56=\"-\",\"-\",IF('Step 5 Identify & Select ASHPs'!$E$33=\"Single Speed\",C56*$C$45,C56*$C$45))","v":{"$error":"#VALUE!"}},{"$f":"IF(D56=\"-\",\"-\",IF('Step 5 Identify & Select ASHPs'!$E$33=\"Single Speed\",D56*$C$46,D56*$C$46))","v":{"$error":"#VALUE!"}},{"$f":"IF(E56=\"-\",\"-\",(E56/IF('Intro & Unit Options'!$B$12=\"Metric\",1,3412))/F56)","v":{"$error":"#VALUE!"}},null,null,null,null,null,{"$f":"CONCATENATE(\"HP pwr @\",IF('Intro & Unit Options'!B13=Dropdown_Menus!F2,CONVERT(95,\"F\",\"C\"),95),IF('Intro & Unit Options'!$B$12=Dropdown_Menus!F2,\" C\",\" F\"),IF('Intro & Unit Options'!$B$12=Dropdown_Menus!F2,\" [kW]\",\" [BTU/h]\"))","v":"HP pwr @95 F [BTU/h]"},{"$f":"SLOPE(F59:F60,B59:B60)*IF('Intro & Unit Options'!B13=Dropdown_Menus!F2,CONVERT(95,\"F\",\"C\"),95)+INTERCEPT(F59:F60,B59:B60)","v":{"$error":"#VALUE!"}},null,null,{"$f":"IF('Intro & Unit Options'!Q13=\"Metric\", CONVERT(77,\"F\",\"C\"),77)","v":77},{"$f":"INDEX(INDIRECT($R$48),MATCH(Q56,$Q$55:$Q$63,0),2)","v":0.68870056497175136},{"$f":"INDEX(INDIRECT($R$48),MATCH(Q56,$Q$55:$Q$63,0),3)","v":0.58339920948616608},{"$f":"IF(R56=\"-\",\"-\",IF('Step 5 Identify & Select ASHPs'!$E$33=\"Single Speed\",R56*$R$45,R56*$R$45))","v":{"$error":"#VALUE!"}},{"$f":"IF(S56=\"-\",\"-\",IF('Step 5 Identify & Select ASHPs'!$E$33=\"Single Speed\",S56*$R$46,S56*$R$46))","v":{"$error":"#VALUE!"}},{"$f":"IF(T56=\"-\",\"-\",(T56/IF('Intro & Unit Options'!$B$12=\"Metric\",1,3412))/U56)","v":{"$error":"#VALUE!"}}]
[null,{"$f":"IF('Intro & Unit Options'!B14=\"Metric\", CONVERT(82,\"F\",\"C\"),82)","v":82},{"$f":"INDEX(INDIRECT($C$48),MATCH(B57,$B$55:$B$63,0),2)","v":0.95593220338983054},0.89249011857707505,{"$f":"IF(C57=\"-\",\"-\",IF('Step 5 Identify & Select ASHPs'!$E$33=\"Single Speed\",C57*$C$45,C57*$C$45))","v":{"$error":"#VALUE!"}},{"$f":"IF(D57=\"-\",\"-\",IF('Step 5 Identify & Select ASHPs'!$E$33=\"Single Speed\",D57*$C$46,D57*$C$46))","v":{"$error":"#VALUE!"}},{"$f":"IF(E57=\"-\",\"-\",(E57/IF('Intro & Unit Options'!$B$12=\"Metric\",1,3412))/F57)","v":{"$error":"#VALUE!"}},null,null,null,null,null,{"$f":"CONCATENATE(\"HP COP @\",IF('Intro & Unit Options'!B14=Dropdown_Menus!F3,CONVERT(95,\"F\",\"C\"),95),IF('Intro & Unit Options'!$B$12=Dropdown_Menus!F3,\" C\",\" F\"),IF('Intro & Unit Options'!$B$12=Dropdown_Menus!F3,\" [kW]\",\" [BTU/h]\"))","v":"HP COP @95 F [BTU/h]"},{"$f":"SLOPE(G59:G60,B59:B60)*IF('Intro & Unit Options'!B14=Dropdown_Menus!F3,CONVERT(95,\"F\",\"C\"),95)+INTERCEPT(G59:G60,B59:B60)","v":{"$error":"#VALUE!"}},null,null,{"$f":"IF('Intro & Unit Options'!Q14=\"Metric\", CONVERT(82,\"F\",\"C\"),82)","v":82},0.68022598870056494,0.59920948616600789,{"$f":"IF(R57=\"-\",\"-\",IF('Step 5 Identify & Select ASHPs'!$E$33=\"Single Speed\",R57*$R$45,R57*$R$45))","v":{"$error":"#VALUE!"}},{"$f":"IF(S57=\"-\",\"-\",IF('Step 5 Identify & Select ASHPs'!$E$33=\"Single Speed\",S57*$R$46,S57*$R$46))","v":{"$error":"#VALUE!"}},{"$f":"IF(T57=\"-\",\"-\",(T57/IF('Intro & Unit Options'!$B$12=\"Metric\",1,3412))/U57)","v":{"$error":"#VALUE!"}}]
[null,{"$f":"IF('Intro & Unit Options'!B15=\"Metric\", CONVERT(87,\"F\",\"C\"),87)","v":87},0.94463276836158194,0.91857707509881426,{"$f":"IF(C58=\"-\",\"-\",IF('Step 5 Identify & Select ASHPs'!$E$33=\"Single Speed\",C58*$C$45,C58*$C$45))","v":{"$error":"#VALUE!"}},{"$f":"IF(D58=\"-\",\"-\",IF('Step 5 Identify & Select ASHPs'!$E$33=\"Single Speed\",D58*$C$46,D58*$C$46))","v":{"$error":"#VALUE!"}},{"$f":"IF(E58=\"-\",\"-\",(E58/IF('Intro & Unit Options'!$B$12=\"Metric\",1,3412))/F58)","v":{"$error":"#VALUE!"}},null,null,null,null,null,null,null,null,null,{"$f":"IF('Intro & Unit Options'!Q15=\"Metric\", CONVERT(87,\"F\",\"C\"),87)","v":87},0.67231638418079087,0.61501976284584992,{"$f":"IF(R58=\"-\",\"-\",IF('Step 5 Identify & Select ASHPs'!$E$33=\"Single Speed\",R58*$R$45,R58*$R$45))","v":{"$error":"#VALUE!"}},{"$f":"IF(S58=\"-\",\"-\",IF('Step 5 Identify & Select ASHPs'!$E$33=\"Single Speed\",S58*$R$46,S58*$R$46))","v":{"$error":"#VALUE!"}},{"$f":"IF(T58=\"-\",\"-\",(T58/IF('Intro & Unit Options'!$B$12=\"Metric\",1,3412))/U58)","v":{"$error":"#VALUE!"}}]
[null,{"$f":"IF('Intro & Unit Options'!B16=\"Metric\", CONVERT(92,\"F\",\"C\"),92)","v":92},0.93333333333333335,0.94229249011857708,{"$f":"IF(C59=\"-\",\"-\",IF('Step 5 Identify & Select ASHPs'!$E$33=\"Single Speed\",C59*$C$45,C59*$C$45))","v":{"$error":"#VALUE!"}},{"$f":"IF(D59=\"-\",\"-\",IF('Step 5 Identify & Select ASHPs'!$E$33=\"Single Speed\",D59*$C$46,D59*$C$46))","v":{"$error":"#VALUE!"}},{"$f":"IF(E59=\"-\",\"-\",(E59/IF('Intro & Unit Options'!$B$12=\"Metric\",1,3412))/F59)","v":{"$error":"#VALUE!"}},null,null,null,null,null,null,null,null,null,{"$f":"IF('Intro & Unit Options'!Q16=\"Metric\", CONVERT(92,\"F\",\"C\"),92)","v":92},0.6652542372881356,0.63083003952569172,{"$f":"IF(R59=\"-\",\"-\",IF('Step 5 Identify & Select ASHPs'!$E$33=\"Single Speed\",R59*$R$45,R59*$R$45))","v":{"$error":"#VALUE!"}},{"$f":"IF(S59=\"-\",\"-\",IF('Step 5 Identify & Select ASHPs'!$E$33=\"Single Speed\",S59*$R$46,S59*$R$46))","v":{"$error":"#VALUE!"}},{"$f":"IF(T59=\"-\",\"-\",(T59/IF('Intro & Unit Options'!$B$12=\"Metric\",1,3412))/U59)","v":{"$error":"#VALUE!"}}]
[null,{"$f":"IF('Intro & Unit Options'!B17=\"Metric\", CONVERT(97,\"F\",\"C\"),97)","v":97},0.91751412429378532,0.9652173913043478,{"$f":"IF(C60=\"-\",\"-\",IF('Step 5 Identify & Select ASHPs'!$E$33=\"Single Speed\",C60*$C$45,C60*$C$45))","v":{"$error":"#VALUE!"}},{"$f":"IF(D60=\"-\",\"-\",IF('Step 5 Identify & Select ASHPs'!$E$33=\"Single Speed\",D60*$C$46,D60*$C$46))","v":{"$error":"#VALUE!"}},{"$f":"IF(E60=\"-\",\"-\",(E60/IF('Intro & Unit Options'!$B$12=\"Metric\",1,3412))/F60)","v":{"$error":"#VALUE!"}},null,null,null,null,null,null,null,null,null,{"$f":"IF('Intro & Unit Options'!Q17=\"Metric\", CONVERT(97,\"F\",\"C\"),97)","v":97},0.65423728813559323,0.64584980237154155,{"$f":"IF(R60=\"-\",\"-\",IF('Step 5 Identify & Select ASHPs'!$E$33=\"Single Speed\",R60*$R$45,R60*$R$45))","v":{"$error":"#VALUE!"}},{"$f":"IF(S60=\"-\",\"-\",IF('Step 5 Identify & Select ASHPs'!$E$33=\"Single Speed\",S60*$R$46,S60*$R$46))","v":{"$error":"#VALUE!"}},{"$f":"IF(T60=\"-\",\"-\",(T60/IF('Intro & Unit Options'!$B$12=\"Metric\",1,3412))/U60)","v":{"$error":"#VALUE!"}}]
[null,{"$f":"IF('Intro & Unit Options'!B18=\"Metric\", CONVERT(102,\"F\",\"C\"),102)","v":102},0.89491525423728813,0.9869565217391304,{"$f":"IF(C61=\"-\",\"-\",IF('Step 5 Identify & Select ASHPs'!$E$33=\"Single Speed\",C61*$C$45,C61*$C$45))","v":{"$error":"#VALUE!"}},{"$f":"IF(D61=\"-\",\"-\",IF('Step 5 Identify & Select ASHPs'!$E$33=\"Single Speed\",D61*$C$46,D61*$C$46))","v":{"$error":"#VALUE!"}},{"$f":"IF(E61=\"-\",\"-\",(E61/IF('Intro & Unit Options'!$B$12=\"Metric\",1,3412))/F61)","v":{"$error":"#VALUE!"}},null,null,null,null,null,null,null,null,null,{"$f":"IF('Intro & Unit Options'!Q18=\"Metric\", CONVERT(102,\"F\",\"C\"),102)","v":102},0.63728813559322028,0.65968379446640324,{"$f":"IF(R61=\"-\",\"-\",IF('Step 5 Identify & Select ASHPs'!$E$33=\"Single Speed\",R61*$R$45,R61*$R$45))","v":{"$error":"#VALUE!"}},{"$f":"IF(S61=\"-\",\"-\",IF('Step 5 Identify & Select ASHPs'!$E$33=\"Single Speed\",S61*$R$46,S61*$R$46))","v":{"$error":"#VALUE!"}},{"$f":"IF(T61=\"-\",\"-\",(T61/IF('Intro & Unit Options'!$B$12=\"Metric\",1,3412))/U61)","v":{"$error":"#VALUE!"}}]
[null,{"$f":"IF('Intro & Unit Options'!B19=\"Metric\", CONVERT(107,\"F\",\"C\"),107)","v":107},0.86836158192090396,1.0071146245059288,{"$f":"IF(C62=\"-\",\"-\",IF('Step 5 Identify & Select ASHPs'!$E$33=\"Single Speed\",C62*$C$45,C62*$C$45))","v":{"$error":"#VALUE!"}},{"$f":"IF(D62=\"-\",\"-\",IF('Step 5 Identify & Select ASHPs'!$E$33=\"Single Speed\",D62*$C$46,D62*$C$46))","v":{"$error":"#VALUE!"}},{"$f":"IF(E62=\"-\",\"-\",(E62/IF('Intro & Unit Options'!$B$12=\"Metric\",1,3412))/F62)","v":{"$error":"#VALUE!"}},null,null,"Normalized rated cap","Normalized rated pwr",null,null,null,null,null,{"$f":"IF('Intro & Unit Options'!Q19=\"Metric\", CONVERT(107,\"F\",\"C\"),107)","v":107},0.61751412429378527,0.67193675889328064,{"$f":"IF(R62=\"-\",\"-\",IF('Step 5 Identify & Select ASHPs'!$E$33=\"Single Speed\",R62*$R$45,R62*$R$45))","v":{"$error":"#VALUE!"}},{"$f":"IF(S62=\"-\",\"-\",IF('Step 5 Identify & Select ASHPs'!$E$33=\"Single Speed\",S62*$R$46,S62*$R$46))","v":{"$error":"#VALUE!"}},{"$f":"IF(T62=\"-\",\"-\",(T62/IF('Intro & Unit Options'!$B$12=\"Metric\",1,3412))/U62)","v":{"$error":"#VALUE!"}},null,null,"Normalized rated cap","Normalized rated pwr"]
[null,{"$f":"IF('Intro & Unit Options'!B20=\"Metric\", CONVERT(112,\"F\",\"C\"),112)","v":112},0.83587570621468921,1.0249011857707511,{"$f":"IF(C63=\"-\",\"-\",IF('Step 5 Identify & Select ASHPs'!$E$33=\"Single Speed\",C63*$C$45,C63*$C$45))","v":{"$error":"#VALUE!"}},{"$f":"IF(D63=\"-\",\"-\",IF('Step 5 Identify & Select ASHPs'!$E$33=\"Single Speed\",D63*$C$46,D63*$C$46))","v":{"$error":"#VALUE!"}},{"$f":"IF(E63=\"-\",\"-\",(E63/IF('Intro & Unit Options'!$B$12=\"Metric\",1,3412))/F63)","v":{"$error":"#VALUE!"}},null,null,{"$f":"IF(AND('Step 5 Identify & Select ASHPs'!E32=\"Centrally Ducted\",'Step 5 Identify & Select ASHPs'!E33=\"Single Speed\"),\"\",IF(AND('Step 5 Identify & Select ASHPs'!E32=\"Centrally Ducted\",'Step 5 Identify & Select ASHPs'!E33=\"Two-Stage\"),'Ducted Performance Tables'!F67,IF(AND('Step 5 Identify & Select ASHPs'!E32=\"Centrally Ducted\",'Step 5 Identify & Select ASHPs'!E33=\"Variable\"),'Ducted Performance Tables'!B122,IF(AND('Step 5 Identify & Select ASHPs'!E32=\"Single Split Ductless\",'Step 5 Identify & Select ASHPs'!E33=\"Regular Variable\"),'Ductless Single Per Table'!B50,IF(AND('Step 5 Identify & Select ASHPs'!E32=\"Single Split Ductless\",'Step 5 Identify & Select ASHPs'!E33=\"Cold Climate Variable\"),'Ductless Single Per Table'!B117,IF(AND('Step 5 Identify & Select ASHPs'!E32=\"Multi-split Ductless\",'Step 5 Identify & Select ASHPs'!E33=\"Regular Variable\"),'Ductless Multi-split'!F20,IF(AND('Step 5 Identify & Select ASHPs'!E32=\"Multi-split Ductless\",'Step 5 Identify & Select ASHPs'!E33=\"Cold Climate Variable\"),'Ductless Multi-split'!F89)))))))","v":0.92655367231638419},{"$f":"IF(AND('Step 5 Identify & Select ASHPs'!E32=\"Centrally Ducted\",'Step 5 Identify & Select ASHPs'!E33=\"Single Speed\"),\"\",IF(AND('Step 5 Identify & Select ASHPs'!E32=\"Centrally Ducted\",'Step 5 Identify & Select ASHPs'!E33=\"Two-Stage\"),'Ducted Performance Tables'!G67,IF(AND('Step 5 Identify & Select ASHPs'!E32=\"Centrally Ducted\",'Step 5 Identify & Select ASHPs'!E33=\"Variable\"),'Ducted Performance Tables'!C122,IF(AND('Step 5 Identify & Select ASHPs'!E32=\"Single Split Ductless\",'Step 5 Identify & Select ASHPs'!E33=\"Regular Variable\"),'Ductless Single Per Table'!C50,IF(AND('Step 5 Identify & Select ASHPs'!E32=\"Single Split Ductless\",'Step 5 Identify & Select ASHPs'!E33=\"Cold Climate Variable\"),'Ductless Single Per Table'!C117,IF(AND('Step 5 Identify & Select ASHPs'!E32=\"Multi-split Ductless\",'Step 5 Identify & Select ASHPs'!E33=\"Regular Variable\"),'Ductless Multi-split'!G20,IF(AND('Step 5 Identify & Select ASHPs'!E32=\"Multi-split Ductless\",'Step 5 Identify & Select ASHPs'!E33=\"Cold Climate Variable\"),'Ductless Multi-split'!G89)))))))","v":0.95652173913043481},null,null,null,null,null,{"$f":"IF('Intro & Unit Options'!Q20=\"Metric\", CONVERT(112,\"F\",\"C\"),112)","v":112},0.59350282485875705,0.68181818181818188,{"$f":"IF(R63=\"-\",\"-\",IF('Step 5 Identify & Select ASHPs'!$E$33=\"Single Speed\",R63*$R$45,R63*$R$45))","v":{"$error":"#VALUE!"}},{"$f":"IF(S63=\"-\",\"-\",IF('Step 5 Identify & Select ASHPs'!$E$33=\"Single Speed\",S63*$R$46,S63*$R$46))","v":{"$error":"#VALUE!"}},{"$f":"IF(T63=\"-\",\"-\",(T63/IF('Intro & Unit Options'!$B$12=\"Metric\",1,3412))/U63)","v":{"$error":"#VALUE!"}},null,null,{"$f":"IF(AND('Step 5 Identify & Select ASHPs'!E32=\"Centrally Ducted\",'Step 5 Identify & Select ASHPs'!E33=\"Single Speed\"),\"\",IF(AND('Step 5 Identify & Select ASHPs'!E32=\"Centrally Ducted\",'Step 5 Identify & Select ASHPs'!E33=\"Two-Stage\"),'Ducted Performance Tables'!N67,IF(AND('Step 5 Identify & Select ASHPs'!E32=\"Centrally Ducted\",'Step 5 Identify & Select ASHPs'!E33=\"Variable\"),'Ducted Performance Tables'!J122,IF(AND('Step 5 Identify & Select ASHPs'!E32=\"Single Split Ductless\",'Step 5 Identify & Select ASHPs'!E33=\"Regular Variable\"),'Ductless Single Per Table'!K50,IF(AND('Step 5 Identify & Select ASHPs'!E32=\"Single Split Ductless\",'Step 5 Identify & Select ASHPs'!E33=\"Cold Climate Variable\"),'Ductless Single Per Table'!K117,IF(AND('Step 5 Identify & Select ASHPs'!E32=\"Multi-split Ductless\",'Step 5 Identify & Select ASHPs'!E33=\"Regular Variable\"),'Ductless Multi-split'!O20,IF(AND('Step 5 Identify & Select ASHPs'!E32=\"Multi-split Ductless\",'Step 5 Identify & Select ASHPs'!E33=\"Cold Climate Variable\"),'Ductless Multi-split'!O89)))))))","v":0.66101694915254239},{"$f":"IF(AND('Step 5 Identify & Select ASHPs'!E32=\"Centrally Ducted\",'Step 5 Identify & Select ASHPs'!E33=\"Single Speed\"),\"\",IF(AND('Step 5 Identify & Select ASHPs'!E32=\"Centrally Ducted\",'Step 5 Identify & Select ASHPs'!E33=\"Two-Stage\"),'Ducted Performance Tables'!O67,IF(AND('Step 5 Identify & Select ASHPs'!E32=\"Centrally Ducted\",'Step 5 Identify & Select ASHPs'!E33=\"Variable\"),'Ducted Performance Tables'!K122,IF(AND('Step 5 Identify & Select ASHPs'!E32=\"Single Split Ductless\",'Step 5 Identify & Select ASHPs'!E33=\"Regular Variable\"),'Ductless Single Per Table'!L50,IF(AND('Step 5 Identify & Select ASHPs'!E32=\"Single Split Ductless\",'Step 5 Identify & Select ASHPs'!E33=\"Cold Climate Variable\"),'Ductless Single Per Table'!L117,IF(AND('Step 5 Identify & Select ASHPs'!E32=\"Multi-split Ductless\",'Step 5 Identify & Select ASHPs'!E33=\"Regular Variable\"),'Ductless Multi-split'!P20,IF(AND('Step 5 Identify & Select ASHPs'!E32=\"Multi-split Ductless\",'Step 5 Identify & Select ASHPs'!E33=\"Cold Climate Variable\"),'Ductless Multi-split'!P89)))))))","v":0.64031620553359692}]
[]
[]
[]
[]
[null,null,null,null,null,null,null,null,null,null,null,null,null,null,null,null,null,{"$f":"'Step 5 Identify & Select ASHPs'!$E$90=Dropdown_Menus!A2","v":false}]

{"sheet":"Load Lines Graph","index":26,"n_rows":64,"n_cols":99,"rows_kept":64,"cut":false,"hidden":true,"merged":[[2,94,2,95],[2,97,2,98],[1,76,1,77],[1,79,1,80],[1,82,1,83],[1,85,1,86],[28,70,28,71],[28,73,28,74],[28,76,28,77],[2,88,2,89],[2,91,2,92],[28,79,28,80],[28,82,28,83],[28,85,28,86],[0,0,0,62],[0,64,0,86],[2,1,2,2],[2,82,2,83],[2,85,2,86],[2,64,2,65],[2,67,2,68],[2,70,2,71],[2,73,2,74],[2,76,2,77],[2,79,2,80],[2,58,2,59],[2,55,2,56],[2,4,2,5],[2,7,2,8],[2,10,2,11],[2,13,2,14],[2,43,2,44],[2,28,2,29],[28,37,28,38],[1,64,1,65],[28,64,28,65],[28,13,28,14],[1,67,1,68],[2,52,2,53],[2,16,2,17],[2,19,2,20],[2,22,2,23],[2,46,2,47],[28,67,28,68],[1,70,1,71],[1,73,1,74],[28,4,28,5],[28,28,28,29],[28,7,28,8],[28,31,28,32],[28,10,28,11],[2,61,2,62],[2,25,2,26],[2,31,2,32],[2,49,2,50],[2,34,2,35],[2,37,2,38],[2,40,2,41],[28,34,28,35]]}
["HEATING",null,null,null,null,null,null,null,null,null,null,null,null,null,null,null,null,null,null,null,null,null,null,null,null,null,null,null,null,null,null,null,null,null,null,null,null,null,null,null,null,null,null,null,null,null,null,null,null,null,null,null,null,null,null,null,null,null,null,null,null,null,null,null,"COOLING"]
[null,null,null,null,null,null,null,null,null,null,null,null,null,null,null,null,null,null,null,null,null,null,null,null,null,null,null,null,null,null,null,null,null,null,null,null,null,null,null,null,null,null,null,null,null,null,null,null,null,null,null,null,null,null,null,null,null,null,null,null,null,null,null,null,"Clg HP1",null,null,"Clg  HP2",null,null,"Clg  HP3",null,null,"Clg HP4",null,null,"Clg HP1",null,null,"Clg  HP2",null,null,"Clg  HP4",null,null,"Clg HP4"]
[null,"User Selection",null,null,"HS Htg HP1",null,null,"HS Htg HP2",null,null,"HS Htg HP3",null,null,"HS Htg HP4",null,null,"HS BPT HP1",null,null,"HS BPT HP2",null,null,"HS BPT HP3",null,null,"HS BPT HP4",null,null,"LS Htg HP1",null,null,"LS Htg HP2",null,null,"LS Htg HP3",null,null,"LS Htg HP4",null,null,"LS BPT HP1",null,null,"LS BPT HP2",null,null,"LS BPT HP3",null,null,"LS BPT HP4",null,null,"Heating Load Line ",null,null,"Htg Design Load",null,null,"Htg Design Temp",null,null,"ASHP Target Heat Cap. ",null,null,{"$f":"\"Clg HP1 High Stage \"","v":"Clg HP1 High Stage "},null,null,{"$f":"\"Clg HP2 High Stage \"","v":"Clg HP2 High Stage "},null,null,{"$f":"\"Clg HP3 High Stage \"","v":"Clg HP3 High Stage "},null,null,{"$f":"\"Clg HP4 High Stage \"","v":"Clg HP4 High Stage "},null,null,{"$f":"\"Clg HP1 Low Stage \"","v":"Clg HP1 Low Stage "},null,null,{"$f":"\"Clg HP2 Low Stage \"","v":"Clg HP2 Low Stage "},null,null,{"$f":"\"Clg HP3 Low Stage \"","v":"Clg HP3 Low Stage "},null,null,{"$f":"\"Clg HP4 Low Stage \"","v":"Clg HP4 Low Stage "},null,null,"Clg Target Capé Range",null,null,"Design Cooling Load",null,null,"Design Clg Temp",null,null,"Design Clg Load (dash)"]
[null,"HS HP1",true,null,"Temp.","Cap. ",null,"Temp.","Cap. ",null,"Temp.","Cap. ",null,"Temp.","Cap. ",null,"Temp.","Cap. ",null,"Temp.","Cap. ",null,"Temp.","Cap. ",null,"Temp.","Cap. ",null,"Temp.","Cap. ",null,"Temp.","Cap. ",null,"Temp.","Cap. ",null,"Temp.","Cap. ",null,"Temp.","Cap. ",null,"Temp.","Cap. ",null,"Temp.","Cap. ",null,"Temp.","Cap. ",null,"Temp.","Load",null,"Temp.","Load",null,"Temp.","Load",null,"Temp.","Cap.",null,"Temp.","Cap. ",null,"Temp.","Cap. ",null,"Temp.","Cap. ",null,"Temp.","Cap. ",null,"Temp.","Cap. ",null,"Temp.","Cap. ",null,"Temp.","Cap. ",null,"Temp.","Cap. ",null,"Temp.","Cap.",null,"Temp.","Cap.",null,"Temp.","Cap.",null,"Temp.","Cap."]
[null,"HS HP2",true,null,{"$f":"IF('Step 5 Identify & Select ASHPs'!$I$27,'HP1 Calcs'!B16,IF(OR('HP1'!B10=\"-\",'HP1'!B10=\"\"),\"\",'HP1'!B10))","v":47},{"$f":"IF($C$4,IF('Step 5 Identify & Select ASHPs'!$I$27,'HP1 Calcs'!G16,IF(OR('HP1'!C10=\"-\",'HP1'!C10=\"\"),\"\",'HP1'!C10)),NA())","v":0},null,{"$f":"IF('Step 5 Identify & Select ASHPs'!$I$46,'HP2 Calcs'!B16,IF(OR('HP2'!B10=\"-\",'HP2'!B10=\"\"),\"\",'HP2'!B10))","v":47},{"$f":"IF($C$5,IF('Step 5 Identify & Select ASHPs'!$I$46,'HP2 Calcs'!G16,IF(OR('HP2'!C10=\"-\",'HP2'!C10=\"\"),\"\",'HP2'!C10)),NA())","v":0},null,{"$f":"IF('Step 5 Identify & Select ASHPs'!$I$65,'HP3 Calcs'!B16,IF(OR('HP3'!B10=\"-\",'HP3'!B10=\"\"),\"\",'HP3'!B10))","v":47},{"$f":"IF($C$6,IF('Step 5 Identify & Select ASHPs'!$I$65,'HP3 Calcs'!G16,IF(OR('HP3'!C10=\"-\",'HP3'!C10=\"\"),\"\",'HP3'!C10)),NA())","v":0},null,{"$f":"IF('Step 5 Identify & Select ASHPs'!$I$84,'HP4 Calcs'!B16,IF(OR('HP4'!B10=\"-\",'HP4'!B10=\"\"),\"\",'HP4'!B10))","v":47},{"$f":"IF($C$7,IF('Step 5 Identify & Select ASHPs'!$I$84,'HP4 Calcs'!G16,IF(OR('HP4'!C10=\"-\",'HP4'!C10=\"\"),\"\",'HP4'!C10)),NA())","v":0},null,{"$f":"IFERROR(IF($C$4,IF('Step 5 Identify & Select ASHPs'!$I$27,'HP1 Calcs'!$N$15,'HP1'!$J$9),NA()),NA())","v":"None"},{"$f":"IF(AND($C$4,'Step 5 Identify & Select ASHPs'!$D$11>=1),0,NA())","v":0},null,{"$f":"IFERROR(IF($C$5,IF('Step 5 Identify & Select ASHPs'!$I$46,'HP2 Calcs'!$N$15,'HP2'!$J$9),NA()),NA())","v":"None"},{"$f":"IF(AND($C$5,'Step 5 Identify & Select ASHPs'!$D$11>=2),0,NA())","v":0},null,{"$f":"IFERROR(IF(AND($C$6,'Step 5 Identify & Select ASHPs'!$D$11>=3),IF('Step 5 Identify & Select ASHPs'!$I$65,'HP3 Calcs'!$N$15,'HP3'!$J$9),NA()),NA())","v":"None"},{"$f":"IF(AND($C$6,'Step 5 Identify & Select ASHPs'!$D$11>=3),0,NA())","v":0},null,{"$f":"IFERROR(IF($C$7,IF('Step 5 Identify & Select ASHPs'!$I$84,'HP4 Calcs'!$N$15,'HP4'!$J$9),NA()),NA())","v":"None"},{"$f":"IF(AND($C$7,'Step 5 Identify & Select ASHPs'!$D$11>=4),0,NA())","v":0},null,{"$f":"IF('Step 5 Identify & Select ASHPs'!$I$27,'HP1 Calcs'!Q16,IF(OR('HP1'!M10=\"-\",'HP1'!M10=\"\"),\"\",'HP1'!M10))","v":47},{"$f":"IF($C$8,IF('Step 5 Identify & Select ASHPs'!$I$27,'HP1 Calcs'!V16,IF(OR('HP1'!N10=\"-\",'HP1'!N10=\"\"),\"\",'HP1'!N10)),NA())","v":0},null,{"$f":"IF('Step 5 Identify & Select ASHPs'!$I$46,'HP2 Calcs'!Q16,IF(OR('HP2'!M10=\"-\",'HP2'!M10=\"\"),\"\",'HP2'!M10))","v":47},{"$f":"IF($C$9,IF('Step 5 Identify & Select ASHPs'!$I$46,'HP2 Calcs'!V16,IF(OR('HP2'!N10=\"-\",'HP2'!N10=\"\"),\"\",'HP2'!N10)),NA())","v":0},null,{"$f":"IF('Step 5 Identify & Select ASHPs'!$I$65,'HP3 Calcs'!Q16,IF(OR('HP3'!M10=\"-\",'HP3'!M10=\"\"),\"\",'HP3'!M10))","v":47},{"$f":"IF($C$10,IF('Step 5 Identify & Select ASHPs'!$I$65,'HP3 Calcs'!V16,IF(OR('HP3'!N10=\"-\",'HP3'!N10=\"\"),\"\",'HP3'!N10)),NA())","v":0},null,{"$f":"IF('Step 5 Identify & Select ASHPs'!$I$84,'HP4 Calcs'!Q16,IF(OR('HP4'!M10=\"-\",'HP4'!M10=\"\"),\"\",'HP4'!M10))","v":47},{"$f":"IF($C$11,IF('Step 5 Identify & Select ASHPs'!$I$84,'HP4 Calcs'!V16,IF(OR('HP4'!N10=\"-\",'HP4'!N10=\"\"),\"\",'HP4'!N10)),NA())","v":0},null,{"$f":"IFERROR(IF($C$8,IF('Step 5 Identify & Select ASHPs'!$I$27,'HP1 Calcs'!$AC$15,'HP1'!$U$9),NA()),NA())","v":"None"},{"$f":"IF(AND($C$8,'Step 5 Identify & Select ASHPs'!$D$11>=1),0,NA())","v":0},null,{"$f":"IFERROR(IF($C$9,IF('Step 5 Identify & Select ASHPs'!$I$46,'HP2 Calcs'!$AC$15,'HP2'!$U$9),NA()),NA())","v":"None"},{"$f":"IF(AND($C$9,'Step 5 Identify & Select ASHPs'!$D$11>=2),0,NA())","v":0},null,{"$f":"IFERROR(IF($C$10,IF('Step 5 Identify & Select ASHPs'!$I$65,'HP3 Calcs'!$AC$15,'HP3'!$U$9),NA()),NA())","v":"None"},{"$f":"IF(AND($C$10,'Step 5 Identify & Select ASHPs'!$D$11>=3),0,NA())","v":0},null,{"$f":"IFERROR(IF($C$11,IF('Step 5 Identify & Select ASHPs'!$I$84,'HP4 Calcs'!$AC$15,'HP4'!$U$9),NA()),NA())","v":"None"},{"$f":"IF(AND($C$11,'Step 5 Identify & Select ASHPs'!$D$11>=4),0,NA())","v":0},null,{"$f":"'Design Load Calcs'!$B$4","v":0},{"$f":"'Design Load Calcs'!H4","v":50000},null,{"$f":"'Design Load Calcs'!O5","v":0},{"$f":"'Design Load Calcs'!P5","v":50000},null,{"$f":"'Design Load Calcs'!O8","v":0},{"$f":"'Design Load Calcs'!P8","v":50000},null,{"$f":"'Design Load Calcs'!G15","v":17},{"$f":"'Design Load Calcs'!H15","v":35833.333333333328},null,{"$f":"IF($C$4,IF('Step 5 Identify & Select ASHPs'!$I$27,IF('HP1 Calcs'!C55=0,\"\",'HP1 Calcs'!B55),IF('HP1'!C52=0,\"\",'HP1'!B52)),NA())","v":""},{"$f":"IF($C$4,IF('Step 5 Identify & Select ASHPs'!$I$27,IF('HP1 Calcs'!E55=0,\"\",'HP1 Calcs'!E55),IF('HP1'!C52=0,\"\",'HP1'!C52)),NA())","v":""},null,{"$f":"IF($C$5,IF('Step 5 Identify & Select ASHPs'!$I$46,IF('HP2 Calcs'!C55=0,\"\",'HP2 Calcs'!B55),IF('HP2'!C52=0,\"\",'HP2'!B52)),NA())","v":""},{"$f":"IF(AND($C$5,'Step 5 Identify & Select ASHPs'!$D$11>=2),IF('Step 5 Identify & Select ASHPs'!$I$46,IF('HP2 Calcs'!E55=0,\"\",'HP2 Calcs'!E55),IF('HP2'!C52=0,\"\",'HP2'!C52)),NA())","v":""},null,{"$f":"IF($C$6,IF('Step 5 Identify & Select ASHPs'!$I$65,IF('HP3 Calcs'!C55=0,\"\",'HP3 Calcs'!B55),IF('HP3'!C52=0,\"\",'HP3'!B52)),NA())","v":""},{"$f":"IF(AND($C$6,'Step 5 Identify & Select ASHPs'!$D$11>=3),IF('Step 5 Identify & Select ASHPs'!$I$65,IF('HP3 Calcs'!E55=0,\"\",'HP3 Calcs'!E55),IF('HP3'!C52=0,\"\",'HP3'!C52)),NA())","v":""},null,{"$f":"IF($C$7,IF('Step 5 Identify & Select ASHPs'!$I$84,IF('HP4 Calcs'!C55=0,\"\",'HP4 Calcs'!B55),IF('HP4'!C52=0,\"\",'HP4'!B52)),NA())","v":""},{"$f":"IF(AND($C$7,'Step 5 Identify & Select ASHPs'!$D$11>=4),IF('Step 5 Identify & Select ASHPs'!$I$84,IF('HP4 Calcs'!E55=0,\"\",'HP4 Calcs'!E55),IF('HP4'!C52=0,\"\",'HP4'!C52)),NA())","v":""},null,{"$f":"IF($C$4,IF('Step 5 Identify & Select ASHPs'!$I$27,IF('HP1 Calcs'!T55=0,\"\",'HP1 Calcs'!Q55),IF('HP1'!N52=0,\"\",'HP1'!M52)),NA())","v":""},{"$f":"IF($C$4,IF('Step 5 Identify & Select ASHPs'!$I$27,IF('HP1 Calcs'!T55=0,\"\",'HP1 Calcs'!T55),IF('HP1'!N52=0,\"\",'HP1'!N52)),NA())","v":""},null,{"$f":"IF($C$5,IF('Step 5 Identify & Select ASHPs'!$I$46,IF('HP2 Calcs'!T55=0,\"\",'HP2 Calcs'!Q55),IF('HP2'!N52=0,\"\",'HP2'!M52)),NA())","v":""},{"$f":"IF(AND($C$5,'Step 5 Identify & Select ASHPs'!$D$11>=2),IF('Step 5 Identify & Select ASHPs'!$I$46,IF('HP2 Calcs'!T55=0,\"\",'HP2 Calcs'!T55),IF('HP2'!N52=0,\"\",'HP2'!N52)),NA())","v":""},null,{"$f":"IF($C$6,IF('Step 5 Identify & Select ASHPs'!$I$65,IF('HP3 Calcs'!T55=0,\"\",'HP3 Calcs'!Q55),IF('HP3'!N52=0,\"\",'HP3'!M52)),NA())","v":""},{"$f":"IF(AND($C$6,'Step 5 Identify & Select ASHPs'!$D$11>=3),IF('Step 5 Identify & Select ASHPs'!$I$65,IF('HP3 Calcs'!T55=0,\"\",'HP3 Calcs'!T55),IF('HP3'!N52=0,\"\",'HP3'!N52)),NA())","v":""},null,{"$f":"IF($C$7,IF('Step 5 Identify & Select ASHPs'!$I$84,IF('HP4 Calcs'!T55=0,\"\",'HP4 Calcs'!Q55),IF('HP4'!N52=0,\"\",'HP4'!M52)),NA())","v":""},{"$f":"IF(AND($C$7,'Step 5 Identify & Select ASHPs'!$D$11>=4),IF('Step 5 Identify & Select ASHPs'!$I$84,IF('HP4 Calcs'!T55=0,\"\",'HP4 Calcs'!T55),IF('HP4'!N52=0,\"\",'HP4'!N52)),NA())","v":""},null,{"$f":"'Design Load Calcs'!G32","v":88},{"$f":"'Design Load Calcs'!H32","v":24000},null,{"$f":"'Design Load Calcs'!G10","v":88},{"$f":"'Design Load Calcs'!H10","v":30000}]
[null,"HS HP3",true,null,{"$f":"IF('Step 5 Identify & Select ASHPs'!$I$27,'HP1 Calcs'!B17,IF(OR('HP1'!B11=\"-\",'HP1'!B11=\"\"),\"\",'HP1'!B11))","v":17},{"$f":"IF($C$4,IF('Step 5 Identify & Select ASHPs'!$I$27,'HP1 Calcs'!G17,IF(OR('HP1'!C11=\"-\",'HP1'!C11=\"\"),\"\",'HP1'!C11)),NA())","v":0},null,{"$f":"IF('Step 5 Identify & Select ASHPs'!$I$46,'HP2 Calcs'!B17,IF(OR('HP2'!B11=\"-\",'HP2'!B11=\"\"),\"\",'HP2'!B11))","v":17},{"$f":"IF($C$5,IF('Step 5 Identify & Select ASHPs'!$I$46,'HP2 Calcs'!G17,IF(OR('HP2'!C11=\"-\",'HP2'!C11=\"\"),\"\",'HP2'!C11)),NA())","v":0},null,{"$f":"IF('Step 5 Identify & Select ASHPs'!$I$65,'HP3 Calcs'!B17,IF(OR('HP3'!B11=\"-\",'HP3'!B11=\"\"),\"\",'HP3'!B11))","v":17},{"$f":"IF($C$6,IF('Step 5 Identify & Select ASHPs'!$I$65,'HP3 Calcs'!G17,IF(OR('HP3'!C11=\"-\",'HP3'!C11=\"\"),\"\",'HP3'!C11)),NA())","v":0},null,{"$f":"IF('Step 5 Identify & Select ASHPs'!$I$84,'HP4 Calcs'!B17,IF(OR('HP4'!B11=\"-\",'HP4'!B11=\"\"),\"\",'HP4'!B11))","v":17},{"$f":"IF($C$7,IF('Step 5 Identify & Select ASHPs'!$I$84,'HP4 Calcs'!G17,IF(OR('HP4'!C11=\"-\",'HP4'!C11=\"\"),\"\",'HP4'!C11)),NA())","v":0},null,{"$f":"IFERROR(IF($C$4,IF('Step 5 Identify & Select ASHPs'!$I$27,'HP1 Calcs'!$N$15,'HP1'!$J$9),NA()),NA())","v":"None"},{"$f":"IF(AND($C$4,'Step 5 Identify & Select ASHPs'!$D$11>=1),IF('Step 5 Identify & Select ASHPs'!$I$27,'HP1 Calcs'!$N$16,'HP1'!$J$11),NA())","v":"None"},null,{"$f":"IFERROR(IF($C$5,IF('Step 5 Identify & Select ASHPs'!$I$46,'HP2 Calcs'!$N$15,'HP2'!$J$9),NA()),NA())","v":"None"},{"$f":"IF(AND($C$5,'Step 5 Identify & Select ASHPs'!$D$11>=2),IF('Step 5 Identify & Select ASHPs'!$I$46,'HP2 Calcs'!$N$16,'HP2'!$J$11),NA())","v":"None"},null,{"$f":"IFERROR(IF(AND($C$6,'Step 5 Identify & Select ASHPs'!$D$11>=3),IF('Step 5 Identify & Select ASHPs'!$I$65,'HP3 Calcs'!$N$15,'HP3'!$J$9),NA()),NA())","v":"None"},{"$f":"IF($C$6,IF('Step 5 Identify & Select ASHPs'!$I$65,'HP3 Calcs'!$N$16,'HP3'!$J$11),NA())","v":"None"},null,{"$f":"IFERROR(IF($C$7,IF('Step 5 Identify & Select ASHPs'!$I$84,'HP4 Calcs'!$N$15,'HP4'!$J$9),NA()),NA())","v":"None"},{"$f":"IF(AND($C$7,'Step 5 Identify & Select ASHPs'!$D$11>=4),IF('Step 5 Identify & Select ASHPs'!$I$84,'HP4 Calcs'!$N$16,'HP4'!$J$11),NA())","v":"None"},null,{"$f":"IF('Step 5 Identify & Select ASHPs'!$I$27,'HP1 Calcs'!Q17,IF(OR('HP1'!M11=\"-\",'HP1'!M11=\"\"),\"\",'HP1'!M11))","v":17},{"$f":"IF($C$8,IF('Step 5 Identify & Select ASHPs'!$I$27,'HP1 Calcs'!V17,IF(OR('HP1'!N11=\"-\",'HP1'!N11=\"\"),\"\",'HP1'!N11)),NA())","v":0},null,{"$f":"IF('Step 5 Identify & Select ASHPs'!$I$46,'HP2 Calcs'!Q17,IF(OR('HP2'!M11=\"-\",'HP2'!M11=\"\"),\"\",'HP2'!M11))","v":17},{"$f":"IF($C$9,IF('Step 5 Identify & Select ASHPs'!$I$46,'HP2 Calcs'!V17,IF(OR('HP2'!N11=\"-\",'HP2'!N11=\"\"),\"\",'HP2'!N11)),NA())","v":0},null,{"$f":"IF('Step 5 Identify & Select ASHPs'!$I$65,'HP3 Calcs'!Q17,IF(OR('HP3'!M11=\"-\",'HP3'!M11=\"\"),\"\",'HP3'!M11))","v":17},{"$f":"IF($C$10,IF('Step 5 Identify & Select ASHPs'!$I$65,'HP3 Calcs'!V17,IF(OR('HP3'!N11=\"-\",'HP3'!N11=\"\"),\"\",'HP3'!N11)),NA())","v":0},null,{"$f":"IF('Step 5 Identify & Select ASHPs'!$I$84,'HP4 Calcs'!Q17,IF(OR('HP4'!M11=\"-\",'HP4'!M11=\"\"),\"\",'HP4'!M11))","v":17},{"$f":"IF($C$11,IF('Step 5 Identify & Select ASHPs'!$I$84,'HP4 Calcs'!V17,IF(OR('HP4'!N11=\"-\",'HP4'!N11=\"\"),\"\",'HP4'!N11)),NA())","v":0},null,{"$f":"IFERROR(IF($C$8,IF('Step 5 Identify & Select ASHPs'!$I$27,'HP1 Calcs'!$AC$15,'HP1'!$U$9),NA()),NA())","v":"None"},{"$f":"IF(AND($C$8,'Step 5 Identify & Select ASHPs'!$D$11>=1),IF('Step 5 Identify & Select ASHPs'!$I$27,'HP1 Calcs'!$AC$16,'HP1'!$U$11),NA())","v":"None"},null,{"$f":"IFERROR(IF($C$9,IF('Step 5 Identify & Select ASHPs'!$I$46,'HP2 Calcs'!$AC$15,'HP2'!$U$9),NA()),NA())","v":"None"},{"$f":"IF(AND($C$9,'Step 5 Identify & Select ASHPs'!$D$11>=2),IF('Step 5 Identify & Select ASHPs'!$I$46,'HP2 Calcs'!$AC$16,'HP2'!$U$11),NA())","v":"None"},null,{"$f":"IF($C$10,IF('Step 5 Identify & Select ASHPs'!$I$65,'HP3 Calcs'!$AC$15,'HP3'!$U$9),NA())","v":"None"},{"$f":"IF(AND($C$10,'Step 5 Identify & Select ASHPs'!$D$11>=3),IF('Step 5 Identify & Select ASHPs'!$I$65,'HP3 Calcs'!$AC$16,'HP3'!$U$11),NA())","v":"None"},null,{"$f":"IFERROR(IF($C$11,IF('Step 5 Identify & Select ASHPs'!$I$84,'HP4 Calcs'!$AC$15,'HP4'!$U$9),NA()),NA())","v":"None"},{"$f":"IF(AND($C$11,'Step 5 Identify & Select ASHPs'!$D$11>=4),IF('Step 5 Identify & Select ASHPs'!$I$84,'HP4 Calcs'!$AC$16,'HP4'!$U$11),NA())","v":"None"},null,{"$f":"IF('Intro & Unit Options'!$B$12=Dropdown_Menus!F1,CONVERT(60,\"F\",\"C\"),60)","v":60},0,null,{"$f":"'Design Load Calcs'!O6","v":-10},{"$f":"'Design Load Calcs'!P6","v":50000},null,{"$f":"'Design Load Calcs'!O9","v":0},{"$f":"'Design Load Calcs'!P9","v":0},null,null,null,null,{"$f":"IF($C$4,IF('Step 5 Identify & Select ASHPs'!$I$27,IF('HP1 Calcs'!C56=0,\"\",'HP1 Calcs'!B56),IF('HP1'!C53=0,\"\",'HP1'!B53)),NA())","v":""},{"$f":"IF($C$4,IF('Step 5 Identify & Select ASHPs'!$I$27,IF('HP1 Calcs'!E56=0,\"\",'HP1 Calcs'!E56),IF('HP1'!C53=0,\"\",'HP1'!C53)),NA())","v":""},null,{"$f":"IF($C$5,IF('Step 5 Identify & Select ASHPs'!$I$46,IF('HP2 Calcs'!C56=0,\"\",'HP2 Calcs'!B56),IF('HP2'!C53=0,\"\",'HP2'!B53)),NA())","v":""},{"$f":"IF(AND($C$5,'Step 5 Identify & Select ASHPs'!$D$11>=2),IF('Step 5 Identify & Select ASHPs'!$I$46,IF('HP2 Calcs'!E56=0,\"\",'HP2 Calcs'!E56),IF('HP2'!C53=0,\"\",'HP2'!C53)),NA())","v":""},null,{"$f":"IF($C$6,IF('Step 5 Identify & Select ASHPs'!$I$65,IF('HP3 Calcs'!C56=0,\"\",'HP3 Calcs'!B56),IF('HP3'!C53=0,\"\",'HP3'!B53)),NA())","v":""},{"$f":"IF(AND($C$6,'Step 5 Identify & Select ASHPs'!$D$11>=3),IF('Step 5 Identify & Select ASHPs'!$I$65,IF('HP3 Calcs'!E56=0,\"\",'HP3 Calcs'!E56),IF('HP3'!C53=0,\"\",'HP3'!C53)),NA())","v":""},null,{"$f":"IF($C$7,IF('Step 5 Identify & Select ASHPs'!$I$84,IF('HP4 Calcs'!C56=0,\"\",'HP4 Calcs'!B56),IF('HP4'!C53=0,\"\",'HP4'!B53)),NA())","v":""},{"$f":"IF(AND($C$7,'Step 5 Identify & Select ASHPs'!$D$11>=4),IF('Step 5 Identify & Select ASHPs'!$I$84,IF('HP4 Calcs'!E56=0,\"\",'HP4 Calcs'!E56),IF('HP4'!C53=0,\"\",'HP4'!C53)),NA())","v":""},null,{"$f":"IF($C$4,IF('Step 5 Identify & Select ASHPs'!$I$27,IF('HP1 Calcs'!T56=0,\"\",'HP1 Calcs'!Q56),IF('HP1'!N53=0,\"\",'HP1'!M53)),NA())","v":""},{"$f":"IF($C$4,IF('Step 5 Identify & Select ASHPs'!$I$27,IF('HP1 Calcs'!T56=0,\"\",'HP1 Calcs'!T56),IF('HP1'!N53=0,\"\",'HP1'!N53)),NA())","v":""},null,{"$f":"IF($C$5,IF('Step 5 Identify & Select ASHPs'!$I$46,IF('HP2 Calcs'!T56=0,\"\",'HP2 Calcs'!Q56),IF('HP2'!N53=0,\"\",'HP2'!M53)),NA())","v":""},{"$f":"IF(AND($C$5,'Step 5 Identify & Select ASHPs'!$D$11>=2),IF('Step 5 Identify & Select ASHPs'!$I$46,IF('HP2 Calcs'!T56=0,\"\",'HP2 Calcs'!T56),IF('HP2'!N53=0,\"\",'HP2'!N53)),NA())","v":""},null,{"$f":"IF($C$6,IF('Step 5 Identify & Select ASHPs'!$I$65,IF('HP3 Calcs'!T56=0,\"\",'HP3 Calcs'!Q56),IF('HP3'!N53=0,\"\",'HP3'!M53)),NA())","v":""},{"$f":"IF(AND($C$6,'Step 5 Identify & Select ASHPs'!$D$11>=3),IF('Step 5 Identify & Select ASHPs'!$I$65,IF('HP3 Calcs'!T56=0,\"\",'HP3 Calcs'!T56),IF('HP3'!N53=0,\"\",'HP3'!N53)),NA())","v":""},null,{"$f":"IF($C$7,IF('Step 5 Identify & Select ASHPs'!$I$84,IF('HP4 Calcs'!T56=0,\"\",'HP4 Calcs'!Q56),IF('HP4'!N53=0,\"\",'HP4'!M53)),NA())","v":""},{"$f":"IF(AND($C$7,'Step 5 Identify & Select ASHPs'!$D$11>=4),IF('Step 5 Identify & Select ASHPs'!$I$84,IF('HP4 Calcs'!T56=0,\"\",'HP4 Calcs'!T56),IF('HP4'!N53=0,\"\",'HP4'!N53)),NA())","v":""},null,{"$f":"'Design Load Calcs'!G33","v":88},{"$f":"'Design Load Calcs'!H33","v":37500}]
[null,"HS HP4",true,null,{"$f":"IF('Step 5 Identify & Select ASHPs'!$I$27,'HP1 Calcs'!B18,IF(OR('HP1'!B12=\"-\",'HP1'!B12=\"\"),\"\",'HP1'!B12))","v":""},{"$f":"IF($C$4,IF('Step 5 Identify & Select ASHPs'!$I$27,'HP1 Calcs'!G18,IF(OR('HP1'!C12=\"-\",'HP1'!C12=\"\"),\"\",'HP1'!C12)),NA())","v":""},null,{"$f":"IF('Step 5 Identify & Select ASHPs'!$I$46,'HP2 Calcs'!B18,IF(OR('HP2'!B12=\"-\",'HP2'!B12=\"\"),\"\",'HP2'!B12))","v":""},{"$f":"IF($C$5,IF('Step 5 Identify & Select ASHPs'!$I$46,'HP2 Calcs'!G18,IF(OR('HP2'!C12=\"-\",'HP2'!C12=\"\"),\"\",'HP2'!C12)),NA())","v":""},null,{"$f":"IF('Step 5 Identify & Select ASHPs'!$I$65,'HP3 Calcs'!B18,IF(OR('HP3'!B12=\"-\",'HP3'!B12=\"\"),\"\",'HP3'!B12))","v":""},{"$f":"IF($C$6,IF('Step 5 Identify & Select ASHPs'!$I$65,'HP3 Calcs'!G18,IF(OR('HP3'!C12=\"-\",'HP3'!C12=\"\"),\"\",'HP3'!C12)),NA())","v":""},null,{"$f":"IF('Step 5 Identify & Select ASHPs'!$I$84,'HP4 Calcs'!B18,IF(OR('HP4'!B12=\"-\",'HP4'!B12=\"\"),\"\",'HP4'!B12))","v":""},{"$f":"IF($C$7,IF('Step 5 Identify & Select ASHPs'!$I$84,'HP4 Calcs'!G18,IF(OR('HP4'!C12=\"-\",'HP4'!C12=\"\"),\"\",'HP4'!C12)),NA())","v":""},null,"HP1 High t-BPT",null,null,"HP2 High t-BPT",null,null,"HP3 High t-BPT",null,null,"HP4 High t-BPT",null,null,{"$f":"IF('Step 5 Identify & Select ASHPs'!$I$27,'HP1 Calcs'!Q18,IF(OR('HP1'!M12=\"-\",'HP1'!M12=\"\"),\"\",'HP1'!M12))","v":""},{"$f":"IF($C$8,IF('Step 5 Identify & Select ASHPs'!$I$27,'HP1 Calcs'!V18,IF(OR('HP1'!N12=\"-\",'HP1'!N12=\"\"),\"\",'HP1'!N12)),NA())","v":""},null,{"$f":"IF('Step 5 Identify & Select ASHPs'!$I$46,'HP2 Calcs'!Q18,IF(OR('HP2'!M12=\"-\",'HP2'!M12=\"\"),\"\",'HP2'!M12))","v":""},{"$f":"IF($C$9,IF('Step 5 Identify & Select ASHPs'!$I$46,'HP2 Calcs'!V18,IF(OR('HP2'!N12=\"-\",'HP2'!N12=\"\"),\"\",'HP2'!N12)),NA())","v":""},null,{"$f":"IF('Step 5 Identify & Select ASHPs'!$I$65,'HP3 Calcs'!Q18,IF(OR('HP3'!M12=\"-\",'HP3'!M12=\"\"),\"\",'HP3'!M12))","v":""},{"$f":"IF($C$10,IF('Step 5 Identify & Select ASHPs'!$I$65,'HP3 Calcs'!V18,IF(OR('HP3'!N12=\"-\",'HP3'!N12=\"\"),\"\",'HP3'!N12)),NA())","v":""},null,{"$f":"IF('Step 5 Identify & Select ASHPs'!$I$84,'HP4 Calcs'!Q18,IF(OR('HP4'!M12=\"-\",'HP4'!M12=\"\"),\"\",'HP4'!M12))","v":""},{"$f":"IF($C$11,IF('Step 5 Identify & Select ASHPs'!$I$84,'HP4 Calcs'!V18,IF(OR('HP4'!N12=\"-\",'HP4'!N12=\"\"),\"\",'HP4'!N12)),NA())","v":""},null,"HP1 Low t-BPT",null,null,"HP2 Low t-BPT",null,null,"HP3 Low t-BPT",null,null,"HP4 Low t-BPT",null,null,null,null,null,null,null,null,null,null,null,null,null,null,{"$f":"IF($C$4,IF('Step 5 Identify & Select ASHPs'!$I$27,IF('HP1 Calcs'!C57=0,\"\",'HP1 Calcs'!B57),IF('HP1'!C54=0,\"\",'HP1'!B54)),NA())","v":""},{"$f":"IF($C$4,IF('Step 5 Identify & Select ASHPs'!$I$27,IF('HP1 Calcs'!E57=0,\"\",'HP1 Calcs'!E57),IF('HP1'!C54=0,\"\",'HP1'!C54)),NA())","v":""},null,{"$f":"IF($C$5,IF('Step 5 Identify & Select ASHPs'!$I$46,IF('HP2 Calcs'!C57=0,\"\",'HP2 Calcs'!B57),IF('HP2'!C54=0,\"\",'HP2'!B54)),NA())","v":""},{"$f":"IF(AND($C$5,'Step 5 Identify & Select ASHPs'!$D$11>=2),IF('Step 5 Identify & Select ASHPs'!$I$46,IF('HP2 Calcs'!E57=0,\"\",'HP2 Calcs'!E57),IF('HP2'!C54=0,\"\",'HP2'!C54)),NA())","v":""},null,{"$f":"IF($C$6,IF('Step 5 Identify & Select ASHPs'!$I$65,IF('HP3 Calcs'!C57=0,\"\",'HP3 Calcs'!B57),IF('HP3'!C54=0,\"\",'HP3'!B54)),NA())","v":""},{"$f":"IF(AND($C$6,'Step 5 Identify & Select ASHPs'!$D$11>=3),IF('Step 5 Identify & Select ASHPs'!$I$65,IF('HP3 Calcs'!E57=0,\"\",'HP3 Calcs'!E57),IF('HP3'!C54=0,\"\",'HP3'!C54)),NA())","v":""},null,{"$f":"IF($C$7,IF('Step 5 Identify & Select ASHPs'!$I$84,IF('HP4 Calcs'!C57=0,\"\",'HP4 Calcs'!B57),IF('HP4'!C54=0,\"\",'HP4'!B54)),NA())","v":""},{"$f":"IF(AND($C$7,'Step 5 Identify & Select ASHPs'!$D$11>=4),IF('Step 5 Identify & Select ASHPs'!$I$84,IF('HP4 Calcs'!E57=0,\"\",'HP4 Calcs'!E57),IF('HP4'!C54=0,\"\",'HP4'!C54)),NA())","v":""},null,{"$f":"IF($C$4,IF('Step 5 Identify & Select ASHPs'!$I$27,IF('HP1 Calcs'!T57=0,\"\",'HP1 Calcs'!Q57),IF('HP1'!N54=0,\"\",'HP1'!M54)),NA())","v":""},{"$f":"IF($C$4,IF('Step 5 Identify & Select ASHPs'!$I$27,IF('HP1 Calcs'!T57=0,\"\",'HP1 Calcs'!T57),IF('HP1'!N54=0,\"\",'HP1'!N54)),NA())","v":""},null,{"$f":"IF($C$5,IF('Step 5 Identify & Select ASHPs'!$I$46,IF('HP2 Calcs'!T57=0,\"\",'HP2 Calcs'!Q57),IF('HP2'!N54=0,\"\",'HP2'!M54)),NA())","v":""},{"$f":"IF(AND($C$5,'Step 5 Identify & Select ASHPs'!$D$11>=2),IF('Step 5 Identify & Select ASHPs'!$I$46,IF('HP2 Calcs'!T57=0,\"\",'HP2 Calcs'!T57),IF('HP2'!N54=0,\"\",'HP2'!N54)),NA())","v":""},null,{"$f":"IF($C$6,IF('Step 5 Identify & Select ASHPs'!$I$65,IF('HP3 Calcs'!T57=0,\"\",'HP3 Calcs'!Q57),IF('HP3'!N54=0,\"\",'HP3'!M54)),NA())","v":""},{"$f":"IF(AND($C$6,'Step 5 Identify & Select ASHPs'!$D$11>=3),IF('Step 5 Identify & Select ASHPs'!$I$65,IF('HP3 Calcs'!T57=0,\"\",'HP3 Calcs'!T57),IF('HP3'!N54=0,\"\",'HP3'!N54)),NA())","v":""},null,{"$f":"IF($C$7,IF('Step 5 Identify & Select ASHPs'!$I$84,IF('HP4 Calcs'!T57=0,\"\",'HP4 Calcs'!Q57),IF('HP4'!N54=0,\"\",'HP4'!M54)),NA())","v":""},{"$f":"IF(AND($C$7,'Step 5 Identify & Select ASHPs'!$D$11>=4),IF('Step 5 Identify & Select ASHPs'!$I$84,IF('HP4 Calcs'!T57=0,\"\",'HP4 Calcs'!T57),IF('HP4'!N54=0,\"\",'HP4'!N54)),NA())","v":""}]
[null,"LS HP1",true,null,{"$f":"IF('Step 5 Identify & Select ASHPs'!$I$27,'HP1 Calcs'!B19,IF(OR('HP1'!B13=\"-\",'HP1'!B13=\"\"),\"\",'HP1'!B13))","v":""},{"$f":"IF($C$4,IF('Step 5 Identify & Select ASHPs'!$I$27,'HP1 Calcs'!G19,IF(OR('HP1'!C13=\"-\",'HP1'!C13=\"\"),\"\",'HP1'!C13)),NA())","v":""},null,{"$f":"IF('Step 5 Identify & Select ASHPs'!$I$46,'HP2 Calcs'!B19,IF(OR('HP2'!B13=\"-\",'HP2'!B13=\"\"),\"\",'HP2'!B13))","v":""},{"$f":"IF($C$5,IF('Step 5 Identify & Select ASHPs'!$I$46,'HP2 Calcs'!G19,IF(OR('HP2'!C13=\"-\",'HP2'!C13=\"\"),\"\",'HP2'!C13)),NA())","v":""},null,{"$f":"IF('Step 5 Identify & Select ASHPs'!$I$65,'HP3 Calcs'!B19,IF(OR('HP3'!B13=\"-\",'HP3'!B13=\"\"),\"\",'HP3'!B13))","v":""},{"$f":"IF($C$6,IF('Step 5 Identify & Select ASHPs'!$I$65,'HP3 Calcs'!G19,IF(OR('HP3'!C13=\"-\",'HP3'!C13=\"\"),\"\",'HP3'!C13)),NA())","v":""},null,{"$f":"IF('Step 5 Identify & Select ASHPs'!$I$84,'HP4 Calcs'!B19,IF(OR('HP4'!B13=\"-\",'HP4'!B13=\"\"),\"\",'HP4'!B13))","v":""},{"$f":"IF($C$7,IF('Step 5 Identify & Select ASHPs'!$I$84,'HP4 Calcs'!G19,IF(OR('HP4'!C13=\"-\",'HP4'!C13=\"\"),\"\",'HP4'!C13)),NA())","v":""},null,null,null,null,null,null,null,null,null,null,null,null,null,{"$f":"IF('Step 5 Identify & Select ASHPs'!$I$27,'HP1 Calcs'!Q19,IF(OR('HP1'!M13=\"-\",'HP1'!M13=\"\"),\"\",'HP1'!M13))","v":""},{"$f":"IF($C$8,IF('Step 5 Identify & Select ASHPs'!$I$27,'HP1 Calcs'!V19,IF(OR('HP1'!N13=\"-\",'HP1'!N13=\"\"),\"\",'HP1'!N13)),NA())","v":""},null,{"$f":"IF('Step 5 Identify & Select ASHPs'!$I$46,'HP2 Calcs'!Q19,IF(OR('HP2'!M13=\"-\",'HP2'!M13=\"\"),\"\",'HP2'!M13))","v":""},{"$f":"IF($C$9,IF('Step 5 Identify & Select ASHPs'!$I$46,'HP2 Calcs'!V19,IF(OR('HP2'!N13=\"-\",'HP2'!N13=\"\"),\"\",'HP2'!N13)),NA())","v":""},null,{"$f":"IF('Step 5 Identify & Select ASHPs'!$I$65,'HP3 Calcs'!Q19,IF(OR('HP3'!M13=\"-\",'HP3'!M13=\"\"),\"\",'HP3'!M13))","v":""},{"$f":"IF($C$10,IF('Step 5 Identify & Select ASHPs'!$I$65,'HP3 Calcs'!V19,IF(OR('HP3'!N13=\"-\",'HP3'!N13=\"\"),\"\",'HP3'!N13)),NA())","v":""},null,{"$f":"IF('Step 5 Identify & Select ASHPs'!$I$84,'HP4 Calcs'!Q19,IF(OR('HP4'!M13=\"-\",'HP4'!M13=\"\"),\"\",'HP4'!M13))","v":""},{"$f":"IF($C$11,IF('Step 5 Identify & Select ASHPs'!$I$84,'HP4 Calcs'!V19,IF(OR('HP4'!N13=\"-\",'HP4'!N13=\"\"),\"\",'HP4'!N13)),NA())","v":""},null,null,null,null,null,null,null,null,null,null,null,null,null,null,null,null,null,null,null,null,null,null,null,null,null,{"$f":"IF($C$4,IF('Step 5 Identify & Select ASHPs'!$I$27,IF('HP1 Calcs'!C58=0,\"\",'HP1 Calcs'!B58),IF('HP1'!C55=0,\"\",'HP1'!B55)),NA())","v":""},{"$f":"IF($C$4,IF('Step 5 Identify & Select ASHPs'!$I$27,IF('HP1 Calcs'!E58=0,\"\",'HP1 Calcs'!E58),IF('HP1'!C55=0,\"\",'HP1'!C55)),NA())","v":""},null,{"$f":"IF($C$5,IF('Step 5 Identify & Select ASHPs'!$I$46,IF('HP2 Calcs'!C58=0,\"\",'HP2 Calcs'!B58),IF('HP2'!C55=0,\"\",'HP2'!B55)),NA())","v":""},{"$f":"IF(AND($C$5,'Step 5 Identify & Select ASHPs'!$D$11>=2),IF('Step 5 Identify & Select ASHPs'!$I$46,IF('HP2 Calcs'!E58=0,\"\",'HP2 Calcs'!E58),IF('HP2'!C55=0,\"\",'HP2'!C55)),NA())","v":""},null,{"$f":"IF($C$6,IF('Step 5 Identify & Select ASHPs'!$I$65,IF('HP3 Calcs'!C58=0,\"\",'HP3 Calcs'!B58),IF('HP3'!C55=0,\"\",'HP3'!B55)),NA())","v":""},{"$f":"IF(AND($C$6,'Step 5 Identify & Select ASHPs'!$D$11>=3),IF('Step 5 Identify & Select ASHPs'!$I$65,IF('HP3 Calcs'!E58=0,\"\",'HP3 Calcs'!E58),IF('HP3'!C55=0,\"\",'HP3'!C55)),NA())","v":""},null,{"$f":"IF($C$7,IF('Step 5 Identify & Select ASHPs'!$I$84,IF('HP4 Calcs'!C58=0,\"\",'HP4 Calcs'!B58),IF('HP4'!C55=0,\"\",'HP4'!B55)),NA())","v":""},{"$f":"IF(AND($C$7,'Step 5 Identify & Select ASHPs'!$D$11>=4),IF('Step 5 Identify & Select ASHPs'!$I$84,IF('HP4 Calcs'!E58=0,\"\",'HP4 Calcs'!E58),IF('HP4'!C55=0,\"\",'HP4'!C55)),NA())","v":""},null,{"$f":"IF($C$4,IF('Step 5 Identify & Select ASHPs'!$I$27,IF('HP1 Calcs'!T58=0,\"\",'HP1 Calcs'!Q58),IF('HP1'!N55=0,\"\",'HP1'!M55)),NA())","v":""},{"$f":"IF($C$4,IF('Step 5 Identify & Select ASHPs'!$I$27,IF('HP1 Calcs'!T58=0,\"\",'HP1 Calcs'!T58),IF('HP1'!N55=0,\"\",'HP1'!N55)),NA())","v":""},null,{"$f":"IF($C$5,IF('Step 5 Identify & Select ASHPs'!$I$46,IF('HP2 Calcs'!T58=0,\"\",'HP2 Calcs'!Q58),IF('HP2'!N55=0,\"\",'HP2'!M55)),NA())","v":""},{"$f":"IF(AND($C$5,'Step 5 Identify & Select ASHPs'!$D$11>=2),IF('Step 5 Identify & Select ASHPs'!$I$46,IF('HP2 Calcs'!T58=0,\"\",'HP2 Calcs'!T58),IF('HP2'!N55=0,\"\",'HP2'!N55)),NA())","v":""},null,{"$f":"IF($C$6,IF('Step 5 Identify & Select ASHPs'!$I$65,IF('HP3 Calcs'!T58=0,\"\",'HP3 Calcs'!Q58),IF('HP3'!N55=0,\"\",'HP3'!M55)),NA())","v":""},{"$f":"IF(AND($C$6,'Step 5 Identify & Select ASHPs'!$D$11>=3),IF('Step 5 Identify & Select ASHPs'!$I$65,IF('HP3 Calcs'!T58=0,\"\",'HP3 Calcs'!T58),IF('HP3'!N55=0,\"\",'HP3'!N55)),NA())","v":""},null,{"$f":"IF($C$7,IF('Step 5 Identify & Select ASHPs'!$I$84,IF('HP4 Calcs'!T58=0,\"\",'HP4 Calcs'!Q58),IF('HP4'!N55=0,\"\",'HP4'!M55)),NA())","v":""},{"$f":"IF(AND($C$7,'Step 5 Identify & Select ASHPs'!$D$11>=4),IF('Step 5 Identify & Select ASHPs'!$I$84,IF('HP4 Calcs'!T58=0,\"\",'HP4 Calcs'!T58),IF('HP4'!N55=0,\"\",'HP4'!N55)),NA())","v":""}]
[null,"LS HP2",true,null,{"$f":"IF('Step 5 Identify & Select ASHPs'!$I$27,'HP1 Calcs'!B20,IF(OR('HP1'!B14=\"-\",'HP1'!B14=\"\"),\"\",'HP1'!B14))","v":""},{"$f":"IF($C$4,IF('Step 5 Identify & Select ASHPs'!$I$27,'HP1 Calcs'!G20,IF(OR('HP1'!C14=\"-\",'HP1'!C14=\"\"),\"\",'HP1'!C14)),NA())","v":""},null,{"$f":"IF('Step 5 Identify & Select ASHPs'!$I$46,'HP2 Calcs'!B20,IF(OR('HP2'!B14=\"-\",'HP2'!B14=\"\"),\"\",'HP2'!B14))","v":""},{"$f":"IF($C$5,IF('Step 5 Identify & Select ASHPs'!$I$46,'HP2 Calcs'!G20,IF(OR('HP2'!C14=\"-\",'HP2'!C14=\"\"),\"\",'HP2'!C14)),NA())","v":""},null,{"$f":"IF('Step 5 Identify & Select ASHPs'!$I$65,'HP3 Calcs'!B20,IF(OR('HP3'!B14=\"-\",'HP3'!B14=\"\"),\"\",'HP3'!B14))","v":""},{"$f":"IF($C$6,IF('Step 5 Identify & Select ASHPs'!$I$65,'HP3 Calcs'!G20,IF(OR('HP3'!C14=\"-\",'HP3'!C14=\"\"),\"\",'HP3'!C14)),NA())","v":""},null,{"$f":"IF('Step 5 Identify & Select ASHPs'!$I$84,'HP4 Calcs'!B20,IF(OR('HP4'!B14=\"-\",'HP4'!B14=\"\"),\"\",'HP4'!B14))","v":""},{"$f":"IF($C$7,IF('Step 5 Identify & Select ASHPs'!$I$84,'HP4 Calcs'!G20,IF(OR('HP4'!C14=\"-\",'HP4'!C14=\"\"),\"\",'HP4'!C14)),NA())","v":""},null,null,null,null,null,null,null,null,null,null,null,null,null,{"$f":"IF('Step 5 Identify & Select ASHPs'!$I$27,'HP1 Calcs'!Q20,IF(OR('HP1'!M14=\"-\",'HP1'!M14=\"\"),\"\",'HP1'!M14))","v":""},{"$f":"IF($C$8,IF('Step 5 Identify & Select ASHPs'!$I$27,'HP1 Calcs'!V20,IF(OR('HP1'!N14=\"-\",'HP1'!N14=\"\"),\"\",'HP1'!N14)),NA())","v":""},null,{"$f":"IF('Step 5 Identify & Select ASHPs'!$I$46,'HP2 Calcs'!Q20,IF(OR('HP2'!M14=\"-\",'HP2'!M14=\"\"),\"\",'HP2'!M14))","v":""},{"$f":"IF($C$9,IF('Step 5 Identify & Select ASHPs'!$I$46,'HP2 Calcs'!V20,IF(OR('HP2'!N14=\"-\",'HP2'!N14=\"\"),\"\",'HP2'!N14)),NA())","v":""},null,{"$f":"IF('Step 5 Identify & Select ASHPs'!$I$65,'HP3 Calcs'!Q20,IF(OR('HP3'!M14=\"-\",'HP3'!M14=\"\"),\"\",'HP3'!M14))","v":""},{"$f":"IF($C$10,IF('Step 5 Identify & Select ASHPs'!$I$65,'HP3 Calcs'!V20,IF(OR('HP3'!N14=\"-\",'HP3'!N14=\"\"),\"\",'HP3'!N14)),NA())","v":""},null,{"$f":"IF('Step 5 Identify & Select ASHPs'!$I$84,'HP4 Calcs'!Q20,IF(OR('HP4'!M14=\"-\",'HP4'!M14=\"\"),\"\",'HP4'!M14))","v":""},{"$f":"IF($C$11,IF('Step 5 Identify & Select ASHPs'!$I$84,'HP4 Calcs'!V20,IF(OR('HP4'!N14=\"-\",'HP4'!N14=\"\"),\"\",'HP4'!N14)),NA())","v":""},null,null,null,null,null,null,null,null,null,null,null,null,null,null,null,null,null,null,null,null,null,null,null,null,null,{"$f":"IF($C$4,IF('Step 5 Identify & Select ASHPs'!$I$27,IF('HP1 Calcs'!C59=0,\"\",'HP1 Calcs'!B59),IF('HP1'!C56=0,\"\",'HP1'!B56)),NA())","v":""},{"$f":"IF($C$4,IF('Step 5 Identify & Select ASHPs'!$I$27,IF('HP1 Calcs'!E59=0,\"\",'HP1 Calcs'!E59),IF('HP1'!C56=0,\"\",'HP1'!C56)),NA())","v":""},null,{"$f":"IF($C$5,IF('Step 5 Identify & Select ASHPs'!$I$46,IF('HP2 Calcs'!C59=0,\"\",'HP2 Calcs'!B59),IF('HP2'!C56=0,\"\",'HP2'!B56)),NA())","v":""},{"$f":"IF(AND($C$5,'Step 5 Identify & Select ASHPs'!$D$11>=2),IF('Step 5 Identify & Select ASHPs'!$I$46,IF('HP2 Calcs'!E59=0,\"\",'HP2 Calcs'!E59),IF('HP2'!C56=0,\"\",'HP2'!C56)),NA())","v":""},null,{"$f":"IF($C$6,IF('Step 5 Identify & Select ASHPs'!$I$65,IF('HP3 Calcs'!C59=0,\"\",'HP3 Calcs'!B59),IF('HP3'!C56=0,\"\",'HP3'!B56)),NA())","v":""},{"$f":"IF(AND($C$6,'Step 5 Identify & Select ASHPs'!$D$11>=3),IF('Step 5 Identify & Select ASHPs'!$I$65,IF('HP3 Calcs'!E59=0,\"\",'HP3 Calcs'!E59),IF('HP3'!C56=0,\"\",'HP3'!C56)),NA())","v":""},null,{"$f":"IF($C$7,IF('Step 5 Identify & Select ASHPs'!$I$84,IF('HP4 Calcs'!C59=0,\"\",'HP4 Calcs'!B59),IF('HP4'!C56=0,\"\",'HP4'!B56)),NA())","v":""},{"$f":"IF(AND($C$7,'Step 5 Identify & Select ASHPs'!$D$11>=4),IF('Step 5 Identify & Select ASHPs'!$I$84,IF('HP4 Calcs'!E59=0,\"\",'HP4 Calcs'!E59),IF('HP4'!C56=0,\"\",'HP4'!C56)),NA())","v":""},null,{"$f":"IF($C$4,IF('Step 5 Identify & Select ASHPs'!$I$27,IF('HP1 Calcs'!T59=0,\"\",'HP1 Calcs'!Q59),IF('HP1'!N56=0,\"\",'HP1'!M56)),NA())","v":""},{"$f":"IF($C$4,IF('Step 5 Identify & Select ASHPs'!$I$27,IF('HP1 Calcs'!T59=0,\"\",'HP1 Calcs'!T59),IF('HP1'!N56=0,\"\",'HP1'!N56)),NA())","v":""},null,{"$f":"IF($C$5,IF('Step 5 Identify & Select ASHPs'!$I$46,IF('HP2 Calcs'!T59=0,\"\",'HP2 Calcs'!Q59),IF('HP2'!N56=0,\"\",'HP2'!M56)),NA())","v":""},{"$f":"IF(AND($C$5,'Step 5 Identify & Select ASHPs'!$D$11>=2),IF('Step 5 Identify & Select ASHPs'!$I$46,IF('HP2 Calcs'!T59=0,\"\",'HP2 Calcs'!T59),IF('HP2'!N56=0,\"\",'HP2'!N56)),NA())","v":""},null,{"$f":"IF($C$6,IF('Step 5 Identify & Select ASHPs'!$I$65,IF('HP3 Calcs'!T59=0,\"\",'HP3 Calcs'!Q59),IF('HP3'!N56=0,\"\",'HP3'!M56)),NA())","v":""},{"$f":"IF(AND($C$6,'Step 5 Identify & Select ASHPs'!$D$11>=3),IF('Step 5 Identify & Select ASHPs'!$I$65,IF('HP3 Calcs'!T59=0,\"\",'HP3 Calcs'!T59),IF('HP3'!N56=0,\"\",'HP3'!N56)),NA())","v":""},null,{"$f":"IF($C$7,IF('Step 5 Identify & Select ASHPs'!$I$84,IF('HP4 Calcs'!T59=0,\"\",'HP4 Calcs'!Q59),IF('HP4'!N56=0,\"\",'HP4'!M56)),NA())","v":""},{"$f":"IF(AND($C$7,'Step 5 Identify & Select ASHPs'!$D$11>=4),IF('Step 5 Identify & Select ASHPs'!$I$84,IF('HP4 Calcs'!T59=0,\"\",'HP4 Calcs'!T59),IF('HP4'!N56=0,\"\",'HP4'!N56)),NA())","v":""}]
[null,"LS HP3",true,null,{"$f":"IF('Step 5 Identify & Select ASHPs'!$I$27,'HP1 Calcs'!B21,IF(OR('HP1'!B15=\"-\",'HP1'!B15=\"\"),\"\",'HP1'!B15))","v":""},{"$f":"IF($C$4,IF('Step 5 Identify & Select ASHPs'!$I$27,'HP1 Calcs'!G21,IF(OR('HP1'!C15=\"-\",'HP1'!C15=\"\"),\"\",'HP1'!C15)),NA())","v":""},null,{"$f":"IF('Step 5 Identify & Select ASHPs'!$I$46,'HP2 Calcs'!B21,IF(OR('HP2'!B15=\"-\",'HP2'!B15=\"\"),\"\",'HP2'!B15))","v":""},{"$f":"IF($C$5,IF('Step 5 Identify & Select ASHPs'!$I$46,'HP2 Calcs'!G21,IF(OR('HP2'!C15=\"-\",'HP2'!C15=\"\"),\"\",'HP2'!C15)),NA())","v":""},null,{"$f":"IF('Step 5 Identify & Select ASHPs'!$I$65,'HP3 Calcs'!B21,IF(OR('HP3'!B15=\"-\",'HP3'!B15=\"\"),\"\",'HP3'!B15))","v":""},{"$f":"IF($C$6,IF('Step 5 Identify & Select ASHPs'!$I$65,'HP3 Calcs'!G21,IF(OR('HP3'!C15=\"-\",'HP3'!C15=\"\"),\"\",'HP3'!C15)),NA())","v":""},null,{"$f":"IF('Step 5 Identify & Select ASHPs'!$I$84,'HP4 Calcs'!B21,IF(OR('HP4'!B15=\"-\",'HP4'!B15=\"\"),\"\",'HP4'!B15))","v":""},{"$f":"IF($C$7,IF('Step 5 Identify & Select ASHPs'!$I$84,'HP4 Calcs'!G21,IF(OR('HP4'!C15=\"-\",'HP4'!C15=\"\"),\"\",'HP4'!C15)),NA())","v":""},null,null,null,null,null,null,null,null,null,null,null,null,null,{"$f":"IF('Step 5 Identify & Select ASHPs'!$I$27,'HP1 Calcs'!Q21,IF(OR('HP1'!M15=\"-\",'HP1'!M15=\"\"),\"\",'HP1'!M15))","v":""},{"$f":"IF($C$8,IF('Step 5 Identify & Select ASHPs'!$I$27,'HP1 Calcs'!V21,IF(OR('HP1'!N15=\"-\",'HP1'!N15=\"\"),\"\",'HP1'!N15)),NA())","v":""},null,{"$f":"IF('Step 5 Identify & Select ASHPs'!$I$46,'HP2 Calcs'!Q21,IF(OR('HP2'!M15=\"-\",'HP2'!M15=\"\"),\"\",'HP2'!M15))","v":""},{"$f":"IF($C$9,IF('Step 5 Identify & Select ASHPs'!$I$46,'HP2 Calcs'!V21,IF(OR('HP2'!N15=\"-\",'HP2'!N15=\"\"),\"\",'HP2'!N15)),NA())","v":""},null,{"$f":"IF('Step 5 Identify & Select ASHPs'!$I$65,'HP3 Calcs'!Q21,IF(OR('HP3'!M15=\"-\",'HP3'!M15=\"\"),\"\",'HP3'!M15))","v":""},{"$f":"IF($C$10,IF('Step 5 Identify & Select ASHPs'!$I$65,'HP3 Calcs'!V21,IF(OR('HP3'!N15=\"-\",'HP3'!N15=\"\"),\"\",'HP3'!N15)),NA())","v":""},null,{"$f":"IF('Step 5 Identify & Select ASHPs'!$I$84,'HP4 Calcs'!Q21,IF(OR('HP4'!M15=\"-\",'HP4'!M15=\"\"),\"\",'HP4'!M15))","v":""},{"$f":"IF($C$11,IF('Step 5 Identify & Select ASHPs'!$I$84,'HP4 Calcs'!V21,IF(OR('HP4'!N15=\"-\",'HP4'!N15=\"\"),\"\",'HP4'!N15)),NA())","v":""},null,null,null,null,null,null,null,null,null,null,null,null,null,null,null,null,null,null,null,null,null,null,null,null,null,{"$f":"IF($C$4,IF('Step 5 Identify & Select ASHPs'!$I$27,IF('HP1 Calcs'!C60=0,\"\",'HP1 Calcs'!B60),IF('HP1'!C57=0,\"\",'HP1'!B57)),NA())","v":""},{"$f":"IF($C$4,IF('Step 5 Identify & Select ASHPs'!$I$27,IF('HP1 Calcs'!E60=0,\"\",'HP1 Calcs'!E60),IF('HP1'!C57=0,\"\",'HP1'!C57)),NA())","v":""},null,{"$f":"IF($C$5,IF('Step 5 Identify & Select ASHPs'!$I$46,IF('HP2 Calcs'!C60=0,\"\",'HP2 Calcs'!B60),IF('HP2'!C57=0,\"\",'HP2'!B57)),NA())","v":""},{"$f":"IF(AND($C$5,'Step 5 Identify & Select ASHPs'!$D$11>=2),IF('Step 5 Identify & Select ASHPs'!$I$46,IF('HP2 Calcs'!E60=0,\"\",'HP2 Calcs'!E60),IF('HP2'!C57=0,\"\",'HP2'!C57)),NA())","v":""},null,{"$f":"IF($C$6,IF('Step 5 Identify & Select ASHPs'!$I$65,IF('HP3 Calcs'!C60=0,\"\",'HP3 Calcs'!B60),IF('HP3'!C57=0,\"\",'HP3'!B57)),NA())","v":""},{"$f":"IF(AND($C$6,'Step 5 Identify & Select ASHPs'!$D$11>=3),IF('Step 5 Identify & Select ASHPs'!$I$65,IF('HP3 Calcs'!E60=0,\"\",'HP3 Calcs'!E60),IF('HP3'!C57=0,\"\",'HP3'!C57)),NA())","v":""},null,{"$f":"IF($C$7,IF('Step 5 Identify & Select ASHPs'!$I$84,IF('HP4 Calcs'!C60=0,\"\",'HP4 Calcs'!B60),IF('HP4'!C57=0,\"\",'HP4'!B57)),NA())","v":""},{"$f":"IF(AND($C$7,'Step 5 Identify & Select ASHPs'!$D$11>=4),IF('Step 5 Identify & Select ASHPs'!$I$84,IF('HP4 Calcs'!E60=0,\"\",'HP4 Calcs'!E60),IF('HP4'!C57=0,\"\",'HP4'!C57)),NA())","v":""},null,{"$f":"IF($C$4,IF('Step 5 Identify & Select ASHPs'!$I$27,IF('HP1 Calcs'!T60=0,\"\",'HP1 Calcs'!Q60),IF('HP1'!N57=0,\"\",'HP1'!M57)),NA())","v":""},{"$f":"IF($C$4,IF('Step 5 Identify & Select ASHPs'!$I$27,IF('HP1 Calcs'!T60=0,\"\",'HP1 Calcs'!T60),IF('HP1'!N57=0,\"\",'HP1'!N57)),NA())","v":""},null,{"$f":"IF($C$5,IF('Step 5 Identify & Select ASHPs'!$I$46,IF('HP2 Calcs'!T60=0,\"\",'HP2 Calcs'!Q60),IF('HP2'!N57=0,\"\",'HP2'!M57)),NA())","v":""},{"$f":"IF(AND($C$5,'Step 5 Identify & Select ASHPs'!$D$11>=2),IF('Step 5 Identify & Select ASHPs'!$I$46,IF('HP2 Calcs'!T60=0,\"\",'HP2 Calcs'!T60),IF('HP2'!N57=0,\"\",'HP2'!N57)),NA())","v":""},null,{"$f":"IF($C$6,IF('Step 5 Identify & Select ASHPs'!$I$65,IF('HP3 Calcs'!T60=0,\"\",'HP3 Calcs'!Q60),IF('HP3'!N57=0,\"\",'HP3'!M57)),NA())","v":""},{"$f":"IF(AND($C$6,'Step 5 Identify & Select ASHPs'!$D$11>=3),IF('Step 5 Identify & Select ASHPs'!$I$65,IF('HP3 Calcs'!T60=0,\"\",'HP3 Calcs'!T60),IF('HP3'!N57=0,\"\",'HP3'!N57)),NA())","v":""},null,{"$f":"IF($C$7,IF('Step 5 Identify & Select ASHPs'!$I$84,IF('HP4 Calcs'!T60=0,\"\",'HP4 Calcs'!Q60),IF('HP4'!N57=0,\"\",'HP4'!M57)),NA())","v":""},{"$f":"IF(AND($C$7,'Step 5 Identify & Select ASHPs'!$D$11>=4),IF('Step 5 Identify & Select ASHPs'!$I$84,IF('HP4 Calcs'!T60=0,\"\",'HP4 Calcs'!T60),IF('HP4'!N57=0,\"\",'HP4'!N57)),NA())","v":""}]
[null,"LS HP4",true,null,{"$f":"IF('Step 5 Identify & Select ASHPs'!$I$27,'HP1 Calcs'!B22,IF(OR('HP1'!B16=\"-\",'HP1'!B16=\"\"),\"\",'HP1'!B16))","v":""},{"$f":"IF($C$4,IF('Step 5 Identify & Select ASHPs'!$I$27,'HP1 Calcs'!G22,IF(OR('HP1'!C16=\"-\",'HP1'!C16=\"\"),\"\",'HP1'!C16)),NA())","v":""},null,{"$f":"IF('Step 5 Identify & Select ASHPs'!$I$46,'HP2 Calcs'!B22,IF(OR('HP2'!B16=\"-\",'HP2'!B16=\"\"),\"\",'HP2'!B16))","v":""},{"$f":"IF($C$5,IF('Step 5 Identify & Select ASHPs'!$I$46,'HP2 Calcs'!G22,IF(OR('HP2'!C16=\"-\",'HP2'!C16=\"\"),\"\",'HP2'!C16)),NA())","v":""},null,{"$f":"IF('Step 5 Identify & Select ASHPs'!$I$65,'HP3 Calcs'!B22,IF(OR('HP3'!B16=\"-\",'HP3'!B16=\"\"),\"\",'HP3'!B16))","v":""},{"$f":"IF($C$6,IF('Step 5 Identify & Select ASHPs'!$I$65,'HP3 Calcs'!G22,IF(OR('HP3'!C16=\"-\",'HP3'!C16=\"\"),\"\",'HP3'!C16)),NA())","v":""},null,{"$f":"IF('Step 5 Identify & Select ASHPs'!$I$84,'HP4 Calcs'!B22,IF(OR('HP4'!B16=\"-\",'HP4'!B16=\"\"),\"\",'HP4'!B16))","v":""},{"$f":"IF($C$7,IF('Step 5 Identify & Select ASHPs'!$I$84,'HP4 Calcs'!G22,IF(OR('HP4'!C16=\"-\",'HP4'!C16=\"\"),\"\",'HP4'!C16)),NA())","v":""},null,null,null,null,null,null,null,null,null,null,null,null,null,{"$f":"IF('Step 5 Identify & Select ASHPs'!$I$27,'HP1 Calcs'!Q22,IF(OR('HP1'!M16=\"-\",'HP1'!M16=\"\"),\"\",'HP1'!M16))","v":""},{"$f":"IF($C$8,IF('Step 5 Identify & Select ASHPs'!$I$27,'HP1 Calcs'!V22,IF(OR('HP1'!N16=\"-\",'HP1'!N16=\"\"),\"\",'HP1'!N16)),NA())","v":""},null,{"$f":"IF('Step 5 Identify & Select ASHPs'!$I$46,'HP2 Calcs'!Q22,IF(OR('HP2'!M16=\"-\",'HP2'!M16=\"\"),\"\",'HP2'!M16))","v":""},{"$f":"IF($C$9,IF('Step 5 Identify & Select ASHPs'!$I$46,'HP2 Calcs'!V22,IF(OR('HP2'!N16=\"-\",'HP2'!N16=\"\"),\"\",'HP2'!N16)),NA())","v":""},null,{"$f":"IF('Step 5 Identify & Select ASHPs'!$I$65,'HP3 Calcs'!Q22,IF(OR('HP3'!M16=\"-\",'HP3'!M16=\"\"),\"\",'HP3'!M16))","v":""},{"$f":"IF($C$10,IF('Step 5 Identify & Select ASHPs'!$I$65,'HP3 Calcs'!V22,IF(OR('HP3'!N16=\"-\",'HP3'!N16=\"\"),\"\",'HP3'!N16)),NA())","v":""},null,{"$f":"IF('Step 5 Identify & Select ASHPs'!$I$84,'HP4 Calcs'!Q22,IF(OR('HP4'!M16=\"-\",'HP4'!M16=\"\"),\"\",'HP4'!M16))","v":""},{"$f":"IF($C$11,IF('Step 5 Identify & Select ASHPs'!$I$84,'HP4 Calcs'!V22,IF(OR('HP4'!N16=\"-\",'HP4'!N16=\"\"),\"\",'HP4'!N16)),NA())","v":""},null,null,null,null,null,null,null,null,null,null,null,null,null,null,null,null,null,null,null,null,null,null,null,null,null,{"$f":"IF($C$4,IF('Step 5 Identify & Select ASHPs'!$I$27,IF('HP1 Calcs'!C61=0,\"\",'HP1 Calcs'!B61),IF('HP1'!C58=0,\"\",'HP1'!B58)),NA())","v":""},{"$f":"IF($C$4,IF('Step 5 Identify & Select ASHPs'!$I$27,IF('HP1 Calcs'!E61=0,\"\",'HP1 Calcs'!E61),IF('HP1'!C58=0,\"\",'HP1'!C58)),NA())","v":""},null,{"$f":"IF($C$5,IF('Step 5 Identify & Select ASHPs'!$I$46,IF('HP2 Calcs'!C61=0,\"\",'HP2 Calcs'!B61),IF('HP2'!C58=0,\"\",'HP2'!B58)),NA())","v":""},{"$f":"IF(AND($C$5,'Step 5 Identify & Select ASHPs'!$D$11>=2),IF('Step 5 Identify & Select ASHPs'!$I$46,IF('HP2 Calcs'!E61=0,\"\",'HP2 Calcs'!E61),IF('HP2'!C58=0,\"\",'HP2'!C58)),NA())","v":""},null,{"$f":"IF($C$6,IF('Step 5 Identify & Select ASHPs'!$I$65,IF('HP3 Calcs'!C61=0,\"\",'HP3 Calcs'!B61),IF('HP3'!C58=0,\"\",'HP3'!B58)),NA())","v":""},{"$f":"IF(AND($C$6,'Step 5 Identify & Select ASHPs'!$D$11>=3),IF('Step 5 Identify & Select ASHPs'!$I$65,IF('HP3 Calcs'!E61=0,\"\",'HP3 Calcs'!E61),IF('HP3'!C58=0,\"\",'HP3'!C58)),NA())","v":""},null,{"$f":"IF($C$7,IF('Step 5 Identify & Select ASHPs'!$I$84,IF('HP4 Calcs'!C61=0,\"\",'HP4 Calcs'!B61),IF('HP4'!C58=0,\"\",'HP4'!B58)),NA())","v":""},{"$f":"IF(AND($C$7,'Step 5 Identify & Select ASHPs'!$D$11>=4),IF('Step 5 Identify & Select ASHPs'!$I$84,IF('HP4 Calcs'!E61=0,\"\",'HP4 Calcs'!E61),IF('HP4'!C58=0,\"\",'HP4'!C58)),NA())","v":""},null,{"$f":"IF($C$4,IF('Step 5 Identify & Select ASHPs'!$I$27,IF('HP1 Calcs'!T61=0,\"\",'HP1 Calcs'!Q61),IF('HP1'!N58=0,\"\",'HP1'!M58)),NA())","v":""},{"$f":"IF($C$4,IF('Step 5 Identify & Select ASHPs'!$I$27,IF('HP1 Calcs'!T61=0,\"\",'HP1 Calcs'!T61),IF('HP1'!N58=0,\"\",'HP1'!N58)),NA())","v":""},null,{"$f":"IF($C$5,IF('Step 5 Identify & Select ASHPs'!$I$46,IF('HP2 Calcs'!T61=0,\"\",'HP2 Calcs'!Q61),IF('HP2'!N58=0,\"\",'HP2'!M58)),NA())","v":""},{"$f":"IF(AND($C$5,'Step 5 Identify & Select ASHPs'!$D$11>=2),IF('Step 5 Identify & Select ASHPs'!$I$46,IF('HP2 Calcs'!T61=0,\"\",'HP2 Calcs'!T61),IF('HP2'!N58=0,\"\",'HP2'!N58)),NA())","v":""},null,{"$f":"IF($C$6,IF('Step 5 Identify & Select ASHPs'!$I$65,IF('HP3 Calcs'!T61=0,\"\",'HP3 Calcs'!Q61),IF('HP3'!N58=0,\"\",'HP3'!M58)),NA())","v":""},{"$f":"IF(AND($C$6,'Step 5 Identify & Select ASHPs'!$D$11>=3),IF('Step 5 Identify & Select ASHPs'!$I$65,IF('HP3 Calcs'!T61=0,\"\",'HP3 Calcs'!T61),IF('HP3'!N58=0,\"\",'HP3'!N58)),NA())","v":""},null,{"$f":"IF($C$7,IF('Step 5 Identify & Select ASHPs'!$I$84,IF('HP4 Calcs'!T61=0,\"\",'HP4 Calcs'!Q61),IF('HP4'!N58=0,\"\",'HP4'!M58)),NA())","v":""},{"$f":"IF(AND($C$7,'Step 5 Identify & Select ASHPs'!$D$11>=4),IF('Step 5 Identify & Select ASHPs'!$I$84,IF('HP4 Calcs'!T61=0,\"\",'HP4 Calcs'!T61),IF('HP4'!N58=0,\"\",'HP4'!N58)),NA())","v":""}]
[null,null,null,null,{"$f":"IF('Step 5 Identify & Select ASHPs'!$I$27,'HP1 Calcs'!B23,IF(OR('HP1'!B17=\"-\",'HP1'!B17=\"\"),\"\",'HP1'!B17))","v":""},{"$f":"IF($C$4,IF('Step 5 Identify & Select ASHPs'!$I$27,'HP1 Calcs'!G23,IF(OR('HP1'!C17=\"-\",'HP1'!C17=\"\"),\"\",'HP1'!C17)),NA())","v":""},null,{"$f":"IF('Step 5 Identify & Select ASHPs'!$I$46,'HP2 Calcs'!B23,IF(OR('HP2'!B17=\"-\",'HP2'!B17=\"\"),\"\",'HP2'!B17))","v":""},{"$f":"IF($C$5,IF('Step 5 Identify & Select ASHPs'!$I$46,'HP2 Calcs'!G23,IF(OR('HP2'!C17=\"-\",'HP2'!C17=\"\"),\"\",'HP2'!C17)),NA())","v":""},null,{"$f":"IF('Step 5 Identify & Select ASHPs'!$I$65,'HP3 Calcs'!B23,IF(OR('HP3'!B17=\"-\",'HP3'!B17=\"\"),\"\",'HP3'!B17))","v":""},{"$f":"IF($C$6,IF('Step 5 Identify & Select ASHPs'!$I$65,'HP3 Calcs'!G23,IF(OR('HP3'!C17=\"-\",'HP3'!C17=\"\"),\"\",'HP3'!C17)),NA())","v":""},null,{"$f":"IF('Step 5 Identify & Select ASHPs'!$I$84,'HP4 Calcs'!B23,IF(OR('HP4'!B17=\"-\",'HP4'!B17=\"\"),\"\",'HP4'!B17))","v":""},{"$f":"IF($C$7,IF('Step 5 Identify & Select ASHPs'!$I$84,'HP4 Calcs'!G23,IF(OR('HP4'!C17=\"-\",'HP4'!C17=\"\"),\"\",'HP4'!C17)),NA())","v":""},null,null,null,null,null,null,null,null,null,null,null,null,null,{"$f":"IF('Step 5 Identify & Select ASHPs'!$I$27,'HP1 Calcs'!Q23,IF(OR('HP1'!M17=\"-\",'HP1'!M17=\"\"),\"\",'HP1'!M17))","v":""},{"$f":"IF($C$8,IF('Step 5 Identify & Select ASHPs'!$I$27,'HP1 Calcs'!V23,IF(OR('HP1'!N17=\"-\",'HP1'!N17=\"\"),\"\",'HP1'!N17)),NA())","v":""},null,{"$f":"IF('Step 5 Identify & Select ASHPs'!$I$46,'HP2 Calcs'!Q23,IF(OR('HP2'!M17=\"-\",'HP2'!M17=\"\"),\"\",'HP2'!M17))","v":""},{"$f":"IF($C$9,IF('Step 5 Identify & Select ASHPs'!$I$46,'HP2 Calcs'!V23,IF(OR('HP2'!N17=\"-\",'HP2'!N17=\"\"),\"\",'HP2'!N17)),NA())","v":""},null,{"$f":"IF('Step 5 Identify & Select ASHPs'!$I$65,'HP3 Calcs'!Q23,IF(OR('HP3'!M17=\"-\",'HP3'!M17=\"\"),\"\",'HP3'!M17))","v":""},{"$f":"IF($C$10,IF('Step 5 Identify & Select ASHPs'!$I$65,'HP3 Calcs'!V23,IF(OR('HP3'!N17=\"-\",'HP3'!N17=\"\"),\"\",'HP3'!N17)),NA())","v":""},null,{"$f":"IF('Step 5 Identify & Select ASHPs'!$I$84,'HP4 Calcs'!Q23,IF(OR('HP4'!M17=\"-\",'HP4'!M17=\"\"),\"\",'HP4'!M17))","v":""},{"$f":"IF($C$11,IF('Step 5 Identify & Select ASHPs'!$I$84,'HP4 Calcs'!V23,IF(OR('HP4'!N17=\"-\",'HP4'!N17=\"\"),\"\",'HP4'!N17)),NA())","v":""},null,null,null,null,null,null,null,null,null,null,null,null,null,null,null,null,null,null,null,null,null,null,null,null,null,{"$f":"IF($C$4,IF('Step 5 Identify & Select ASHPs'!$I$27,IF('HP1 Calcs'!C62=0,\"\",'HP1 Calcs'!B62),IF('HP1'!C59=0,\"\",'HP1'!B59)),NA())","v":""},{"$f":"IF($C$4,IF('Step 5 Identify & Select ASHPs'!$I$27,IF('HP1 Calcs'!E62=0,\"\",'HP1 Calcs'!E62),IF('HP1'!C59=0,\"\",'HP1'!C59)),NA())","v":""},null,{"$f":"IF($C$5,IF('Step 5 Identify & Select ASHPs'!$I$46,IF('HP2 Calcs'!C62=0,\"\",'HP2 Calcs'!B62),IF('HP2'!C59=0,\"\",'HP2'!B59)),NA())","v":""},{"$f":"IF(AND($C$5,'Step 5 Identify & Select ASHPs'!$D$11>=2),IF('Step 5 Identify & Select ASHPs'!$I$46,IF('HP2 Calcs'!E62=0,\"\",'HP2 Calcs'!E62),IF('HP2'!C59=0,\"\",'HP2'!C59)),NA())","v":""},null,{"$f":"IF($C$6,IF('Step 5 Identify & Select ASHPs'!$I$65,IF('HP3 Calcs'!C62=0,\"\",'HP3 Calcs'!B62),IF('HP3'!C59=0,\"\",'HP3'!B59)),NA())","v":""},{"$f":"IF(AND($C$6,'Step 5 Identify & Select ASHPs'!$D$11>=3),IF('Step 5 Identify & Select ASHPs'!$I$65,IF('HP3 Calcs'!E62=0,\"\",'HP3 Calcs'!E62),IF('HP3'!C59=0,\"\",'HP3'!C59)),NA())","v":""},null,{"$f":"IF($C$7,IF('Step 5 Identify & Select ASHPs'!$I$84,IF('HP4 Calcs'!C62=0,\"\",'HP4 Calcs'!B62),IF('HP4'!C59=0,\"\",'HP4'!B59)),NA())","v":""},{"$f":"IF(AND($C$7,'Step 5 Identify & Select ASHPs'!$D$11>=4),IF('Step 5 Identify & Select ASHPs'!$I$84,IF('HP4 Calcs'!E62=0,\"\",'HP4 Calcs'!E62),IF('HP4'!C59=0,\"\",'HP4'!C59)),NA())","v":""},null,{"$f":"IF($C$4,IF('Step 5 Identify & Select ASHPs'!$I$27,IF('HP1 Calcs'!T62=0,\"\",'HP1 Calcs'!Q62),IF('HP1'!N59=0,\"\",'HP1'!M59)),NA())","v":""},{"$f":"IF($C$4,IF('Step 5 Identify & Select ASHPs'!$I$27,IF('HP1 Calcs'!T62=0,\"\",'HP1 Calcs'!T62),IF('HP1'!N59=0,\"\",'HP1'!N59)),NA())","v":""},null,{"$f":"IF($C$5,IF('Step 5 Identify & Select ASHPs'!$I$46,IF('HP2 Calcs'!T62=0,\"\",'HP2 Calcs'!Q62),IF('HP2'!N59=0,\"\",'HP2'!M59)),NA())","v":""},{"$f":"IF(AND($C$5,'Step 5 Identify & Select ASHPs'!$D$11>=2),IF('Step 5 Identify & Select ASHPs'!$I$46,IF('HP2 Calcs'!T62=0,\"\",'HP2 Calcs'!T62),IF('HP2'!N59=0,\"\",'HP2'!N59)),NA())","v":""},null,{"$f":"IF($C$6,IF('Step 5 Identify & Select ASHPs'!$I$65,IF('HP3 Calcs'!T62=0,\"\",'HP3 Calcs'!Q62),IF('HP3'!N59=0,\"\",'HP3'!M59)),NA())","v":""},{"$f":"IF(AND($C$6,'Step 5 Identify & Select ASHPs'!$D$11>=3),IF('Step 5 Identify & Select ASHPs'!$I$65,IF('HP3 Calcs'!T62=0,\"\",'HP3 Calcs'!T62),IF('HP3'!N59=0,\"\",'HP3'!N59)),NA())","v":""},null,{"$f":"IF($C$7,IF('Step 5 Identify & Select ASHPs'!$I$84,IF('HP4 Calcs'!T62=0,\"\",'HP4 Calcs'!Q62),IF('HP4'!N59=0,\"\",'HP4'!M59)),NA())","v":""},{"$f":"IF(AND($C$7,'Step 5 Identify & Select ASHPs'!$D$11>=4),IF('Step 5 Identify & Select ASHPs'!$I$84,IF('HP4 Calcs'!T62=0,\"\",'HP4 Calcs'!T62),IF('HP4'!N59=0,\"\",'HP4'!N59)),NA())","v":""}]
[null,1,{"$f":"NA()","v":{"$error":"#N/A"}},null,{"$f":"IF('Step 5 Identify & Select ASHPs'!$I$27,'HP1 Calcs'!B24,IF(OR('HP1'!B18=\"-\",'HP1'!B18=\"\"),\"\",'HP1'!B18))","v":""},{"$f":"IF($C$4,IF('Step 5 Identify & Select ASHPs'!$I$27,'HP1 Calcs'!G24,IF(OR('HP1'!C18=\"-\",'HP1'!C18=\"\"),\"\",'HP1'!C18)),NA())","v":""},null,{"$f":"IF('Step 5 Identify & Select ASHPs'!$I$46,'HP2 Calcs'!B24,IF(OR('HP2'!B18=\"-\",'HP2'!B18=\"\"),\"\",'HP2'!B18))","v":""},{"$f":"IF($C$5,IF('Step 5 Identify & Select ASHPs'!$I$46,'HP2 Calcs'!G24,IF(OR('HP2'!C18=\"-\",'HP2'!C18=\"\"),\"\",'HP2'!C18)),NA())","v":""},null,{"$f":"IF('Step 5 Identify & Select ASHPs'!$I$65,'HP3 Calcs'!B24,IF(OR('HP3'!B18=\"-\",'HP3'!B18=\"\"),\"\",'HP3'!B18))","v":""},{"$f":"IF($C$6,IF('Step 5 Identify & Select ASHPs'!$I$65,'HP3 Calcs'!G24,IF(OR('HP3'!C18=\"-\",'HP3'!C18=\"\"),\"\",'HP3'!C18)),NA())","v":""},null,{"$f":"IF('Step 5 Identify & Select ASHPs'!$I$84,'HP4 Calcs'!B24,IF(OR('HP4'!B18=\"-\",'HP4'!B18=\"\"),\"\",'HP4'!B18))","v":""},{"$f":"IF($C$7,IF('Step 5 Identify & Select ASHPs'!$I$84,'HP4 Calcs'!G24,IF(OR('HP4'!C18=\"-\",'HP4'!C18=\"\"),\"\",'HP4'!C18)),NA())","v":""},null,null,null,null,null,null,null,null,null,null,null,null,null,{"$f":"IF('Step 5 Identify & Select ASHPs'!$I$27,'HP1 Calcs'!Q24,IF(OR('HP1'!M18=\"-\",'HP1'!M18=\"\"),\"\",'HP1'!M18))","v":""},{"$f":"IF($C$8,IF('Step 5 Identify & Select ASHPs'!$I$27,'HP1 Calcs'!V24,IF(OR('HP1'!N18=\"-\",'HP1'!N18=\"\"),\"\",'HP1'!N18)),NA())","v":""},null,{"$f":"IF('Step 5 Identify & Select ASHPs'!$I$46,'HP2 Calcs'!Q24,IF(OR('HP2'!M18=\"-\",'HP2'!M18=\"\"),\"\",'HP2'!M18))","v":""},{"$f":"IF($C$9,IF('Step 5 Identify & Select ASHPs'!$I$46,'HP2 Calcs'!V24,IF(OR('HP2'!N18=\"-\",'HP2'!N18=\"\"),\"\",'HP2'!N18)),NA())","v":""},null,{"$f":"IF('Step 5 Identify & Select ASHPs'!$I$65,'HP3 Calcs'!Q24,IF(OR('HP3'!M18=\"-\",'HP3'!M18=\"\"),\"\",'HP3'!M18))","v":""},{"$f":"IF($C$10,IF('Step 5 Identify & Select ASHPs'!$I$65,'HP3 Calcs'!V24,IF(OR('HP3'!N18=\"-\",'HP3'!N18=\"\"),\"\",'HP3'!N18)),NA())","v":""},null,{"$f":"IF('Step 5 Identify & Select ASHPs'!$I$84,'HP4 Calcs'!Q24,IF(OR('HP4'!M18=\"-\",'HP4'!M18=\"\"),\"\",'HP4'!M18))","v":""},{"$f":"IF($C$11,IF('Step 5 Identify & Select ASHPs'!$I$84,'HP4 Calcs'!V24,IF(OR('HP4'!N18=\"-\",'HP4'!N18=\"\"),\"\",'HP4'!N18)),NA())","v":""},null,null,null,null,null,null,null,null,null,null,null,null,null,null,null,null,null,null,null,null,null,null,null,null,null,{"$f":"IF($C$4,IF('Step 5 Identify & Select ASHPs'!$I$27,IF('HP1 Calcs'!C63=0,\"\",'HP1 Calcs'!B63),IF('HP1'!C60=0,\"\",'HP1'!B60)),NA())","v":""},{"$f":"IF($C$4,IF('Step 5 Identify & Select ASHPs'!$I$27,IF('HP1 Calcs'!E63=0,\"\",'HP1 Calcs'!E63),IF('HP1'!C60=0,\"\",'HP1'!C60)),NA())","v":""},null,{"$f":"IF($C$5,IF('Step 5 Identify & Select ASHPs'!$I$46,IF('HP2 Calcs'!C63=0,\"\",'HP2 Calcs'!B63),IF('HP2'!C60=0,\"\",'HP2'!B60)),NA())","v":""},{"$f":"IF(AND($C$5,'Step 5 Identify & Select ASHPs'!$D$11>=2),IF('Step 5 Identify & Select ASHPs'!$I$46,IF('HP2 Calcs'!E63=0,\"\",'HP2 Calcs'!E63),IF('HP2'!C60=0,\"\",'HP2'!C60)),NA())","v":""},null,{"$f":"IF($C$6,IF('Step 5 Identify & Select ASHPs'!$I$65,IF('HP3 Calcs'!C63=0,\"\",'HP3 Calcs'!B63),IF('HP3'!C60=0,\"\",'HP3'!B60)),NA())","v":""},{"$f":"IF(AND($C$6,'Step 5 Identify & Select ASHPs'!$D$11>=3),IF('Step 5 Identify & Select ASHPs'!$I$65,IF('HP3 Calcs'!E63=0,\"\",'HP3 Calcs'!E63),IF('HP3'!C60=0,\"\",'HP3'!C60)),NA())","v":""},null,{"$f":"IF($C$7,IF('Step 5 Identify & Select ASHPs'!$I$84,IF('HP4 Calcs'!C63=0,\"\",'HP4 Calcs'!B63),IF('HP4'!C60=0,\"\",'HP4'!B60)),NA())","v":""},{"$f":"IF(AND($C$7,'Step 5 Identify & Select ASHPs'!$D$11>=4),IF('Step 5 Identify & Select ASHPs'!$I$84,IF('HP4 Calcs'!E63=0,\"\",'HP4 Calcs'!E63),IF('HP4'!C60=0,\"\",'HP4'!C60)),NA())","v":""},null,{"$f":"IF($C$4,IF('Step 5 Identify & Select ASHPs'!$I$27,IF('HP1 Calcs'!T63=0,\"\",'HP1 Calcs'!Q63),IF('HP1'!N60=0,\"\",'HP1'!M60)),NA())","v":""},{"$f":"IF($C$4,IF('Step 5 Identify & Select ASHPs'!$I$27,IF('HP1 Calcs'!T63=0,\"\",'HP1 Calcs'!T63),IF('HP1'!N60=0,\"\",'HP1'!N60)),NA())","v":""},null,{"$f":"IF($C$5,IF('Step 5 Identify & Select ASHPs'!$I$46,IF('HP2 Calcs'!T63=0,\"\",'HP2 Calcs'!Q63),IF('HP2'!N60=0,\"\",'HP2'!M60)),NA())","v":""},{"$f":"IF(AND($C$5,'Step 5 Identify & Select ASHPs'!$D$11>=2),IF('Step 5 Identify & Select ASHPs'!$I$46,IF('HP2 Calcs'!T63=0,\"\",'HP2 Calcs'!T63),IF('HP2'!N60=0,\"\",'HP2'!N60)),NA())","v":""},null,{"$f":"IF($C$6,IF('Step 5 Identify & Select ASHPs'!$I$65,IF('HP3 Calcs'!T63=0,\"\",'HP3 Calcs'!Q63),IF('HP3'!N60=0,\"\",'HP3'!M60)),NA())","v":""},{"$f":"IF(AND($C$6,'Step 5 Identify & Select ASHPs'!$D$11>=3),IF('Step 5 Identify & Select ASHPs'!$I$65,IF('HP3 Calcs'!T63=0,\"\",'HP3 Calcs'!T63),IF('HP3'!N60=0,\"\",'HP3'!N60)),NA())","v":""},null,{"$f":"IF($C$7,IF('Step 5 Identify & Select ASHPs'!$I$84,IF('HP4 Calcs'!T63=0,\"\",'HP4 Calcs'!Q63),IF('HP4'!N60=0,\"\",'HP4'!M60)),NA())","v":""},{"$f":"IF(AND($C$7,'Step 5 Identify & Select ASHPs'!$D$11>=4),IF('Step 5 Identify & Select ASHPs'!$I$84,IF('HP4 Calcs'!T63=0,\"\",'HP4 Calcs'!T63),IF('HP4'!N60=0,\"\",'HP4'!N60)),NA())","v":""}]
[null,null,null,null,{"$f":"IF('Step 5 Identify & Select ASHPs'!$I$27,'HP1 Calcs'!B25,IF(OR('HP1'!B19=\"-\",'HP1'!B19=\"\"),\"\",'HP1'!B19))","v":""},{"$f":"IF($C$4,IF('Step 5 Identify & Select ASHPs'!$I$27,'HP1 Calcs'!G25,IF(OR('HP1'!C19=\"-\",'HP1'!C19=\"\"),\"\",'HP1'!C19)),NA())","v":""},null,{"$f":"IF('Step 5 Identify & Select ASHPs'!$I$46,'HP2 Calcs'!B25,IF(OR('HP2'!B19=\"-\",'HP2'!B19=\"\"),\"\",'HP2'!B19))","v":""},{"$f":"IF($C$5,IF('Step 5 Identify & Select ASHPs'!$I$46,'HP2 Calcs'!G25,IF(OR('HP2'!C19=\"-\",'HP2'!C19=\"\"),\"\",'HP2'!C19)),NA())","v":""},null,{"$f":"IF('Step 5 Identify & Select ASHPs'!$I$65,'HP3 Calcs'!B25,IF(OR('HP3'!B19=\"-\",'HP3'!B19=\"\"),\"\",'HP3'!B19))","v":""},{"$f":"IF($C$6,IF('Step 5 Identify & Select ASHPs'!$I$65,'HP3 Calcs'!G25,IF(OR('HP3'!C19=\"-\",'HP3'!C19=\"\"),\"\",'HP3'!C19)),NA())","v":""},null,{"$f":"IF('Step 5 Identify & Select ASHPs'!$I$84,'HP4 Calcs'!B25,IF(OR('HP4'!B19=\"-\",'HP4'!B19=\"\"),\"\",'HP4'!B19))","v":""},{"$f":"IF($C$7,IF('Step 5 Identify & Select ASHPs'!$I$84,'HP4 Calcs'!G25,IF(OR('HP4'!C19=\"-\",'HP4'!C19=\"\"),\"\",'HP4'!C19)),NA())","v":""},null,null,null,null,null,null,null,null,null,null,null,null,null,{"$f":"IF('Step 5 Identify & Select ASHPs'!$I$27,'HP1 Calcs'!Q25,IF(OR('HP1'!M19=\"-\",'HP1'!M19=\"\"),\"\",'HP1'!M19))","v":""},{"$f":"IF($C$8,IF('Step 5 Identify & Select ASHPs'!$I$27,'HP1 Calcs'!V25,IF(OR('HP1'!N19=\"-\",'HP1'!N19=\"\"),\"\",'HP1'!N19)),NA())","v":""},null,{"$f":"IF('Step 5 Identify & Select ASHPs'!$I$46,'HP2 Calcs'!Q25,IF(OR('HP2'!M19=\"-\",'HP2'!M19=\"\"),\"\",'HP2'!M19))","v":""},{"$f":"IF($C$9,IF('Step 5 Identify & Select ASHPs'!$I$46,'HP2 Calcs'!V25,IF(OR('HP2'!N19=\"-\",'HP2'!N19=\"\"),\"\",'HP2'!N19)),NA())","v":""},null,{"$f":"IF('Step 5 Identify & Select ASHPs'!$I$65,'HP3 Calcs'!Q25,IF(OR('HP3'!M19=\"-\",'HP3'!M19=\"\"),\"\",'HP3'!M19))","v":""},{"$f":"IF($C$10,IF('Step 5 Identify & Select ASHPs'!$I$65,'HP3 Calcs'!V25,IF(OR('HP3'!N19=\"-\",'HP3'!N19=\"\"),\"\",'HP3'!N19)),NA())","v":""},null,{"$f":"IF('Step 5 Identify & Select ASHPs'!$I$84,'HP4 Calcs'!Q25,IF(OR('HP4'!M19=\"-\",'HP4'!M19=\"\"),\"\",'HP4'!M19))","v":""},{"$f":"IF($C$11,IF('Step 5 Identify & Select ASHPs'!$I$84,'HP4 Calcs'!V25,IF(OR('HP4'!N19=\"-\",'HP4'!N19=\"\"),\"\",'HP4'!N19)),NA())","v":""},null,null,null,null,null,null,null,null,null,null,null,null,null,null,null,null,null,null,null,null,null,null,null,null,null,{"$f":"IF($C$4,IF('Step 5 Identify & Select ASHPs'!$I$27,IF('HP1 Calcs'!C64=0,\"\",'HP1 Calcs'!B64),IF('HP1'!C61=0,\"\",'HP1'!B61)),NA())","v":""},{"$f":"IF($C$4,IF('Step 5 Identify & Select ASHPs'!$I$27,IF('HP1 Calcs'!E64=0,\"\",'HP1 Calcs'!E64),IF('HP1'!C61=0,\"\",'HP1'!C61)),NA())","v":""},null,{"$f":"IF($C$5,IF('Step 5 Identify & Select ASHPs'!$I$46,IF('HP2 Calcs'!C64=0,\"\",'HP2 Calcs'!B64),IF('HP2'!C61=0,\"\",'HP2'!B61)),NA())","v":""},{"$f":"IF(AND($C$5,'Step 5 Identify & Select ASHPs'!$D$11>=2),IF('Step 5 Identify & Select ASHPs'!$I$46,IF('HP2 Calcs'!E64=0,\"\",'HP2 Calcs'!E64),IF('HP2'!C61=0,\"\",'HP2'!C61)),NA())","v":""},null,{"$f":"IF($C$6,IF('Step 5 Identify & Select ASHPs'!$I$65,IF('HP3 Calcs'!C64=0,\"\",'HP3 Calcs'!B64),IF('HP3'!C61=0,\"\",'HP3'!B61)),NA())","v":""},{"$f":"IF(AND($C$6,'Step 5 Identify & Select ASHPs'!$D$11>=3),IF('Step 5 Identify & Select ASHPs'!$I$65,IF('HP3 Calcs'!E64=0,\"\",'HP3 Calcs'!E64),IF('HP3'!C61=0,\"\",'HP3'!C61)),NA())","v":""},null,{"$f":"IF($C$7,IF('Step 5 Identify & Select ASHPs'!$I$84,IF('HP4 Calcs'!C64=0,\"\",'HP4 Calcs'!B64),IF('HP4'!C61=0,\"\",'HP4'!B61)),NA())","v":""},{"$f":"IF(AND($C$7,'Step 5 Identify & Select ASHPs'!$D$11>=4),IF('Step 5 Identify & Select ASHPs'!$I$84,IF('HP4 Calcs'!E64=0,\"\",'HP4 Calcs'!E64),IF('HP4'!C61=0,\"\",'HP4'!C61)),NA())","v":""},null,{"$f":"IF($C$4,IF('Step 5 Identify & Select ASHPs'!$I$27,IF('HP1 Calcs'!T64=0,\"\",'HP1 Calcs'!Q64),IF('HP1'!N61=0,\"\",'HP1'!M61)),NA())","v":""},{"$f":"IF($C$4,IF('Step 5 Identify & Select ASHPs'!$I$27,IF('HP1 Calcs'!T64=0,\"\",'HP1 Calcs'!T64),IF('HP1'!N61=0,\"\",'HP1'!N61)),NA())","v":""},null,{"$f":"IF($C$5,IF('Step 5 Identify & Select ASHPs'!$I$46,IF('HP2 Calcs'!T64=0,\"\",'HP2 Calcs'!Q64),IF('HP2'!N61=0,\"\",'HP2'!M61)),NA())","v":""},{"$f":"IF(AND($C$5,'Step 5 Identify & Select ASHPs'!$D$11>=2),IF('Step 5 Identify & Select ASHPs'!$I$46,IF('HP2 Calcs'!T64=0,\"\",'HP2 Calcs'!T64),IF('HP2'!N61=0,\"\",'HP2'!N61)),NA())","v":""},null,{"$f":"IF($C$6,IF('Step 5 Identify & Select ASHPs'!$I$65,IF('HP3 Calcs'!T64=0,\"\",'HP3 Calcs'!Q64),IF('HP3'!N61=0,\"\",'HP3'!M61)),NA())","v":""},{"$f":"IF(AND($C$6,'Step 5 Identify & Select ASHPs'!$D$11>=3),IF('Step 5 Identify & Select ASHPs'!$I$65,IF('HP3 Calcs'!T64=0,\"\",'HP3 Calcs'!T64),IF('HP3'!N61=0,\"\",'HP3'!N61)),NA())","v":""},null,{"$f":"IF($C$7,IF('Step 5 Identify & Select ASHPs'!$I$84,IF('HP4 Calcs'!T64=0,\"\",'HP4 Calcs'!Q64),IF('HP4'!N61=0,\"\",'HP4'!M61)),NA())","v":""},{"$f":"IF(AND($C$7,'Step 5 Identify & Select ASHPs'!$D$11>=4),IF('Step 5 Identify & Select ASHPs'!$I$84,IF('HP4 Calcs'!T64=0,\"\",'HP4 Calcs'!T64),IF('HP4'!N61=0,\"\",'HP4'!N61)),NA())","v":""}]
[null,"HP1",{"$f":"IF(OR('Step 5 Identify & Select ASHPs'!$I$24,'Step 5 Identify & Select ASHPs'!$I$25,'Step 5 Identify & Select ASHPs'!$I$26,'Step 5 Identify & Select ASHPs'!$I$27),TRUE,FALSE)","v":true},null,{"$f":"IF('Step 5 Identify & Select ASHPs'!$I$27,'HP1 Calcs'!B26,IF(OR('HP1'!B20=\"-\",'HP1'!B20=\"\"),\"\",'HP1'!B20))","v":""},{"$f":"IF($C$4,IF('Step 5 Identify & Select ASHPs'!$I$27,'HP1 Calcs'!G26,IF(OR('HP1'!C20=\"-\",'HP1'!C20=\"\"),\"\",'HP1'!C20)),NA())","v":""},null,{"$f":"IF('Step 5 Identify & Select ASHPs'!$I$46,'HP2 Calcs'!B26,IF(OR('HP2'!B20=\"-\",'HP2'!B20=\"\"),\"\",'HP2'!B20))","v":""},{"$f":"IF($C$5,IF('Step 5 Identify & Select ASHPs'!$I$46,'HP2 Calcs'!G26,IF(OR('HP2'!C20=\"-\",'HP2'!C20=\"\"),\"\",'HP2'!C20)),NA())","v":""},null,{"$f":"IF('Step 5 Identify & Select ASHPs'!$I$65,'HP3 Calcs'!B26,IF(OR('HP3'!B20=\"-\",'HP3'!B20=\"\"),\"\",'HP3'!B20))","v":""},{"$f":"IF($C$6,IF('Step 5 Identify & Select ASHPs'!$I$65,'HP3 Calcs'!G26,IF(OR('HP3'!C20=\"-\",'HP3'!C20=\"\"),\"\",'HP3'!C20)),NA())","v":""},null,{"$f":"IF('Step 5 Identify & Select ASHPs'!$I$84,'HP4 Calcs'!B26,IF(OR('HP4'!B20=\"-\",'HP4'!B20=\"\"),\"\",'HP4'!B20))","v":""},{"$f":"IF($C$7,IF('Step 5 Identify & Select ASHPs'!$I$84,'HP4 Calcs'!G26,IF(OR('HP4'!C20=\"-\",'HP4'!C20=\"\"),\"\",'HP4'!C20)),NA())","v":""},null,null,null,null,null,null,null,null,null,null,null,null,null,{"$f":"IF('Step 5 Identify & Select ASHPs'!$I$27,'HP1 Calcs'!Q26,IF(OR('HP1'!M20=\"-\",'HP1'!M20=\"\"),\"\",'HP1'!M20))","v":""},{"$f":"IF($C$8,IF('Step 5 Identify & Select ASHPs'!$I$27,'HP1 Calcs'!V26,IF(OR('HP1'!N20=\"-\",'HP1'!N20=\"\"),\"\",'HP1'!N20)),NA())","v":""},null,{"$f":"IF('Step 5 Identify & Select ASHPs'!$I$46,'HP2 Calcs'!Q26,IF(OR('HP2'!M20=\"-\",'HP2'!M20=\"\"),\"\",'HP2'!M20))","v":""},{"$f":"IF($C$9,IF('Step 5 Identify & Select ASHPs'!$I$46,'HP2 Calcs'!V26,IF(OR('HP2'!N20=\"-\",'HP2'!N20=\"\"),\"\",'HP2'!N20)),NA())","v":""},null,{"$f":"IF('Step 5 Identify & Select ASHPs'!$I$65,'HP3 Calcs'!Q26,IF(OR('HP3'!M20=\"-\",'HP3'!M20=\"\"),\"\",'HP3'!M20))","v":""},{"$f":"IF($C$10,IF('Step 5 Identify & Select ASHPs'!$I$65,'HP3 Calcs'!V26,IF(OR('HP3'!N20=\"-\",'HP3'!N20=\"\"),\"\",'HP3'!N20)),NA())","v":""},null,{"$f":"IF('Step 5 Identify & Select ASHPs'!$I$84,'HP4 Calcs'!Q26,IF(OR('HP4'!M20=\"-\",'HP4'!M20=\"\"),\"\",'HP4'!M20))","v":""},{"$f":"IF($C$11,IF('Step 5 Identify & Select ASHPs'!$I$84,'HP4 Calcs'!V26,IF(OR('HP4'!N20=\"-\",'HP4'!N20=\"\"),\"\",'HP4'!N20)),NA())","v":""},null,null,null,null,null,null,null,null,null,null,null,null,null,null,null,null,null,null,null,null,null,null,null,null,null,{"$f":"IF($C$4,IF('Step 5 Identify & Select ASHPs'!$I$27,IF('HP1 Calcs'!C65=0,\"\",'HP1 Calcs'!B65),IF('HP1'!C62=0,\"\",'HP1'!B62)),NA())","v":""},{"$f":"IF($C$4,IF('Step 5 Identify & Select ASHPs'!$I$27,IF('HP1 Calcs'!E65=0,\"\",'HP1 Calcs'!E65),IF('HP1'!C62=0,\"\",'HP1'!C62)),NA())","v":""},null,{"$f":"IF($C$5,IF('Step 5 Identify & Select ASHPs'!$I$46,IF('HP2 Calcs'!C65=0,\"\",'HP2 Calcs'!B65),IF('HP2'!C62=0,\"\",'HP2'!B62)),NA())","v":""},{"$f":"IF(AND($C$5,'Step 5 Identify & Select ASHPs'!$D$11>=2),IF('Step 5 Identify & Select ASHPs'!$I$46,IF('HP2 Calcs'!E65=0,\"\",'HP2 Calcs'!E65),IF('HP2'!C62=0,\"\",'HP2'!C62)),NA())","v":""},null,{"$f":"IF($C$6,IF('Step 5 Identify & Select ASHPs'!$I$65,IF('HP3 Calcs'!C65=0,\"\",'HP3 Calcs'!B65),IF('HP3'!C62=0,\"\",'HP3'!B62)),NA())","v":""},{"$f":"IF(AND($C$6,'Step 5 Identify & Select ASHPs'!$D$11>=3),IF('Step 5 Identify & Select ASHPs'!$I$65,IF('HP3 Calcs'!E65=0,\"\",'HP3 Calcs'!E65),IF('HP3'!C62=0,\"\",'HP3'!C62)),NA())","v":""},null,{"$f":"IF($C$7,IF('Step 5 Identify & Select ASHPs'!$I$84,IF('HP4 Calcs'!C65=0,\"\",'HP4 Calcs'!B65),IF('HP4'!C62=0,\"\",'HP4'!B62)),NA())","v":""},{"$f":"IF(AND($C$7,'Step 5 Identify & Select ASHPs'!$D$11>=4),IF('Step 5 Identify & Select ASHPs'!$I$84,IF('HP4 Calcs'!E65=0,\"\",'HP4 Calcs'!E65),IF('HP4'!C62=0,\"\",'HP4'!C62)),NA())","v":""},null,{"$f":"IF($C$4,IF('Step 5 Identify & Select ASHPs'!$I$27,IF('HP1 Calcs'!T65=0,\"\",'HP1 Calcs'!Q65),IF('HP1'!N62=0,\"\",'HP1'!M62)),NA())","v":""},{"$f":"IF($C$4,IF('Step 5 Identify & Select ASHPs'!$I$27,IF('HP1 Calcs'!T65=0,\"\",'HP1 Calcs'!T65),IF('HP1'!N62=0,\"\",'HP1'!N62)),NA())","v":""},null,{"$f":"IF($C$5,IF('Step 5 Identify & Select ASHPs'!$I$46,IF('HP2 Calcs'!T65=0,\"\",'HP2 Calcs'!Q65),IF('HP2'!N62=0,\"\",'HP2'!M62)),NA())","v":""},{"$f":"IF(AND($C$5,'Step 5 Identify & Select ASHPs'!$D$11>=2),IF('Step 5 Identify & Select ASHPs'!$I$46,IF('HP2 Calcs'!T65=0,\"\",'HP2 Calcs'!T65),IF('HP2'!N62=0,\"\",'HP2'!N62)),NA())","v":""},null,{"$f":"IF($C$6,IF('Step 5 Identify & Select ASHPs'!$I$65,IF('HP3 Calcs'!T65=0,\"\",'HP3 Calcs'!Q65),IF('HP3'!N62=0,\"\",'HP3'!M62)),NA())","v":""},{"$f":"IF(AND($C$6,'Step 5 Identify & Select ASHPs'!$D$11>=3),IF('Step 5 Identify & Select ASHPs'!$I$65,IF('HP3 Calcs'!T65=0,\"\",'HP3 Calcs'!T65),IF('HP3'!N62=0,\"\",'HP3'!N62)),NA())","v":""},null,{"$f":"IF($C$7,IF('Step 5 Identify & Select ASHPs'!$I$84,IF('HP4 Calcs'!T65=0,\"\",'HP4 Calcs'!Q65),IF('HP4'!N62=0,\"\",'HP4'!M62)),NA())","v":""},{"$f":"IF(AND($C$7,'Step 5 Identify & Select ASHPs'!$D$11>=4),IF('Step 5 Identify & Select ASHPs'!$I$84,IF('HP4 Calcs'!T65=0,\"\",'HP4 Calcs'!T65),IF('HP4'!N62=0,\"\",'HP4'!N62)),NA())","v":""}]
[null,"HP2",{"$f":"IF(OR('Step 5 Identify & Select ASHPs'!$I$43,'Step 5 Identify & Select ASHPs'!$I$44,'Step 5 Identify & Select ASHPs'!$I$45,'Step 5 Identify & Select ASHPs'!$I$46),TRUE,FALSE)","v":true},null,{"$f":"IF('Step 5 Identify & Select ASHPs'!$I$27,'HP1 Calcs'!B27,IF(OR('HP1'!B21=\"-\",'HP1'!B21=\"\"),\"\",'HP1'!B21))","v":""},{"$f":"IF($C$4,IF('Step 5 Identify & Select ASHPs'!$I$27,'HP1 Calcs'!G27,IF(OR('HP1'!C21=\"-\",'HP1'!C21=\"\"),\"\",'HP1'!C21)),NA())","v":""},null,{"$f":"IF('Step 5 Identify & Select ASHPs'!$I$46,'HP2 Calcs'!B27,IF(OR('HP2'!B21=\"-\",'HP2'!B21=\"\"),\"\",'HP2'!B21))","v":""},{"$f":"IF($C$5,IF('Step 5 Identify & Select ASHPs'!$I$46,'HP2 Calcs'!G27,IF(OR('HP2'!C21=\"-\",'HP2'!C21=\"\"),\"\",'HP2'!C21)),NA())","v":""},null,{"$f":"IF('Step 5 Identify & Select ASHPs'!$I$65,'HP3 Calcs'!B27,IF(OR('HP3'!B21=\"-\",'HP3'!B21=\"\"),\"\",'HP3'!B21))","v":""},{"$f":"IF($C$6,IF('Step 5 Identify & Select ASHPs'!$I$65,'HP3 Calcs'!G27,IF(OR('HP3'!C21=\"-\",'HP3'!C21=\"\"),\"\",'HP3'!C21)),NA())","v":""},null,{"$f":"IF('Step 5 Identify & Select ASHPs'!$I$84,'HP4 Calcs'!B27,IF(OR('HP4'!B21=\"-\",'HP4'!B21=\"\"),\"\",'HP4'!B21))","v":""},{"$f":"IF($C$7,IF('Step 5 Identify & Select ASHPs'!$I$84,'HP4 Calcs'!G27,IF(OR('HP4'!C21=\"-\",'HP4'!C21=\"\"),\"\",'HP4'!C21)),NA())","v":""},null,null,null,null,null,null,null,null,null,null,null,null,null,{"$f":"IF('Step 5 Identify & Select ASHPs'!$I$27,'HP1 Calcs'!Q27,IF(OR('HP1'!M21=\"-\",'HP1'!M21=\"\"),\"\",'HP1'!M21))","v":""},{"$f":"IF($C$8,IF('Step 5 Identify & Select ASHPs'!$I$27,'HP1 Calcs'!V27,IF(OR('HP1'!N21=\"-\",'HP1'!N21=\"\"),\"\",'HP1'!N21)),NA())","v":""},null,{"$f":"IF('Step 5 Identify & Select ASHPs'!$I$46,'HP2 Calcs'!Q27,IF(OR('HP2'!M21=\"-\",'HP2'!M21=\"\"),\"\",'HP2'!M21))","v":""},{"$f":"IF($C$9,IF('Step 5 Identify & Select ASHPs'!$I$46,'HP2 Calcs'!V27,IF(OR('HP2'!N21=\"-\",'HP2'!N21=\"\"),\"\",'HP2'!N21)),NA())","v":""},null,{"$f":"IF('Step 5 Identify & Select ASHPs'!$I$65,'HP3 Calcs'!Q27,IF(OR('HP3'!M21=\"-\",'HP3'!M21=\"\"),\"\",'HP3'!M21))","v":""},{"$f":"IF($C$10,IF('Step 5 Identify & Select ASHPs'!$I$65,'HP3 Calcs'!V27,IF(OR('HP3'!N21=\"-\",'HP3'!N21=\"\"),\"\",'HP3'!N21)),NA())","v":""},null,{"$f":"IF('Step 5 Identify & Select ASHPs'!$I$84,'HP4 Calcs'!Q27,IF(OR('HP4'!M21=\"-\",'HP4'!M21=\"\"),\"\",'HP4'!M21))","v":""},{"$f":"IF($C$11,IF('Step 5 Identify & Select ASHPs'!$I$84,'HP4 Calcs'!V27,IF(OR('HP4'!N21=\"-\",'HP4'!N21=\"\"),\"\",'HP4'!N21)),NA())","v":""},null,null,null,null,null,null,null,null,null,null,null,null,null,null,null,null,null,null,null,null,null,null,null,null,null,{"$f":"IF($C$4,IF('Step 5 Identify & Select ASHPs'!$I$27,IF('HP1 Calcs'!C66=0,\"\",'HP1 Calcs'!B66),IF('HP1'!C63=0,\"\",'HP1'!B63)),NA())","v":""},{"$f":"IF($C$4,IF('Step 5 Identify & Select ASHPs'!$I$27,IF('HP1 Calcs'!E66=0,\"\",'HP1 Calcs'!E66),IF('HP1'!C63=0,\"\",'HP1'!C63)),NA())","v":""},null,{"$f":"IF($C$5,IF('Step 5 Identify & Select ASHPs'!$I$46,IF('HP2 Calcs'!C66=0,\"\",'HP2 Calcs'!B66),IF('HP2'!C63=0,\"\",'HP2'!B63)),NA())","v":""},{"$f":"IF(AND($C$5,'Step 5 Identify & Select ASHPs'!$D$11>=2),IF('Step 5 Identify & Select ASHPs'!$I$46,IF('HP2 Calcs'!E66=0,\"\",'HP2 Calcs'!E66),IF('HP2'!C63=0,\"\",'HP2'!C63)),NA())","v":""},null,{"$f":"IF($C$6,IF('Step 5 Identify & Select ASHPs'!$I$65,IF('HP3 Calcs'!C66=0,\"\",'HP3 Calcs'!B66),IF('HP3'!C63=0,\"\",'HP3'!B63)),NA())","v":""},{"$f":"IF(AND($C$6,'Step 5 Identify & Select ASHPs'!$D$11>=3),IF('Step 5 Identify & Select ASHPs'!$I$65,IF('HP3 Calcs'!E66=0,\"\",'HP3 Calcs'!E66),IF('HP3'!C63=0,\"\",'HP3'!C63)),NA())","v":""},null,{"$f":"IF($C$7,IF('Step 5 Identify & Select ASHPs'!$I$84,IF('HP4 Calcs'!C66=0,\"\",'HP4 Calcs'!B66),IF('HP4'!C63=0,\"\",'HP4'!B63)),NA())","v":""},{"$f":"IF(AND($C$7,'Step 5 Identify & Select ASHPs'!$D$11>=4),IF('Step 5 Identify & Select ASHPs'!$I$84,IF('HP4 Calcs'!E66=0,\"\",'HP4 Calcs'!E66),IF('HP4'!C63=0,\"\",'HP4'!C63)),NA())","v":""},null,{"$f":"IF($C$4,IF('Step 5 Identify & Select ASHPs'!$I$27,IF('HP1 Calcs'!T66=0,\"\",'HP1 Calcs'!Q66),IF('HP1'!N63=0,\"\",'HP1'!M63)),NA())","v":""},{"$f":"IF($C$4,IF('Step 5 Identify & Select ASHPs'!$I$27,IF('HP1 Calcs'!T66=0,\"\",'HP1 Calcs'!T66),IF('HP1'!N63=0,\"\",'HP1'!N63)),NA())","v":""},null,{"$f":"IF($C$5,IF('Step 5 Identify & Select ASHPs'!$I$46,IF('HP2 Calcs'!T66=0,\"\",'HP2 Calcs'!Q66),IF('HP2'!N63=0,\"\",'HP2'!M63)),NA())","v":""},{"$f":"IF(AND($C$5,'Step 5 Identify & Select ASHPs'!$D$11>=2),IF('Step 5 Identify & Select ASHPs'!$I$46,IF('HP2 Calcs'!T66=0,\"\",'HP2 Calcs'!T66),IF('HP2'!N63=0,\"\",'HP2'!N63)),NA())","v":""},null,{"$f":"IF($C$6,IF('Step 5 Identify & Select ASHPs'!$I$65,IF('HP3 Calcs'!T66=0,\"\",'HP3 Calcs'!Q66),IF('HP3'!N63=0,\"\",'HP3'!M63)),NA())","v":""},{"$f":"IF(AND($C$6,'Step 5 Identify & Select ASHPs'!$D$11>=3),IF('Step 5 Identify & Select ASHPs'!$I$65,IF('HP3 Calcs'!T66=0,\"\",'HP3 Calcs'!T66),IF('HP3'!N63=0,\"\",'HP3'!N63)),NA())","v":""},null,{"$f":"IF($C$7,IF('Step 5 Identify & Select ASHPs'!$I$84,IF('HP4 Calcs'!T66=0,\"\",'HP4 Calcs'!Q66),IF('HP4'!N63=0,\"\",'HP4'!M63)),NA())","v":""},{"$f":"IF(AND($C$7,'Step 5 Identify & Select ASHPs'!$D$11>=4),IF('Step 5 Identify & Select ASHPs'!$I$84,IF('HP4 Calcs'!T66=0,\"\",'HP4 Calcs'!T66),IF('HP4'!N63=0,\"\",'HP4'!N63)),NA())","v":""}]
[null,"HP3",{"$f":"IF(OR('Step 5 Identify & Select ASHPs'!$I$62,'Step 5 Identify & Select ASHPs'!$I$63,'Step 5 Identify & Select ASHPs'!$I$64,'Step 5 Identify & Select ASHPs'!$I$65),TRUE,FALSE)","v":true},null,{"$f":"IF('Step 5 Identify & Select ASHPs'!$I$27,'HP1 Calcs'!B28,IF(OR('HP1'!B22=\"-\",'HP1'!B22=\"\"),\"\",'HP1'!B22))","v":""},{"$f":"IF($C$4,IF('Step 5 Identify & Select ASHPs'!$I$27,'HP1 Calcs'!G28,IF(OR('HP1'!C22=\"-\",'HP1'!C22=\"\"),\"\",'HP1'!C22)),NA())","v":""},null,{"$f":"IF('Step 5 Identify & Select ASHPs'!$I$46,'HP2 Calcs'!B28,IF(OR('HP2'!B22=\"-\",'HP2'!B22=\"\"),\"\",'HP2'!B22))","v":""},{"$f":"IF($C$5,IF('Step 5 Identify & Select ASHPs'!$I$46,'HP2 Calcs'!G28,IF(OR('HP2'!C22=\"-\",'HP2'!C22=\"\"),\"\",'HP2'!C22)),NA())","v":""},null,{"$f":"IF('Step 5 Identify & Select ASHPs'!$I$65,'HP3 Calcs'!B28,IF(OR('HP3'!B22=\"-\",'HP3'!B22=\"\"),\"\",'HP3'!B22))","v":""},{"$f":"IF($C$6,IF('Step 5 Identify & Select ASHPs'!$I$65,'HP3 Calcs'!G28,IF(OR('HP3'!C22=\"-\",'HP3'!C22=\"\"),\"\",'HP3'!C22)),NA())","v":""},null,{"$f":"IF('Step 5 Identify & Select ASHPs'!$I$84,'HP4 Calcs'!B28,IF(OR('HP4'!B22=\"-\",'HP4'!B22=\"\"),\"\",'HP4'!B22))","v":""},{"$f":"IF($C$7,IF('Step 5 Identify & Select ASHPs'!$I$84,'HP4 Calcs'!G28,IF(OR('HP4'!C22=\"-\",'HP4'!C22=\"\"),\"\",'HP4'!C22)),NA())","v":""},null,null,null,null,null,null,null,null,null,null,null,null,null,{"$f":"IF('Step 5 Identify & Select ASHPs'!$I$27,'HP1 Calcs'!Q28,IF(OR('HP1'!M22=\"-\",'HP1'!M22=\"\"),\"\",'HP1'!M22))","v":""},{"$f":"IF($C$8,IF('Step 5 Identify & Select ASHPs'!$I$27,'HP1 Calcs'!V28,IF(OR('HP1'!N22=\"-\",'HP1'!N22=\"\"),\"\",'HP1'!N22)),NA())","v":""},null,{"$f":"IF('Step 5 Identify & Select ASHPs'!$I$46,'HP2 Calcs'!Q28,IF(OR('HP2'!M22=\"-\",'HP2'!M22=\"\"),\"\",'HP2'!M22))","v":""},{"$f":"IF($C$9,IF('Step 5 Identify & Select ASHPs'!$I$46,'HP2 Calcs'!V28,IF(OR('HP2'!N22=\"-\",'HP2'!N22=\"\"),\"\",'HP2'!N22)),NA())","v":""},null,{"$f":"IF('Step 5 Identify & Select ASHPs'!$I$65,'HP3 Calcs'!Q28,IF(OR('HP3'!M22=\"-\",'HP3'!M22=\"\"),\"\",'HP3'!M22))","v":""},{"$f":"IF($C$10,IF('Step 5 Identify & Select ASHPs'!$I$65,'HP3 Calcs'!V28,IF(OR('HP3'!N22=\"-\",'HP3'!N22=\"\"),\"\",'HP3'!N22)),NA())","v":""},null,{"$f":"IF('Step 5 Identify & Select ASHPs'!$I$84,'HP4 Calcs'!Q28,IF(OR('HP4'!M22=\"-\",'HP4'!M22=\"\"),\"\",'HP4'!M22))","v":""},{"$f":"IF($C$11,IF('Step 5 Identify & Select ASHPs'!$I$84,'HP4 Calcs'!V28,IF(OR('HP4'!N22=\"-\",'HP4'!N22=\"\"),\"\",'HP4'!N22)),NA())","v":""}]
[null,"HP4",{"$f":"IF(OR('Step 5 Identify & Select ASHPs'!$I$81,'Step 5 Identify & Select ASHPs'!$I$82,'Step 5 Identify & Select ASHPs'!$I$83,'Step 5 Identify & Select ASHPs'!$I$84),TRUE,FALSE)","v":true},null,{"$f":"IF('Step 5 Identify & Select ASHPs'!$I$27,'HP1 Calcs'!B29,IF(OR('HP1'!B23=\"-\",'HP1'!B23=\"\"),\"\",'HP1'!B23))","v":""},{"$f":"IF($C$4,IF('Step 5 Identify & Select ASHPs'!$I$27,'HP1 Calcs'!G29,IF(OR('HP1'!C23=\"-\",'HP1'!C23=\"\"),\"\",'HP1'!C23)),NA())","v":""},null,{"$f":"IF('Step 5 Identify & Select ASHPs'!$I$46,'HP2 Calcs'!B29,IF(OR('HP2'!B23=\"-\",'HP2'!B23=\"\"),\"\",'HP2'!B23))","v":""},{"$f":"IF($C$5,IF('Step 5 Identify & Select ASHPs'!$I$46,'HP2 Calcs'!G29,IF(OR('HP2'!C23=\"-\",'HP2'!C23=\"\"),\"\",'HP2'!C23)),NA())","v":""},null,{"$f":"IF('Step 5 Identify & Select ASHPs'!$I$65,'HP3 Calcs'!B29,IF(OR('HP3'!B23=\"-\",'HP3'!B23=\"\"),\"\",'HP3'!B23))","v":""},{"$f":"IF($C$6,IF('Step 5 Identify & Select ASHPs'!$I$65,'HP3 Calcs'!G29,IF(OR('HP3'!C23=\"-\",'HP3'!C23=\"\"),\"\",'HP3'!C23)),NA())","v":""},null,{"$f":"IF('Step 5 Identify & Select ASHPs'!$I$84,'HP4 Calcs'!B29,IF(OR('HP4'!B23=\"-\",'HP4'!B23=\"\"),\"\",'HP4'!B23))","v":""},{"$f":"IF($C$7,IF('Step 5 Identify & Select ASHPs'!$I$84,'HP4 Calcs'!G29,IF(OR('HP4'!C23=\"-\",'HP4'!C23=\"\"),\"\",'HP4'!C23)),NA())","v":""},null,null,null,null,null,null,null,null,null,null,null,null,null,{"$f":"IF('Step 5 Identify & Select ASHPs'!$I$27,'HP1 Calcs'!Q29,IF(OR('HP1'!M23=\"-\",'HP1'!M23=\"\"),\"\",'HP1'!M23))","v":""},{"$f":"IF($C$8,IF('Step 5 Identify & Select ASHPs'!$I$27,'HP1 Calcs'!V29,IF(OR('HP1'!N23=\"-\",'HP1'!N23=\"\"),\"\",'HP1'!N23)),NA())","v":""},null,{"$f":"IF('Step 5 Identify & Select ASHPs'!$I$46,'HP2 Calcs'!Q29,IF(OR('HP2'!M23=\"-\",'HP2'!M23=\"\"),\"\",'HP2'!M23))","v":""},{"$f":"IF($C$9,IF('Step 5 Identify & Select ASHPs'!$I$46,'HP2 Calcs'!V29,IF(OR('HP2'!N23=\"-\",'HP2'!N23=\"\"),\"\",'HP2'!N23)),NA())","v":""},null,{"$f":"IF('Step 5 Identify & Select ASHPs'!$I$65,'HP3 Calcs'!Q29,IF(OR('HP3'!M23=\"-\",'HP3'!M23=\"\"),\"\",'HP3'!M23))","v":""},{"$f":"IF($C$10,IF('Step 5 Identify & Select ASHPs'!$I$65,'HP3 Calcs'!V29,IF(OR('HP3'!N23=\"-\",'HP3'!N23=\"\"),\"\",'HP3'!N23)),NA())","v":""},null,{"$f":"IF('Step 5 Identify & Select ASHPs'!$I$84,'HP4 Calcs'!Q29,IF(OR('HP4'!M23=\"-\",'HP4'!M23=\"\"),\"\",'HP4'!M23))","v":""},{"$f":"IF($C$11,IF('Step 5 Identify & Select ASHPs'!$I$84,'HP4 Calcs'!V29,IF(OR('HP4'!N23=\"-\",'HP4'!N23=\"\"),\"\",'HP4'!N23)),NA())","v":""}]
[null,null,null,null,{"$f":"IF('Step 5 Identify & Select ASHPs'!$I$27,'HP1 Calcs'!B30,IF(OR('HP1'!B24=\"-\",'HP1'!B24=\"\"),\"\",'HP1'!B24))","v":""},{"$f":"IF($C$4,IF('Step 5 Identify & Select ASHPs'!$I$27,'HP1 Calcs'!G30,IF(OR('HP1'!C24=\"-\",'HP1'!C24=\"\"),\"\",'HP1'!C24)),NA())","v":""},null,{"$f":"IF('Step 5 Identify & Select ASHPs'!$I$46,'HP2 Calcs'!B30,IF(OR('HP2'!B24=\"-\",'HP2'!B24=\"\"),\"\",'HP2'!B24))","v":""},{"$f":"IF($C$5,IF('Step 5 Identify & Select ASHPs'!$I$46,'HP2 Calcs'!G30,IF(OR('HP2'!C24=\"-\",'HP2'!C24=\"\"),\"\",'HP2'!C24)),NA())","v":""},null,{"$f":"IF('Step 5 Identify & Select ASHPs'!$I$65,'HP3 Calcs'!B30,IF(OR('HP3'!B24=\"-\",'HP3'!B24=\"\"),\"\",'HP3'!B24))","v":""},{"$f":"IF($C$6,IF('Step 5 Identify & Select ASHPs'!$I$65,'HP3 Calcs'!G30,IF(OR('HP3'!C24=\"-\",'HP3'!C24=\"\"),\"\",'HP3'!C24)),NA())","v":""},null,{"$f":"IF('Step 5 Identify & Select ASHPs'!$I$84,'HP4 Calcs'!B30,IF(OR('HP4'!B24=\"-\",'HP4'!B24=\"\"),\"\",'HP4'!B24))","v":""},{"$f":"IF($C$7,IF('Step 5 Identify & Select ASHPs'!$I$84,'HP4 Calcs'!G30,IF(OR('HP4'!C24=\"-\",'HP4'!C24=\"\"),\"\",'HP4'!C24)),NA())","v":""},null,null,null,null,null,null,null,null,null,null,null,null,null,{"$f":"IF('Step 5 Identify & Select ASHPs'!$I$27,'HP1 Calcs'!Q30,IF(OR('HP1'!M24=\"-\",'HP1'!M24=\"\"),\"\",'HP1'!M24))","v":""},{"$f":"IF($C$8,IF('Step 5 Identify & Select ASHPs'!$I$27,'HP1 Calcs'!V30,IF(OR('HP1'!N24=\"-\",'HP1'!N24=\"\"),\"\",'HP1'!N24)),NA())","v":""},null,{"$f":"IF('Step 5 Identify & Select ASHPs'!$I$46,'HP2 Calcs'!Q30,IF(OR('HP2'!M24=\"-\",'HP2'!M24=\"\"),\"\",'HP2'!M24))","v":""},{"$f":"IF($C$9,IF('Step 5 Identify & Select ASHPs'!$I$46,'HP2 Calcs'!V30,IF(OR('HP2'!N24=\"-\",'HP2'!N24=\"\"),\"\",'HP2'!N24)),NA())","v":""},null,{"$f":"IF('Step 5 Identify & Select ASHPs'!$I$65,'HP3 Calcs'!Q30,IF(OR('HP3'!M24=\"-\",'HP3'!M24=\"\"),\"\",'HP3'!M24))","v":""},{"$f":"IF($C$10,IF('Step 5 Identify & Select ASHPs'!$I$65,'HP3 Calcs'!V30,IF(OR('HP3'!N24=\"-\",'HP3'!N24=\"\"),\"\",'HP3'!N24)),NA())","v":""},null,{"$f":"IF('Step 5 Identify & Select ASHPs'!$I$84,'HP4 Calcs'!Q30,IF(OR('HP4'!M24=\"-\",'HP4'!M24=\"\"),\"\",'HP4'!M24))","v":""},{"$f":"IF($C$11,IF('Step 5 Identify & Select ASHPs'!$I$84,'HP4 Calcs'!V30,IF(OR('HP4'!N24=\"-\",'HP4'!N24=\"\"),\"\",'HP4'!N24)),NA())","v":""}]
[null,null,null,null,{"$f":"IF('Step 5 Identify & Select ASHPs'!$I$27,'HP1 Calcs'!B31,IF(OR('HP1'!B25=\"-\",'HP1'!B25=\"\"),\"\",'HP1'!B25))","v":""},{"$f":"IF($C$4,IF('Step 5 Identify & Select ASHPs'!$I$27,'HP1 Calcs'!G31,IF(OR('HP1'!C25=\"-\",'HP1'!C25=\"\"),\"\",'HP1'!C25)),NA())","v":""},null,{"$f":"IF('Step 5 Identify & Select ASHPs'!$I$46,'HP2 Calcs'!B31,IF(OR('HP2'!B25=\"-\",'HP2'!B25=\"\"),\"\",'HP2'!B25))","v":""},{"$f":"IF($C$5,IF('Step 5 Identify & Select ASHPs'!$I$46,'HP2 Calcs'!G31,IF(OR('HP2'!C25=\"-\",'HP2'!C25=\"\"),\"\",'HP2'!C25)),NA())","v":""},null,{"$f":"IF('Step 5 Identify & Select ASHPs'!$I$65,'HP3 Calcs'!B31,IF(OR('HP3'!B25=\"-\",'HP3'!B25=\"\"),\"\",'HP3'!B25))","v":""},{"$f":"IF($C$6,IF('Step 5 Identify & Select ASHPs'!$I$65,'HP3 Calcs'!G31,IF(OR('HP3'!C25=\"-\",'HP3'!C25=\"\"),\"\",'HP3'!C25)),NA())","v":""},null,{"$f":"IF('Step 5 Identify & Select ASHPs'!$I$84,'HP4 Calcs'!B31,IF(OR('HP4'!B25=\"-\",'HP4'!B25=\"\"),\"\",'HP4'!B25))","v":""},{"$f":"IF($C$7,IF('Step 5 Identify & Select ASHPs'!$I$84,'HP4 Calcs'!G31,IF(OR('HP4'!C25=\"-\",'HP4'!C25=\"\"),\"\",'HP4'!C25)),NA())","v":""},null,null,null,null,null,null,null,null,null,null,null,null,null,{"$f":"IF('Step 5 Identify & Select ASHPs'!$I$27,'HP1 Calcs'!Q31,IF(OR('HP1'!M25=\"-\",'HP1'!M25=\"\"),\"\",'HP1'!M25))","v":""},{"$f":"IF($C$8,IF('Step 5 Identify & Select ASHPs'!$I$27,'HP1 Calcs'!V31,IF(OR('HP1'!N25=\"-\",'HP1'!N25=\"\"),\"\",'HP1'!N25)),NA())","v":""},null,{"$f":"IF('Step 5 Identify & Select ASHPs'!$I$46,'HP2 Calcs'!Q31,IF(OR('HP2'!M25=\"-\",'HP2'!M25=\"\"),\"\",'HP2'!M25))","v":""},{"$f":"IF($C$9,IF('Step 5 Identify & Select ASHPs'!$I$46,'HP2 Calcs'!V31,IF(OR('HP2'!N25=\"-\",'HP2'!N25=\"\"),\"\",'HP2'!N25)),NA())","v":""},null,{"$f":"IF('Step 5 Identify & Select ASHPs'!$I$65,'HP3 Calcs'!Q31,IF(OR('HP3'!M25=\"-\",'HP3'!M25=\"\"),\"\",'HP3'!M25))","v":""},{"$f":"IF($C$10,IF('Step 5 Identify & Select ASHPs'!$I$65,'HP3 Calcs'!V31,IF(OR('HP3'!N25=\"-\",'HP3'!N25=\"\"),\"\",'HP3'!N25)),NA())","v":""},null,{"$f":"IF('Step 5 Identify & Select ASHPs'!$I$84,'HP4 Calcs'!Q31,IF(OR('HP4'!M25=\"-\",'HP4'!M25=\"\"),\"\",'HP4'!M25))","v":""},{"$f":"IF($C$11,IF('Step 5 Identify & Select ASHPs'!$I$84,'HP4 Calcs'!V31,IF(OR('HP4'!N25=\"-\",'HP4'!N25=\"\"),\"\",'HP4'!N25)),NA())","v":""}]
[null,null,null,null,{"$f":"IF('Step 5 Identify & Select ASHPs'!$I$27,'HP1 Calcs'!B32,IF(OR('HP1'!B26=\"-\",'HP1'!B26=\"\"),\"\",'HP1'!B26))","v":""},{"$f":"IF($C$4,IF('Step 5 Identify & Select ASHPs'!$I$27,'HP1 Calcs'!G32,IF(OR('HP1'!C26=\"-\",'HP1'!C26=\"\"),\"\",'HP1'!C26)),NA())","v":""},null,{"$f":"IF('Step 5 Identify & Select ASHPs'!$I$46,'HP2 Calcs'!B32,IF(OR('HP2'!B26=\"-\",'HP2'!B26=\"\"),\"\",'HP2'!B26))","v":""},{"$f":"IF($C$5,IF('Step 5 Identify & Select ASHPs'!$I$46,'HP2 Calcs'!G32,IF(OR('HP2'!C26=\"-\",'HP2'!C26=\"\"),\"\",'HP2'!C26)),NA())","v":""},null,{"$f":"IF('Step 5 Identify & Select ASHPs'!$I$65,'HP3 Calcs'!B32,IF(OR('HP3'!B26=\"-\",'HP3'!B26=\"\"),\"\",'HP3'!B26))","v":""},{"$f":"IF($C$6,IF('Step 5 Identify & Select ASHPs'!$I$65,'HP3 Calcs'!G32,IF(OR('HP3'!C26=\"-\",'HP3'!C26=\"\"),\"\",'HP3'!C26)),NA())","v":""},null,{"$f":"IF('Step 5 Identify & Select ASHPs'!$I$84,'HP4 Calcs'!B32,IF(OR('HP4'!B26=\"-\",'HP4'!B26=\"\"),\"\",'HP4'!B26))","v":""},{"$f":"IF($C$7,IF('Step 5 Identify & Select ASHPs'!$I$84,'HP4 Calcs'!G32,IF(OR('HP4'!C26=\"-\",'HP4'!C26=\"\"),\"\",'HP4'!C26)),NA())","v":""},null,null,null,null,null,null,null,null,null,null,null,null,null,{"$f":"IF('Step 5 Identify & Select ASHPs'!$I$27,'HP1 Calcs'!Q32,IF(OR('HP1'!M26=\"-\",'HP1'!M26=\"\"),\"\",'HP1'!M26))","v":""},{"$f":"IF($C$8,IF('Step 5 Identify & Select ASHPs'!$I$27,'HP1 Calcs'!V32,IF(OR('HP1'!N26=\"-\",'HP1'!N26=\"\"),\"\",'HP1'!N26)),NA())","v":""},null,{"$f":"IF('Step 5 Identify & Select ASHPs'!$I$46,'HP2 Calcs'!Q32,IF(OR('HP2'!M26=\"-\",'HP2'!M26=\"\"),\"\",'HP2'!M26))","v":""},{"$f":"IF($C$9,IF('Step 5 Identify & Select ASHPs'!$I$46,'HP2 Calcs'!V32,IF(OR('HP2'!N26=\"-\",'HP2'!N26=\"\"),\"\",'HP2'!N26)),NA())","v":""},null,{"$f":"IF('Step 5 Identify & Select ASHPs'!$I$65,'HP3 Calcs'!Q32,IF(OR('HP3'!M26=\"-\",'HP3'!M26=\"\"),\"\",'HP3'!M26))","v":""},{"$f":"IF($C$10,IF('Step 5 Identify & Select ASHPs'!$I$65,'HP3 Calcs'!V32,IF(OR('HP3'!N26=\"-\",'HP3'!N26=\"\"),\"\",'HP3'!N26)),NA())","v":""},null,{"$f":"IF('Step 5 Identify & Select ASHPs'!$I$84,'HP4 Calcs'!Q32,IF(OR('HP4'!M26=\"-\",'HP4'!M26=\"\"),\"\",'HP4'!M26))","v":""},{"$f":"IF($C$11,IF('Step 5 Identify & Select ASHPs'!$I$84,'HP4 Calcs'!V32,IF(OR('HP4'!N26=\"-\",'HP4'!N26=\"\"),\"\",'HP4'!N26)),NA())","v":""}]
[null,null,null,null,{"$f":"IF('Step 5 Identify & Select ASHPs'!$I$27,'HP1 Calcs'!B33,IF(OR('HP1'!B27=\"-\",'HP1'!B27=\"\"),\"\",'HP1'!B27))","v":""},{"$f":"IF($C$4,IF('Step 5 Identify & Select ASHPs'!$I$27,'HP1 Calcs'!G33,IF(OR('HP1'!C27=\"-\",'HP1'!C27=\"\"),\"\",'HP1'!C27)),NA())","v":""},null,{"$f":"IF('Step 5 Identify & Select ASHPs'!$I$46,'HP2 Calcs'!B33,IF(OR('HP2'!B27=\"-\",'HP2'!B27=\"\"),\"\",'HP2'!B27))","v":""},{"$f":"IF($C$5,IF('Step 5 Identify & Select ASHPs'!$I$46,'HP2 Calcs'!G33,IF(OR('HP2'!C27=\"-\",'HP2'!C27=\"\"),\"\",'HP2'!C27)),NA())","v":""},null,{"$f":"IF('Step 5 Identify & Select ASHPs'!$I$65,'HP3 Calcs'!B33,IF(OR('HP3'!B27=\"-\",'HP3'!B27=\"\"),\"\",'HP3'!B27))","v":""},{"$f":"IF($C$6,IF('Step 5 Identify & Select ASHPs'!$I$65,'HP3 Calcs'!G33,IF(OR('HP3'!C27=\"-\",'HP3'!C27=\"\"),\"\",'HP3'!C27)),NA())","v":""},null,{"$f":"IF('Step 5 Identify & Select ASHPs'!$I$84,'HP4 Calcs'!B33,IF(OR('HP4'!B27=\"-\",'HP4'!B27=\"\"),\"\",'HP4'!B27))","v":""},{"$f":"IF($C$7,IF('Step 5 Identify & Select ASHPs'!$I$84,'HP4 Calcs'!G33,IF(OR('HP4'!C27=\"-\",'HP4'!C27=\"\"),\"\",'HP4'!C27)),NA())","v":""},null,null,null,null,null,null,null,null,null,null,null,null,null,{"$f":"IF('Step 5 Identify & Select ASHPs'!$I$27,'HP1 Calcs'!Q33,IF(OR('HP1'!M27=\"-\",'HP1'!M27=\"\"),\"\",'HP1'!M27))","v":""},{"$f":"IF($C$8,IF('Step 5 Identify & Select ASHPs'!$I$27,'HP1 Calcs'!V33,IF(OR('HP1'!N27=\"-\",'HP1'!N27=\"\"),\"\",'HP1'!N27)),NA())","v":""},null,{"$f":"IF('Step 5 Identify & Select ASHPs'!$I$46,'HP2 Calcs'!Q33,IF(OR('HP2'!M27=\"-\",'HP2'!M27=\"\"),\"\",'HP2'!M27))","v":""},{"$f":"IF($C$9,IF('Step 5 Identify & Select ASHPs'!$I$46,'HP2 Calcs'!V33,IF(OR('HP2'!N27=\"-\",'HP2'!N27=\"\"),\"\",'HP2'!N27)),NA())","v":""},null,{"$f":"IF('Step 5 Identify & Select ASHPs'!$I$65,'HP3 Calcs'!Q33,IF(OR('HP3'!M27=\"-\",'HP3'!M27=\"\"),\"\",'HP3'!M27))","v":""},{"$f":"IF($C$10,IF('Step 5 Identify & Select ASHPs'!$I$65,'HP3 Calcs'!V33,IF(OR('HP3'!N27=\"-\",'HP3'!N27=\"\"),\"\",'HP3'!N27)),NA())","v":""},null,{"$f":"IF('Step 5 Identify & Select ASHPs'!$I$84,'HP4 Calcs'!Q33,IF(OR('HP4'!M27=\"-\",'HP4'!M27=\"\"),\"\",'HP4'!M27))","v":""},{"$f":"IF($C$11,IF('Step 5 Identify & Select ASHPs'!$I$84,'HP4 Calcs'!V33,IF(OR('HP4'!N27=\"-\",'HP4'!N27=\"\"),\"\",'HP4'!N27)),NA())","v":""}]
[null,null,null,null,{"$f":"IF('Step 5 Identify & Select ASHPs'!$I$27,\"\",IF(OR('HP1'!B28=\"-\",'HP1'!B28=\"\"),\"\",'HP1'!B28))","v":""},{"$f":"IF($C$4,IF('Step 5 Identify & Select ASHPs'!$I$27,\"\",IF(OR('HP1'!C28=\"-\",'HP1'!C28=\"\"),\"\",'HP1'!C28)),NA())","v":""},null,{"$f":"IF('Step 5 Identify & Select ASHPs'!$I$46,\"\",IF(OR('HP2'!B28=\"-\",'HP2'!B28=\"\"),\"\",'HP2'!B28))","v":""},{"$f":"IF($C$5,IF('Step 5 Identify & Select ASHPs'!$I$46,\"\",IF(OR('HP2'!C28=\"-\",'HP2'!C28=\"\"),\"\",'HP2'!C28)),NA())","v":""},null,{"$f":"IF('Step 5 Identify & Select ASHPs'!$I$65,\"\",IF(OR('HP3'!B28=\"-\",'HP3'!B28=\"\"),\"\",'HP3'!B28))","v":""},{"$f":"IF($C$6,IF('Step 5 Identify & Select ASHPs'!$I$65,\"\",IF(OR('HP3'!C28=\"-\",'HP3'!C28=\"\"),\"\",'HP3'!C28)),NA())","v":""},null,{"$f":"IF('Step 5 Identify & Select ASHPs'!$I$84,\"\",IF(OR('HP4'!B28=\"-\",'HP4'!B28=\"\"),\"\",'HP4'!B28))","v":""},{"$f":"IF($C$7,IF('Step 5 Identify & Select ASHPs'!$I$84,\"\",IF(OR('HP4'!C28=\"-\",'HP4'!C28=\"\"),\"\",'HP4'!C28)),NA())","v":""},null,null,null,null,null,null,null,null,null,null,null,null,null,{"$f":"IF('Step 5 Identify & Select ASHPs'!$I$27,\"\",IF(OR('HP1'!M28=\"-\",'HP1'!M28=\"\"),\"\",'HP1'!M28))","v":""},{"$f":"IF($C$8,IF('Step 5 Identify & Select ASHPs'!$I$27,\"\",IF(OR('HP1'!N28=\"-\",'HP1'!N28=\"\"),\"\",'HP1'!N28)),NA())","v":""},null,{"$f":"IF('Step 5 Identify & Select ASHPs'!$I$46,\"\",IF(OR('HP2'!M28=\"-\",'HP2'!M28=\"\"),\"\",'HP2'!M28))","v":""},{"$f":"IF($C$9,IF('Step 5 Identify & Select ASHPs'!$I$46,\"\",IF(OR('HP2'!N28=\"-\",'HP2'!N28=\"\"),\"\",'HP2'!N28)),NA())","v":""},null,{"$f":"IF('Step 5 Identify & Select ASHPs'!$I$65,\"\",IF(OR('HP3'!M28=\"-\",'HP3'!M28=\"\"),\"\",'HP3'!M28))","v":""},{"$f":"IF($C$10,IF('Step 5 Identify & Select ASHPs'!$I$65,\"\",IF(OR('HP3'!N28=\"-\",'HP3'!N28=\"\"),\"\",'HP3'!N28)),NA())","v":""},null,{"$f":"IF('Step 5 Identify & Select ASHPs'!$I$84,\"\",IF(OR('HP4'!M28=\"-\",'HP4'!M28=\"\"),\"\",'HP4'!M28))","v":""},{"$f":"IF($C$11,IF('Step 5 Identify & Select ASHPs'!$I$84,\"\",IF(OR('HP4'!N28=\"-\",'HP4'!N28=\"\"),\"\",'HP4'!N28)),NA())","v":""}]
[null,null,null,null,{"$f":"IF('Step 5 Identify & Select ASHPs'!$I$27,\"\",IF(OR('HP1'!B29=\"-\",'HP1'!B29=\"\"),\"\",'HP1'!B29))","v":""},{"$f":"IF($C$4,IF('Step 5 Identify & Select ASHPs'!$I$27,\"\",IF(OR('HP1'!C29=\"-\",'HP1'!C29=\"\"),\"\",'HP1'!C29)),NA())","v":""},null,{"$f":"IF('Step 5 Identify & Select ASHPs'!$I$46,\"\",IF(OR('HP2'!B29=\"-\",'HP2'!B29=\"\"),\"\",'HP2'!B29))","v":""},{"$f":"IF($C$5,IF('Step 5 Identify & Select ASHPs'!$I$46,\"\",IF(OR('HP2'!C29=\"-\",'HP2'!C29=\"\"),\"\",'HP2'!C29)),NA())","v":""},null,{"$f":"IF('Step 5 Identify & Select ASHPs'!$I$65,\"\",IF(OR('HP3'!B29=\"-\",'HP3'!B29=\"\"),\"\",'HP3'!B29))","v":""},{"$f":"IF($C$6,IF('Step 5 Identify & Select ASHPs'!$I$65,\"\",IF(OR('HP3'!C29=\"-\",'HP3'!C29=\"\"),\"\",'HP3'!C29)),NA())","v":""},null,{"$f":"IF('Step 5 Identify & Select ASHPs'!$I$84,\"\",IF(OR('HP4'!B29=\"-\",'HP4'!B29=\"\"),\"\",'HP4'!B29))","v":""},{"$f":"IF($C$7,IF('Step 5 Identify & Select ASHPs'!$I$84,\"\",IF(OR('HP4'!C29=\"-\",'HP4'!C29=\"\"),\"\",'HP4'!C29)),NA())","v":""},null,null,null,null,null,null,null,null,null,null,null,null,null,{"$f":"IF('Step 5 Identify & Select ASHPs'!$I$27,\"\",IF(OR('HP1'!M29=\"-\",'HP1'!M29=\"\"),\"\",'HP1'!M29))","v":""},{"$f":"IF($C$8,IF('Step 5 Identify & Select ASHPs'!$I$27,\"\",IF(OR('HP1'!N29=\"-\",'HP1'!N29=\"\"),\"\",'HP1'!N29)),NA())","v":""},null,{"$f":"IF('Step 5 Identify & Select ASHPs'!$I$46,\"\",IF(OR('HP2'!M29=\"-\",'HP2'!M29=\"\"),\"\",'HP2'!M29))","v":""},{"$f":"IF($C$9,IF('Step 5 Identify & Select ASHPs'!$I$46,\"\",IF(OR('HP2'!N29=\"-\",'HP2'!N29=\"\"),\"\",'HP2'!N29)),NA())","v":""},null,{"$f":"IF('Step 5 Identify & Select ASHPs'!$I$65,\"\",IF(OR('HP3'!M29=\"-\",'HP3'!M29=\"\"),\"\",'HP3'!M29))","v":""},{"$f":"IF($C$10,IF('Step 5 Identify & Select ASHPs'!$I$65,\"\",IF(OR('HP3'!N29=\"-\",'HP3'!N29=\"\"),\"\",'HP3'!N29)),NA())","v":""},null,{"$f":"IF('Step 5 Identify & Select ASHPs'!$I$84,\"\",IF(OR('HP4'!M29=\"-\",'HP4'!M29=\"\"),\"\",'HP4'!M29))","v":""},{"$f":"IF($C$11,IF('Step 5 Identify & Select ASHPs'!$I$84,\"\",IF(OR('HP4'!N29=\"-\",'HP4'!N29=\"\"),\"\",'HP4'!N29)),NA())","v":""}]
[null,null,null,null,{"$f":"IF('Step 5 Identify & Select ASHPs'!$I$27,\"\",IF(OR('HP1'!B30=\"-\",'HP1'!B30=\"\"),\"\",'HP1'!B30))","v":0},{"$f":"IF($C$4,IF('Step 5 Identify & Select ASHPs'!$I$27,\"\",IF(OR('HP1'!C30=\"-\",'HP1'!C30=\"\"),\"\",'HP1'!C30)),NA())","v":0},null,{"$f":"IF('Step 5 Identify & Select ASHPs'!$I$46,\"\",IF(OR('HP2'!B30=\"-\",'HP2'!B30=\"\"),\"\",'HP2'!B30))","v":0},{"$f":"IF($C$5,IF('Step 5 Identify & Select ASHPs'!$I$46,\"\",IF(OR('HP2'!C30=\"-\",'HP2'!C30=\"\"),\"\",'HP2'!C30)),NA())","v":0},null,{"$f":"IF('Step 5 Identify & Select ASHPs'!$I$65,\"\",IF(OR('HP3'!B30=\"-\",'HP3'!B30=\"\"),\"\",'HP3'!B30))","v":0},{"$f":"IF($C$6,IF('Step 5 Identify & Select ASHPs'!$I$65,\"\",IF(OR('HP3'!C30=\"-\",'HP3'!C30=\"\"),\"\",'HP3'!C30)),NA())","v":0},null,{"$f":"IF('Step 5 Identify & Select ASHPs'!$I$84,\"\",IF(OR('HP4'!B30=\"-\",'HP4'!B30=\"\"),\"\",'HP4'!B30))","v":0},{"$f":"IF($C$7,IF('Step 5 Identify & Select ASHPs'!$I$84,\"\",IF(OR('HP4'!C30=\"-\",'HP4'!C30=\"\"),\"\",'HP4'!C30)),NA())","v":0},null,null,null,null,null,null,null,null,null,null,null,null,null,{"$f":"IF('Step 5 Identify & Select ASHPs'!$I$27,\"\",IF(OR('HP1'!M30=\"-\",'HP1'!M30=\"\"),\"\",'HP1'!M30))","v":0},{"$f":"IF($C$8,IF('Step 5 Identify & Select ASHPs'!$I$27,\"\",IF(OR('HP1'!N30=\"-\",'HP1'!N30=\"\"),\"\",'HP1'!N30)),NA())","v":0},null,{"$f":"IF('Step 5 Identify & Select ASHPs'!$I$46,\"\",IF(OR('HP2'!M30=\"-\",'HP2'!M30=\"\"),\"\",'HP2'!M30))","v":0},{"$f":"IF($C$9,IF('Step 5 Identify & Select ASHPs'!$I$46,\"\",IF(OR('HP2'!N30=\"-\",'HP2'!N30=\"\"),\"\",'HP2'!N30)),NA())","v":0},null,{"$f":"IF('Step 5 Identify & Select ASHPs'!$I$65,\"\",IF(OR('HP3'!M30=\"-\",'HP3'!M30=\"\"),\"\",'HP3'!M30))","v":0},{"$f":"IF($C$10,IF('Step 5 Identify & Select ASHPs'!$I$65,\"\",IF(OR('HP3'!N30=\"-\",'HP3'!N30=\"\"),\"\",'HP3'!N30)),NA())","v":0},null,{"$f":"IF('Step 5 Identify & Select ASHPs'!$I$84,\"\",IF(OR('HP4'!M30=\"-\",'HP4'!M30=\"\"),\"\",'HP4'!M30))","v":0},{"$f":"IF($C$11,IF('Step 5 Identify & Select ASHPs'!$I$84,\"\",IF(OR('HP4'!N30=\"-\",'HP4'!N30=\"\"),\"\",'HP4'!N30)),NA())","v":0}]
[]
[]
[]
[null,null,null,null,{"$f":"'Step 5 Identify & Select ASHPs'!$E$26&\" High Stage\"","v":" High Stage"},null,null,{"$f":"'Step 5 Identify & Select ASHPs'!$E$45&\" High Stage\"","v":" High Stage"},null,null,{"$f":"'Step 5 Identify & Select ASHPs'!$E$64&\" High Stage\"","v":" High Stage"},null,null,{"$f":"'Step 5 Identify & Select ASHPs'!$E$83&\" High Stage\"","v":" High Stage"},null,null,null,null,null,null,null,null,null,null,null,null,null,null,{"$f":"'Step 5 Identify & Select ASHPs'!$E$26&\" Low Stage\"","v":" Low Stage"},null,null,{"$f":"'Step 5 Identify & Select ASHPs'!$E$45&\" Low Stage\"","v":" Low Stage"},null,null,{"$f":"'Step 5 Identify & Select ASHPs'!$E$64&\" Low Stage\"","v":" Low Stage"},null,null,{"$f":"'Step 5 Identify & Select ASHPs'!$E$83&\" Low Stage\"","v":" Low Stage"},null,null,null,null,null,null,null,null,null,null,null,null,null,null,null,null,null,null,null,null,null,null,null,null,null,null,{"$f":"\"Clg \"&'Step 5 Identify & Select ASHPs'!$E$26&\" High Stage \"","v":"Clg  High Stage "},null,null,{"$f":"\"Clg \"&'Step 5 Identify & Select ASHPs'!$E$45&\" High Stage \"","v":"Clg  High Stage "},null,null,{"$f":"\"Clg \"&'Step 5 Identify & Select ASHPs'!$E$64&\" High Stage \"","v":"Clg  High Stage "},null,null,{"$f":"\"Clg \"&'Step 5 Identify & Select ASHPs'!$E$83&\" High Stage \"","v":"Clg  High Stage "},null,null,{"$f":"\"Clg \"&'Step 5 Identify & Select ASHPs'!$E$26&\" Low Stage \"","v":"Clg  Low Stage "},null,null,{"$f":"\"Clg \"&'Step 5 Identify & Select ASHPs'!$E$45&\" Low Stage \"","v":"Clg  Low Stage "},null,null,{"$f":"\"Clg \"&'Step 5 Identify & Select ASHPs'!$E$64&\" Low Stage \"","v":"Clg  Low Stage "},null,null,{"$f":"\"Clg \"&'Step 5 Identify & Select ASHPs'!$E$83&\" Low Stage \"","v":"Clg  Low Stage "}]
[null,null,null,null,{"$f":"IFERROR(IF('Step 5 Identify & Select ASHPs'!$I$27,IF((ROW(E30)-ROW($E$29))>COUNT($F$6:$F$25)+1,\"\",IF((ROW(E30)-ROW($E$29))=COUNT($F$6:$F$25)+1,$E$5,IF(ROW(E5)-ROW($E$5)>COUNT($E$6:$E$25),\"\",SMALL($E$6:$E$25,COUNT($E$6:$E$25)-MATCH(E6,$E$6:$E$25,0)+1)))),IF((ROW(E30)-ROW($E$29))<=COUNT($E$5:$E$24),E5,IF((ROW(E30)-ROW($E$29))=COUNT($E$5:$E$24)+1,$E$25,\"\"))),1)","v":47},{"$f":"IF(AND($C$4,'Step 5 Identify & Select ASHPs'!$D$11>=1),IF('Step 5 Identify & Select ASHPs'!$I$27,IF(ROW(F6)-ROW($F$5)=COUNT($F$6:$F$25)+1,$F$5,IF(ROW(F6)-ROW($F$5)>COUNT($F$6:$F$25),\"\",INDEX($F$6:$F$25,COUNT($F$6:$F$25)+COUNTIF($F$6:$F$25,\"-\")-MATCH(E30,$E$30:$E$50,0)+1))),INDEX($F$5:$F$25,MATCH(E30,$E$5:$E$25,0))),NA())","v":0},null,{"$f":"IFERROR(IF('Step 5 Identify & Select ASHPs'!$I$46,IF((ROW(H30)-ROW($H$29))>COUNT($I$6:$I$25)+1,\"\",IF((ROW(H30)-ROW($H$29))=COUNT($I$6:$I$25)+1,$H$5,IF(ROW(H5)-ROW($H$5)>COUNT($H$6:$H$25),\"\",SMALL($H$6:$H$25,COUNT($H$6:$H$25)-MATCH(H6,$H$6:$H$25,0)+1)))),IF((ROW(H30)-ROW($H$29))<=COUNT($H$5:$H$24),H5,IF((ROW(H30)-ROW($H$29))=COUNT($H$5:$H$24)+1,$H$25,\"\"))),1)","v":47},{"$f":"IF(AND($C$5,'Step 5 Identify & Select ASHPs'!$D$11>=2),IF('Step 5 Identify & Select ASHPs'!$I$46,IF(ROW(I6)-ROW($I$5)=COUNT($I$6:$I$25)+1,$I$5,IF(ROW(I6)-ROW($I$5)>COUNT($I$6:$I$25),\"\",INDEX($I$6:$I$25,COUNT($I$6:$I$25)+COUNTIF($I$6:$I$25,\"-\")-MATCH(H30,$H$30:$H$50,0)+1))),INDEX($I$5:$I$25,MATCH(H30,$H$5:$H$25,0))),NA())","v":0},null,{"$f":"IFERROR(IF('Step 5 Identify & Select ASHPs'!$I$65,IF((ROW(K30)-ROW($K$29))>COUNT($L$6:$L$25)+1,\"\",IF((ROW(K30)-ROW($K$29))=COUNT($L$6:$L$25)+1,$K$5,IF(ROW(K5)-ROW($K$5)>COUNT($K$6:$K$25),\"\",SMALL($K$6:$K$25,COUNT($K$6:$K$25)-MATCH(K6,$K$6:$K$25,0)+1)))),IF((ROW(K30)-ROW($K$29))<=COUNT($K$5:$K$24),K5,IF((ROW(K30)-ROW($K$29))=COUNT($K$5:$K$24)+1,$K$25,\"\"))),1)","v":47},{"$f":"IF(AND($C$6,'Step 5 Identify & Select ASHPs'!$D$11>=3),IF('Step 5 Identify & Select ASHPs'!$I$65,IF(ROW(L6)-ROW($L$5)=COUNT($L$6:$L$25)+1,$L$5,IF(ROW(L6)-ROW($L$5)>COUNT($L$6:$L$25),\"\",INDEX($L$6:$L$25,COUNT($L$6:$L$25)+COUNTIF($L$6:$L$25,\"-\")-MATCH(K30,$K$30:$K$50,0)+1))),INDEX($L$5:$L$25,MATCH(K30,$K$5:$K$25,0))),NA())","v":0},null,{"$f":"IFERROR(IF('Step 5 Identify & Select ASHPs'!$I$84,IF((ROW(N30)-ROW($N$29))>COUNT($O$6:$O$25)+1,\"\",IF((ROW(N30)-ROW($N$29))=COUNT($O$6:$O$25)+1,$N$5,IF(ROW(N5)-ROW($N$5)>COUNT($N$6:$N$25),\"\",SMALL($N$6:$N$25,COUNT($N$6:$N$25)-MATCH(N6,$N$6:$N$25,0)+1)))),IF((ROW(N30)-ROW($N$29))<=COUNT($N$5:$N$24),N5,IF((ROW(N30)-ROW($N$29))=COUNT($N$5:$N$24)+1,$N$25,\"\"))),1)","v":47},{"$f":"IF(AND($C$7,'Step 5 Identify & Select ASHPs'!$D$11>=4),IF('Step 5 Identify & Select ASHPs'!$I$84,IF(ROW(O6)-ROW($O$5)=COUNT($O$6:$O$25)+1,$O$5,IF(ROW(O6)-ROW($O$5)>COUNT($O$6:$O$25),\"\",INDEX($O$6:$O$25,COUNT($O$6:$O$25)+COUNTIF($O$6:$O$25,\"-\")-MATCH(N30,$N$30:$N$50,0)+1))),INDEX($O$5:$O$25,MATCH(N30,$N$5:$N$25,0))),NA())","v":0},null,null,null,null,null,null,null,null,null,null,null,null,null,{"$f":"IFERROR(IF('Step 5 Identify & Select ASHPs'!$I$27,IF((ROW(AC30)-ROW($AC$29))>COUNT($AD$6:$AD$25)+1,\"\",IF((ROW(AC30)-ROW($AC$29))=COUNT($AD$6:$AD$25)+1,$AC$5,IF(ROW(AC5)-ROW($AC$5)>COUNT($AC$6:$AC$25),\"\",SMALL($AC$6:$AC$25,COUNT($AC$6:$AC$25)-MATCH(AC6,$AC$6:$AC$25,0)+1)))),IF((ROW(AC30)-ROW($AC$29))<=COUNT($AC$5:$AC$24),AC5,IF((ROW(AC30)-ROW($AC$29))=COUNT($AC$5:$AC$24)+1,$AC$25,\"\"))),1)","v":47},{"$f":"IF(AND($C$8,'Step 5 Identify & Select ASHPs'!$D$11>=1),IF('Step 5 Identify & Select ASHPs'!$I$27,IF(ROW(AD6)-ROW($AD$5)=COUNT($AD$6:$AD$25)+1,$AD$5,IF(ROW(AD6)-ROW($AD$5)>COUNT($AD$6:$AD$25),\"\",INDEX($AD$6:$AD$25,COUNT($AD$6:$AD$25)+COUNTIF($AD$6:$AD$25,\"-\")-MATCH(AC30,$AC$30:$AC$50,0)+1))),INDEX($AD$5:$AD$25,MATCH(AC30,$AC$5:$AC$25,0))),NA())","v":0},null,{"$f":"IFERROR(IF('Step 5 Identify & Select ASHPs'!$I$46,IF((ROW(AF30)-ROW($AF$29))>COUNT($AG$6:$AG$25)+1,\"\",IF((ROW(AF30)-ROW($AF$29))=COUNT($AG$6:$AG$25)+1,$AF$5,IF(ROW(AF5)-ROW($AF$5)>COUNT($AF$6:$AF$25),\"\",SMALL($AF$6:$AF$25,COUNT($AF$6:$AF$25)-MATCH(AF6,$AF$6:$AF$25,0)+1)))),IF((ROW(AF30)-ROW($AF$29))<=COUNT($AF$5:$AF$24),AF5,IF((ROW(AF30)-ROW($AF$29))=COUNT($AF$5:$AF$24)+1,$AF$25,\"\"))),1)","v":47},{"$f":"IF(AND($C$9,'Step 5 Identify & Select ASHPs'!$D$11>=2),IF('Step 5 Identify & Select ASHPs'!$I$46,IF(ROW(AG6)-ROW($AG$5)=COUNT($AG$6:$AG$25)+1,$AG$5,IF(ROW(AG6)-ROW($AG$5)>COUNT($AG$6:$AG$25),\"\",INDEX($AG$6:$AG$25,COUNT($AG$6:$AG$25)+COUNTIF($AG$6:$AG$25,\"-\")-MATCH(AF30,$AF$30:$AF$50,0)+1))),INDEX($AG$5:$AG$25,MATCH(AF30,$AF$5:$AF$25,0))),NA())","v":0},null,{"$f":"IFERROR(IF('Step 5 Identify & Select ASHPs'!$I$65,IF((ROW(AI30)-ROW($AI$29))>COUNT($AJ$6:$AJ$25)+1,\"\",IF((ROW(AI30)-ROW($AI$29))=COUNT($AJ$6:$AJ$25)+1,$AI$5,IF(ROW(AI5)-ROW($AI$5)>COUNT($AI$6:$AI$25),\"\",SMALL($AI$6:$AI$25,COUNT($AI$6:$AI$25)-MATCH(AI6,$AI$6:$AI$25,0)+1)))),IF((ROW(AI30)-ROW($AI$29))<=COUNT($AI$5:$AI$24),AI5,IF((ROW(AI30)-ROW($AI$29))=COUNT($AI$5:$AI$24)+1,$AI$25,\"\"))),1)","v":47},{"$f":"IF(AND($C$10,'Step 5 Identify & Select ASHPs'!$D$11>=3),IF('Step 5 Identify & Select ASHPs'!$I$65,IF(ROW(AJ6)-ROW($AJ$5)=COUNT($AJ$6:$AJ$25)+1,$AJ$5,IF(ROW(AJ6)-ROW($AJ$5)>COUNT($AJ$6:$AJ$25),\"\",INDEX($AJ$6:$AJ$25,COUNT($AJ$6:$AJ$25)+COUNTIF($AJ$6:$AJ$25,\"-\")-MATCH(AI30,$AI$30:$AI$50,0)+1))),INDEX($AJ$5:$AJ$25,MATCH(AI30,$AI$5:$AI$25,0))),NA())","v":0},null,{"$f":"IFERROR(IF('Step 5 Identify & Select ASHPs'!$I$84,IF((ROW(AL30)-ROW($AL$29))>COUNT($AM$6:$AM$25)+1,\"\",IF((ROW(AL30)-ROW($AL$29))=COUNT($AM$6:$AM$25)+1,$AL$5,IF(ROW(AL5)-ROW($AL$5)>COUNT($AL$6:$AL$25),\"\",SMALL($AL$6:$AL$25,COUNT($AL$6:$AL$25)-MATCH(AL6,$AL$6:$AL$25,0)+1)))),IF((ROW(AL30)-ROW($AL$29))<=COUNT($AL$5:$AL$24),AL5,IF((ROW(AL30)-ROW($AL$29))=COUNT($AL$5:$AL$24)+1,$AL$25,\"\"))),1)","v":47},{"$f":"IF(AND($C$11,'Step 5 Identify & Select ASHPs'!$D$11>=4),IF('Step 5 Identify & Select ASHPs'!$I$84,IF(ROW(AM6)-ROW($AM$5)=COUNT($AM$6:$AM$25)+1,$AM$5,IF(ROW(AM6)-ROW($AM$5)>COUNT($AM$6:$AM$25),\"\",INDEX($AM$6:$AM$25,COUNT($AM$6:$AM$25)+COUNTIF($AM$6:$AM$25,\"-\")-MATCH(AL30,$AL$30:$AL$50,0)+1))),INDEX($AM$5:$AM$25,MATCH(AL30,$AL$5:$AL$25,0))),NA())","v":0},null,null,null,null,null,null,null,null,null,null,null,null,null,null,null,null,null,null,null,null,null,null,null,null,null,{"$f":"IFERROR(IF('Step 5 Identify & Select ASHPs'!$I$27,IF((ROW(BM30)-ROW($BM$29))>COUNT($BN$6:$BN$16)+1,\"\",IF((ROW(BM30)-ROW($BM$29))=COUNT($BN$6:$BN$16)+1,$BM$5,IF(ROW(BM5)-ROW($BM$5)>COUNT($BM$6:$BM$16),\"\",SMALL($BM$6:$BM$16,COUNT($BM$6:$BM$16)-MATCH(BM6,$BM$6:$BM$16,0)+1)))),IF((ROW(BM30)-ROW($BM$29))<=COUNT($BM$5:$BM$16),BM5,IF((ROW(BM30)-ROW($BM$29))=COUNT($BM$5:$BM$16)+1,$BM$16,\"\"))),1)","v":""},{"$f":"IF(AND($C$4,'Step 5 Identify & Select ASHPs'!$D$11>=1),IF(ROW(BN6)-ROW($BN$5)>COUNT($BN$5:$BN$16),\"\",INDEX($BN$5:$BN$16,MATCH(BM30,$BM$5:$BM$16,0))),NA())","v":""},null,{"$f":"IFERROR(IF('Step 5 Identify & Select ASHPs'!$I$46,IF((ROW(BP30)-ROW($BP$29))>COUNT($BQ$6:$BQ$16)+1,\"\",IF((ROW(BP30)-ROW($BP$29))=COUNT($BQ$6:$BQ$16)+1,$BP$5,IF(ROW(BP5)-ROW($BP$5)>COUNT($BP$6:$BP$16),\"\",SMALL($BP$6:$BP$16,COUNT($BP$6:$BP$16)-MATCH(BP6,$BP$6:$BP$16,0)+1)))),IF((ROW(BP30)-ROW($BP$29))<=COUNT($BP$5:$BP$16),BP5,IF((ROW(BP30)-ROW($BP$29))=COUNT($BP$5:$BP$16)+1,$BP$16,\"\"))),1)","v":""},{"$f":"IF(AND($C$5,'Step 5 Identify & Select ASHPs'!$D$11>=2),IF(ROW(BQ6)-ROW($BQ$5)>COUNT($BQ$5:$BQ$16),\"\",INDEX($BQ$5:$BQ$16,MATCH(BP30,$BP$5:$BP$16,0))),NA())","v":""},null,{"$f":"IFERROR(IF('Step 5 Identify & Select ASHPs'!$I$65,IF((ROW(BS30)-ROW($BS$29))>COUNT($BT$6:$BT$16)+1,\"\",IF((ROW(BS30)-ROW($BS$29))=COUNT($BT$6:$BT$16)+1,$BS$5,IF(ROW(BS5)-ROW($BS$5)>COUNT($BS$6:$BS$16),\"\",SMALL($BS$6:$BS$16,COUNT($BS$6:$BS$16)-MATCH(BS6,$BS$6:$BS$16,0)+1)))),IF((ROW(BS30)-ROW($BS$29))<=COUNT($BS$5:$BS$16),BS5,IF((ROW(BS30)-ROW($BS$29))=COUNT($BS$5:$BS$16)+1,$BS$16,\"\"))),1)","v":""},{"$f":"IF(AND($C$6,'Step 5 Identify & Select ASHPs'!$D$11>=3),IF(ROW(BT6)-ROW($BT$5)>COUNT($BT$5:$BT$16),\"\",INDEX($BT$5:$BT$16,MATCH(BS30,$BS$5:$BS$16,0))),NA())","v":""},null,{"$f":"IFERROR(IF('Step 5 Identify & Select ASHPs'!$I$84,IF((ROW(BV30)-ROW($BV$29))>COUNT($BW$6:$BW$16)+1,\"\",IF((ROW(BV30)-ROW($BV$29))=COUNT($BW$6:$BW$16)+1,$BV$5,IF(ROW(BV5)-ROW($BV$5)>COUNT($BV$6:$BV$16),\"\",SMALL($BV$6:$BV$16,COUNT($BV$6:$BV$16)-MATCH(BV6,$BV$6:$BV$16,0)+1)))),IF((ROW(BV30)-ROW($BV$29))<=COUNT($BV$5:$BV$16),BV5,IF((ROW(BV30)-ROW($BV$29))=COUNT($BV$5:$BV$16)+1,$BV$16,\"\"))),1)","v":""},{"$f":"IF(AND($C$7,'Step 5 Identify & Select ASHPs'!$D$11>=4),IF(ROW(BW6)-ROW($BW$5)>COUNT($BW$5:$BW$16),\"\",INDEX($BW$5:$BW$16,MATCH(BV30,$BV$5:$BV$16,0))),NA())","v":""},null,{"$f":"IFERROR(IF('Step 5 Identify & Select ASHPs'!$I$27,IF((ROW(BY30)-ROW($BM$29))>COUNT($BZ$6:$BZ$16)+1,\"\",IF((ROW(BY30)-ROW($BM$29))=COUNT($BZ$6:$BZ$16)+1,$BY$5,IF(ROW(BY5)-ROW($BY$5)>COUNT($BY$6:$BY$16),\"\",SMALL($BY$6:$BY$16,COUNT($BY$6:$BY$16)-MATCH(BY6,$BY$6:$BY$16,0)+1)))),IF((ROW(BY30)-ROW($BM$29))<=COUNT($BY$5:$BY$16),BY5,IF((ROW(BY30)-ROW($BM$29))=COUNT($BY$5:$BY$16)+1,$BY$16,\"\"))),1)","v":""},{"$f":"IF(AND($C$8,'Step 5 Identify & Select ASHPs'!$D$11>=1),IF(ROW(BZ6)-ROW($BZ$5)>COUNT($BZ$5:$BZ$16),\"\",INDEX($BZ$5:$BZ$16,MATCH(BY30,$BY$5:$BY$16,0))),NA())","v":""},null,{"$f":"IFERROR(IF('Step 5 Identify & Select ASHPs'!$I$46,IF((ROW(CB30)-ROW($BP$29))>COUNT($CC$6:$CC$16)+1,\"\",IF((ROW(CB30)-ROW($BP$29))=COUNT($CC$6:$CC$16)+1,$CB$5,IF(ROW(CB5)-ROW($CB$5)>COUNT($CB$6:$CB$16),\"\",SMALL($CB$6:$CB$16,COUNT($CB$6:$CB$16)-MATCH(CB6,$CB$6:$CB$16,0)+1)))),IF((ROW(CB30)-ROW($BP$29))<=COUNT($CB$5:$CB$16),CB5,IF((ROW(CB30)-ROW($BP$29))=COUNT($CB$5:$CB$16)+1,$CB$16,\"\"))),1)","v":""},{"$f":"IF(AND($C$9,'Step 5 Identify & Select ASHPs'!$D$11>=2),IF(ROW(CC6)-ROW($CC$5)>COUNT($CC$5:$CC$16),\"\",INDEX($CC$5:$CC$16,MATCH(CB30,$CB$5:$CB$16,0))),NA())","v":""},null,{"$f":"IFERROR(IF('Step 5 Identify & Select ASHPs'!$I$65,IF((ROW(CE30)-ROW($BS$29))>COUNT($CF$6:$CF$16)+1,\"\",IF((ROW(CE30)-ROW($BS$29))=COUNT($CF$6:$CF$16)+1,$CE$5,IF(ROW(CE5)-ROW($CE$5)>COUNT($CE$6:$CE$16),\"\",SMALL($CE$6:$CE$16,COUNT($CE$6:$CE$16)-MATCH(CE6,$CE$6:$CE$16,0)+1)))),IF((ROW(CE30)-ROW($BS$29))<=COUNT($CE$5:$CE$16),CE5,IF((ROW(CE30)-ROW($BS$29))=COUNT($CE$5:$CE$16)+1,$CE$16,\"\"))),1)","v":""},{"$f":"IF(AND($C$10,'Step 5 Identify & Select ASHPs'!$D$11>=3),IF(ROW(CF6)-ROW($CF$5)>COUNT($CF$5:$CF$16),\"\",INDEX($CF$5:$CF$16,MATCH(CE30,$CE$5:$CE$16,0))),NA())","v":""},null,{"$f":"IFERROR(IF('Step 5 Identify & Select ASHPs'!$I$84,IF((ROW(CH30)-ROW($BV$29))>COUNT($CI$6:$CI$16)+1,\"\",IF((ROW(CH30)-ROW($BV$29))=COUNT($CI$6:$CI$16)+1,$CH$5,IF(ROW(CH5)-ROW($CH$5)>COUNT($CH$6:$CH$16),\"\",SMALL($CH$6:$CH$16,COUNT($CH$6:$CH$16)-MATCH(CH6,$CH$6:$CH$16,0)+1)))),IF((ROW(CH30)-ROW($BV$29))<=COUNT($CH$5:$CH$16),CH5,IF((ROW(CH30)-ROW($BV$29))=COUNT($CH$5:$CH$16)+1,$CH$16,\"\"))),1)","v":""},{"$f":"IF(AND($C$11,'Step 5 Identify & Select ASHPs'!$D$11>=4),IF(ROW(CI6)-ROW($CI$5)>COUNT($CI$5:$CI$16),\"\",INDEX($CI$5:$CI$16,MATCH(CH30,$CH$5:$CH$16,0))),NA())","v":""}]
[null,null,null,null,{"$f":"IFERROR(IF('Step 5 Identify & Select ASHPs'!$I$27,IF((ROW(E31)-ROW($E$29))>COUNT($F$6:$F$25)+1,\"\",IF((ROW(E31)-ROW($E$29))=COUNT($F$6:$F$25)+1,$E$5,IF(ROW(E6)-ROW($E$5)>COUNT($E$6:$E$25),\"\",SMALL($E$6:$E$25,COUNT($E$6:$E$25)-MATCH(E7,$E$6:$E$25,0)+1)))),IF((ROW(E31)-ROW($E$29))<=COUNT($E$5:$E$24),E6,IF((ROW(E31)-ROW($E$29))=COUNT($E$5:$E$24)+1,$E$25,\"\"))),1)","v":17},{"$f":"IF(AND($C$4,'Step 5 Identify & Select ASHPs'!$D$11>=1),IF('Step 5 Identify & Select ASHPs'!$I$27,IF(ROW(F7)-ROW($F$5)=COUNT($F$6:$F$25)+1,$F$5,IF(ROW(F7)-ROW($F$5)>COUNT($F$6:$F$25),\"\",INDEX($F$6:$F$25,COUNT($F$6:$F$25)+COUNTIF($F$6:$F$25,\"-\")-MATCH(E31,$E$30:$E$50,0)+1))),INDEX($F$5:$F$25,MATCH(E31,$E$5:$E$25,0))),NA())","v":0},null,{"$f":"IFERROR(IF('Step 5 Identify & Select ASHPs'!$I$46,IF((ROW(H31)-ROW($H$29))>COUNT($I$6:$I$25)+1,\"\",IF((ROW(H31)-ROW($H$29))=COUNT($I$6:$I$25)+1,$H$5,IF(ROW(H6)-ROW($H$5)>COUNT($H$6:$H$25),\"\",SMALL($H$6:$H$25,COUNT($H$6:$H$25)-MATCH(H7,$H$6:$H$25,0)+1)))),IF((ROW(H31)-ROW($H$29))<=COUNT($H$5:$H$24),H6,IF((ROW(H31)-ROW($H$29))=COUNT($H$5:$H$24)+1,$H$25,\"\"))),1)","v":17},{"$f":"IF(AND($C$5,'Step 5 Identify & Select ASHPs'!$D$11>=2),IF('Step 5 Identify & Select ASHPs'!$I$46,IF(ROW(I7)-ROW($I$5)=COUNT($I$6:$I$25)+1,$I$5,IF(ROW(I7)-ROW($I$5)>COUNT($I$6:$I$25),\"\",INDEX($I$6:$I$25,COUNT($I$6:$I$25)+COUNTIF($I$6:$I$25,\"-\")-MATCH(H31,$H$30:$H$50,0)+1))),INDEX($I$5:$I$25,MATCH(H31,$H$5:$H$25,0))),NA())","v":0},null,{"$f":"IFERROR(IF('Step 5 Identify & Select ASHPs'!$I$65,IF((ROW(K31)-ROW($K$29))>COUNT($L$6:$L$25)+1,\"\",IF((ROW(K31)-ROW($K$29))=COUNT($L$6:$L$25)+1,$K$5,IF(ROW(K6)-ROW($K$5)>COUNT($K$6:$K$25),\"\",SMALL($K$6:$K$25,COUNT($K$6:$K$25)-MATCH(K7,$K$6:$K$25,0)+1)))),IF((ROW(K31)-ROW($K$29))<=COUNT($K$5:$K$24),K6,IF((ROW(K31)-ROW($K$29))=COUNT($K$5:$K$24)+1,$K$25,\"\"))),1)","v":17},{"$f":"IF(AND($C$6,'Step 5 Identify & Select ASHPs'!$D$11>=3),IF('Step 5 Identify & Select ASHPs'!$I$65,IF(ROW(L7)-ROW($L$5)=COUNT($L$6:$L$25)+1,$L$5,IF(ROW(L7)-ROW($L$5)>COUNT($L$6:$L$25),\"\",INDEX($L$6:$L$25,COUNT($L$6:$L$25)+COUNTIF($L$6:$L$25,\"-\")-MATCH(K31,$K$30:$K$50,0)+1))),INDEX($L$5:$L$25,MATCH(K31,$K$5:$K$25,0))),NA())","v":0},null,{"$f":"IFERROR(IF('Step 5 Identify & Select ASHPs'!$I$84,IF((ROW(N31)-ROW($N$29))>COUNT($O$6:$O$25)+1,\"\",IF((ROW(N31)-ROW($N$29))=COUNT($O$6:$O$25)+1,$N$5,IF(ROW(N6)-ROW($N$5)>COUNT($N$6:$N$25),\"\",SMALL($N$6:$N$25,COUNT($N$6:$N$25)-MATCH(N7,$N$6:$N$25,0)+1)))),IF((ROW(N31)-ROW($N$29))<=COUNT($N$5:$N$24),N6,IF((ROW(N31)-ROW($N$29))=COUNT($N$5:$N$24)+1,$N$25,\"\"))),1)","v":17},{"$f":"IF(AND($C$7,'Step 5 Identify & Select ASHPs'!$D$11>=4),IF('Step 5 Identify & Select ASHPs'!$I$84,IF(ROW(O7)-ROW($O$5)=COUNT($O$6:$O$25)+1,$O$5,IF(ROW(O7)-ROW($O$5)>COUNT($O$6:$O$25),\"\",INDEX($O$6:$O$25,COUNT($O$6:$O$25)+COUNTIF($O$6:$O$25,\"-\")-MATCH(N31,$N$30:$N$50,0)+1))),INDEX($O$5:$O$25,MATCH(N31,$N$5:$N$25,0))),NA())","v":0},null,null,null,null,null,null,null,null,null,null,null,null,null,{"$f":"IFERROR(IF('Step 5 Identify & Select ASHPs'!$I$27,IF((ROW(AC31)-ROW($AC$29))>COUNT($AD$6:$AD$25)+1,\"\",IF((ROW(AC31)-ROW($AC$29))=COUNT($AD$6:$AD$25)+1,$AC$5,IF(ROW(AC6)-ROW($AC$5)>COUNT($AC$6:$AC$25),\"\",SMALL($AC$6:$AC$25,COUNT($AC$6:$AC$25)-MATCH(AC7,$AC$6:$AC$25,0)+1)))),IF((ROW(AC31)-ROW($AC$29))<=COUNT($AC$5:$AC$24),AC6,IF((ROW(AC31)-ROW($AC$29))=COUNT($AC$5:$AC$24)+1,$AC$25,\"\"))),1)","v":17},{"$f":"IF(AND($C$8,'Step 5 Identify & Select ASHPs'!$D$11>=1),IF('Step 5 Identify & Select ASHPs'!$I$27,IF(ROW(AD7)-ROW($AD$5)=COUNT($AD$6:$AD$25)+1,$AD$5,IF(ROW(AD7)-ROW($AD$5)>COUNT($AD$6:$AD$25),\"\",INDEX($AD$6:$AD$25,COUNT($AD$6:$AD$25)+COUNTIF($AD$6:$AD$25,\"-\")-MATCH(AC31,$AC$30:$AC$50,0)+1))),INDEX($AD$5:$AD$25,MATCH(AC31,$AC$5:$AC$25,0))),NA())","v":0},null,{"$f":"IFERROR(IF('Step 5 Identify & Select ASHPs'!$I$46,IF((ROW(AF31)-ROW($AF$29))>COUNT($AG$6:$AG$25)+1,\"\",IF((ROW(AF31)-ROW($AF$29))=COUNT($AG$6:$AG$25)+1,$AF$5,IF(ROW(AF6)-ROW($AF$5)>COUNT($AF$6:$AF$25),\"\",SMALL($AF$6:$AF$25,COUNT($AF$6:$AF$25)-MATCH(AF7,$AF$6:$AF$25,0)+1)))),IF((ROW(AF31)-ROW($AF$29))<=COUNT($AF$5:$AF$24),AF6,IF((ROW(AF31)-ROW($AF$29))=COUNT($AF$5:$AF$24)+1,$AF$25,\"\"))),1)","v":17},{"$f":"IF(AND($C$9,'Step 5 Identify & Select ASHPs'!$D$11>=2),IF('Step 5 Identify & Select ASHPs'!$I$46,IF(ROW(AG7)-ROW($AG$5)=COUNT($AG$6:$AG$25)+1,$AG$5,IF(ROW(AG7)-ROW($AG$5)>COUNT($AG$6:$AG$25),\"\",INDEX($AG$6:$AG$25,COUNT($AG$6:$AG$25)+COUNTIF($AG$6:$AG$25,\"-\")-MATCH(AF31,$AF$30:$AF$50,0)+1))),INDEX($AG$5:$AG$25,MATCH(AF31,$AF$5:$AF$25,0))),NA())","v":0},null,{"$f":"IFERROR(IF('Step 5 Identify & Select ASHPs'!$I$65,IF((ROW(AI31)-ROW($AI$29))>COUNT($AJ$6:$AJ$25)+1,\"\",IF((ROW(AI31)-ROW($AI$29))=COUNT($AJ$6:$AJ$25)+1,$AI$5,IF(ROW(AI6)-ROW($AI$5)>COUNT($AI$6:$AI$25),\"\",SMALL($AI$6:$AI$25,COUNT($AI$6:$AI$25)-MATCH(AI7,$AI$6:$AI$25,0)+1)))),IF((ROW(AI31)-ROW($AI$29))<=COUNT($AI$5:$AI$24),AI6,IF((ROW(AI31)-ROW($AI$29))=COUNT($AI$5:$AI$24)+1,$AI$25,\"\"))),1)","v":17},{"$f":"IF(AND($C$10,'Step 5 Identify & Select ASHPs'!$D$11>=3),IF('Step 5 Identify & Select ASHPs'!$I$65,IF(ROW(AJ7)-ROW($AJ$5)=COUNT($AJ$6:$AJ$25)+1,$AJ$5,IF(ROW(AJ7)-ROW($AJ$5)>COUNT($AJ$6:$AJ$25),\"\",INDEX($AJ$6:$AJ$25,COUNT($AJ$6:$AJ$25)+COUNTIF($AJ$6:$AJ$25,\"-\")-MATCH(AI31,$AI$30:$AI$50,0)+1))),INDEX($AJ$5:$AJ$25,MATCH(AI31,$AI$5:$AI$25,0))),NA())","v":0},null,{"$f":"IFERROR(IF('Step 5 Identify & Select ASHPs'!$I$84,IF((ROW(AL31)-ROW($AL$29))>COUNT($AM$6:$AM$25)+1,\"\",IF((ROW(AL31)-ROW($AL$29))=COUNT($AM$6:$AM$25)+1,$AL$5,IF(ROW(AL6)-ROW($AL$5)>COUNT($AL$6:$AL$25),\"\",SMALL($AL$6:$AL$25,COUNT($AL$6:$AL$25)-MATCH(AL7,$AL$6:$AL$25,0)+1)))),IF((ROW(AL31)-ROW($AL$29))<=COUNT($AL$5:$AL$24),AL6,IF((ROW(AL31)-ROW($AL$29))=COUNT($AL$5:$AL$24)+1,$AL$25,\"\"))),1)","v":17},{"$f":"IF(AND($C$11,'Step 5 Identify & Select ASHPs'!$D$11>=4),IF('Step 5 Identify & Select ASHPs'!$I$84,IF(ROW(AM7)-ROW($AM$5)=COUNT($AM$6:$AM$25)+1,$AM$5,IF(ROW(AM7)-ROW($AM$5)>COUNT($AM$6:$AM$25),\"\",INDEX($AM$6:$AM$25,COUNT($AM$6:$AM$25)+COUNTIF($AM$6:$AM$25,\"-\")-MATCH(AL31,$AL$30:$AL$50,0)+1))),INDEX($AM$5:$AM$25,MATCH(AL31,$AL$5:$AL$25,0))),NA())","v":0},null,null,null,null,null,null,null,null,null,null,null,null,null,null,null,null,null,null,null,null,null,null,null,null,null,{"$f":"IFERROR(IF('Step 5 Identify & Select ASHPs'!$I$27,IF((ROW(BM31)-ROW($BM$29))>COUNT($BN$6:$BN$16)+1,\"\",IF((ROW(BM31)-ROW($BM$29))=COUNT($BN$6:$BN$16)+1,$BM$5,IF(ROW(BM6)-ROW($BM$5)>COUNT($BM$6:$BM$16),\"\",SMALL($BM$6:$BM$16,COUNT($BM$6:$BM$16)-MATCH(BM7,$BM$6:$BM$16,0)+1)))),IF((ROW(BM31)-ROW($BM$29))<=COUNT($BM$5:$BM$16),BM6,IF((ROW(BM31)-ROW($BM$29))=COUNT($BM$5:$BM$16)+1,$BM$16,\"\"))),1)","v":""},{"$f":"IF(AND($C$4,'Step 5 Identify & Select ASHPs'!$D$11>=1),IF(ROW(BN7)-ROW($BN$5)>COUNT($BN$5:$BN$16),\"\",INDEX($BN$5:$BN$16,MATCH(BM31,$BM$5:$BM$16,0))),NA())","v":""},null,{"$f":"IFERROR(IF('Step 5 Identify & Select ASHPs'!$I$46,IF((ROW(BP31)-ROW($BP$29))>COUNT($BQ$6:$BQ$16)+1,\"\",IF((ROW(BP31)-ROW($BP$29))=COUNT($BQ$6:$BQ$16)+1,$BP$5,IF(ROW(BP6)-ROW($BP$5)>COUNT($BP$6:$BP$16),\"\",SMALL($BP$6:$BP$16,COUNT($BP$6:$BP$16)-MATCH(BP7,$BP$6:$BP$16,0)+1)))),IF((ROW(BP31)-ROW($BP$29))<=COUNT($BP$5:$BP$16),BP6,IF((ROW(BP31)-ROW($BP$29))=COUNT($BP$5:$BP$16)+1,$BP$16,\"\"))),1)","v":""},{"$f":"IF(AND($C$5,'Step 5 Identify & Select ASHPs'!$D$11>=2),IF(ROW(BQ7)-ROW($BQ$5)>COUNT($BQ$5:$BQ$16),\"\",INDEX($BQ$5:$BQ$16,MATCH(BP31,$BP$5:$BP$16,0))),NA())","v":""},null,{"$f":"IFERROR(IF('Step 5 Identify & Select ASHPs'!$I$65,IF((ROW(BS31)-ROW($BS$29))>COUNT($BT$6:$BT$16)+1,\"\",IF((ROW(BS31)-ROW($BS$29))=COUNT($BT$6:$BT$16)+1,$BS$5,IF(ROW(BS6)-ROW($BS$5)>COUNT($BS$6:$BS$16),\"\",SMALL($BS$6:$BS$16,COUNT($BS$6:$BS$16)-MATCH(BS7,$BS$6:$BS$16,0)+1)))),IF((ROW(BS31)-ROW($BS$29))<=COUNT($BS$5:$BS$16),BS6,IF((ROW(BS31)-ROW($BS$29))=COUNT($BS$5:$BS$16)+1,$BS$16,\"\"))),1)","v":""},{"$f":"IF(AND($C$6,'Step 5 Identify & Select ASHPs'!$D$11>=3),IF(ROW(BT7)-ROW($BT$5)>COUNT($BT$5:$BT$16),\"\",INDEX($BT$5:$BT$16,MATCH(BS31,$BS$5:$BS$16,0))),NA())","v":""},null,{"$f":"IFERROR(IF('Step 5 Identify & Select ASHPs'!$I$84,IF((ROW(BV31)-ROW($BV$29))>COUNT($BW$6:$BW$16)+1,\"\",IF((ROW(BV31)-ROW($BV$29))=COUNT($BW$6:$BW$16)+1,$BV$5,IF(ROW(BV6)-ROW($BV$5)>COUNT($BV$6:$BV$16),\"\",SMALL($BV$6:$BV$16,COUNT($BV$6:$BV$16)-MATCH(BV7,$BV$6:$BV$16,0)+1)))),IF((ROW(BV31)-ROW($BV$29))<=COUNT($BV$5:$BV$16),BV6,IF((ROW(BV31)-ROW($BV$29))=COUNT($BV$5:$BV$16)+1,$BV$16,\"\"))),1)","v":""},{"$f":"IF(AND($C$7,'Step 5 Identify & Select ASHPs'!$D$11>=4),IF(ROW(BW7)-ROW($BW$5)>COUNT($BW$5:$BW$16),\"\",INDEX($BW$5:$BW$16,MATCH(BV31,$BV$5:$BV$16,0))),NA())","v":""},null,{"$f":"IFERROR(IF('Step 5 Identify & Select ASHPs'!$I$27,IF((ROW(BY31)-ROW($BM$29))>COUNT($BZ$6:$BZ$16)+1,\"\",IF((ROW(BY31)-ROW($BM$29))=COUNT($BZ$6:$BZ$16)+1,$BY$5,IF(ROW(BY6)-ROW($BY$5)>COUNT($BY$6:$BY$16),\"\",SMALL($BY$6:$BY$16,COUNT($BY$6:$BY$16)-MATCH(BY7,$BY$6:$BY$16,0)+1)))),IF((ROW(BY31)-ROW($BM$29))<=COUNT($BY$5:$BY$16),BY6,IF((ROW(BY31)-ROW($BM$29))=COUNT($BY$5:$BY$16)+1,$BY$16,\"\"))),1)","v":""},{"$f":"IF(AND($C$8,'Step 5 Identify & Select ASHPs'!$D$11>=1),IF(ROW(BZ7)-ROW($BZ$5)>COUNT($BZ$5:$BZ$16),\"\",INDEX($BZ$5:$BZ$16,MATCH(BY31,$BY$5:$BY$16,0))),NA())","v":""},null,{"$f":"IFERROR(IF('Step 5 Identify & Select ASHPs'!$I$46,IF((ROW(CB31)-ROW($BP$29))>COUNT($CC$6:$CC$16)+1,\"\",IF((ROW(CB31)-ROW($BP$29))=COUNT($CC$6:$CC$16)+1,$CB$5,IF(ROW(CB6)-ROW($CB$5)>COUNT($CB$6:$CB$16),\"\",SMALL($CB$6:$CB$16,COUNT($CB$6:$CB$16)-MATCH(CB7,$CB$6:$CB$16,0)+1)))),IF((ROW(CB31)-ROW($BP$29))<=COUNT($CB$5:$CB$16),CB6,IF((ROW(CB31)-ROW($BP$29))=COUNT($CB$5:$CB$16)+1,$CB$16,\"\"))),1)","v":""},{"$f":"IF(AND($C$9,'Step 5 Identify & Select ASHPs'!$D$11>=2),IF(ROW(CC7)-ROW($CC$5)>COUNT($CC$5:$CC$16),\"\",INDEX($CC$5:$CC$16,MATCH(CB31,$CB$5:$CB$16,0))),NA())","v":""},null,{"$f":"IFERROR(IF('Step 5 Identify & Select ASHPs'!$I$65,IF((ROW(CE31)-ROW($BS$29))>COUNT($CF$6:$CF$16)+1,\"\",IF((ROW(CE31)-ROW($BS$29))=COUNT($CF$6:$CF$16)+1,$CE$5,IF(ROW(CE6)-ROW($CE$5)>COUNT($CE$6:$CE$16),\"\",SMALL($CE$6:$CE$16,COUNT($CE$6:$CE$16)-MATCH(CE7,$CE$6:$CE$16,0)+1)))),IF((ROW(CE31)-ROW($BS$29))<=COUNT($CE$5:$CE$16),CE6,IF((ROW(CE31)-ROW($BS$29))=COUNT($CE$5:$CE$16)+1,$CE$16,\"\"))),1)","v":""},{"$f":"IF(AND($C$10,'Step 5 Identify & Select ASHPs'!$D$11>=3),IF(ROW(CF7)-ROW($CF$5)>COUNT($CF$5:$CF$16),\"\",INDEX($CF$5:$CF$16,MATCH(CE31,$CE$5:$CE$16,0))),NA())","v":""},null,{"$f":"IFERROR(IF('Step 5 Identify & Select ASHPs'!$I$84,IF((ROW(CH31)-ROW($BV$29))>COUNT($CI$6:$CI$16)+1,\"\",IF((ROW(CH31)-ROW($BV$29))=COUNT($CI$6:$CI$16)+1,$CH$5,IF(ROW(CH6)-ROW($CH$5)>COUNT($CH$6:$CH$16),\"\",SMALL($CH$6:$CH$16,COUNT($CH$6:$CH$16)-MATCH(CH7,$CH$6:$CH$16,0)+1)))),IF((ROW(CH31)-ROW($BV$29))<=COUNT($CH$5:$CH$16),CH6,IF((ROW(CH31)-ROW($BV$29))=COUNT($CH$5:$CH$16)+1,$CH$16,\"\"))),1)","v":""},{"$f":"IF(AND($C$11,'Step 5 Identify & Select ASHPs'!$D$11>=4),IF(ROW(CI7)-ROW($CI$5)>COUNT($CI$5:$CI$16),\"\",INDEX($CI$5:$CI$16,MATCH(CH31,$CH$5:$CH$16,0))),NA())","v":""}]
[null,null,null,null,{"$f":"IFERROR(IF('Step 5 Identify & Select ASHPs'!$I$27,IF((ROW(E32)-ROW($E$29))>COUNT($F$6:$F$25)+1,\"\",IF((ROW(E32)-ROW($E$29))=COUNT($F$6:$F$25)+1,$E$5,IF(ROW(E7)-ROW($E$5)>COUNT($E$6:$E$25),\"\",SMALL($E$6:$E$25,COUNT($E$6:$E$25)-MATCH(E8,$E$6:$E$25,0)+1)))),IF((ROW(E32)-ROW($E$29))<=COUNT($E$5:$E$24),E7,IF((ROW(E32)-ROW($E$29))=COUNT($E$5:$E$24)+1,$E$25,\"\"))),1)","v":0},{"$f":"IF(AND($C$4,'Step 5 Identify & Select ASHPs'!$D$11>=1),IF('Step 5 Identify & Select ASHPs'!$I$27,IF(ROW(F8)-ROW($F$5)=COUNT($F$6:$F$25)+1,$F$5,IF(ROW(F8)-ROW($F$5)>COUNT($F$6:$F$25),\"\",INDEX($F$6:$F$25,COUNT($F$6:$F$25)+COUNTIF($F$6:$F$25,\"-\")-MATCH(E32,$E$30:$E$50,0)+1))),INDEX($F$5:$F$25,MATCH(E32,$E$5:$E$25,0))),NA())","v":0},null,{"$f":"IFERROR(IF('Step 5 Identify & Select ASHPs'!$I$46,IF((ROW(H32)-ROW($H$29))>COUNT($I$6:$I$25)+1,\"\",IF((ROW(H32)-ROW($H$29))=COUNT($I$6:$I$25)+1,$H$5,IF(ROW(H7)-ROW($H$5)>COUNT($H$6:$H$25),\"\",SMALL($H$6:$H$25,COUNT($H$6:$H$25)-MATCH(H8,$H$6:$H$25,0)+1)))),IF((ROW(H32)-ROW($H$29))<=COUNT($H$5:$H$24),H7,IF((ROW(H32)-ROW($H$29))=COUNT($H$5:$H$24)+1,$H$25,\"\"))),1)","v":0},{"$f":"IF(AND($C$5,'Step 5 Identify & Select ASHPs'!$D$11>=2),IF('Step 5 Identify & Select ASHPs'!$I$46,IF(ROW(I8)-ROW($I$5)=COUNT($I$6:$I$25)+1,$I$5,IF(ROW(I8)-ROW($I$5)>COUNT($I$6:$I$25),\"\",INDEX($I$6:$I$25,COUNT($I$6:$I$25)+COUNTIF($I$6:$I$25,\"-\")-MATCH(H32,$H$30:$H$50,0)+1))),INDEX($I$5:$I$25,MATCH(H32,$H$5:$H$25,0))),NA())","v":0},null,{"$f":"IFERROR(IF('Step 5 Identify & Select ASHPs'!$I$65,IF((ROW(K32)-ROW($K$29))>COUNT($L$6:$L$25)+1,\"\",IF((ROW(K32)-ROW($K$29))=COUNT($L$6:$L$25)+1,$K$5,IF(ROW(K7)-ROW($K$5)>COUNT($K$6:$K$25),\"\",SMALL($K$6:$K$25,COUNT($K$6:$K$25)-MATCH(K8,$K$6:$K$25,0)+1)))),IF((ROW(K32)-ROW($K$29))<=COUNT($K$5:$K$24),K7,IF((ROW(K32)-ROW($K$29))=COUNT($K$5:$K$24)+1,$K$25,\"\"))),1)","v":0},{"$f":"IF(AND($C$6,'Step 5 Identify & Select ASHPs'!$D$11>=3),IF('Step 5 Identify & Select ASHPs'!$I$65,IF(ROW(L8)-ROW($L$5)=COUNT($L$6:$L$25)+1,$L$5,IF(ROW(L8)-ROW($L$5)>COUNT($L$6:$L$25),\"\",INDEX($L$6:$L$25,COUNT($L$6:$L$25)+COUNTIF($L$6:$L$25,\"-\")-MATCH(K32,$K$30:$K$50,0)+1))),INDEX($L$5:$L$25,MATCH(K32,$K$5:$K$25,0))),NA())","v":0},null,{"$f":"IFERROR(IF('Step 5 Identify & Select ASHPs'!$I$84,IF((ROW(N32)-ROW($N$29))>COUNT($O$6:$O$25)+1,\"\",IF((ROW(N32)-ROW($N$29))=COUNT($O$6:$O$25)+1,$N$5,IF(ROW(N7)-ROW($N$5)>COUNT($N$6:$N$25),\"\",SMALL($N$6:$N$25,COUNT($N$6:$N$25)-MATCH(N8,$N$6:$N$25,0)+1)))),IF((ROW(N32)-ROW($N$29))<=COUNT($N$5:$N$24),N7,IF((ROW(N32)-ROW($N$29))=COUNT($N$5:$N$24)+1,$N$25,\"\"))),1)","v":0},{"$f":"IF(AND($C$7,'Step 5 Identify & Select ASHPs'!$D$11>=4),IF('Step 5 Identify & Select ASHPs'!$I$84,IF(ROW(O8)-ROW($O$5)=COUNT($O$6:$O$25)+1,$O$5,IF(ROW(O8)-ROW($O$5)>COUNT($O$6:$O$25),\"\",INDEX($O$6:$O$25,COUNT($O$6:$O$25)+COUNTIF($O$6:$O$25,\"-\")-MATCH(N32,$N$30:$N$50,0)+1))),INDEX($O$5:$O$25,MATCH(N32,$N$5:$N$25,0))),NA())","v":0},null,null,null,null,null,null,null,null,null,null,null,null,null,{"$f":"IFERROR(IF('Step 5 Identify & Select ASHPs'!$I$27,IF((ROW(AC32)-ROW($AC$29))>COUNT($AD$6:$AD$25)+1,\"\",IF((ROW(AC32)-ROW($AC$29))=COUNT($AD$6:$AD$25)+1,$AC$5,IF(ROW(AC7)-ROW($AC$5)>COUNT($AC$6:$AC$25),\"\",SMALL($AC$6:$AC$25,COUNT($AC$6:$AC$25)-MATCH(AC8,$AC$6:$AC$25,0)+1)))),IF((ROW(AC32)-ROW($AC$29))<=COUNT($AC$5:$AC$24),AC7,IF((ROW(AC32)-ROW($AC$29))=COUNT($AC$5:$AC$24)+1,$AC$25,\"\"))),1)","v":0},{"$f":"IF(AND($C$8,'Step 5 Identify & Select ASHPs'!$D$11>=1),IF('Step 5 Identify & Select ASHPs'!$I$27,IF(ROW(AD8)-ROW($AD$5)=COUNT($AD$6:$AD$25)+1,$AD$5,IF(ROW(AD8)-ROW($AD$5)>COUNT($AD$6:$AD$25),\"\",INDEX($AD$6:$AD$25,COUNT($AD$6:$AD$25)+COUNTIF($AD$6:$AD$25,\"-\")-MATCH(AC32,$AC$30:$AC$50,0)+1))),INDEX($AD$5:$AD$25,MATCH(AC32,$AC$5:$AC$25,0))),NA())","v":0},null,{"$f":"IFERROR(IF('Step 5 Identify & Select ASHPs'!$I$46,IF((ROW(AF32)-ROW($AF$29))>COUNT($AG$6:$AG$25)+1,\"\",IF((ROW(AF32)-ROW($AF$29))=COUNT($AG$6:$AG$25)+1,$AF$5,IF(ROW(AF7)-ROW($AF$5)>COUNT($AF$6:$AF$25),\"\",SMALL($AF$6:$AF$25,COUNT($AF$6:$AF$25)-MATCH(AF8,$AF$6:$AF$25,0)+1)))),IF((ROW(AF32)-ROW($AF$29))<=COUNT($AF$5:$AF$24),AF7,IF((ROW(AF32)-ROW($AF$29))=COUNT($AF$5:$AF$24)+1,$AF$25,\"\"))),1)","v":0},{"$f":"IF(AND($C$9,'Step 5 Identify & Select ASHPs'!$D$11>=2),IF('Step 5 Identify & Select ASHPs'!$I$46,IF(ROW(AG8)-ROW($AG$5)=COUNT($AG$6:$AG$25)+1,$AG$5,IF(ROW(AG8)-ROW($AG$5)>COUNT($AG$6:$AG$25),\"\",INDEX($AG$6:$AG$25,COUNT($AG$6:$AG$25)+COUNTIF($AG$6:$AG$25,\"-\")-MATCH(AF32,$AF$30:$AF$50,0)+1))),INDEX($AG$5:$AG$25,MATCH(AF32,$AF$5:$AF$25,0))),NA())","v":0},null,{"$f":"IFERROR(IF('Step 5 Identify & Select ASHPs'!$I$65,IF((ROW(AI32)-ROW($AI$29))>COUNT($AJ$6:$AJ$25)+1,\"\",IF((ROW(AI32)-ROW($AI$29))=COUNT($AJ$6:$AJ$25)+1,$AI$5,IF(ROW(AI7)-ROW($AI$5)>COUNT($AI$6:$AI$25),\"\",SMALL($AI$6:$AI$25,COUNT($AI$6:$AI$25)-MATCH(AI8,$AI$6:$AI$25,0)+1)))),IF((ROW(AI32)-ROW($AI$29))<=COUNT($AI$5:$AI$24),AI7,IF((ROW(AI32)-ROW($AI$29))=COUNT($AI$5:$AI$24)+1,$AI$25,\"\"))),1)","v":0},{"$f":"IF(AND($C$10,'Step 5 Identify & Select ASHPs'!$D$11>=3),IF('Step 5 Identify & Select ASHPs'!$I$65,IF(ROW(AJ8)-ROW($AJ$5)=COUNT($AJ$6:$AJ$25)+1,$AJ$5,IF(ROW(AJ8)-ROW($AJ$5)>COUNT($AJ$6:$AJ$25),\"\",INDEX($AJ$6:$AJ$25,COUNT($AJ$6:$AJ$25)+COUNTIF($AJ$6:$AJ$25,\"-\")-MATCH(AI32,$AI$30:$AI$50,0)+1))),INDEX($AJ$5:$AJ$25,MATCH(AI32,$AI$5:$AI$25,0))),NA())","v":0},null,{"$f":"IFERROR(IF('Step 5 Identify & Select ASHPs'!$I$84,IF((ROW(AL32)-ROW($AL$29))>COUNT($AM$6:$AM$25)+1,\"\",IF((ROW(AL32)-ROW($AL$29))=COUNT($AM$6:$AM$25)+1,$AL$5,IF(ROW(AL7)-ROW($AL$5)>COUNT($AL$6:$AL$25),\"\",SMALL($AL$6:$AL$25,COUNT($AL$6:$AL$25)-MATCH(AL8,$AL$6:$AL$25,0)+1)))),IF((ROW(AL32)-ROW($AL$29))<=COUNT($AL$5:$AL$24),AL7,IF((ROW(AL32)-ROW($AL$29))=COUNT($AL$5:$AL$24)+1,$AL$25,\"\"))),1)","v":0},{"$f":"IF(AND($C$11,'Step 5 Identify & Select ASHPs'!$D$11>=4),IF('Step 5 Identify & Select ASHPs'!$I$84,IF(ROW(AM8)-ROW($AM$5)=COUNT($AM$6:$AM$25)+1,$AM$5,IF(ROW(AM8)-ROW($AM$5)>COUNT($AM$6:$AM$25),\"\",INDEX($AM$6:$AM$25,COUNT($AM$6:$AM$25)+COUNTIF($AM$6:$AM$25,\"-\")-MATCH(AL32,$AL$30:$AL$50,0)+1))),INDEX($AM$5:$AM$25,MATCH(AL32,$AL$5:$AL$25,0))),NA())","v":0},null,null,null,null,null,null,null,null,null,null,null,null,null,null,null,null,null,null,null,null,null,null,null,null,null,{"$f":"IFERROR(IF('Step 5 Identify & Select ASHPs'!$I$27,IF((ROW(BM32)-ROW($BM$29))>COUNT($BN$6:$BN$16)+1,\"\",IF((ROW(BM32)-ROW($BM$29))=COUNT($BN$6:$BN$16)+1,$BM$5,IF(ROW(BM7)-ROW($BM$5)>COUNT($BM$6:$BM$16),\"\",SMALL($BM$6:$BM$16,COUNT($BM$6:$BM$16)-MATCH(BM8,$BM$6:$BM$16,0)+1)))),IF((ROW(BM32)-ROW($BM$29))<=COUNT($BM$5:$BM$16),BM7,IF((ROW(BM32)-ROW($BM$29))=COUNT($BM$5:$BM$16)+1,$BM$16,\"\"))),1)","v":""},{"$f":"IF(AND($C$4,'Step 5 Identify & Select ASHPs'!$D$11>=1),IF(ROW(BN8)-ROW($BN$5)>COUNT($BN$5:$BN$16),\"\",INDEX($BN$5:$BN$16,MATCH(BM32,$BM$5:$BM$16,0))),NA())","v":""},null,{"$f":"IFERROR(IF('Step 5 Identify & Select ASHPs'!$I$46,IF((ROW(BP32)-ROW($BP$29))>COUNT($BQ$6:$BQ$16)+1,\"\",IF((ROW(BP32)-ROW($BP$29))=COUNT($BQ$6:$BQ$16)+1,$BP$5,IF(ROW(BP7)-ROW($BP$5)>COUNT($BP$6:$BP$16),\"\",SMALL($BP$6:$BP$16,COUNT($BP$6:$BP$16)-MATCH(BP8,$BP$6:$BP$16,0)+1)))),IF((ROW(BP32)-ROW($BP$29))<=COUNT($BP$5:$BP$16),BP7,IF((ROW(BP32)-ROW($BP$29))=COUNT($BP$5:$BP$16)+1,$BP$16,\"\"))),1)","v":""},{"$f":"IF(AND($C$5,'Step 5 Identify & Select ASHPs'!$D$11>=2),IF(ROW(BQ8)-ROW($BQ$5)>COUNT($BQ$5:$BQ$16),\"\",INDEX($BQ$5:$BQ$16,MATCH(BP32,$BP$5:$BP$16,0))),NA())","v":""},null,{"$f":"IFERROR(IF('Step 5 Identify & Select ASHPs'!$I$65,IF((ROW(BS32)-ROW($BS$29))>COUNT($BT$6:$BT$16)+1,\"\",IF((ROW(BS32)-ROW($BS$29))=COUNT($BT$6:$BT$16)+1,$BS$5,IF(ROW(BS7)-ROW($BS$5)>COUNT($BS$6:$BS$16),\"\",SMALL($BS$6:$BS$16,COUNT($BS$6:$BS$16)-MATCH(BS8,$BS$6:$BS$16,0)+1)))),IF((ROW(BS32)-ROW($BS$29))<=COUNT($BS$5:$BS$16),BS7,IF((ROW(BS32)-ROW($BS$29))=COUNT($BS$5:$BS$16)+1,$BS$16,\"\"))),1)","v":""},{"$f":"IF(AND($C$6,'Step 5 Identify & Select ASHPs'!$D$11>=3),IF(ROW(BT8)-ROW($BT$5)>COUNT($BT$5:$BT$16),\"\",INDEX($BT$5:$BT$16,MATCH(BS32,$BS$5:$BS$16,0))),NA())","v":""},null,{"$f":"IFERROR(IF('Step 5 Identify & Select ASHPs'!$I$84,IF((ROW(BV32)-ROW($BV$29))>COUNT($BW$6:$BW$16)+1,\"\",IF((ROW(BV32)-ROW($BV$29))=COUNT($BW$6:$BW$16)+1,$BV$5,IF(ROW(BV7)-ROW($BV$5)>COUNT($BV$6:$BV$16),\"\",SMALL($BV$6:$BV$16,COUNT($BV$6:$BV$16)-MATCH(BV8,$BV$6:$BV$16,0)+1)))),IF((ROW(BV32)-ROW($BV$29))<=COUNT($BV$5:$BV$16),BV7,IF((ROW(BV32)-ROW($BV$29))=COUNT($BV$5:$BV$16)+1,$BV$16,\"\"))),1)","v":""},{"$f":"IF(AND($C$7,'Step 5 Identify & Select ASHPs'!$D$11>=4),IF(ROW(BW8)-ROW($BW$5)>COUNT($BW$5:$BW$16),\"\",INDEX($BW$5:$BW$16,MATCH(BV32,$BV$5:$BV$16,0))),NA())","v":""},null,{"$f":"IFERROR(IF('Step 5 Identify & Select ASHPs'!$I$27,IF((ROW(BY32)-ROW($BM$29))>COUNT($BZ$6:$BZ$16)+1,\"\",IF((ROW(BY32)-ROW($BM$29))=COUNT($BZ$6:$BZ$16)+1,$BY$5,IF(ROW(BY7)-ROW($BY$5)>COUNT($BY$6:$BY$16),\"\",SMALL($BY$6:$BY$16,COUNT($BY$6:$BY$16)-MATCH(BY8,$BY$6:$BY$16,0)+1)))),IF((ROW(BY32)-ROW($BM$29))<=COUNT($BY$5:$BY$16),BY7,IF((ROW(BY32)-ROW($BM$29))=COUNT($BY$5:$BY$16)+1,$BY$16,\"\"))),1)","v":""},{"$f":"IF(AND($C$8,'Step 5 Identify & Select ASHPs'!$D$11>=1),IF(ROW(BZ8)-ROW($BZ$5)>COUNT($BZ$5:$BZ$16),\"\",INDEX($BZ$5:$BZ$16,MATCH(BY32,$BY$5:$BY$16,0))),NA())","v":""},null,{"$f":"IFERROR(IF('Step 5 Identify & Select ASHPs'!$I$46,IF((ROW(CB32)-ROW($BP$29))>COUNT($CC$6:$CC$16)+1,\"\",IF((ROW(CB32)-ROW($BP$29))=COUNT($CC$6:$CC$16)+1,$CB$5,IF(ROW(CB7)-ROW($CB$5)>COUNT($CB$6:$CB$16),\"\",SMALL($CB$6:$CB$16,COUNT($CB$6:$CB$16)-MATCH(CB8,$CB$6:$CB$16,0)+1)))),IF((ROW(CB32)-ROW($BP$29))<=COUNT($CB$5:$CB$16),CB7,IF((ROW(CB32)-ROW($BP$29))=COUNT($CB$5:$CB$16)+1,$CB$16,\"\"))),1)","v":""},{"$f":"IF(AND($C$9,'Step 5 Identify & Select ASHPs'!$D$11>=2),IF(ROW(CC8)-ROW($CC$5)>COUNT($CC$5:$CC$16),\"\",INDEX($CC$5:$CC$16,MATCH(CB32,$CB$5:$CB$16,0))),NA())","v":""},null,{"$f":"IFERROR(IF('Step 5 Identify & Select ASHPs'!$I$65,IF((ROW(CE32)-ROW($BS$29))>COUNT($CF$6:$CF$16)+1,\"\",IF((ROW(CE32)-ROW($BS$29))=COUNT($CF$6:$CF$16)+1,$CE$5,IF(ROW(CE7)-ROW($CE$5)>COUNT($CE$6:$CE$16),\"\",SMALL($CE$6:$CE$16,COUNT($CE$6:$CE$16)-MATCH(CE8,$CE$6:$CE$16,0)+1)))),IF((ROW(CE32)-ROW($BS$29))<=COUNT($CE$5:$CE$16),CE7,IF((ROW(CE32)-ROW($BS$29))=COUNT($CE$5:$CE$16)+1,$CE$16,\"\"))),1)","v":""},{"$f":"IF(AND($C$10,'Step 5 Identify & Select ASHPs'!$D$11>=3),IF(ROW(CF8)-ROW($CF$5)>COUNT($CF$5:$CF$16),\"\",INDEX($CF$5:$CF$16,MATCH(CE32,$CE$5:$CE$16,0))),NA())","v":""},null,{"$f":"IFERROR(IF('Step 5 Identify & Select ASHPs'!$I$84,IF((ROW(CH32)-ROW($BV$29))>COUNT($CI$6:$CI$16)+1,\"\",IF((ROW(CH32)-ROW($BV$29))=COUNT($CI$6:$CI$16)+1,$CH$5,IF(ROW(CH7)-ROW($CH$5)>COUNT($CH$6:$CH$16),\"\",SMALL($CH$6:$CH$16,COUNT($CH$6:$CH$16)-MATCH(CH8,$CH$6:$CH$16,0)+1)))),IF((ROW(CH32)-ROW($BV$29))<=COUNT($CH$5:$CH$16),CH7,IF((ROW(CH32)-ROW($BV$29))=COUNT($CH$5:$CH$16)+1,$CH$16,\"\"))),1)","v":""},{"$f":"IF(AND($C$11,'Step 5 Identify & Select ASHPs'!$D$11>=4),IF(ROW(CI8)-ROW($CI$5)>COUNT($CI$5:$CI$16),\"\",INDEX($CI$5:$CI$16,MATCH(CH32,$CH$5:$CH$16,0))),NA())","v":""}]
[null,null,null,null,{"$f":"IFERROR(IF('Step 5 Identify & Select ASHPs'!$I$27,IF((ROW(E33)-ROW($E$29))>COUNT($F$6:$F$25)+1,\"\",IF((ROW(E33)-ROW($E$29))=COUNT($F$6:$F$25)+1,$E$5,IF(ROW(E8)-ROW($E$5)>COUNT($E$6:$E$25),\"\",SMALL($E$6:$E$25,COUNT($E$6:$E$25)-MATCH(E9,$E$6:$E$25,0)+1)))),IF((ROW(E33)-ROW($E$29))<=COUNT($E$5:$E$24),E8,IF((ROW(E33)-ROW($E$29))=COUNT($E$5:$E$24)+1,$E$25,\"\"))),1)","v":""},{"$f":"IF(AND($C$4,'Step 5 Identify & Select ASHPs'!$D$11>=1),IF('Step 5 Identify & Select ASHPs'!$I$27,IF(ROW(F9)-ROW($F$5)=COUNT($F$6:$F$25)+1,$F$5,IF(ROW(F9)-ROW($F$5)>COUNT($F$6:$F$25),\"\",INDEX($F$6:$F$25,COUNT($F$6:$F$25)+COUNTIF($F$6:$F$25,\"-\")-MATCH(E33,$E$30:$E$50,0)+1))),INDEX($F$5:$F$25,MATCH(E33,$E$5:$E$25,0))),NA())","v":""},null,{"$f":"IFERROR(IF('Step 5 Identify & Select ASHPs'!$I$46,IF((ROW(H33)-ROW($H$29))>COUNT($I$6:$I$25)+1,\"\",IF((ROW(H33)-ROW($H$29))=COUNT($I$6:$I$25)+1,$H$5,IF(ROW(H8)-ROW($H$5)>COUNT($H$6:$H$25),\"\",SMALL($H$6:$H$25,COUNT($H$6:$H$25)-MATCH(H9,$H$6:$H$25,0)+1)))),IF((ROW(H33)-ROW($H$29))<=COUNT($H$5:$H$24),H8,IF((ROW(H33)-ROW($H$29))=COUNT($H$5:$H$24)+1,$H$25,\"\"))),1)","v":""},{"$f":"IF(AND($C$5,'Step 5 Identify & Select ASHPs'!$D$11>=2),IF('Step 5 Identify & Select ASHPs'!$I$46,IF(ROW(I9)-ROW($I$5)=COUNT($I$6:$I$25)+1,$I$5,IF(ROW(I9)-ROW($I$5)>COUNT($I$6:$I$25),\"\",INDEX($I$6:$I$25,COUNT($I$6:$I$25)+COUNTIF($I$6:$I$25,\"-\")-MATCH(H33,$H$30:$H$50,0)+1))),INDEX($I$5:$I$25,MATCH(H33,$H$5:$H$25,0))),NA())","v":""},null,{"$f":"IFERROR(IF('Step 5 Identify & Select ASHPs'!$I$65,IF((ROW(K33)-ROW($K$29))>COUNT($L$6:$L$25)+1,\"\",IF((ROW(K33)-ROW($K$29))=COUNT($L$6:$L$25)+1,$K$5,IF(ROW(K8)-ROW($K$5)>COUNT($K$6:$K$25),\"\",SMALL($K$6:$K$25,COUNT($K$6:$K$25)-MATCH(K9,$K$6:$K$25,0)+1)))),IF((ROW(K33)-ROW($K$29))<=COUNT($K$5:$K$24),K8,IF((ROW(K33)-ROW($K$29))=COUNT($K$5:$K$24)+1,$K$25,\"\"))),1)","v":""},{"$f":"IF(AND($C$6,'Step 5 Identify & Select ASHPs'!$D$11>=3),IF('Step 5 Identify & Select ASHPs'!$I$65,IF(ROW(L9)-ROW($L$5)=COUNT($L$6:$L$25)+1,$L$5,IF(ROW(L9)-ROW($L$5)>COUNT($L$6:$L$25),\"\",INDEX($L$6:$L$25,COUNT($L$6:$L$25)+COUNTIF($L$6:$L$25,\"-\")-MATCH(K33,$K$30:$K$50,0)+1))),INDEX($L$5:$L$25,MATCH(K33,$K$5:$K$25,0))),NA())","v":""},null,{"$f":"IFERROR(IF('Step 5 Identify & Select ASHPs'!$I$84,IF((ROW(N33)-ROW($N$29))>COUNT($O$6:$O$25)+1,\"\",IF((ROW(N33)-ROW($N$29))=COUNT($O$6:$O$25)+1,$N$5,IF(ROW(N8)-ROW($N$5)>COUNT($N$6:$N$25),\"\",SMALL($N$6:$N$25,COUNT($N$6:$N$25)-MATCH(N9,$N$6:$N$25,0)+1)))),IF((ROW(N33)-ROW($N$29))<=COUNT($N$5:$N$24),N8,IF((ROW(N33)-ROW($N$29))=COUNT($N$5:$N$24)+1,$N$25,\"\"))),1)","v":""},{"$f":"IF(AND($C$7,'Step 5 Identify & Select ASHPs'!$D$11>=4),IF('Step 5 Identify & Select ASHPs'!$I$84,IF(ROW(O9)-ROW($O$5)=COUNT($O$6:$O$25)+1,$O$5,IF(ROW(O9)-ROW($O$5)>COUNT($O$6:$O$25),\"\",INDEX($O$6:$O$25,COUNT($O$6:$O$25)+COUNTIF($O$6:$O$25,\"-\")-MATCH(N33,$N$30:$N$50,0)+1))),INDEX($O$5:$O$25,MATCH(N33,$N$5:$N$25,0))),NA())","v":""},null,null,null,null,null,null,null,null,null,null,null,null,null,{"$f":"IFERROR(IF('Step 5 Identify & Select ASHPs'!$I$27,IF((ROW(AC33)-ROW($AC$29))>COUNT($AD$6:$AD$25)+1,\"\",IF((ROW(AC33)-ROW($AC$29))=COUNT($AD$6:$AD$25)+1,$AC$5,IF(ROW(AC8)-ROW($AC$5)>COUNT($AC$6:$AC$25),\"\",SMALL($AC$6:$AC$25,COUNT($AC$6:$AC$25)-MATCH(AC9,$AC$6:$AC$25,0)+1)))),IF((ROW(AC33)-ROW($AC$29))<=COUNT($AC$5:$AC$24),AC8,IF((ROW(AC33)-ROW($AC$29))=COUNT($AC$5:$AC$24)+1,$AC$25,\"\"))),1)","v":""},{"$f":"IF(AND($C$8,'Step 5 Identify & Select ASHPs'!$D$11>=1),IF('Step 5 Identify & Select ASHPs'!$I$27,IF(ROW(AD9)-ROW($AD$5)=COUNT($AD$6:$AD$25)+1,$AD$5,IF(ROW(AD9)-ROW($AD$5)>COUNT($AD$6:$AD$25),\"\",INDEX($AD$6:$AD$25,COUNT($AD$6:$AD$25)+COUNTIF($AD$6:$AD$25,\"-\")-MATCH(AC33,$AC$30:$AC$50,0)+1))),INDEX($AD$5:$AD$25,MATCH(AC33,$AC$5:$AC$25,0))),NA())","v":""},null,{"$f":"IFERROR(IF('Step 5 Identify & Select ASHPs'!$I$46,IF((ROW(AF33)-ROW($AF$29))>COUNT($AG$6:$AG$25)+1,\"\",IF((ROW(AF33)-ROW($AF$29))=COUNT($AG$6:$AG$25)+1,$AF$5,IF(ROW(AF8)-ROW($AF$5)>COUNT($AF$6:$AF$25),\"\",SMALL($AF$6:$AF$25,COUNT($AF$6:$AF$25)-MATCH(AF9,$AF$6:$AF$25,0)+1)))),IF((ROW(AF33)-ROW($AF$29))<=COUNT($AF$5:$AF$24),AF8,IF((ROW(AF33)-ROW($AF$29))=COUNT($AF$5:$AF$24)+1,$AF$25,\"\"))),1)","v":""},{"$f":"IF(AND($C$9,'Step 5 Identify & Select ASHPs'!$D$11>=2),IF('Step 5 Identify & Select ASHPs'!$I$46,IF(ROW(AG9)-ROW($AG$5)=COUNT($AG$6:$AG$25)+1,$AG$5,IF(ROW(AG9)-ROW($AG$5)>COUNT($AG$6:$AG$25),\"\",INDEX($AG$6:$AG$25,COUNT($AG$6:$AG$25)+COUNTIF($AG$6:$AG$25,\"-\")-MATCH(AF33,$AF$30:$AF$50,0)+1))),INDEX($AG$5:$AG$25,MATCH(AF33,$AF$5:$AF$25,0))),NA())","v":""},null,{"$f":"IFERROR(IF('Step 5 Identify & Select ASHPs'!$I$65,IF((ROW(AI33)-ROW($AI$29))>COUNT($AJ$6:$AJ$25)+1,\"\",IF((ROW(AI33)-ROW($AI$29))=COUNT($AJ$6:$AJ$25)+1,$AI$5,IF(ROW(AI8)-ROW($AI$5)>COUNT($AI$6:$AI$25),\"\",SMALL($AI$6:$AI$25,COUNT($AI$6:$AI$25)-MATCH(AI9,$AI$6:$AI$25,0)+1)))),IF((ROW(AI33)-ROW($AI$29))<=COUNT($AI$5:$AI$24),AI8,IF((ROW(AI33)-ROW($AI$29))=COUNT($AI$5:$AI$24)+1,$AI$25,\"\"))),1)","v":""},{"$f":"IF(AND($C$10,'Step 5 Identify & Select ASHPs'!$D$11>=3),IF('Step 5 Identify & Select ASHPs'!$I$65,IF(ROW(AJ9)-ROW($AJ$5)=COUNT($AJ$6:$AJ$25)+1,$AJ$5,IF(ROW(AJ9)-ROW($AJ$5)>COUNT($AJ$6:$AJ$25),\"\",INDEX($AJ$6:$AJ$25,COUNT($AJ$6:$AJ$25)+COUNTIF($AJ$6:$AJ$25,\"-\")-MATCH(AI33,$AI$30:$AI$50,0)+1))),INDEX($AJ$5:$AJ$25,MATCH(AI33,$AI$5:$AI$25,0))),NA())","v":""},null,{"$f":"IFERROR(IF('Step 5 Identify & Select ASHPs'!$I$84,IF((ROW(AL33)-ROW($AL$29))>COUNT($AM$6:$AM$25)+1,\"\",IF((ROW(AL33)-ROW($AL$29))=COUNT($AM$6:$AM$25)+1,$AL$5,IF(ROW(AL8)-ROW($AL$5)>COUNT($AL$6:$AL$25),\"\",SMALL($AL$6:$AL$25,COUNT($AL$6:$AL$25)-MATCH(AL9,$AL$6:$AL$25,0)+1)))),IF((ROW(AL33)-ROW($AL$29))<=COUNT($AL$5:$AL$24),AL8,IF((ROW(AL33)-ROW($AL$29))=COUNT($AL$5:$AL$24)+1,$AL$25,\"\"))),1)","v":""},{"$f":"IF(AND($C$11,'Step 5 Identify & Select ASHPs'!$D$11>=4),IF('Step 5 Identify & Select ASHPs'!$I$84,IF(ROW(AM9)-ROW($AM$5)=COUNT($AM$6:$AM$25)+1,$AM$5,IF(ROW(AM9)-ROW($AM$5)>COUNT($AM$6:$AM$25),\"\",INDEX($AM$6:$AM$25,COUNT($AM$6:$AM$25)+COUNTIF($AM$6:$AM$25,\"-\")-MATCH(AL33,$AL$30:$AL$50,0)+1))),INDEX($AM$5:$AM$25,MATCH(AL33,$AL$5:$AL$25,0))),NA())","v":""},null,null,null,null,null,null,null,null,null,null,null,null,null,null,null,null,null,null,null,null,null,null,null,null,null,{"$f":"IFERROR(IF('Step 5 Identify & Select ASHPs'!$I$27,IF((ROW(BM33)-ROW($BM$29))>COUNT($BN$6:$BN$16)+1,\"\",IF((ROW(BM33)-ROW($BM$29))=COUNT($BN$6:$BN$16)+1,$BM$5,IF(ROW(BM8)-ROW($BM$5)>COUNT($BM$6:$BM$16),\"\",SMALL($BM$6:$BM$16,COUNT($BM$6:$BM$16)-MATCH(BM9,$BM$6:$BM$16,0)+1)))),IF((ROW(BM33)-ROW($BM$29))<=COUNT($BM$5:$BM$16),BM8,IF((ROW(BM33)-ROW($BM$29))=COUNT($BM$5:$BM$16)+1,$BM$16,\"\"))),1)","v":""},{"$f":"IF(AND($C$4,'Step 5 Identify & Select ASHPs'!$D$11>=1),IF(ROW(BN9)-ROW($BN$5)>COUNT($BN$5:$BN$16),\"\",INDEX($BN$5:$BN$16,MATCH(BM33,$BM$5:$BM$16,0))),NA())","v":""},null,{"$f":"IFERROR(IF('Step 5 Identify & Select ASHPs'!$I$46,IF((ROW(BP33)-ROW($BP$29))>COUNT($BQ$6:$BQ$16)+1,\"\",IF((ROW(BP33)-ROW($BP$29))=COUNT($BQ$6:$BQ$16)+1,$BP$5,IF(ROW(BP8)-ROW($BP$5)>COUNT($BP$6:$BP$16),\"\",SMALL($BP$6:$BP$16,COUNT($BP$6:$BP$16)-MATCH(BP9,$BP$6:$BP$16,0)+1)))),IF((ROW(BP33)-ROW($BP$29))<=COUNT($BP$5:$BP$16),BP8,IF((ROW(BP33)-ROW($BP$29))=COUNT($BP$5:$BP$16)+1,$BP$16,\"\"))),1)","v":""},{"$f":"IF(AND($C$5,'Step 5 Identify & Select ASHPs'!$D$11>=2),IF(ROW(BQ9)-ROW($BQ$5)>COUNT($BQ$5:$BQ$16),\"\",INDEX($BQ$5:$BQ$16,MATCH(BP33,$BP$5:$BP$16,0))),NA())","v":""},null,{"$f":"IFERROR(IF('Step 5 Identify & Select ASHPs'!$I$65,IF((ROW(BS33)-ROW($BS$29))>COUNT($BT$6:$BT$16)+1,\"\",IF((ROW(BS33)-ROW($BS$29))=COUNT($BT$6:$BT$16)+1,$BS$5,IF(ROW(BS8)-ROW($BS$5)>COUNT($BS$6:$BS$16),\"\",SMALL($BS$6:$BS$16,COUNT($BS$6:$BS$16)-MATCH(BS9,$BS$6:$BS$16,0)+1)))),IF((ROW(BS33)-ROW($BS$29))<=COUNT($BS$5:$BS$16),BS8,IF((ROW(BS33)-ROW($BS$29))=COUNT($BS$5:$BS$16)+1,$BS$16,\"\"))),1)","v":""},{"$f":"IF(AND($C$6,'Step 5 Identify & Select ASHPs'!$D$11>=3),IF(ROW(BT9)-ROW($BT$5)>COUNT($BT$5:$BT$16),\"\",INDEX($BT$5:$BT$16,MATCH(BS33,$BS$5:$BS$16,0))),NA())","v":""},null,{"$f":"IFERROR(IF('Step 5 Identify & Select ASHPs'!$I$84,IF((ROW(BV33)-ROW($BV$29))>COUNT($BW$6:$BW$16)+1,\"\",IF((ROW(BV33)-ROW($BV$29))=COUNT($BW$6:$BW$16)+1,$BV$5,IF(ROW(BV8)-ROW($BV$5)>COUNT($BV$6:$BV$16),\"\",SMALL($BV$6:$BV$16,COUNT($BV$6:$BV$16)-MATCH(BV9,$BV$6:$BV$16,0)+1)))),IF((ROW(BV33)-ROW($BV$29))<=COUNT($BV$5:$BV$16),BV8,IF((ROW(BV33)-ROW($BV$29))=COUNT($BV$5:$BV$16)+1,$BV$16,\"\"))),1)","v":""},{"$f":"IF(AND($C$7,'Step 5 Identify & Select ASHPs'!$D$11>=4),IF(ROW(BW9)-ROW($BW$5)>COUNT($BW$5:$BW$16),\"\",INDEX($BW$5:$BW$16,MATCH(BV33,$BV$5:$BV$16,0))),NA())","v":""},null,{"$f":"IFERROR(IF('Step 5 Identify & Select ASHPs'!$I$27,IF((ROW(BY33)-ROW($BM$29))>COUNT($BZ$6:$BZ$16)+1,\"\",IF((ROW(BY33)-ROW($BM$29))=COUNT($BZ$6:$BZ$16)+1,$BY$5,IF(ROW(BY8)-ROW($BY$5)>COUNT($BY$6:$BY$16),\"\",SMALL($BY$6:$BY$16,COUNT($BY$6:$BY$16)-MATCH(BY9,$BY$6:$BY$16,0)+1)))),IF((ROW(BY33)-ROW($BM$29))<=COUNT($BY$5:$BY$16),BY8,IF((ROW(BY33)-ROW($BM$29))=COUNT($BY$5:$BY$16)+1,$BY$16,\"\"))),1)","v":""},{"$f":"IF(AND($C$8,'Step 5 Identify & Select ASHPs'!$D$11>=1),IF(ROW(BZ9)-ROW($BZ$5)>COUNT($BZ$5:$BZ$16),\"\",INDEX($BZ$5:$BZ$16,MATCH(BY33,$BY$5:$BY$16,0))),NA())","v":""},null,{"$f":"IFERROR(IF('Step 5 Identify & Select ASHPs'!$I$46,IF((ROW(CB33)-ROW($BP$29))>COUNT($CC$6:$CC$16)+1,\"\",IF((ROW(CB33)-ROW($BP$29))=COUNT($CC$6:$CC$16)+1,$CB$5,IF(ROW(CB8)-ROW($CB$5)>COUNT($CB$6:$CB$16),\"\",SMALL($CB$6:$CB$16,COUNT($CB$6:$CB$16)-MATCH(CB9,$CB$6:$CB$16,0)+1)))),IF((ROW(CB33)-ROW($BP$29))<=COUNT($CB$5:$CB$16),CB8,IF((ROW(CB33)-ROW($BP$29))=COUNT($CB$5:$CB$16)+1,$CB$16,\"\"))),1)","v":""},{"$f":"IF(AND($C$9,'Step 5 Identify & Select ASHPs'!$D$11>=2),IF(ROW(CC9)-ROW($CC$5)>COUNT($CC$5:$CC$16),\"\",INDEX($CC$5:$CC$16,MATCH(CB33,$CB$5:$CB$16,0))),NA())","v":""},null,{"$f":"IFERROR(IF('Step 5 Identify & Select ASHPs'!$I$65,IF((ROW(CE33)-ROW($BS$29))>COUNT($CF$6:$CF$16)+1,\"\",IF((ROW(CE33)-ROW($BS$29))=COUNT($CF$6:$CF$16)+1,$CE$5,IF(ROW(CE8)-ROW($CE$5)>COUNT($CE$6:$CE$16),\"\",SMALL($CE$6:$CE$16,COUNT($CE$6:$CE$16)-MATCH(CE9,$CE$6:$CE$16,0)+1)))),IF((ROW(CE33)-ROW($BS$29))<=COUNT($CE$5:$CE$16),CE8,IF((ROW(CE33)-ROW($BS$29))=COUNT($CE$5:$CE$16)+1,$CE$16,\"\"))),1)","v":""},{"$f":"IF(AND($C$10,'Step 5 Identify & Select ASHPs'!$D$11>=3),IF(ROW(CF9)-ROW($CF$5)>COUNT($CF$5:$CF$16),\"\",INDEX($CF$5:$CF$16,MATCH(CE33,$CE$5:$CE$16,0))),NA())","v":""},null,{"$f":"IFERROR(IF('Step 5 Identify & Select ASHPs'!$I$84,IF((ROW(CH33)-ROW($BV$29))>COUNT($CI$6:$CI$16)+1,\"\",IF((ROW(CH33)-ROW($BV$29))=COUNT($CI$6:$CI$16)+1,$CH$5,IF(ROW(CH8)-ROW($CH$5)>COUNT($CH$6:$CH$16),\"\",SMALL($CH$6:$CH$16,COUNT($CH$6:$CH$16)-MATCH(CH9,$CH$6:$CH$16,0)+1)))),IF((ROW(CH33)-ROW($BV$29))<=COUNT($CH$5:$CH$16),CH8,IF((ROW(CH33)-ROW($BV$29))=COUNT($CH$5:$CH$16)+1,$CH$16,\"\"))),1)","v":""},{"$f":"IF(AND($C$11,'Step 5 Identify & Select ASHPs'!$D$11>=4),IF(ROW(CI9)-ROW($CI$5)>COUNT($CI$5:$CI$16),\"\",INDEX($CI$5:$CI$16,MATCH(CH33,$CH$5:$CH$16,0))),NA())","v":""}]
[null,null,null,null,{"$f":"IFERROR(IF('Step 5 Identify & Select ASHPs'!$I$27,IF((ROW(E34)-ROW($E$29))>COUNT($F$6:$F$25)+1,\"\",IF((ROW(E34)-ROW($E$29))=COUNT($F$6:$F$25)+1,$E$5,IF(ROW(E9)-ROW($E$5)>COUNT($E$6:$E$25),\"\",SMALL($E$6:$E$25,COUNT($E$6:$E$25)-MATCH(E10,$E$6:$E$25,0)+1)))),IF((ROW(E34)-ROW($E$29))<=COUNT($E$5:$E$24),E9,IF((ROW(E34)-ROW($E$29))=COUNT($E$5:$E$24)+1,$E$25,\"\"))),1)","v":""},{"$f":"IF(AND($C$4,'Step 5 Identify & Select ASHPs'!$D$11>=1),IF('Step 5 Identify & Select ASHPs'!$I$27,IF(ROW(F10)-ROW($F$5)=COUNT($F$6:$F$25)+1,$F$5,IF(ROW(F10)-ROW($F$5)>COUNT($F$6:$F$25),\"\",INDEX($F$6:$F$25,COUNT($F$6:$F$25)+COUNTIF($F$6:$F$25,\"-\")-MATCH(E34,$E$30:$E$50,0)+1))),INDEX($F$5:$F$25,MATCH(E34,$E$5:$E$25,0))),NA())","v":""},null,{"$f":"IFERROR(IF('Step 5 Identify & Select ASHPs'!$I$46,IF((ROW(H34)-ROW($H$29))>COUNT($I$6:$I$25)+1,\"\",IF((ROW(H34)-ROW($H$29))=COUNT($I$6:$I$25)+1,$H$5,IF(ROW(H9)-ROW($H$5)>COUNT($H$6:$H$25),\"\",SMALL($H$6:$H$25,COUNT($H$6:$H$25)-MATCH(H10,$H$6:$H$25,0)+1)))),IF((ROW(H34)-ROW($H$29))<=COUNT($H$5:$H$24),H9,IF((ROW(H34)-ROW($H$29))=COUNT($H$5:$H$24)+1,$H$25,\"\"))),1)","v":""},{"$f":"IF(AND($C$5,'Step 5 Identify & Select ASHPs'!$D$11>=2),IF('Step 5 Identify & Select ASHPs'!$I$46,IF(ROW(I10)-ROW($I$5)=COUNT($I$6:$I$25)+1,$I$5,IF(ROW(I10)-ROW($I$5)>COUNT($I$6:$I$25),\"\",INDEX($I$6:$I$25,COUNT($I$6:$I$25)+COUNTIF($I$6:$I$25,\"-\")-MATCH(H34,$H$30:$H$50,0)+1))),INDEX($I$5:$I$25,MATCH(H34,$H$5:$H$25,0))),NA())","v":""},null,{"$f":"IFERROR(IF('Step 5 Identify & Select ASHPs'!$I$65,IF((ROW(K34)-ROW($K$29))>COUNT($L$6:$L$25)+1,\"\",IF((ROW(K34)-ROW($K$29))=COUNT($L$6:$L$25)+1,$K$5,IF(ROW(K9)-ROW($K$5)>COUNT($K$6:$K$25),\"\",SMALL($K$6:$K$25,COUNT($K$6:$K$25)-MATCH(K10,$K$6:$K$25,0)+1)))),IF((ROW(K34)-ROW($K$29))<=COUNT($K$5:$K$24),K9,IF((ROW(K34)-ROW($K$29))=COUNT($K$5:$K$24)+1,$K$25,\"\"))),1)","v":""},{"$f":"IF(AND($C$6,'Step 5 Identify & Select ASHPs'!$D$11>=3),IF('Step 5 Identify & Select ASHPs'!$I$65,IF(ROW(L10)-ROW($L$5)=COUNT($L$6:$L$25)+1,$L$5,IF(ROW(L10)-ROW($L$5)>COUNT($L$6:$L$25),\"\",INDEX($L$6:$L$25,COUNT($L$6:$L$25)+COUNTIF($L$6:$L$25,\"-\")-MATCH(K34,$K$30:$K$50,0)+1))),INDEX($L$5:$L$25,MATCH(K34,$K$5:$K$25,0))),NA())","v":""},null,{"$f":"IFERROR(IF('Step 5 Identify & Select ASHPs'!$I$84,IF((ROW(N34)-ROW($N$29))>COUNT($O$6:$O$25)+1,\"\",IF((ROW(N34)-ROW($N$29))=COUNT($O$6:$O$25)+1,$N$5,IF(ROW(N9)-ROW($N$5)>COUNT($N$6:$N$25),\"\",SMALL($N$6:$N$25,COUNT($N$6:$N$25)-MATCH(N10,$N$6:$N$25,0)+1)))),IF((ROW(N34)-ROW($N$29))<=COUNT($N$5:$N$24),N9,IF((ROW(N34)-ROW($N$29))=COUNT($N$5:$N$24)+1,$N$25,\"\"))),1)","v":""},{"$f":"IF(AND($C$7,'Step 5 Identify & Select ASHPs'!$D$11>=4),IF('Step 5 Identify & Select ASHPs'!$I$84,IF(ROW(O10)-ROW($O$5)=COUNT($O$6:$O$25)+1,$O$5,IF(ROW(O10)-ROW($O$5)>COUNT($O$6:$O$25),\"\",INDEX($O$6:$O$25,COUNT($O$6:$O$25)+COUNTIF($O$6:$O$25,\"-\")-MATCH(N34,$N$30:$N$50,0)+1))),INDEX($O$5:$O$25,MATCH(N34,$N$5:$N$25,0))),NA())","v":""},null,null,null,null,null,null,null,null,null,null,null,null,null,{"$f":"IFERROR(IF('Step 5 Identify & Select ASHPs'!$I$27,IF((ROW(AC34)-ROW($AC$29))>COUNT($AD$6:$AD$25)+1,\"\",IF((ROW(AC34)-ROW($AC$29))=COUNT($AD$6:$AD$25)+1,$AC$5,IF(ROW(AC9)-ROW($AC$5)>COUNT($AC$6:$AC$25),\"\",SMALL($AC$6:$AC$25,COUNT($AC$6:$AC$25)-MATCH(AC10,$AC$6:$AC$25,0)+1)))),IF((ROW(AC34)-ROW($AC$29))<=COUNT($AC$5:$AC$24),AC9,IF((ROW(AC34)-ROW($AC$29))=COUNT($AC$5:$AC$24)+1,$AC$25,\"\"))),1)","v":""},{"$f":"IF(AND($C$8,'Step 5 Identify & Select ASHPs'!$D$11>=1),IF('Step 5 Identify & Select ASHPs'!$I$27,IF(ROW(AD10)-ROW($AD$5)=COUNT($AD$6:$AD$25)+1,$AD$5,IF(ROW(AD10)-ROW($AD$5)>COUNT($AD$6:$AD$25),\"\",INDEX($AD$6:$AD$25,COUNT($AD$6:$AD$25)+COUNTIF($AD$6:$AD$25,\"-\")-MATCH(AC34,$AC$30:$AC$50,0)+1))),INDEX($AD$5:$AD$25,MATCH(AC34,$AC$5:$AC$25,0))),NA())","v":""},null,{"$f":"IFERROR(IF('Step 5 Identify & Select ASHPs'!$I$46,IF((ROW(AF34)-ROW($AF$29))>COUNT($AG$6:$AG$25)+1,\"\",IF((ROW(AF34)-ROW($AF$29))=COUNT($AG$6:$AG$25)+1,$AF$5,IF(ROW(AF9)-ROW($AF$5)>COUNT($AF$6:$AF$25),\"\",SMALL($AF$6:$AF$25,COUNT($AF$6:$AF$25)-MATCH(AF10,$AF$6:$AF$25,0)+1)))),IF((ROW(AF34)-ROW($AF$29))<=COUNT($AF$5:$AF$24),AF9,IF((ROW(AF34)-ROW($AF$29))=COUNT($AF$5:$AF$24)+1,$AF$25,\"\"))),1)","v":""},{"$f":"IF(AND($C$9,'Step 5 Identify & Select ASHPs'!$D$11>=2),IF('Step 5 Identify & Select ASHPs'!$I$46,IF(ROW(AG10)-ROW($AG$5)=COUNT($AG$6:$AG$25)+1,$AG$5,IF(ROW(AG10)-ROW($AG$5)>COUNT($AG$6:$AG$25),\"\",INDEX($AG$6:$AG$25,COUNT($AG$6:$AG$25)+COUNTIF($AG$6:$AG$25,\"-\")-MATCH(AF34,$AF$30:$AF$50,0)+1))),INDEX($AG$5:$AG$25,MATCH(AF34,$AF$5:$AF$25,0))),NA())","v":""},null,{"$f":"IFERROR(IF('Step 5 Identify & Select ASHPs'!$I$65,IF((ROW(AI34)-ROW($AI$29))>COUNT($AJ$6:$AJ$25)+1,\"\",IF((ROW(AI34)-ROW($AI$29))=COUNT($AJ$6:$AJ$25)+1,$AI$5,IF(ROW(AI9)-ROW($AI$5)>COUNT($AI$6:$AI$25),\"\",SMALL($AI$6:$AI$25,COUNT($AI$6:$AI$25)-MATCH(AI10,$AI$6:$AI$25,0)+1)))),IF((ROW(AI34)-ROW($AI$29))<=COUNT($AI$5:$AI$24),AI9,IF((ROW(AI34)-ROW($AI$29))=COUNT($AI$5:$AI$24)+1,$AI$25,\"\"))),1)","v":""},{"$f":"IF(AND($C$10,'Step 5 Identify & Select ASHPs'!$D$11>=3),IF('Step 5 Identify & Select ASHPs'!$I$65,IF(ROW(AJ10)-ROW($AJ$5)=COUNT($AJ$6:$AJ$25)+1,$AJ$5,IF(ROW(AJ10)-ROW($AJ$5)>COUNT($AJ$6:$AJ$25),\"\",INDEX($AJ$6:$AJ$25,COUNT($AJ$6:$AJ$25)+COUNTIF($AJ$6:$AJ$25,\"-\")-MATCH(AI34,$AI$30:$AI$50,0)+1))),INDEX($AJ$5:$AJ$25,MATCH(AI34,$AI$5:$AI$25,0))),NA())","v":""},null,{"$f":"IFERROR(IF('Step 5 Identify & Select ASHPs'!$I$84,IF((ROW(AL34)-ROW($AL$29))>COUNT($AM$6:$AM$25)+1,\"\",IF((ROW(AL34)-ROW($AL$29))=COUNT($AM$6:$AM$25)+1,$AL$5,IF(ROW(AL9)-ROW($AL$5)>COUNT($AL$6:$AL$25),\"\",SMALL($AL$6:$AL$25,COUNT($AL$6:$AL$25)-MATCH(AL10,$AL$6:$AL$25,0)+1)))),IF((ROW(AL34)-ROW($AL$29))<=COUNT($AL$5:$AL$24),AL9,IF((ROW(AL34)-ROW($AL$29))=COUNT($AL$5:$AL$24)+1,$AL$25,\"\"))),1)","v":""},{"$f":"IF(AND($C$11,'Step 5 Identify & Select ASHPs'!$D$11>=4),IF('Step 5 Identify & Select ASHPs'!$I$84,IF(ROW(AM10)-ROW($AM$5)=COUNT($AM$6:$AM$25)+1,$AM$5,IF(ROW(AM10)-ROW($AM$5)>COUNT($AM$6:$AM$25),\"\",INDEX($AM$6:$AM$25,COUNT($AM$6:$AM$25)+COUNTIF($AM$6:$AM$25,\"-\")-MATCH(AL34,$AL$30:$AL$50,0)+1))),INDEX($AM$5:$AM$25,MATCH(AL34,$AL$5:$AL$25,0))),NA())","v":""},null,null,null,null,null,null,null,null,null,null,null,null,null,null,null,null,null,null,null,null,null,null,null,null,null,{"$f":"IFERROR(IF('Step 5 Identify & Select ASHPs'!$I$27,IF((ROW(BM34)-ROW($BM$29))>COUNT($BN$6:$BN$16)+1,\"\",IF((ROW(BM34)-ROW($BM$29))=COUNT($BN$6:$BN$16)+1,$BM$5,IF(ROW(BM9)-ROW($BM$5)>COUNT($BM$6:$BM$16),\"\",SMALL($BM$6:$BM$16,COUNT($BM$6:$BM$16)-MATCH(BM10,$BM$6:$BM$16,0)+1)))),IF((ROW(BM34)-ROW($BM$29))<=COUNT($BM$5:$BM$16),BM9,IF((ROW(BM34)-ROW($BM$29))=COUNT($BM$5:$BM$16)+1,$BM$16,\"\"))),1)","v":""},{"$f":"IF(AND($C$4,'Step 5 Identify & Select ASHPs'!$D$11>=1),IF(ROW(BN10)-ROW($BN$5)>COUNT($BN$5:$BN$16),\"\",INDEX($BN$5:$BN$16,MATCH(BM34,$BM$5:$BM$16,0))),NA())","v":""},null,{"$f":"IFERROR(IF('Step 5 Identify & Select ASHPs'!$I$46,IF((ROW(BP34)-ROW($BP$29))>COUNT($BQ$6:$BQ$16)+1,\"\",IF((ROW(BP34)-ROW($BP$29))=COUNT($BQ$6:$BQ$16)+1,$BP$5,IF(ROW(BP9)-ROW($BP$5)>COUNT($BP$6:$BP$16),\"\",SMALL($BP$6:$BP$16,COUNT($BP$6:$BP$16)-MATCH(BP10,$BP$6:$BP$16,0)+1)))),IF((ROW(BP34)-ROW($BP$29))<=COUNT($BP$5:$BP$16),BP9,IF((ROW(BP34)-ROW($BP$29))=COUNT($BP$5:$BP$16)+1,$BP$16,\"\"))),1)","v":""},{"$f":"IF(AND($C$5,'Step 5 Identify & Select ASHPs'!$D$11>=2),IF(ROW(BQ10)-ROW($BQ$5)>COUNT($BQ$5:$BQ$16),\"\",INDEX($BQ$5:$BQ$16,MATCH(BP34,$BP$5:$BP$16,0))),NA())","v":""},null,{"$f":"IFERROR(IF('Step 5 Identify & Select ASHPs'!$I$65,IF((ROW(BS34)-ROW($BS$29))>COUNT($BT$6:$BT$16)+1,\"\",IF((ROW(BS34)-ROW($BS$29))=COUNT($BT$6:$BT$16)+1,$BS$5,IF(ROW(BS9)-ROW($BS$5)>COUNT($BS$6:$BS$16),\"\",SMALL($BS$6:$BS$16,COUNT($BS$6:$BS$16)-MATCH(BS10,$BS$6:$BS$16,0)+1)))),IF((ROW(BS34)-ROW($BS$29))<=COUNT($BS$5:$BS$16),BS9,IF((ROW(BS34)-ROW($BS$29))=COUNT($BS$5:$BS$16)+1,$BS$16,\"\"))),1)","v":""},{"$f":"IF(AND($C$6,'Step 5 Identify & Select ASHPs'!$D$11>=3),IF(ROW(BT10)-ROW($BT$5)>COUNT($BT$5:$BT$16),\"\",INDEX($BT$5:$BT$16,MATCH(BS34,$BS$5:$BS$16,0))),NA())","v":""},null,{"$f":"IFERROR(IF('Step 5 Identify & Select ASHPs'!$I$84,IF((ROW(BV34)-ROW($BV$29))>COUNT($BW$6:$BW$16)+1,\"\",IF((ROW(BV34)-ROW($BV$29))=COUNT($BW$6:$BW$16)+1,$BV$5,IF(ROW(BV9)-ROW($BV$5)>COUNT($BV$6:$BV$16),\"\",SMALL($BV$6:$BV$16,COUNT($BV$6:$BV$16)-MATCH(BV10,$BV$6:$BV$16,0)+1)))),IF((ROW(BV34)-ROW($BV$29))<=COUNT($BV$5:$BV$16),BV9,IF((ROW(BV34)-ROW($BV$29))=COUNT($BV$5:$BV$16)+1,$BV$16,\"\"))),1)","v":""},{"$f":"IF(AND($C$7,'Step 5 Identify & Select ASHPs'!$D$11>=4),IF(ROW(BW10)-ROW($BW$5)>COUNT($BW$5:$BW$16),\"\",INDEX($BW$5:$BW$16,MATCH(BV34,$BV$5:$BV$16,0))),NA())","v":""},null,{"$f":"IFERROR(IF('Step 5 Identify & Select ASHPs'!$I$27,IF((ROW(BY34)-ROW($BM$29))>COUNT($BZ$6:$BZ$16)+1,\"\",IF((ROW(BY34)-ROW($BM$29))=COUNT($BZ$6:$BZ$16)+1,$BY$5,IF(ROW(BY9)-ROW($BY$5)>COUNT($BY$6:$BY$16),\"\",SMALL($BY$6:$BY$16,COUNT($BY$6:$BY$16)-MATCH(BY10,$BY$6:$BY$16,0)+1)))),IF((ROW(BY34)-ROW($BM$29))<=COUNT($BY$5:$BY$16),BY9,IF((ROW(BY34)-ROW($BM$29))=COUNT($BY$5:$BY$16)+1,$BY$16,\"\"))),1)","v":""},{"$f":"IF(AND($C$8,'Step 5 Identify & Select ASHPs'!$D$11>=1),IF(ROW(BZ10)-ROW($BZ$5)>COUNT($BZ$5:$BZ$16),\"\",INDEX($BZ$5:$BZ$16,MATCH(BY34,$BY$5:$BY$16,0))),NA())","v":""},null,{"$f":"IFERROR(IF('Step 5 Identify & Select ASHPs'!$I$46,IF((ROW(CB34)-ROW($BP$29))>COUNT($CC$6:$CC$16)+1,\"\",IF((ROW(CB34)-ROW($BP$29))=COUNT($CC$6:$CC$16)+1,$CB$5,IF(ROW(CB9)-ROW($CB$5)>COUNT($CB$6:$CB$16),\"\",SMALL($CB$6:$CB$16,COUNT($CB$6:$CB$16)-MATCH(CB10,$CB$6:$CB$16,0)+1)))),IF((ROW(CB34)-ROW($BP$29))<=COUNT($CB$5:$CB$16),CB9,IF((ROW(CB34)-ROW($BP$29))=COUNT($CB$5:$CB$16)+1,$CB$16,\"\"))),1)","v":""},{"$f":"IF(AND($C$9,'Step 5 Identify & Select ASHPs'!$D$11>=2),IF(ROW(CC10)-ROW($CC$5)>COUNT($CC$5:$CC$16),\"\",INDEX($CC$5:$CC$16,MATCH(CB34,$CB$5:$CB$16,0))),NA())","v":""},null,{"$f":"IFERROR(IF('Step 5 Identify & Select ASHPs'!$I$65,IF((ROW(CE34)-ROW($BS$29))>COUNT($CF$6:$CF$16)+1,\"\",IF((ROW(CE34)-ROW($BS$29))=COUNT($CF$6:$CF$16)+1,$CE$5,IF(ROW(CE9)-ROW($CE$5)>COUNT($CE$6:$CE$16),\"\",SMALL($CE$6:$CE$16,COUNT($CE$6:$CE$16)-MATCH(CE10,$CE$6:$CE$16,0)+1)))),IF((ROW(CE34)-ROW($BS$29))<=COUNT($CE$5:$CE$16),CE9,IF((ROW(CE34)-ROW($BS$29))=COUNT($CE$5:$CE$16)+1,$CE$16,\"\"))),1)","v":""},{"$f":"IF(AND($C$10,'Step 5 Identify & Select ASHPs'!$D$11>=3),IF(ROW(CF10)-ROW($CF$5)>COUNT($CF$5:$CF$16),\"\",INDEX($CF$5:$CF$16,MATCH(CE34,$CE$5:$CE$16,0))),NA())","v":""},null,{"$f":"IFERROR(IF('Step 5 Identify & Select ASHPs'!$I$84,IF((ROW(CH34)-ROW($BV$29))>COUNT($CI$6:$CI$16)+1,\"\",IF((ROW(CH34)-ROW($BV$29))=COUNT($CI$6:$CI$16)+1,$CH$5,IF(ROW(CH9)-ROW($CH$5)>COUNT($CH$6:$CH$16),\"\",SMALL($CH$6:$CH$16,COUNT($CH$6:$CH$16)-MATCH(CH10,$CH$6:$CH$16,0)+1)))),IF((ROW(CH34)-ROW($BV$29))<=COUNT($CH$5:$CH$16),CH9,IF((ROW(CH34)-ROW($BV$29))=COUNT($CH$5:$CH$16)+1,$CH$16,\"\"))),1)","v":""},{"$f":"IF(AND($C$11,'Step 5 Identify & Select ASHPs'!$D$11>=4),IF(ROW(CI10)-ROW($CI$5)>COUNT($CI$5:$CI$16),\"\",INDEX($CI$5:$CI$16,MATCH(CH34,$CH$5:$CH$16,0))),NA())","v":""}]
[null,null,null,null,{"$f":"IFERROR(IF('Step 5 Identify & Select ASHPs'!$I$27,IF((ROW(E35)-ROW($E$29))>COUNT($F$6:$F$25)+1,\"\",IF((ROW(E35)-ROW($E$29))=COUNT($F$6:$F$25)+1,$E$5,IF(ROW(E10)-ROW($E$5)>COUNT($E$6:$E$25),\"\",SMALL($E$6:$E$25,COUNT($E$6:$E$25)-MATCH(E11,$E$6:$E$25,0)+1)))),IF((ROW(E35)-ROW($E$29))<=COUNT($E$5:$E$24),E10,IF((ROW(E35)-ROW($E$29))=COUNT($E$5:$E$24)+1,$E$25,\"\"))),1)","v":""},{"$f":"IF(AND($C$4,'Step 5 Identify & Select ASHPs'!$D$11>=1),IF('Step 5 Identify & Select ASHPs'!$I$27,IF(ROW(F11)-ROW($F$5)=COUNT($F$6:$F$25)+1,$F$5,IF(ROW(F11)-ROW($F$5)>COUNT($F$6:$F$25),\"\",INDEX($F$6:$F$25,COUNT($F$6:$F$25)+COUNTIF($F$6:$F$25,\"-\")-MATCH(E35,$E$30:$E$50,0)+1))),INDEX($F$5:$F$25,MATCH(E35,$E$5:$E$25,0))),NA())","v":""},null,{"$f":"IFERROR(IF('Step 5 Identify & Select ASHPs'!$I$46,IF((ROW(H35)-ROW($H$29))>COUNT($I$6:$I$25)+1,\"\",IF((ROW(H35)-ROW($H$29))=COUNT($I$6:$I$25)+1,$H$5,IF(ROW(H10)-ROW($H$5)>COUNT($H$6:$H$25),\"\",SMALL($H$6:$H$25,COUNT($H$6:$H$25)-MATCH(H11,$H$6:$H$25,0)+1)))),IF((ROW(H35)-ROW($H$29))<=COUNT($H$5:$H$24),H10,IF((ROW(H35)-ROW($H$29))=COUNT($H$5:$H$24)+1,$H$25,\"\"))),1)","v":""},{"$f":"IF(AND($C$5,'Step 5 Identify & Select ASHPs'!$D$11>=2),IF('Step 5 Identify & Select ASHPs'!$I$46,IF(ROW(I11)-ROW($I$5)=COUNT($I$6:$I$25)+1,$I$5,IF(ROW(I11)-ROW($I$5)>COUNT($I$6:$I$25),\"\",INDEX($I$6:$I$25,COUNT($I$6:$I$25)+COUNTIF($I$6:$I$25,\"-\")-MATCH(H35,$H$30:$H$50,0)+1))),INDEX($I$5:$I$25,MATCH(H35,$H$5:$H$25,0))),NA())","v":""},null,{"$f":"IFERROR(IF('Step 5 Identify & Select ASHPs'!$I$65,IF((ROW(K35)-ROW($K$29))>COUNT($L$6:$L$25)+1,\"\",IF((ROW(K35)-ROW($K$29))=COUNT($L$6:$L$25)+1,$K$5,IF(ROW(K10)-ROW($K$5)>COUNT($K$6:$K$25),\"\",SMALL($K$6:$K$25,COUNT($K$6:$K$25)-MATCH(K11,$K$6:$K$25,0)+1)))),IF((ROW(K35)-ROW($K$29))<=COUNT($K$5:$K$24),K10,IF((ROW(K35)-ROW($K$29))=COUNT($K$5:$K$24)+1,$K$25,\"\"))),1)","v":""},{"$f":"IF(AND($C$6,'Step 5 Identify & Select ASHPs'!$D$11>=3),IF('Step 5 Identify & Select ASHPs'!$I$65,IF(ROW(L11)-ROW($L$5)=COUNT($L$6:$L$25)+1,$L$5,IF(ROW(L11)-ROW($L$5)>COUNT($L$6:$L$25),\"\",INDEX($L$6:$L$25,COUNT($L$6:$L$25)+COUNTIF($L$6:$L$25,\"-\")-MATCH(K35,$K$30:$K$50,0)+1))),INDEX($L$5:$L$25,MATCH(K35,$K$5:$K$25,0))),NA())","v":""},null,{"$f":"IFERROR(IF('Step 5 Identify & Select ASHPs'!$I$84,IF((ROW(N35)-ROW($N$29))>COUNT($O$6:$O$25)+1,\"\",IF((ROW(N35)-ROW($N$29))=COUNT($O$6:$O$25)+1,$N$5,IF(ROW(N10)-ROW($N$5)>COUNT($N$6:$N$25),\"\",SMALL($N$6:$N$25,COUNT($N$6:$N$25)-MATCH(N11,$N$6:$N$25,0)+1)))),IF((ROW(N35)-ROW($N$29))<=COUNT($N$5:$N$24),N10,IF((ROW(N35)-ROW($N$29))=COUNT($N$5:$N$24)+1,$N$25,\"\"))),1)","v":""},{"$f":"IF(AND($C$7,'Step 5 Identify & Select ASHPs'!$D$11>=4),IF('Step 5 Identify & Select ASHPs'!$I$84,IF(ROW(O11)-ROW($O$5)=COUNT($O$6:$O$25)+1,$O$5,IF(ROW(O11)-ROW($O$5)>COUNT($O$6:$O$25),\"\",INDEX($O$6:$O$25,COUNT($O$6:$O$25)+COUNTIF($O$6:$O$25,\"-\")-MATCH(N35,$N$30:$N$50,0)+1))),INDEX($O$5:$O$25,MATCH(N35,$N$5:$N$25,0))),NA())","v":""},null,null,null,null,null,null,null,null,null,null,null,null,null,{"$f":"IFERROR(IF('Step 5 Identify & Select ASHPs'!$I$27,IF((ROW(AC35)-ROW($AC$29))>COUNT($AD$6:$AD$25)+1,\"\",IF((ROW(AC35)-ROW($AC$29))=COUNT($AD$6:$AD$25)+1,$AC$5,IF(ROW(AC10)-ROW($AC$5)>COUNT($AC$6:$AC$25),\"\",SMALL($AC$6:$AC$25,COUNT($AC$6:$AC$25)-MATCH(AC11,$AC$6:$AC$25,0)+1)))),IF((ROW(AC35)-ROW($AC$29))<=COUNT($AC$5:$AC$24),AC10,IF((ROW(AC35)-ROW($AC$29))=COUNT($AC$5:$AC$24)+1,$AC$25,\"\"))),1)","v":""},{"$f":"IF(AND($C$8,'Step 5 Identify & Select ASHPs'!$D$11>=1),IF('Step 5 Identify & Select ASHPs'!$I$27,IF(ROW(AD11)-ROW($AD$5)=COUNT($AD$6:$AD$25)+1,$AD$5,IF(ROW(AD11)-ROW($AD$5)>COUNT($AD$6:$AD$25),\"\",INDEX($AD$6:$AD$25,COUNT($AD$6:$AD$25)+COUNTIF($AD$6:$AD$25,\"-\")-MATCH(AC35,$AC$30:$AC$50,0)+1))),INDEX($AD$5:$AD$25,MATCH(AC35,$AC$5:$AC$25,0))),NA())","v":""},null,{"$f":"IFERROR(IF('Step 5 Identify & Select ASHPs'!$I$46,IF((ROW(AF35)-ROW($AF$29))>COUNT($AG$6:$AG$25)+1,\"\",IF((ROW(AF35)-ROW($AF$29))=COUNT($AG$6:$AG$25)+1,$AF$5,IF(ROW(AF10)-ROW($AF$5)>COUNT($AF$6:$AF$25),\"\",SMALL($AF$6:$AF$25,COUNT($AF$6:$AF$25)-MATCH(AF11,$AF$6:$AF$25,0)+1)))),IF((ROW(AF35)-ROW($AF$29))<=COUNT($AF$5:$AF$24),AF10,IF((ROW(AF35)-ROW($AF$29))=COUNT($AF$5:$AF$24)+1,$AF$25,\"\"))),1)","v":""},{"$f":"IF(AND($C$9,'Step 5 Identify & Select ASHPs'!$D$11>=2),IF('Step 5 Identify & Select ASHPs'!$I$46,IF(ROW(AG11)-ROW($AG$5)=COUNT($AG$6:$AG$25)+1,$AG$5,IF(ROW(AG11)-ROW($AG$5)>COUNT($AG$6:$AG$25),\"\",INDEX($AG$6:$AG$25,COUNT($AG$6:$AG$25)+COUNTIF($AG$6:$AG$25,\"-\")-MATCH(AF35,$AF$30:$AF$50,0)+1))),INDEX($AG$5:$AG$25,MATCH(AF35,$AF$5:$AF$25,0))),NA())","v":""},null,{"$f":"IFERROR(IF('Step 5 Identify & Select ASHPs'!$I$65,IF((ROW(AI35)-ROW($AI$29))>COUNT($AJ$6:$AJ$25)+1,\"\",IF((ROW(AI35)-ROW($AI$29))=COUNT($AJ$6:$AJ$25)+1,$AI$5,IF(ROW(AI10)-ROW($AI$5)>COUNT($AI$6:$AI$25),\"\",SMALL($AI$6:$AI$25,COUNT($AI$6:$AI$25)-MATCH(AI11,$AI$6:$AI$25,0)+1)))),IF((ROW(AI35)-ROW($AI$29))<=COUNT($AI$5:$AI$24),AI10,IF((ROW(AI35)-ROW($AI$29))=COUNT($AI$5:$AI$24)+1,$AI$25,\"\"))),1)","v":""},{"$f":"IF(AND($C$10,'Step 5 Identify & Select ASHPs'!$D$11>=3),IF('Step 5 Identify & Select ASHPs'!$I$65,IF(ROW(AJ11)-ROW($AJ$5)=COUNT($AJ$6:$AJ$25)+1,$AJ$5,IF(ROW(AJ11)-ROW($AJ$5)>COUNT($AJ$6:$AJ$25),\"\",INDEX($AJ$6:$AJ$25,COUNT($AJ$6:$AJ$25)+COUNTIF($AJ$6:$AJ$25,\"-\")-MATCH(AI35,$AI$30:$AI$50,0)+1))),INDEX($AJ$5:$AJ$25,MATCH(AI35,$AI$5:$AI$25,0))),NA())","v":""},null,{"$f":"IFERROR(IF('Step 5 Identify & Select ASHPs'!$I$84,IF((ROW(AL35)-ROW($AL$29))>COUNT($AM$6:$AM$25)+1,\"\",IF((ROW(AL35)-ROW($AL$29))=COUNT($AM$6:$AM$25)+1,$AL$5,IF(ROW(AL10)-ROW($AL$5)>COUNT($AL$6:$AL$25),\"\",SMALL($AL$6:$AL$25,COUNT($AL$6:$AL$25)-MATCH(AL11,$AL$6:$AL$25,0)+1)))),IF((ROW(AL35)-ROW($AL$29))<=COUNT($AL$5:$AL$24),AL10,IF((ROW(AL35)-ROW($AL$29))=COUNT($AL$5:$AL$24)+1,$AL$25,\"\"))),1)","v":""},{"$f":"IF(AND($C$11,'Step 5 Identify & Select ASHPs'!$D$11>=4),IF('Step 5 Identify & Select ASHPs'!$I$84,IF(ROW(AM11)-ROW($AM$5)=COUNT($AM$6:$AM$25)+1,$AM$5,IF(ROW(AM11)-ROW($AM$5)>COUNT($AM$6:$AM$25),\"\",INDEX($AM$6:$AM$25,COUNT($AM$6:$AM$25)+COUNTIF($AM$6:$AM$25,\"-\")-MATCH(AL35,$AL$30:$AL$50,0)+1))),INDEX($AM$5:$AM$25,MATCH(AL35,$AL$5:$AL$25,0))),NA())","v":""},null,null,null,null,null,null,null,null,null,null,null,null,null,null,null,null,null,null,null,null,null,null,null,null,null,{"$f":"IFERROR(IF('Step 5 Identify & Select ASHPs'!$I$27,IF((ROW(BM35)-ROW($BM$29))>COUNT($BN$6:$BN$16)+1,\"\",IF((ROW(BM35)-ROW($BM$29))=COUNT($BN$6:$BN$16)+1,$BM$5,IF(ROW(BM10)-ROW($BM$5)>COUNT($BM$6:$BM$16),\"\",SMALL($BM$6:$BM$16,COUNT($BM$6:$BM$16)-MATCH(BM11,$BM$6:$BM$16,0)+1)))),IF((ROW(BM35)-ROW($BM$29))<=COUNT($BM$5:$BM$16),BM10,IF((ROW(BM35)-ROW($BM$29))=COUNT($BM$5:$BM$16)+1,$BM$16,\"\"))),1)","v":""},{"$f":"IF(AND($C$4,'Step 5 Identify & Select ASHPs'!$D$11>=1),IF(ROW(BN11)-ROW($BN$5)>COUNT($BN$5:$BN$16),\"\",INDEX($BN$5:$BN$16,MATCH(BM35,$BM$5:$BM$16,0))),NA())","v":""},null,{"$f":"IFERROR(IF('Step 5 Identify & Select ASHPs'!$I$46,IF((ROW(BP35)-ROW($BP$29))>COUNT($BQ$6:$BQ$16)+1,\"\",IF((ROW(BP35)-ROW($BP$29))=COUNT($BQ$6:$BQ$16)+1,$BP$5,IF(ROW(BP10)-ROW($BP$5)>COUNT($BP$6:$BP$16),\"\",SMALL($BP$6:$BP$16,COUNT($BP$6:$BP$16)-MATCH(BP11,$BP$6:$BP$16,0)+1)))),IF((ROW(BP35)-ROW($BP$29))<=COUNT($BP$5:$BP$16),BP10,IF((ROW(BP35)-ROW($BP$29))=COUNT($BP$5:$BP$16)+1,$BP$16,\"\"))),1)","v":""},{"$f":"IF(AND($C$5,'Step 5 Identify & Select ASHPs'!$D$11>=2),IF(ROW(BQ11)-ROW($BQ$5)>COUNT($BQ$5:$BQ$16),\"\",INDEX($BQ$5:$BQ$16,MATCH(BP35,$BP$5:$BP$16,0))),NA())","v":""},null,{"$f":"IFERROR(IF('Step 5 Identify & Select ASHPs'!$I$65,IF((ROW(BS35)-ROW($BS$29))>COUNT($BT$6:$BT$16)+1,\"\",IF((ROW(BS35)-ROW($BS$29))=COUNT($BT$6:$BT$16)+1,$BS$5,IF(ROW(BS10)-ROW($BS$5)>COUNT($BS$6:$BS$16),\"\",SMALL($BS$6:$BS$16,COUNT($BS$6:$BS$16)-MATCH(BS11,$BS$6:$BS$16,0)+1)))),IF((ROW(BS35)-ROW($BS$29))<=COUNT($BS$5:$BS$16),BS10,IF((ROW(BS35)-ROW($BS$29))=COUNT($BS$5:$BS$16)+1,$BS$16,\"\"))),1)","v":""},{"$f":"IF(AND($C$6,'Step 5 Identify & Select ASHPs'!$D$11>=3),IF(ROW(BT11)-ROW($BT$5)>COUNT($BT$5:$BT$16),\"\",INDEX($BT$5:$BT$16,MATCH(BS35,$BS$5:$BS$16,0))),NA())","v":""},null,{"$f":"IFERROR(IF('Step 5 Identify & Select ASHPs'!$I$84,IF((ROW(BV35)-ROW($BV$29))>COUNT($BW$6:$BW$16)+1,\"\",IF((ROW(BV35)-ROW($BV$29))=COUNT($BW$6:$BW$16)+1,$BV$5,IF(ROW(BV10)-ROW($BV$5)>COUNT($BV$6:$BV$16),\"\",SMALL($BV$6:$BV$16,COUNT($BV$6:$BV$16)-MATCH(BV11,$BV$6:$BV$16,0)+1)))),IF((ROW(BV35)-ROW($BV$29))<=COUNT($BV$5:$BV$16),BV10,IF((ROW(BV35)-ROW($BV$29))=COUNT($BV$5:$BV$16)+1,$BV$16,\"\"))),1)","v":""},{"$f":"IF(AND($C$7,'Step 5 Identify & Select ASHPs'!$D$11>=4),IF(ROW(BW11)-ROW($BW$5)>COUNT($BW$5:$BW$16),\"\",INDEX($BW$5:$BW$16,MATCH(BV35,$BV$5:$BV$16,0))),NA())","v":""},null,{"$f":"IFERROR(IF('Step 5 Identify & Select ASHPs'!$I$27,IF((ROW(BY35)-ROW($BM$29))>COUNT($BZ$6:$BZ$16)+1,\"\",IF((ROW(BY35)-ROW($BM$29))=COUNT($BZ$6:$BZ$16)+1,$BY$5,IF(ROW(BY10)-ROW($BY$5)>COUNT($BY$6:$BY$16),\"\",SMALL($BY$6:$BY$16,COUNT($BY$6:$BY$16)-MATCH(BY11,$BY$6:$BY$16,0)+1)))),IF((ROW(BY35)-ROW($BM$29))<=COUNT($BY$5:$BY$16),BY10,IF((ROW(BY35)-ROW($BM$29))=COUNT($BY$5:$BY$16)+1,$BY$16,\"\"))),1)","v":""},{"$f":"IF(AND($C$8,'Step 5 Identify & Select ASHPs'!$D$11>=1),IF(ROW(BZ11)-ROW($BZ$5)>COUNT($BZ$5:$BZ$16),\"\",INDEX($BZ$5:$BZ$16,MATCH(BY35,$BY$5:$BY$16,0))),NA())","v":""},null,{"$f":"IFERROR(IF('Step 5 Identify & Select ASHPs'!$I$46,IF((ROW(CB35)-ROW($BP$29))>COUNT($CC$6:$CC$16)+1,\"\",IF((ROW(CB35)-ROW($BP$29))=COUNT($CC$6:$CC$16)+1,$CB$5,IF(ROW(CB10)-ROW($CB$5)>COUNT($CB$6:$CB$16),\"\",SMALL($CB$6:$CB$16,COUNT($CB$6:$CB$16)-MATCH(CB11,$CB$6:$CB$16,0)+1)))),IF((ROW(CB35)-ROW($BP$29))<=COUNT($CB$5:$CB$16),CB10,IF((ROW(CB35)-ROW($BP$29))=COUNT($CB$5:$CB$16)+1,$CB$16,\"\"))),1)","v":""},{"$f":"IF(AND($C$9,'Step 5 Identify & Select ASHPs'!$D$11>=2),IF(ROW(CC11)-ROW($CC$5)>COUNT($CC$5:$CC$16),\"\",INDEX($CC$5:$CC$16,MATCH(CB35,$CB$5:$CB$16,0))),NA())","v":""},null,{"$f":"IFERROR(IF('Step 5 Identify & Select ASHPs'!$I$65,IF((ROW(CE35)-ROW($BS$29))>COUNT($CF$6:$CF$16)+1,\"\",IF((ROW(CE35)-ROW($BS$29))=COUNT($CF$6:$CF$16)+1,$CE$5,IF(ROW(CE10)-ROW($CE$5)>COUNT($CE$6:$CE$16),\"\",SMALL($CE$6:$CE$16,COUNT($CE$6:$CE$16)-MATCH(CE11,$CE$6:$CE$16,0)+1)))),IF((ROW(CE35)-ROW($BS$29))<=COUNT($CE$5:$CE$16),CE10,IF((ROW(CE35)-ROW($BS$29))=COUNT($CE$5:$CE$16)+1,$CE$16,\"\"))),1)","v":""},{"$f":"IF(AND($C$10,'Step 5 Identify & Select ASHPs'!$D$11>=3),IF(ROW(CF11)-ROW($CF$5)>COUNT($CF$5:$CF$16),\"\",INDEX($CF$5:$CF$16,MATCH(CE35,$CE$5:$CE$16,0))),NA())","v":""},null,{"$f":"IFERROR(IF('Step 5 Identify & Select ASHPs'!$I$84,IF((ROW(CH35)-ROW($BV$29))>COUNT($CI$6:$CI$16)+1,\"\",IF((ROW(CH35)-ROW($BV$29))=COUNT($CI$6:$CI$16)+1,$CH$5,IF(ROW(CH10)-ROW($CH$5)>COUNT($CH$6:$CH$16),\"\",SMALL($CH$6:$CH$16,COUNT($CH$6:$CH$16)-MATCH(CH11,$CH$6:$CH$16,0)+1)))),IF((ROW(CH35)-ROW($BV$29))<=COUNT($CH$5:$CH$16),CH10,IF((ROW(CH35)-ROW($BV$29))=COUNT($CH$5:$CH$16)+1,$CH$16,\"\"))),1)","v":""},{"$f":"IF(AND($C$11,'Step 5 Identify & Select ASHPs'!$D$11>=4),IF(ROW(CI11)-ROW($CI$5)>COUNT($CI$5:$CI$16),\"\",INDEX($CI$5:$CI$16,MATCH(CH35,$CH$5:$CH$16,0))),NA())","v":""}]
[null,null,null,null,{"$f":"IFERROR(IF('Step 5 Identify & Select ASHPs'!$I$27,IF((ROW(E36)-ROW($E$29))>COUNT($F$6:$F$25)+1,\"\",IF((ROW(E36)-ROW($E$29))=COUNT($F$6:$F$25)+1,$E$5,IF(ROW(E11)-ROW($E$5)>COUNT($E$6:$E$25),\"\",SMALL($E$6:$E$25,COUNT($E$6:$E$25)-MATCH(E12,$E$6:$E$25,0)+1)))),IF((ROW(E36)-ROW($E$29))<=COUNT($E$5:$E$24),E11,IF((ROW(E36)-ROW($E$29))=COUNT($E$5:$E$24)+1,$E$25,\"\"))),1)","v":""},{"$f":"IF(AND($C$4,'Step 5 Identify & Select ASHPs'!$D$11>=1),IF('Step 5 Identify & Select ASHPs'!$I$27,IF(ROW(F12)-ROW($F$5)=COUNT($F$6:$F$25)+1,$F$5,IF(ROW(F12)-ROW($F$5)>COUNT($F$6:$F$25),\"\",INDEX($F$6:$F$25,COUNT($F$6:$F$25)+COUNTIF($F$6:$F$25,\"-\")-MATCH(E36,$E$30:$E$50,0)+1))),INDEX($F$5:$F$25,MATCH(E36,$E$5:$E$25,0))),NA())","v":""},null,{"$f":"IFERROR(IF('Step 5 Identify & Select ASHPs'!$I$46,IF((ROW(H36)-ROW($H$29))>COUNT($I$6:$I$25)+1,\"\",IF((ROW(H36)-ROW($H$29))=COUNT($I$6:$I$25)+1,$H$5,IF(ROW(H11)-ROW($H$5)>COUNT($H$6:$H$25),\"\",SMALL($H$6:$H$25,COUNT($H$6:$H$25)-MATCH(H12,$H$6:$H$25,0)+1)))),IF((ROW(H36)-ROW($H$29))<=COUNT($H$5:$H$24),H11,IF((ROW(H36)-ROW($H$29))=COUNT($H$5:$H$24)+1,$H$25,\"\"))),1)","v":""},{"$f":"IF(AND($C$5,'Step 5 Identify & Select ASHPs'!$D$11>=2),IF('Step 5 Identify & Select ASHPs'!$I$46,IF(ROW(I12)-ROW($I$5)=COUNT($I$6:$I$25)+1,$I$5,IF(ROW(I12)-ROW($I$5)>COUNT($I$6:$I$25),\"\",INDEX($I$6:$I$25,COUNT($I$6:$I$25)+COUNTIF($I$6:$I$25,\"-\")-MATCH(H36,$H$30:$H$50,0)+1))),INDEX($I$5:$I$25,MATCH(H36,$H$5:$H$25,0))),NA())","v":""},null,{"$f":"IFERROR(IF('Step 5 Identify & Select ASHPs'!$I$65,IF((ROW(K36)-ROW($K$29))>COUNT($L$6:$L$25)+1,\"\",IF((ROW(K36)-ROW($K$29))=COUNT($L$6:$L$25)+1,$K$5,IF(ROW(K11)-ROW($K$5)>COUNT($K$6:$K$25),\"\",SMALL($K$6:$K$25,COUNT($K$6:$K$25)-MATCH(K12,$K$6:$K$25,0)+1)))),IF((ROW(K36)-ROW($K$29))<=COUNT($K$5:$K$24),K11,IF((ROW(K36)-ROW($K$29))=COUNT($K$5:$K$24)+1,$K$25,\"\"))),1)","v":""},{"$f":"IF(AND($C$6,'Step 5 Identify & Select ASHPs'!$D$11>=3),IF('Step 5 Identify & Select ASHPs'!$I$65,IF(ROW(L12)-ROW($L$5)=COUNT($L$6:$L$25)+1,$L$5,IF(ROW(L12)-ROW($L$5)>COUNT($L$6:$L$25),\"\",INDEX($L$6:$L$25,COUNT($L$6:$L$25)+COUNTIF($L$6:$L$25,\"-\")-MATCH(K36,$K$30:$K$50,0)+1))),INDEX($L$5:$L$25,MATCH(K36,$K$5:$K$25,0))),NA())","v":""},null,{"$f":"IFERROR(IF('Step 5 Identify & Select ASHPs'!$I$84,IF((ROW(N36)-ROW($N$29))>COUNT($O$6:$O$25)+1,\"\",IF((ROW(N36)-ROW($N$29))=COUNT($O$6:$O$25)+1,$N$5,IF(ROW(N11)-ROW($N$5)>COUNT($N$6:$N$25),\"\",SMALL($N$6:$N$25,COUNT($N$6:$N$25)-MATCH(N12,$N$6:$N$25,0)+1)))),IF((ROW(N36)-ROW($N$29))<=COUNT($N$5:$N$24),N11,IF((ROW(N36)-ROW($N$29))=COUNT($N$5:$N$24)+1,$N$25,\"\"))),1)","v":""},{"$f":"IF(AND($C$7,'Step 5 Identify & Select ASHPs'!$D$11>=4),IF('Step 5 Identify & Select ASHPs'!$I$84,IF(ROW(O12)-ROW($O$5)=COUNT($O$6:$O$25)+1,$O$5,IF(ROW(O12)-ROW($O$5)>COUNT($O$6:$O$25),\"\",INDEX($O$6:$O$25,COUNT($O$6:$O$25)+COUNTIF($O$6:$O$25,\"-\")-MATCH(N36,$N$30:$N$50,0)+1))),INDEX($O$5:$O$25,MATCH(N36,$N$5:$N$25,0))),NA())","v":""},null,null,null,null,null,null,null,null,null,null,null,null,null,{"$f":"IFERROR(IF('Step 5 Identify & Select ASHPs'!$I$27,IF((ROW(AC36)-ROW($AC$29))>COUNT($AD$6:$AD$25)+1,\"\",IF((ROW(AC36)-ROW($AC$29))=COUNT($AD$6:$AD$25)+1,$AC$5,IF(ROW(AC11)-ROW($AC$5)>COUNT($AC$6:$AC$25),\"\",SMALL($AC$6:$AC$25,COUNT($AC$6:$AC$25)-MATCH(AC12,$AC$6:$AC$25,0)+1)))),IF((ROW(AC36)-ROW($AC$29))<=COUNT($AC$5:$AC$24),AC11,IF((ROW(AC36)-ROW($AC$29))=COUNT($AC$5:$AC$24)+1,$AC$25,\"\"))),1)","v":""},{"$f":"IF(AND($C$8,'Step 5 Identify & Select ASHPs'!$D$11>=1),IF('Step 5 Identify & Select ASHPs'!$I$27,IF(ROW(AD12)-ROW($AD$5)=COUNT($AD$6:$AD$25)+1,$AD$5,IF(ROW(AD12)-ROW($AD$5)>COUNT($AD$6:$AD$25),\"\",INDEX($AD$6:$AD$25,COUNT($AD$6:$AD$25)+COUNTIF($AD$6:$AD$25,\"-\")-MATCH(AC36,$AC$30:$AC$50,0)+1))),INDEX($AD$5:$AD$25,MATCH(AC36,$AC$5:$AC$25,0))),NA())","v":""},null,{"$f":"IFERROR(IF('Step 5 Identify & Select ASHPs'!$I$46,IF((ROW(AF36)-ROW($AF$29))>COUNT($AG$6:$AG$25)+1,\"\",IF((ROW(AF36)-ROW($AF$29))=COUNT($AG$6:$AG$25)+1,$AF$5,IF(ROW(AF11)-ROW($AF$5)>COUNT($AF$6:$AF$25),\"\",SMALL($AF$6:$AF$25,COUNT($AF$6:$AF$25)-MATCH(AF12,$AF$6:$AF$25,0)+1)))),IF((ROW(AF36)-ROW($AF$29))<=COUNT($AF$5:$AF$24),AF11,IF((ROW(AF36)-ROW($AF$29))=COUNT($AF$5:$AF$24)+1,$AF$25,\"\"))),1)","v":""},{"$f":"IF(AND($C$9,'Step 5 Identify & Select ASHPs'!$D$11>=2),IF('Step 5 Identify & Select ASHPs'!$I$46,IF(ROW(AG12)-ROW($AG$5)=COUNT($AG$6:$AG$25)+1,$AG$5,IF(ROW(AG12)-ROW($AG$5)>COUNT($AG$6:$AG$25),\"\",INDEX($AG$6:$AG$25,COUNT($AG$6:$AG$25)+COUNTIF($AG$6:$AG$25,\"-\")-MATCH(AF36,$AF$30:$AF$50,0)+1))),INDEX($AG$5:$AG$25,MATCH(AF36,$AF$5:$AF$25,0))),NA())","v":""},null,{"$f":"IFERROR(IF('Step 5 Identify & Select ASHPs'!$I$65,IF((ROW(AI36)-ROW($AI$29))>COUNT($AJ$6:$AJ$25)+1,\"\",IF((ROW(AI36)-ROW($AI$29))=COUNT($AJ$6:$AJ$25)+1,$AI$5,IF(ROW(AI11)-ROW($AI$5)>COUNT($AI$6:$AI$25),\"\",SMALL($AI$6:$AI$25,COUNT($AI$6:$AI$25)-MATCH(AI12,$AI$6:$AI$25,0)+1)))),IF((ROW(AI36)-ROW($AI$29))<=COUNT($AI$5:$AI$24),AI11,IF((ROW(AI36)-ROW($AI$29))=COUNT($AI$5:$AI$24)+1,$AI$25,\"\"))),1)","v":""},{"$f":"IF(AND($C$10,'Step 5 Identify & Select ASHPs'!$D$11>=3),IF('Step 5 Identify & Select ASHPs'!$I$65,IF(ROW(AJ12)-ROW($AJ$5)=COUNT($AJ$6:$AJ$25)+1,$AJ$5,IF(ROW(AJ12)-ROW($AJ$5)>COUNT($AJ$6:$AJ$25),\"\",INDEX($AJ$6:$AJ$25,COUNT($AJ$6:$AJ$25)+COUNTIF($AJ$6:$AJ$25,\"-\")-MATCH(AI36,$AI$30:$AI$50,0)+1))),INDEX($AJ$5:$AJ$25,MATCH(AI36,$AI$5:$AI$25,0))),NA())","v":""},null,{"$f":"IFERROR(IF('Step 5 Identify & Select ASHPs'!$I$84,IF((ROW(AL36)-ROW($AL$29))>COUNT($AM$6:$AM$25)+1,\"\",IF((ROW(AL36)-ROW($AL$29))=COUNT($AM$6:$AM$25)+1,$AL$5,IF(ROW(AL11)-ROW($AL$5)>COUNT($AL$6:$AL$25),\"\",SMALL($AL$6:$AL$25,COUNT($AL$6:$AL$25)-MATCH(AL12,$AL$6:$AL$25,0)+1)))),IF((ROW(AL36)-ROW($AL$29))<=COUNT($AL$5:$AL$24),AL11,IF((ROW(AL36)-ROW($AL$29))=COUNT($AL$5:$AL$24)+1,$AL$25,\"\"))),1)","v":""},{"$f":"IF(AND($C$11,'Step 5 Identify & Select ASHPs'!$D$11>=4),IF('Step 5 Identify & Select ASHPs'!$I$84,IF(ROW(AM12)-ROW($AM$5)=COUNT($AM$6:$AM$25)+1,$AM$5,IF(ROW(AM12)-ROW($AM$5)>COUNT($AM$6:$AM$25),\"\",INDEX($AM$6:$AM$25,COUNT($AM$6:$AM$25)+COUNTIF($AM$6:$AM$25,\"-\")-MATCH(AL36,$AL$30:$AL$50,0)+1))),INDEX($AM$5:$AM$25,MATCH(AL36,$AL$5:$AL$25,0))),NA())","v":""},null,null,null,null,null,null,null,null,null,null,null,null,null,null,null,null,null,null,null,null,null,null,null,null,null,{"$f":"IFERROR(IF('Step 5 Identify & Select ASHPs'!$I$27,IF((ROW(BM36)-ROW($BM$29))>COUNT($BN$6:$BN$16)+1,\"\",IF((ROW(BM36)-ROW($BM$29))=COUNT($BN$6:$BN$16)+1,$BM$5,IF(ROW(BM11)-ROW($BM$5)>COUNT($BM$6:$BM$16),\"\",SMALL($BM$6:$BM$16,COUNT($BM$6:$BM$16)-MATCH(BM12,$BM$6:$BM$16,0)+1)))),IF((ROW(BM36)-ROW($BM$29))<=COUNT($BM$5:$BM$16),BM11,IF((ROW(BM36)-ROW($BM$29))=COUNT($BM$5:$BM$16)+1,$BM$16,\"\"))),1)","v":""},{"$f":"IF(AND($C$4,'Step 5 Identify & Select ASHPs'!$D$11>=1),IF(ROW(BN12)-ROW($BN$5)>COUNT($BN$5:$BN$16),\"\",INDEX($BN$5:$BN$16,MATCH(BM36,$BM$5:$BM$16,0))),NA())","v":""},null,{"$f":"IFERROR(IF('Step 5 Identify & Select ASHPs'!$I$46,IF((ROW(BP36)-ROW($BP$29))>COUNT($BQ$6:$BQ$16)+1,\"\",IF((ROW(BP36)-ROW($BP$29))=COUNT($BQ$6:$BQ$16)+1,$BP$5,IF(ROW(BP11)-ROW($BP$5)>COUNT($BP$6:$BP$16),\"\",SMALL($BP$6:$BP$16,COUNT($BP$6:$BP$16)-MATCH(BP12,$BP$6:$BP$16,0)+1)))),IF((ROW(BP36)-ROW($BP$29))<=COUNT($BP$5:$BP$16),BP11,IF((ROW(BP36)-ROW($BP$29))=COUNT($BP$5:$BP$16)+1,$BP$16,\"\"))),1)","v":""},{"$f":"IF(AND($C$5,'Step 5 Identify & Select ASHPs'!$D$11>=2),IF(ROW(BQ12)-ROW($BQ$5)>COUNT($BQ$5:$BQ$16),\"\",INDEX($BQ$5:$BQ$16,MATCH(BP36,$BP$5:$BP$16,0))),NA())","v":""},null,{"$f":"IFERROR(IF('Step 5 Identify & Select ASHPs'!$I$65,IF((ROW(BS36)-ROW($BS$29))>COUNT($BT$6:$BT$16)+1,\"\",IF((ROW(BS36)-ROW($BS$29))=COUNT($BT$6:$BT$16)+1,$BS$5,IF(ROW(BS11)-ROW($BS$5)>COUNT($BS$6:$BS$16),\"\",SMALL($BS$6:$BS$16,COUNT($BS$6:$BS$16)-MATCH(BS12,$BS$6:$BS$16,0)+1)))),IF((ROW(BS36)-ROW($BS$29))<=COUNT($BS$5:$BS$16),BS11,IF((ROW(BS36)-ROW($BS$29))=COUNT($BS$5:$BS$16)+1,$BS$16,\"\"))),1)","v":""},{"$f":"IF(AND($C$6,'Step 5 Identify & Select ASHPs'!$D$11>=3),IF(ROW(BT12)-ROW($BT$5)>COUNT($BT$5:$BT$16),\"\",INDEX($BT$5:$BT$16,MATCH(BS36,$BS$5:$BS$16,0))),NA())","v":""},null,{"$f":"IFERROR(IF('Step 5 Identify & Select ASHPs'!$I$84,IF((ROW(BV36)-ROW($BV$29))>COUNT($BW$6:$BW$16)+1,\"\",IF((ROW(BV36)-ROW($BV$29))=COUNT($BW$6:$BW$16)+1,$BV$5,IF(ROW(BV11)-ROW($BV$5)>COUNT($BV$6:$BV$16),\"\",SMALL($BV$6:$BV$16,COUNT($BV$6:$BV$16)-MATCH(BV12,$BV$6:$BV$16,0)+1)))),IF((ROW(BV36)-ROW($BV$29))<=COUNT($BV$5:$BV$16),BV11,IF((ROW(BV36)-ROW($BV$29))=COUNT($BV$5:$BV$16)+1,$BV$16,\"\"))),1)","v":""},{"$f":"IF(AND($C$7,'Step 5 Identify & Select ASHPs'!$D$11>=4),IF(ROW(BW12)-ROW($BW$5)>COUNT($BW$5:$BW$16),\"\",INDEX($BW$5:$BW$16,MATCH(BV36,$BV$5:$BV$16,0))),NA())","v":""},null,{"$f":"IFERROR(IF('Step 5 Identify & Select ASHPs'!$I$27,IF((ROW(BY36)-ROW($BM$29))>COUNT($BZ$6:$BZ$16)+1,\"\",IF((ROW(BY36)-ROW($BM$29))=COUNT($BZ$6:$BZ$16)+1,$BY$5,IF(ROW(BY11)-ROW($BY$5)>COUNT($BY$6:$BY$16),\"\",SMALL($BY$6:$BY$16,COUNT($BY$6:$BY$16)-MATCH(BY12,$BY$6:$BY$16,0)+1)))),IF((ROW(BY36)-ROW($BM$29))<=COUNT($BY$5:$BY$16),BY11,IF((ROW(BY36)-ROW($BM$29))=COUNT($BY$5:$BY$16)+1,$BY$16,\"\"))),1)","v":""},{"$f":"IF(AND($C$8,'Step 5 Identify & Select ASHPs'!$D$11>=1),IF(ROW(BZ12)-ROW($BZ$5)>COUNT($BZ$5:$BZ$16),\"\",INDEX($BZ$5:$BZ$16,MATCH(BY36,$BY$5:$BY$16,0))),NA())","v":""},null,{"$f":"IFERROR(IF('Step 5 Identify & Select ASHPs'!$I$46,IF((ROW(CB36)-ROW($BP$29))>COUNT($CC$6:$CC$16)+1,\"\",IF((ROW(CB36)-ROW($BP$29))=COUNT($CC$6:$CC$16)+1,$CB$5,IF(ROW(CB11)-ROW($CB$5)>COUNT($CB$6:$CB$16),\"\",SMALL($CB$6:$CB$16,COUNT($CB$6:$CB$16)-MATCH(CB12,$CB$6:$CB$16,0)+1)))),IF((ROW(CB36)-ROW($BP$29))<=COUNT($CB$5:$CB$16),CB11,IF((ROW(CB36)-ROW($BP$29))=COUNT($CB$5:$CB$16)+1,$CB$16,\"\"))),1)","v":""},{"$f":"IF(AND($C$9,'Step 5 Identify & Select ASHPs'!$D$11>=2),IF(ROW(CC12)-ROW($CC$5)>COUNT($CC$5:$CC$16),\"\",INDEX($CC$5:$CC$16,MATCH(CB36,$CB$5:$CB$16,0))),NA())","v":""},null,{"$f":"IFERROR(IF('Step 5 Identify & Select ASHPs'!$I$65,IF((ROW(CE36)-ROW($BS$29))>COUNT($CF$6:$CF$16)+1,\"\",IF((ROW(CE36)-ROW($BS$29))=COUNT($CF$6:$CF$16)+1,$CE$5,IF(ROW(CE11)-ROW($CE$5)>COUNT($CE$6:$CE$16),\"\",SMALL($CE$6:$CE$16,COUNT($CE$6:$CE$16)-MATCH(CE12,$CE$6:$CE$16,0)+1)))),IF((ROW(CE36)-ROW($BS$29))<=COUNT($CE$5:$CE$16),CE11,IF((ROW(CE36)-ROW($BS$29))=COUNT($CE$5:$CE$16)+1,$CE$16,\"\"))),1)","v":""},{"$f":"IF(AND($C$10,'Step 5 Identify & Select ASHPs'!$D$11>=3),IF(ROW(CF12)-ROW($CF$5)>COUNT($CF$5:$CF$16),\"\",INDEX($CF$5:$CF$16,MATCH(CE36,$CE$5:$CE$16,0))),NA())","v":""},null,{"$f":"IFERROR(IF('Step 5 Identify & Select ASHPs'!$I$84,IF((ROW(CH36)-ROW($BV$29))>COUNT($CI$6:$CI$16)+1,\"\",IF((ROW(CH36)-ROW($BV$29))=COUNT($CI$6:$CI$16)+1,$CH$5,IF(ROW(CH11)-ROW($CH$5)>COUNT($CH$6:$CH$16),\"\",SMALL($CH$6:$CH$16,COUNT($CH$6:$CH$16)-MATCH(CH12,$CH$6:$CH$16,0)+1)))),IF((ROW(CH36)-ROW($BV$29))<=COUNT($CH$5:$CH$16),CH11,IF((ROW(CH36)-ROW($BV$29))=COUNT($CH$5:$CH$16)+1,$CH$16,\"\"))),1)","v":""},{"$f":"IF(AND($C$11,'Step 5 Identify & Select ASHPs'!$D$11>=4),IF(ROW(CI12)-ROW($CI$5)>COUNT($CI$5:$CI$16),\"\",INDEX($CI$5:$CI$16,MATCH(CH36,$CH$5:$CH$16,0))),NA())","v":""}]
[null,null,null,null,{"$f":"IFERROR(IF('Step 5 Identify & Select ASHPs'!$I$27,IF((ROW(E37)-ROW($E$29))>COUNT($F$6:$F$25)+1,\"\",IF((ROW(E37)-ROW($E$29))=COUNT($F$6:$F$25)+1,$E$5,IF(ROW(E12)-ROW($E$5)>COUNT($E$6:$E$25),\"\",SMALL($E$6:$E$25,COUNT($E$6:$E$25)-MATCH(E13,$E$6:$E$25,0)+1)))),IF((ROW(E37)-ROW($E$29))<=COUNT($E$5:$E$24),E12,IF((ROW(E37)-ROW($E$29))=COUNT($E$5:$E$24)+1,$E$25,\"\"))),1)","v":""},{"$f":"IF(AND($C$4,'Step 5 Identify & Select ASHPs'!$D$11>=1),IF('Step 5 Identify & Select ASHPs'!$I$27,IF(ROW(F13)-ROW($F$5)=COUNT($F$6:$F$25)+1,$F$5,IF(ROW(F13)-ROW($F$5)>COUNT($F$6:$F$25),\"\",INDEX($F$6:$F$25,COUNT($F$6:$F$25)+COUNTIF($F$6:$F$25,\"-\")-MATCH(E37,$E$30:$E$50,0)+1))),INDEX($F$5:$F$25,MATCH(E37,$E$5:$E$25,0))),NA())","v":""},null,{"$f":"IFERROR(IF('Step 5 Identify & Select ASHPs'!$I$46,IF((ROW(H37)-ROW($H$29))>COUNT($I$6:$I$25)+1,\"\",IF((ROW(H37)-ROW($H$29))=COUNT($I$6:$I$25)+1,$H$5,IF(ROW(H12)-ROW($H$5)>COUNT($H$6:$H$25),\"\",SMALL($H$6:$H$25,COUNT($H$6:$H$25)-MATCH(H13,$H$6:$H$25,0)+1)))),IF((ROW(H37)-ROW($H$29))<=COUNT($H$5:$H$24),H12,IF((ROW(H37)-ROW($H$29))=COUNT($H$5:$H$24)+1,$H$25,\"\"))),1)","v":""},{"$f":"IF(AND($C$5,'Step 5 Identify & Select ASHPs'!$D$11>=2),IF('Step 5 Identify & Select ASHPs'!$I$46,IF(ROW(I13)-ROW($I$5)=COUNT($I$6:$I$25)+1,$I$5,IF(ROW(I13)-ROW($I$5)>COUNT($I$6:$I$25),\"\",INDEX($I$6:$I$25,COUNT($I$6:$I$25)+COUNTIF($I$6:$I$25,\"-\")-MATCH(H37,$H$30:$H$50,0)+1))),INDEX($I$5:$I$25,MATCH(H37,$H$5:$H$25,0))),NA())","v":""},null,{"$f":"IFERROR(IF('Step 5 Identify & Select ASHPs'!$I$65,IF((ROW(K37)-ROW($K$29))>COUNT($L$6:$L$25)+1,\"\",IF((ROW(K37)-ROW($K$29))=COUNT($L$6:$L$25)+1,$K$5,IF(ROW(K12)-ROW($K$5)>COUNT($K$6:$K$25),\"\",SMALL($K$6:$K$25,COUNT($K$6:$K$25)-MATCH(K13,$K$6:$K$25,0)+1)))),IF((ROW(K37)-ROW($K$29))<=COUNT($K$5:$K$24),K12,IF((ROW(K37)-ROW($K$29))=COUNT($K$5:$K$24)+1,$K$25,\"\"))),1)","v":""},{"$f":"IF(AND($C$6,'Step 5 Identify & Select ASHPs'!$D$11>=3),IF('Step 5 Identify & Select ASHPs'!$I$65,IF(ROW(L13)-ROW($L$5)=COUNT($L$6:$L$25)+1,$L$5,IF(ROW(L13)-ROW($L$5)>COUNT($L$6:$L$25),\"\",INDEX($L$6:$L$25,COUNT($L$6:$L$25)+COUNTIF($L$6:$L$25,\"-\")-MATCH(K37,$K$30:$K$50,0)+1))),INDEX($L$5:$L$25,MATCH(K37,$K$5:$K$25,0))),NA())","v":""},null,{"$f":"IFERROR(IF('Step 5 Identify & Select ASHPs'!$I$84,IF((ROW(N37)-ROW($N$29))>COUNT($O$6:$O$25)+1,\"\",IF((ROW(N37)-ROW($N$29))=COUNT($O$6:$O$25)+1,$N$5,IF(ROW(N12)-ROW($N$5)>COUNT($N$6:$N$25),\"\",SMALL($N$6:$N$25,COUNT($N$6:$N$25)-MATCH(N13,$N$6:$N$25,0)+1)))),IF((ROW(N37)-ROW($N$29))<=COUNT($N$5:$N$24),N12,IF((ROW(N37)-ROW($N$29))=COUNT($N$5:$N$24)+1,$N$25,\"\"))),1)","v":""},{"$f":"IF(AND($C$7,'Step 5 Identify & Select ASHPs'!$D$11>=4),IF('Step 5 Identify & Select ASHPs'!$I$84,IF(ROW(O13)-ROW($O$5)=COUNT($O$6:$O$25)+1,$O$5,IF(ROW(O13)-ROW($O$5)>COUNT($O$6:$O$25),\"\",INDEX($O$6:$O$25,COUNT($O$6:$O$25)+COUNTIF($O$6:$O$25,\"-\")-MATCH(N37,$N$30:$N$50,0)+1))),INDEX($O$5:$O$25,MATCH(N37,$N$5:$N$25,0))),NA())","v":""},null,null,null,null,null,null,null,null,null,null,null,null,null,{"$f":"IFERROR(IF('Step 5 Identify & Select ASHPs'!$I$27,IF((ROW(AC37)-ROW($AC$29))>COUNT($AD$6:$AD$25)+1,\"\",IF((ROW(AC37)-ROW($AC$29))=COUNT($AD$6:$AD$25)+1,$AC$5,IF(ROW(AC12)-ROW($AC$5)>COUNT($AC$6:$AC$25),\"\",SMALL($AC$6:$AC$25,COUNT($AC$6:$AC$25)-MATCH(AC13,$AC$6:$AC$25,0)+1)))),IF((ROW(AC37)-ROW($AC$29))<=COUNT($AC$5:$AC$24),AC12,IF((ROW(AC37)-ROW($AC$29))=COUNT($AC$5:$AC$24)+1,$AC$25,\"\"))),1)","v":""},{"$f":"IF(AND($C$8,'Step 5 Identify & Select ASHPs'!$D$11>=1),IF('Step 5 Identify & Select ASHPs'!$I$27,IF(ROW(AD13)-ROW($AD$5)=COUNT($AD$6:$AD$25)+1,$AD$5,IF(ROW(AD13)-ROW($AD$5)>COUNT($AD$6:$AD$25),\"\",INDEX($AD$6:$AD$25,COUNT($AD$6:$AD$25)+COUNTIF($AD$6:$AD$25,\"-\")-MATCH(AC37,$AC$30:$AC$50,0)+1))),INDEX($AD$5:$AD$25,MATCH(AC37,$AC$5:$AC$25,0))),NA())","v":""},null,{"$f":"IFERROR(IF('Step 5 Identify & Select ASHPs'!$I$46,IF((ROW(AF37)-ROW($AF$29))>COUNT($AG$6:$AG$25)+1,\"\",IF((ROW(AF37)-ROW($AF$29))=COUNT($AG$6:$AG$25)+1,$AF$5,IF(ROW(AF12)-ROW($AF$5)>COUNT($AF$6:$AF$25),\"\",SMALL($AF$6:$AF$25,COUNT($AF$6:$AF$25)-MATCH(AF13,$AF$6:$AF$25,0)+1)))),IF((ROW(AF37)-ROW($AF$29))<=COUNT($AF$5:$AF$24),AF12,IF((ROW(AF37)-ROW($AF$29))=COUNT($AF$5:$AF$24)+1,$AF$25,\"\"))),1)","v":""},{"$f":"IF(AND($C$9,'Step 5 Identify & Select ASHPs'!$D$11>=2),IF('Step 5 Identify & Select ASHPs'!$I$46,IF(ROW(AG13)-ROW($AG$5)=COUNT($AG$6:$AG$25)+1,$AG$5,IF(ROW(AG13)-ROW($AG$5)>COUNT($AG$6:$AG$25),\"\",INDEX($AG$6:$AG$25,COUNT($AG$6:$AG$25)+COUNTIF($AG$6:$AG$25,\"-\")-MATCH(AF37,$AF$30:$AF$50,0)+1))),INDEX($AG$5:$AG$25,MATCH(AF37,$AF$5:$AF$25,0))),NA())","v":""},null,{"$f":"IFERROR(IF('Step 5 Identify & Select ASHPs'!$I$65,IF((ROW(AI37)-ROW($AI$29))>COUNT($AJ$6:$AJ$25)+1,\"\",IF((ROW(AI37)-ROW($AI$29))=COUNT($AJ$6:$AJ$25)+1,$AI$5,IF(ROW(AI12)-ROW($AI$5)>COUNT($AI$6:$AI$25),\"\",SMALL($AI$6:$AI$25,COUNT($AI$6:$AI$25)-MATCH(AI13,$AI$6:$AI$25,0)+1)))),IF((ROW(AI37)-ROW($AI$29))<=COUNT($AI$5:$AI$24),AI12,IF((ROW(AI37)-ROW($AI$29))=COUNT($AI$5:$AI$24)+1,$AI$25,\"\"))),1)","v":""},{"$f":"IF(AND($C$10,'Step 5 Identify & Select ASHPs'!$D$11>=3),IF('Step 5 Identify & Select ASHPs'!$I$65,IF(ROW(AJ13)-ROW($AJ$5)=COUNT($AJ$6:$AJ$25)+1,$AJ$5,IF(ROW(AJ13)-ROW($AJ$5)>COUNT($AJ$6:$AJ$25),\"\",INDEX($AJ$6:$AJ$25,COUNT($AJ$6:$AJ$25)+COUNTIF($AJ$6:$AJ$25,\"-\")-MATCH(AI37,$AI$30:$AI$50,0)+1))),INDEX($AJ$5:$AJ$25,MATCH(AI37,$AI$5:$AI$25,0))),NA())","v":""},null,{"$f":"IFERROR(IF('Step 5 Identify & Select ASHPs'!$I$84,IF((ROW(AL37)-ROW($AL$29))>COUNT($AM$6:$AM$25)+1,\"\",IF((ROW(AL37)-ROW($AL$29))=COUNT($AM$6:$AM$25)+1,$AL$5,IF(ROW(AL12)-ROW($AL$5)>COUNT($AL$6:$AL$25),\"\",SMALL($AL$6:$AL$25,COUNT($AL$6:$AL$25)-MATCH(AL13,$AL$6:$AL$25,0)+1)))),IF((ROW(AL37)-ROW($AL$29))<=COUNT($AL$5:$AL$24),AL12,IF((ROW(AL37)-ROW($AL$29))=COUNT($AL$5:$AL$24)+1,$AL$25,\"\"))),1)","v":""},{"$f":"IF(AND($C$11,'Step 5 Identify & Select ASHPs'!$D$11>=4),IF('Step 5 Identify & Select ASHPs'!$I$84,IF(ROW(AM13)-ROW($AM$5)=COUNT($AM$6:$AM$25)+1,$AM$5,IF(ROW(AM13)-ROW($AM$5)>COUNT($AM$6:$AM$25),\"\",INDEX($AM$6:$AM$25,COUNT($AM$6:$AM$25)+COUNTIF($AM$6:$AM$25,\"-\")-MATCH(AL37,$AL$30:$AL$50,0)+1))),INDEX($AM$5:$AM$25,MATCH(AL37,$AL$5:$AL$25,0))),NA())","v":""},null,null,null,null,null,null,null,null,null,null,null,null,null,null,null,null,null,null,null,null,null,null,null,null,null,{"$f":"IFERROR(IF('Step 5 Identify & Select ASHPs'!$I$27,IF((ROW(BM37)-ROW($BM$29))>COUNT($BN$6:$BN$16)+1,\"\",IF((ROW(BM37)-ROW($BM$29))=COUNT($BN$6:$BN$16)+1,$BM$5,IF(ROW(BM12)-ROW($BM$5)>COUNT($BM$6:$BM$16),\"\",SMALL($BM$6:$BM$16,COUNT($BM$6:$BM$16)-MATCH(BM13,$BM$6:$BM$16,0)+1)))),IF((ROW(BM37)-ROW($BM$29))<=COUNT($BM$5:$BM$16),BM12,IF((ROW(BM37)-ROW($BM$29))=COUNT($BM$5:$BM$16)+1,$BM$16,\"\"))),1)","v":""},{"$f":"IF(AND($C$4,'Step 5 Identify & Select ASHPs'!$D$11>=1),IF(ROW(BN13)-ROW($BN$5)>COUNT($BN$5:$BN$16),\"\",INDEX($BN$5:$BN$16,MATCH(BM37,$BM$5:$BM$16,0))),NA())","v":""},null,{"$f":"IFERROR(IF('Step 5 Identify & Select ASHPs'!$I$46,IF((ROW(BP37)-ROW($BP$29))>COUNT($BQ$6:$BQ$16)+1,\"\",IF((ROW(BP37)-ROW($BP$29))=COUNT($BQ$6:$BQ$16)+1,$BP$5,IF(ROW(BP12)-ROW($BP$5)>COUNT($BP$6:$BP$16),\"\",SMALL($BP$6:$BP$16,COUNT($BP$6:$BP$16)-MATCH(BP13,$BP$6:$BP$16,0)+1)))),IF((ROW(BP37)-ROW($BP$29))<=COUNT($BP$5:$BP$16),BP12,IF((ROW(BP37)-ROW($BP$29))=COUNT($BP$5:$BP$16)+1,$BP$16,\"\"))),1)","v":""},{"$f":"IF(AND($C$5,'Step 5 Identify & Select ASHPs'!$D$11>=2),IF(ROW(BQ13)-ROW($BQ$5)>COUNT($BQ$5:$BQ$16),\"\",INDEX($BQ$5:$BQ$16,MATCH(BP37,$BP$5:$BP$16,0))),NA())","v":""},null,{"$f":"IFERROR(IF('Step 5 Identify & Select ASHPs'!$I$65,IF((ROW(BS37)-ROW($BS$29))>COUNT($BT$6:$BT$16)+1,\"\",IF((ROW(BS37)-ROW($BS$29))=COUNT($BT$6:$BT$16)+1,$BS$5,IF(ROW(BS12)-ROW($BS$5)>COUNT($BS$6:$BS$16),\"\",SMALL($BS$6:$BS$16,COUNT($BS$6:$BS$16)-MATCH(BS13,$BS$6:$BS$16,0)+1)))),IF((ROW(BS37)-ROW($BS$29))<=COUNT($BS$5:$BS$16),BS12,IF((ROW(BS37)-ROW($BS$29))=COUNT($BS$5:$BS$16)+1,$BS$16,\"\"))),1)","v":""},{"$f":"IF(AND($C$6,'Step 5 Identify & Select ASHPs'!$D$11>=3),IF(ROW(BT13)-ROW($BT$5)>COUNT($BT$5:$BT$16),\"\",INDEX($BT$5:$BT$16,MATCH(BS37,$BS$5:$BS$16,0))),NA())","v":""},null,{"$f":"IFERROR(IF('Step 5 Identify & Select ASHPs'!$I$84,IF((ROW(BV37)-ROW($BV$29))>COUNT($BW$6:$BW$16)+1,\"\",IF((ROW(BV37)-ROW($BV$29))=COUNT($BW$6:$BW$16)+1,$BV$5,IF(ROW(BV12)-ROW($BV$5)>COUNT($BV$6:$BV$16),\"\",SMALL($BV$6:$BV$16,COUNT($BV$6:$BV$16)-MATCH(BV13,$BV$6:$BV$16,0)+1)))),IF((ROW(BV37)-ROW($BV$29))<=COUNT($BV$5:$BV$16),BV12,IF((ROW(BV37)-ROW($BV$29))=COUNT($BV$5:$BV$16)+1,$BV$16,\"\"))),1)","v":""},{"$f":"IF(AND($C$7,'Step 5 Identify & Select ASHPs'!$D$11>=4),IF(ROW(BW13)-ROW($BW$5)>COUNT($BW$5:$BW$16),\"\",INDEX($BW$5:$BW$16,MATCH(BV37,$BV$5:$BV$16,0))),NA())","v":""},null,{"$f":"IFERROR(IF('Step 5 Identify & Select ASHPs'!$I$27,IF((ROW(BY37)-ROW($BM$29))>COUNT($BZ$6:$BZ$16)+1,\"\",IF((ROW(BY37)-ROW($BM$29))=COUNT($BZ$6:$BZ$16)+1,$BY$5,IF(ROW(BY12)-ROW($BY$5)>COUNT($BY$6:$BY$16),\"\",SMALL($BY$6:$BY$16,COUNT($BY$6:$BY$16)-MATCH(BY13,$BY$6:$BY$16,0)+1)))),IF((ROW(BY37)-ROW($BM$29))<=COUNT($BY$5:$BY$16),BY12,IF((ROW(BY37)-ROW($BM$29))=COUNT($BY$5:$BY$16)+1,$BY$16,\"\"))),1)","v":""},{"$f":"IF(AND($C$8,'Step 5 Identify & Select ASHPs'!$D$11>=1),IF(ROW(BZ13)-ROW($BZ$5)>COUNT($BZ$5:$BZ$16),\"\",INDEX($BZ$5:$BZ$16,MATCH(BY37,$BY$5:$BY$16,0))),NA())","v":""},null,{"$f":"IFERROR(IF('Step 5 Identify & Select ASHPs'!$I$46,IF((ROW(CB37)-ROW($BP$29))>COUNT($CC$6:$CC$16)+1,\"\",IF((ROW(CB37)-ROW($BP$29))=COUNT($CC$6:$CC$16)+1,$CB$5,IF(ROW(CB12)-ROW($CB$5)>COUNT($CB$6:$CB$16),\"\",SMALL($CB$6:$CB$16,COUNT($CB$6:$CB$16)-MATCH(CB13,$CB$6:$CB$16,0)+1)))),IF((ROW(CB37)-ROW($BP$29))<=COUNT($CB$5:$CB$16),CB12,IF((ROW(CB37)-ROW($BP$29))=COUNT($CB$5:$CB$16)+1,$CB$16,\"\"))),1)","v":""},{"$f":"IF(AND($C$9,'Step 5 Identify & Select ASHPs'!$D$11>=2),IF(ROW(CC13)-ROW($CC$5)>COUNT($CC$5:$CC$16),\"\",INDEX($CC$5:$CC$16,MATCH(CB37,$CB$5:$CB$16,0))),NA())","v":""},null,{"$f":"IFERROR(IF('Step 5 Identify & Select ASHPs'!$I$65,IF((ROW(CE37)-ROW($BS$29))>COUNT($CF$6:$CF$16)+1,\"\",IF((ROW(CE37)-ROW($BS$29))=COUNT($CF$6:$CF$16)+1,$CE$5,IF(ROW(CE12)-ROW($CE$5)>COUNT($CE$6:$CE$16),\"\",SMALL($CE$6:$CE$16,COUNT($CE$6:$CE$16)-MATCH(CE13,$CE$6:$CE$16,0)+1)))),IF((ROW(CE37)-ROW($BS$29))<=COUNT($CE$5:$CE$16),CE12,IF((ROW(CE37)-ROW($BS$29))=COUNT($CE$5:$CE$16)+1,$CE$16,\"\"))),1)","v":""},{"$f":"IF(AND($C$10,'Step 5 Identify & Select ASHPs'!$D$11>=3),IF(ROW(CF13)-ROW($CF$5)>COUNT($CF$5:$CF$16),\"\",INDEX($CF$5:$CF$16,MATCH(CE37,$CE$5:$CE$16,0))),NA())","v":""},null,{"$f":"IFERROR(IF('Step 5 Identify & Select ASHPs'!$I$84,IF((ROW(CH37)-ROW($BV$29))>COUNT($CI$6:$CI$16)+1,\"\",IF((ROW(CH37)-ROW($BV$29))=COUNT($CI$6:$CI$16)+1,$CH$5,IF(ROW(CH12)-ROW($CH$5)>COUNT($CH$6:$CH$16),\"\",SMALL($CH$6:$CH$16,COUNT($CH$6:$CH$16)-MATCH(CH13,$CH$6:$CH$16,0)+1)))),IF((ROW(CH37)-ROW($BV$29))<=COUNT($CH$5:$CH$16),CH12,IF((ROW(CH37)-ROW($BV$29))=COUNT($CH$5:$CH$16)+1,$CH$16,\"\"))),1)","v":""},{"$f":"IF(AND($C$11,'Step 5 Identify & Select ASHPs'!$D$11>=4),IF(ROW(CI13)-ROW($CI$5)>COUNT($CI$5:$CI$16),\"\",INDEX($CI$5:$CI$16,MATCH(CH37,$CH$5:$CH$16,0))),NA())","v":""}]
[null,null,null,null,{"$f":"IFERROR(IF('Step 5 Identify & Select ASHPs'!$I$27,IF((ROW(E38)-ROW($E$29))>COUNT($F$6:$F$25)+1,\"\",IF((ROW(E38)-ROW($E$29))=COUNT($F$6:$F$25)+1,$E$5,IF(ROW(E13)-ROW($E$5)>COUNT($E$6:$E$25),\"\",SMALL($E$6:$E$25,COUNT($E$6:$E$25)-MATCH(E14,$E$6:$E$25,0)+1)))),IF((ROW(E38)-ROW($E$29))<=COUNT($E$5:$E$24),E13,IF((ROW(E38)-ROW($E$29))=COUNT($E$5:$E$24)+1,$E$25,\"\"))),1)","v":""},{"$f":"IF(AND($C$4,'Step 5 Identify & Select ASHPs'!$D$11>=1),IF('Step 5 Identify & Select ASHPs'!$I$27,IF(ROW(F14)-ROW($F$5)=COUNT($F$6:$F$25)+1,$F$5,IF(ROW(F14)-ROW($F$5)>COUNT($F$6:$F$25),\"\",INDEX($F$6:$F$25,COUNT($F$6:$F$25)+COUNTIF($F$6:$F$25,\"-\")-MATCH(E38,$E$30:$E$50,0)+1))),INDEX($F$5:$F$25,MATCH(E38,$E$5:$E$25,0))),NA())","v":""},null,{"$f":"IFERROR(IF('Step 5 Identify & Select ASHPs'!$I$46,IF((ROW(H38)-ROW($H$29))>COUNT($I$6:$I$25)+1,\"\",IF((ROW(H38)-ROW($H$29))=COUNT($I$6:$I$25)+1,$H$5,IF(ROW(H13)-ROW($H$5)>COUNT($H$6:$H$25),\"\",SMALL($H$6:$H$25,COUNT($H$6:$H$25)-MATCH(H14,$H$6:$H$25,0)+1)))),IF((ROW(H38)-ROW($H$29))<=COUNT($H$5:$H$24),H13,IF((ROW(H38)-ROW($H$29))=COUNT($H$5:$H$24)+1,$H$25,\"\"))),1)","v":""},{"$f":"IF(AND($C$5,'Step 5 Identify & Select ASHPs'!$D$11>=2),IF('Step 5 Identify & Select ASHPs'!$I$46,IF(ROW(I14)-ROW($I$5)=COUNT($I$6:$I$25)+1,$I$5,IF(ROW(I14)-ROW($I$5)>COUNT($I$6:$I$25),\"\",INDEX($I$6:$I$25,COUNT($I$6:$I$25)+COUNTIF($I$6:$I$25,\"-\")-MATCH(H38,$H$30:$H$50,0)+1))),INDEX($I$5:$I$25,MATCH(H38,$H$5:$H$25,0))),NA())","v":""},null,{"$f":"IFERROR(IF('Step 5 Identify & Select ASHPs'!$I$65,IF((ROW(K38)-ROW($K$29))>COUNT($L$6:$L$25)+1,\"\",IF((ROW(K38)-ROW($K$29))=COUNT($L$6:$L$25)+1,$K$5,IF(ROW(K13)-ROW($K$5)>COUNT($K$6:$K$25),\"\",SMALL($K$6:$K$25,COUNT($K$6:$K$25)-MATCH(K14,$K$6:$K$25,0)+1)))),IF((ROW(K38)-ROW($K$29))<=COUNT($K$5:$K$24),K13,IF((ROW(K38)-ROW($K$29))=COUNT($K$5:$K$24)+1,$K$25,\"\"))),1)","v":""},{"$f":"IF(AND($C$6,'Step 5 Identify & Select ASHPs'!$D$11>=3),IF('Step 5 Identify & Select ASHPs'!$I$65,IF(ROW(L14)-ROW($L$5)=COUNT($L$6:$L$25)+1,$L$5,IF(ROW(L14)-ROW($L$5)>COUNT($L$6:$L$25),\"\",INDEX($L$6:$L$25,COUNT($L$6:$L$25)+COUNTIF($L$6:$L$25,\"-\")-MATCH(K38,$K$30:$K$50,0)+1))),INDEX($L$5:$L$25,MATCH(K38,$K$5:$K$25,0))),NA())","v":""},null,{"$f":"IFERROR(IF('Step 5 Identify & Select ASHPs'!$I$84,IF((ROW(N38)-ROW($N$29))>COUNT($O$6:$O$25)+1,\"\",IF((ROW(N38)-ROW($N$29))=COUNT($O$6:$O$25)+1,$N$5,IF(ROW(N13)-ROW($N$5)>COUNT($N$6:$N$25),\"\",SMALL($N$6:$N$25,COUNT($N$6:$N$25)-MATCH(N14,$N$6:$N$25,0)+1)))),IF((ROW(N38)-ROW($N$29))<=COUNT($N$5:$N$24),N13,IF((ROW(N38)-ROW($N$29))=COUNT($N$5:$N$24)+1,$N$25,\"\"))),1)","v":""},{"$f":"IF(AND($C$7,'Step 5 Identify & Select ASHPs'!$D$11>=4),IF('Step 5 Identify & Select ASHPs'!$I$84,IF(ROW(O14)-ROW($O$5)=COUNT($O$6:$O$25)+1,$O$5,IF(ROW(O14)-ROW($O$5)>COUNT($O$6:$O$25),\"\",INDEX($O$6:$O$25,COUNT($O$6:$O$25)+COUNTIF($O$6:$O$25,\"-\")-MATCH(N38,$N$30:$N$50,0)+1))),INDEX($O$5:$O$25,MATCH(N38,$N$5:$N$25,0))),NA())","v":""},null,null,null,null,null,null,null,null,null,null,null,null,null,{"$f":"IFERROR(IF('Step 5 Identify & Select ASHPs'!$I$27,IF((ROW(AC38)-ROW($AC$29))>COUNT($AD$6:$AD$25)+1,\"\",IF((ROW(AC38)-ROW($AC$29))=COUNT($AD$6:$AD$25)+1,$AC$5,IF(ROW(AC13)-ROW($AC$5)>COUNT($AC$6:$AC$25),\"\",SMALL($AC$6:$AC$25,COUNT($AC$6:$AC$25)-MATCH(AC14,$AC$6:$AC$25,0)+1)))),IF((ROW(AC38)-ROW($AC$29))<=COUNT($AC$5:$AC$24),AC13,IF((ROW(AC38)-ROW($AC$29))=COUNT($AC$5:$AC$24)+1,$AC$25,\"\"))),1)","v":""},{"$f":"IF(AND($C$8,'Step 5 Identify & Select ASHPs'!$D$11>=1),IF('Step 5 Identify & Select ASHPs'!$I$27,IF(ROW(AD14)-ROW($AD$5)=COUNT($AD$6:$AD$25)+1,$AD$5,IF(ROW(AD14)-ROW($AD$5)>COUNT($AD$6:$AD$25),\"\",INDEX($AD$6:$AD$25,COUNT($AD$6:$AD$25)+COUNTIF($AD$6:$AD$25,\"-\")-MATCH(AC38,$AC$30:$AC$50,0)+1))),INDEX($AD$5:$AD$25,MATCH(AC38,$AC$5:$AC$25,0))),NA())","v":""},null,{"$f":"IFERROR(IF('Step 5 Identify & Select ASHPs'!$I$46,IF((ROW(AF38)-ROW($AF$29))>COUNT($AG$6:$AG$25)+1,\"\",IF((ROW(AF38)-ROW($AF$29))=COUNT($AG$6:$AG$25)+1,$AF$5,IF(ROW(AF13)-ROW($AF$5)>COUNT($AF$6:$AF$25),\"\",SMALL($AF$6:$AF$25,COUNT($AF$6:$AF$25)-MATCH(AF14,$AF$6:$AF$25,0)+1)))),IF((ROW(AF38)-ROW($AF$29))<=COUNT($AF$5:$AF$24),AF13,IF((ROW(AF38)-ROW($AF$29))=COUNT($AF$5:$AF$24)+1,$AF$25,\"\"))),1)","v":""},{"$f":"IF(AND($C$9,'Step 5 Identify & Select ASHPs'!$D$11>=2),IF('Step 5 Identify & Select ASHPs'!$I$46,IF(ROW(AG14)-ROW($AG$5)=COUNT($AG$6:$AG$25)+1,$AG$5,IF(ROW(AG14)-ROW($AG$5)>COUNT($AG$6:$AG$25),\"\",INDEX($AG$6:$AG$25,COUNT($AG$6:$AG$25)+COUNTIF($AG$6:$AG$25,\"-\")-MATCH(AF38,$AF$30:$AF$50,0)+1))),INDEX($AG$5:$AG$25,MATCH(AF38,$AF$5:$AF$25,0))),NA())","v":""},null,{"$f":"IFERROR(IF('Step 5 Identify & Select ASHPs'!$I$65,IF((ROW(AI38)-ROW($AI$29))>COUNT($AJ$6:$AJ$25)+1,\"\",IF((ROW(AI38)-ROW($AI$29))=COUNT($AJ$6:$AJ$25)+1,$AI$5,IF(ROW(AI13)-ROW($AI$5)>COUNT($AI$6:$AI$25),\"\",SMALL($AI$6:$AI$25,COUNT($AI$6:$AI$25)-MATCH(AI14,$AI$6:$AI$25,0)+1)))),IF((ROW(AI38)-ROW($AI$29))<=COUNT($AI$5:$AI$24),AI13,IF((ROW(AI38)-ROW($AI$29))=COUNT($AI$5:$AI$24)+1,$AI$25,\"\"))),1)","v":""},{"$f":"IF(AND($C$10,'Step 5 Identify & Select ASHPs'!$D$11>=3),IF('Step 5 Identify & Select ASHPs'!$I$65,IF(ROW(AJ14)-ROW($AJ$5)=COUNT($AJ$6:$AJ$25)+1,$AJ$5,IF(ROW(AJ14)-ROW($AJ$5)>COUNT($AJ$6:$AJ$25),\"\",INDEX($AJ$6:$AJ$25,COUNT($AJ$6:$AJ$25)+COUNTIF($AJ$6:$AJ$25,\"-\")-MATCH(AI38,$AI$30:$AI$50,0)+1))),INDEX($AJ$5:$AJ$25,MATCH(AI38,$AI$5:$AI$25,0))),NA())","v":""},null,{"$f":"IFERROR(IF('Step 5 Identify & Select ASHPs'!$I$84,IF((ROW(AL38)-ROW($AL$29))>COUNT($AM$6:$AM$25)+1,\"\",IF((ROW(AL38)-ROW($AL$29))=COUNT($AM$6:$AM$25)+1,$AL$5,IF(ROW(AL13)-ROW($AL$5)>COUNT($AL$6:$AL$25),\"\",SMALL($AL$6:$AL$25,COUNT($AL$6:$AL$25)-MATCH(AL14,$AL$6:$AL$25,0)+1)))),IF((ROW(AL38)-ROW($AL$29))<=COUNT($AL$5:$AL$24),AL13,IF((ROW(AL38)-ROW($AL$29))=COUNT($AL$5:$AL$24)+1,$AL$25,\"\"))),1)","v":""},{"$f":"IF(AND($C$11,'Step 5 Identify & Select ASHPs'!$D$11>=4),IF('Step 5 Identify & Select ASHPs'!$I$84,IF(ROW(AM14)-ROW($AM$5)=COUNT($AM$6:$AM$25)+1,$AM$5,IF(ROW(AM14)-ROW($AM$5)>COUNT($AM$6:$AM$25),\"\",INDEX($AM$6:$AM$25,COUNT($AM$6:$AM$25)+COUNTIF($AM$6:$AM$25,\"-\")-MATCH(AL38,$AL$30:$AL$50,0)+1))),INDEX($AM$5:$AM$25,MATCH(AL38,$AL$5:$AL$25,0))),NA())","v":""},null,null,null,null,null,null,null,null,null,null,null,null,null,null,null,null,null,null,null,null,null,null,null,null,null,{"$f":"IFERROR(IF('Step 5 Identify & Select ASHPs'!$I$27,IF((ROW(BM38)-ROW($BM$29))>COUNT($BN$6:$BN$16)+1,\"\",IF((ROW(BM38)-ROW($BM$29))=COUNT($BN$6:$BN$16)+1,$BM$5,IF(ROW(BM13)-ROW($BM$5)>COUNT($BM$6:$BM$16),\"\",SMALL($BM$6:$BM$16,COUNT($BM$6:$BM$16)-MATCH(BM14,$BM$6:$BM$16,0)+1)))),IF((ROW(BM38)-ROW($BM$29))<=COUNT($BM$5:$BM$16),BM13,IF((ROW(BM38)-ROW($BM$29))=COUNT($BM$5:$BM$16)+1,$BM$16,\"\"))),1)","v":""},{"$f":"IF(AND($C$4,'Step 5 Identify & Select ASHPs'!$D$11>=1),IF(ROW(BN14)-ROW($BN$5)>COUNT($BN$5:$BN$16),\"\",INDEX($BN$5:$BN$16,MATCH(BM38,$BM$5:$BM$16,0))),NA())","v":""},null,{"$f":"IFERROR(IF('Step 5 Identify & Select ASHPs'!$I$46,IF((ROW(BP38)-ROW($BP$29))>COUNT($BQ$6:$BQ$16)+1,\"\",IF((ROW(BP38)-ROW($BP$29))=COUNT($BQ$6:$BQ$16)+1,$BP$5,IF(ROW(BP13)-ROW($BP$5)>COUNT($BP$6:$BP$16),\"\",SMALL($BP$6:$BP$16,COUNT($BP$6:$BP$16)-MATCH(BP14,$BP$6:$BP$16,0)+1)))),IF((ROW(BP38)-ROW($BP$29))<=COUNT($BP$5:$BP$16),BP13,IF((ROW(BP38)-ROW($BP$29))=COUNT($BP$5:$BP$16)+1,$BP$16,\"\"))),1)","v":""},{"$f":"IF(AND($C$5,'Step 5 Identify & Select ASHPs'!$D$11>=2),IF(ROW(BQ14)-ROW($BQ$5)>COUNT($BQ$5:$BQ$16),\"\",INDEX($BQ$5:$BQ$16,MATCH(BP38,$BP$5:$BP$16,0))),NA())","v":""},null,{"$f":"IFERROR(IF('Step 5 Identify & Select ASHPs'!$I$65,IF((ROW(BS38)-ROW($BS$29))>COUNT($BT$6:$BT$16)+1,\"\",IF((ROW(BS38)-ROW($BS$29))=COUNT($BT$6:$BT$16)+1,$BS$5,IF(ROW(BS13)-ROW($BS$5)>COUNT($BS$6:$BS$16),\"\",SMALL($BS$6:$BS$16,COUNT($BS$6:$BS$16)-MATCH(BS14,$BS$6:$BS$16,0)+1)))),IF((ROW(BS38)-ROW($BS$29))<=COUNT($BS$5:$BS$16),BS13,IF((ROW(BS38)-ROW($BS$29))=COUNT($BS$5:$BS$16)+1,$BS$16,\"\"))),1)","v":""},{"$f":"IF(AND($C$6,'Step 5 Identify & Select ASHPs'!$D$11>=3),IF(ROW(BT14)-ROW($BT$5)>COUNT($BT$5:$BT$16),\"\",INDEX($BT$5:$BT$16,MATCH(BS38,$BS$5:$BS$16,0))),NA())","v":""},null,{"$f":"IFERROR(IF('Step 5 Identify & Select ASHPs'!$I$84,IF((ROW(BV38)-ROW($BV$29))>COUNT($BW$6:$BW$16)+1,\"\",IF((ROW(BV38)-ROW($BV$29))=COUNT($BW$6:$BW$16)+1,$BV$5,IF(ROW(BV13)-ROW($BV$5)>COUNT($BV$6:$BV$16),\"\",SMALL($BV$6:$BV$16,COUNT($BV$6:$BV$16)-MATCH(BV14,$BV$6:$BV$16,0)+1)))),IF((ROW(BV38)-ROW($BV$29))<=COUNT($BV$5:$BV$16),BV13,IF((ROW(BV38)-ROW($BV$29))=COUNT($BV$5:$BV$16)+1,$BV$16,\"\"))),1)","v":""},{"$f":"IF(AND($C$7,'Step 5 Identify & Select ASHPs'!$D$11>=4),IF(ROW(BW14)-ROW($BW$5)>COUNT($BW$5:$BW$16),\"\",INDEX($BW$5:$BW$16,MATCH(BV38,$BV$5:$BV$16,0))),NA())","v":""},null,{"$f":"IFERROR(IF('Step 5 Identify & Select ASHPs'!$I$27,IF((ROW(BY38)-ROW($BM$29))>COUNT($BZ$6:$BZ$16)+1,\"\",IF((ROW(BY38)-ROW($BM$29))=COUNT($BZ$6:$BZ$16)+1,$BY$5,IF(ROW(BY13)-ROW($BY$5)>COUNT($BY$6:$BY$16),\"\",SMALL($BY$6:$BY$16,COUNT($BY$6:$BY$16)-MATCH(BY14,$BY$6:$BY$16,0)+1)))),IF((ROW(BY38)-ROW($BM$29))<=COUNT($BY$5:$BY$16),BY13,IF((ROW(BY38)-ROW($BM$29))=COUNT($BY$5:$BY$16)+1,$BY$16,\"\"))),1)","v":""},{"$f":"IF(AND($C$8,'Step 5 Identify & Select ASHPs'!$D$11>=1),IF(ROW(BZ14)-ROW($BZ$5)>COUNT($BZ$5:$BZ$16),\"\",INDEX($BZ$5:$BZ$16,MATCH(BY38,$BY$5:$BY$16,0))),NA())","v":""},null,{"$f":"IFERROR(IF('Step 5 Identify & Select ASHPs'!$I$46,IF((ROW(CB38)-ROW($BP$29))>COUNT($CC$6:$CC$16)+1,\"\",IF((ROW(CB38)-ROW($BP$29))=COUNT($CC$6:$CC$16)+1,$CB$5,IF(ROW(CB13)-ROW($CB$5)>COUNT($CB$6:$CB$16),\"\",SMALL($CB$6:$CB$16,COUNT($CB$6:$CB$16)-MATCH(CB14,$CB$6:$CB$16,0)+1)))),IF((ROW(CB38)-ROW($BP$29))<=COUNT($CB$5:$CB$16),CB13,IF((ROW(CB38)-ROW($BP$29))=COUNT($CB$5:$CB$16)+1,$CB$16,\"\"))),1)","v":""},{"$f":"IF(AND($C$9,'Step 5 Identify & Select ASHPs'!$D$11>=2),IF(ROW(CC14)-ROW($CC$5)>COUNT($CC$5:$CC$16),\"\",INDEX($CC$5:$CC$16,MATCH(CB38,$CB$5:$CB$16,0))),NA())","v":""},null,{"$f":"IFERROR(IF('Step 5 Identify & Select ASHPs'!$I$65,IF((ROW(CE38)-ROW($BS$29))>COUNT($CF$6:$CF$16)+1,\"\",IF((ROW(CE38)-ROW($BS$29))=COUNT($CF$6:$CF$16)+1,$CE$5,IF(ROW(CE13)-ROW($CE$5)>COUNT($CE$6:$CE$16),\"\",SMALL($CE$6:$CE$16,COUNT($CE$6:$CE$16)-MATCH(CE14,$CE$6:$CE$16,0)+1)))),IF((ROW(CE38)-ROW($BS$29))<=COUNT($CE$5:$CE$16),CE13,IF((ROW(CE38)-ROW($BS$29))=COUNT($CE$5:$CE$16)+1,$CE$16,\"\"))),1)","v":""},{"$f":"IF(AND($C$10,'Step 5 Identify & Select ASHPs'!$D$11>=3),IF(ROW(CF14)-ROW($CF$5)>COUNT($CF$5:$CF$16),\"\",INDEX($CF$5:$CF$16,MATCH(CE38,$CE$5:$CE$16,0))),NA())","v":""},null,{"$f":"IFERROR(IF('Step 5 Identify & Select ASHPs'!$I$84,IF((ROW(CH38)-ROW($BV$29))>COUNT($CI$6:$CI$16)+1,\"\",IF((ROW(CH38)-ROW($BV$29))=COUNT($CI$6:$CI$16)+1,$CH$5,IF(ROW(CH13)-ROW($CH$5)>COUNT($CH$6:$CH$16),\"\",SMALL($CH$6:$CH$16,COUNT($CH$6:$CH$16)-MATCH(CH14,$CH$6:$CH$16,0)+1)))),IF((ROW(CH38)-ROW($BV$29))<=COUNT($CH$5:$CH$16),CH13,IF((ROW(CH38)-ROW($BV$29))=COUNT($CH$5:$CH$16)+1,$CH$16,\"\"))),1)","v":""},{"$f":"IF(AND($C$11,'Step 5 Identify & Select ASHPs'!$D$11>=4),IF(ROW(CI14)-ROW($CI$5)>COUNT($CI$5:$CI$16),\"\",INDEX($CI$5:$CI$16,MATCH(CH38,$CH$5:$CH$16,0))),NA())","v":""}]
[null,null,null,null,{"$f":"IFERROR(IF('Step 5 Identify & Select ASHPs'!$I$27,IF((ROW(E39)-ROW($E$29))>COUNT($F$6:$F$25)+1,\"\",IF((ROW(E39)-ROW($E$29))=COUNT($F$6:$F$25)+1,$E$5,IF(ROW(E14)-ROW($E$5)>COUNT($E$6:$E$25),\"\",SMALL($E$6:$E$25,COUNT($E$6:$E$25)-MATCH(E15,$E$6:$E$25,0)+1)))),IF((ROW(E39)-ROW($E$29))<=COUNT($E$5:$E$24),E14,IF((ROW(E39)-ROW($E$29))=COUNT($E$5:$E$24)+1,$E$25,\"\"))),1)","v":""},{"$f":"IF(AND($C$4,'Step 5 Identify & Select ASHPs'!$D$11>=1),IF('Step 5 Identify & Select ASHPs'!$I$27,IF(ROW(F15)-ROW($F$5)=COUNT($F$6:$F$25)+1,$F$5,IF(ROW(F15)-ROW($F$5)>COUNT($F$6:$F$25),\"\",INDEX($F$6:$F$25,COUNT($F$6:$F$25)+COUNTIF($F$6:$F$25,\"-\")-MATCH(E39,$E$30:$E$50,0)+1))),INDEX($F$5:$F$25,MATCH(E39,$E$5:$E$25,0))),NA())","v":""},null,{"$f":"IFERROR(IF('Step 5 Identify & Select ASHPs'!$I$46,IF((ROW(H39)-ROW($H$29))>COUNT($I$6:$I$25)+1,\"\",IF((ROW(H39)-ROW($H$29))=COUNT($I$6:$I$25)+1,$H$5,IF(ROW(H14)-ROW($H$5)>COUNT($H$6:$H$25),\"\",SMALL($H$6:$H$25,COUNT($H$6:$H$25)-MATCH(H15,$H$6:$H$25,0)+1)))),IF((ROW(H39)-ROW($H$29))<=COUNT($H$5:$H$24),H14,IF((ROW(H39)-ROW($H$29))=COUNT($H$5:$H$24)+1,$H$25,\"\"))),1)","v":""},{"$f":"IF(AND($C$5,'Step 5 Identify & Select ASHPs'!$D$11>=2),IF('Step 5 Identify & Select ASHPs'!$I$46,IF(ROW(I15)-ROW($I$5)=COUNT($I$6:$I$25)+1,$I$5,IF(ROW(I15)-ROW($I$5)>COUNT($I$6:$I$25),\"\",INDEX($I$6:$I$25,COUNT($I$6:$I$25)+COUNTIF($I$6:$I$25,\"-\")-MATCH(H39,$H$30:$H$50,0)+1))),INDEX($I$5:$I$25,MATCH(H39,$H$5:$H$25,0))),NA())","v":""},null,{"$f":"IFERROR(IF('Step 5 Identify & Select ASHPs'!$I$65,IF((ROW(K39)-ROW($K$29))>COUNT($L$6:$L$25)+1,\"\",IF((ROW(K39)-ROW($K$29))=COUNT($L$6:$L$25)+1,$K$5,IF(ROW(K14)-ROW($K$5)>COUNT($K$6:$K$25),\"\",SMALL($K$6:$K$25,COUNT($K$6:$K$25)-MATCH(K15,$K$6:$K$25,0)+1)))),IF((ROW(K39)-ROW($K$29))<=COUNT($K$5:$K$24),K14,IF((ROW(K39)-ROW($K$29))=COUNT($K$5:$K$24)+1,$K$25,\"\"))),1)","v":""},{"$f":"IF(AND($C$6,'Step 5 Identify & Select ASHPs'!$D$11>=3),IF('Step 5 Identify & Select ASHPs'!$I$65,IF(ROW(L15)-ROW($L$5)=COUNT($L$6:$L$25)+1,$L$5,IF(ROW(L15)-ROW($L$5)>COUNT($L$6:$L$25),\"\",INDEX($L$6:$L$25,COUNT($L$6:$L$25)+COUNTIF($L$6:$L$25,\"-\")-MATCH(K39,$K$30:$K$50,0)+1))),INDEX($L$5:$L$25,MATCH(K39,$K$5:$K$25,0))),NA())","v":""},null,{"$f":"IFERROR(IF('Step 5 Identify & Select ASHPs'!$I$84,IF((ROW(N39)-ROW($N$29))>COUNT($O$6:$O$25)+1,\"\",IF((ROW(N39)-ROW($N$29))=COUNT($O$6:$O$25)+1,$N$5,IF(ROW(N14)-ROW($N$5)>COUNT($N$6:$N$25),\"\",SMALL($N$6:$N$25,COUNT($N$6:$N$25)-MATCH(N15,$N$6:$N$25,0)+1)))),IF((ROW(N39)-ROW($N$29))<=COUNT($N$5:$N$24),N14,IF((ROW(N39)-ROW($N$29))=COUNT($N$5:$N$24)+1,$N$25,\"\"))),1)","v":""},{"$f":"IF(AND($C$7,'Step 5 Identify & Select ASHPs'!$D$11>=4),IF('Step 5 Identify & Select ASHPs'!$I$84,IF(ROW(O15)-ROW($O$5)=COUNT($O$6:$O$25)+1,$O$5,IF(ROW(O15)-ROW($O$5)>COUNT($O$6:$O$25),\"\",INDEX($O$6:$O$25,COUNT($O$6:$O$25)+COUNTIF($O$6:$O$25,\"-\")-MATCH(N39,$N$30:$N$50,0)+1))),INDEX($O$5:$O$25,MATCH(N39,$N$5:$N$25,0))),NA())","v":""},null,null,null,null,null,null,null,null,null,null,null,null,null,{"$f":"IFERROR(IF('Step 5 Identify & Select ASHPs'!$I$27,IF((ROW(AC39)-ROW($AC$29))>COUNT($AD$6:$AD$25)+1,\"\",IF((ROW(AC39)-ROW($AC$29))=COUNT($AD$6:$AD$25)+1,$AC$5,IF(ROW(AC14)-ROW($AC$5)>COUNT($AC$6:$AC$25),\"\",SMALL($AC$6:$AC$25,COUNT($AC$6:$AC$25)-MATCH(AC15,$AC$6:$AC$25,0)+1)))),IF((ROW(AC39)-ROW($AC$29))<=COUNT($AC$5:$AC$24),AC14,IF((ROW(AC39)-ROW($AC$29))=COUNT($AC$5:$AC$24)+1,$AC$25,\"\"))),1)","v":""},{"$f":"IF(AND($C$8,'Step 5 Identify & Select ASHPs'!$D$11>=1),IF('Step 5 Identify & Select ASHPs'!$I$27,IF(ROW(AD15)-ROW($AD$5)=COUNT($AD$6:$AD$25)+1,$AD$5,IF(ROW(AD15)-ROW($AD$5)>COUNT($AD$6:$AD$25),\"\",INDEX($AD$6:$AD$25,COUNT($AD$6:$AD$25)+COUNTIF($AD$6:$AD$25,\"-\")-MATCH(AC39,$AC$30:$AC$50,0)+1))),INDEX($AD$5:$AD$25,MATCH(AC39,$AC$5:$AC$25,0))),NA())","v":""},null,{"$f":"IFERROR(IF('Step 5 Identify & Select ASHPs'!$I$46,IF((ROW(AF39)-ROW($AF$29))>COUNT($AG$6:$AG$25)+1,\"\",IF((ROW(AF39)-ROW($AF$29))=COUNT($AG$6:$AG$25)+1,$AF$5,IF(ROW(AF14)-ROW($AF$5)>COUNT($AF$6:$AF$25),\"\",SMALL($AF$6:$AF$25,COUNT($AF$6:$AF$25)-MATCH(AF15,$AF$6:$AF$25,0)+1)))),IF((ROW(AF39)-ROW($AF$29))<=COUNT($AF$5:$AF$24),AF14,IF((ROW(AF39)-ROW($AF$29))=COUNT($AF$5:$AF$24)+1,$AF$25,\"\"))),1)","v":""},{"$f":"IF(AND($C$9,'Step 5 Identify & Select ASHPs'!$D$11>=2),IF('Step 5 Identify & Select ASHPs'!$I$46,IF(ROW(AG15)-ROW($AG$5)=COUNT($AG$6:$AG$25)+1,$AG$5,IF(ROW(AG15)-ROW($AG$5)>COUNT($AG$6:$AG$25),\"\",INDEX($AG$6:$AG$25,COUNT($AG$6:$AG$25)+COUNTIF($AG$6:$AG$25,\"-\")-MATCH(AF39,$AF$30:$AF$50,0)+1))),INDEX($AG$5:$AG$25,MATCH(AF39,$AF$5:$AF$25,0))),NA())","v":""},null,{"$f":"IFERROR(IF('Step 5 Identify & Select ASHPs'!$I$65,IF((ROW(AI39)-ROW($AI$29))>COUNT($AJ$6:$AJ$25)+1,\"\",IF((ROW(AI39)-ROW($AI$29))=COUNT($AJ$6:$AJ$25)+1,$AI$5,IF(ROW(AI14)-ROW($AI$5)>COUNT($AI$6:$AI$25),\"\",SMALL($AI$6:$AI$25,COUNT($AI$6:$AI$25)-MATCH(AI15,$AI$6:$AI$25,0)+1)))),IF((ROW(AI39)-ROW($AI$29))<=COUNT($AI$5:$AI$24),AI14,IF((ROW(AI39)-ROW($AI$29))=COUNT($AI$5:$AI$24)+1,$AI$25,\"\"))),1)","v":""},{"$f":"IF(AND($C$10,'Step 5 Identify & Select ASHPs'!$D$11>=3),IF('Step 5 Identify & Select ASHPs'!$I$65,IF(ROW(AJ15)-ROW($AJ$5)=COUNT($AJ$6:$AJ$25)+1,$AJ$5,IF(ROW(AJ15)-ROW($AJ$5)>COUNT($AJ$6:$AJ$25),\"\",INDEX($AJ$6:$AJ$25,COUNT($AJ$6:$AJ$25)+COUNTIF($AJ$6:$AJ$25,\"-\")-MATCH(AI39,$AI$30:$AI$50,0)+1))),INDEX($AJ$5:$AJ$25,MATCH(AI39,$AI$5:$AI$25,0))),NA())","v":""},null,{"$f":"IFERROR(IF('Step 5 Identify & Select ASHPs'!$I$84,IF((ROW(AL39)-ROW($AL$29))>COUNT($AM$6:$AM$25)+1,\"\",IF((ROW(AL39)-ROW($AL$29))=COUNT($AM$6:$AM$25)+1,$AL$5,IF(ROW(AL14)-ROW($AL$5)>COUNT($AL$6:$AL$25),\"\",SMALL($AL$6:$AL$25,COUNT($AL$6:$AL$25)-MATCH(AL15,$AL$6:$AL$25,0)+1)))),IF((ROW(AL39)-ROW($AL$29))<=COUNT($AL$5:$AL$24),AL14,IF((ROW(AL39)-ROW($AL$29))=COUNT($AL$5:$AL$24)+1,$AL$25,\"\"))),1)","v":""},{"$f":"IF(AND($C$11,'Step 5 Identify & Select ASHPs'!$D$11>=4),IF('Step 5 Identify & Select ASHPs'!$I$84,IF(ROW(AM15)-ROW($AM$5)=COUNT($AM$6:$AM$25)+1,$AM$5,IF(ROW(AM15)-ROW($AM$5)>COUNT($AM$6:$AM$25),\"\",INDEX($AM$6:$AM$25,COUNT($AM$6:$AM$25)+COUNTIF($AM$6:$AM$25,\"-\")-MATCH(AL39,$AL$30:$AL$50,0)+1))),INDEX($AM$5:$AM$25,MATCH(AL39,$AL$5:$AL$25,0))),NA())","v":""},null,null,null,null,null,null,null,null,null,null,null,null,null,null,null,null,null,null,null,null,null,null,null,null,null,{"$f":"IFERROR(IF('Step 5 Identify & Select ASHPs'!$I$27,IF((ROW(BM39)-ROW($BM$29))>COUNT($BN$6:$BN$16)+1,\"\",IF((ROW(BM39)-ROW($BM$29))=COUNT($BN$6:$BN$16)+1,$BM$5,IF(ROW(BM14)-ROW($BM$5)>COUNT($BM$6:$BM$16),\"\",SMALL($BM$6:$BM$16,COUNT($BM$6:$BM$16)-MATCH(BM15,$BM$6:$BM$16,0)+1)))),IF((ROW(BM39)-ROW($BM$29))<=COUNT($BM$5:$BM$16),BM14,IF((ROW(BM39)-ROW($BM$29))=COUNT($BM$5:$BM$16)+1,$BM$16,\"\"))),1)","v":""},{"$f":"IF(AND($C$4,'Step 5 Identify & Select ASHPs'!$D$11>=1),IF(ROW(BN15)-ROW($BN$5)>COUNT($BN$5:$BN$16),\"\",INDEX($BN$5:$BN$16,MATCH(BM39,$BM$5:$BM$16,0))),NA())","v":""},null,{"$f":"IFERROR(IF('Step 5 Identify & Select ASHPs'!$I$46,IF((ROW(BP39)-ROW($BP$29))>COUNT($BQ$6:$BQ$16)+1,\"\",IF((ROW(BP39)-ROW($BP$29))=COUNT($BQ$6:$BQ$16)+1,$BP$5,IF(ROW(BP14)-ROW($BP$5)>COUNT($BP$6:$BP$16),\"\",SMALL($BP$6:$BP$16,COUNT($BP$6:$BP$16)-MATCH(BP15,$BP$6:$BP$16,0)+1)))),IF((ROW(BP39)-ROW($BP$29))<=COUNT($BP$5:$BP$16),BP14,IF((ROW(BP39)-ROW($BP$29))=COUNT($BP$5:$BP$16)+1,$BP$16,\"\"))),1)","v":""},{"$f":"IF(AND($C$5,'Step 5 Identify & Select ASHPs'!$D$11>=2),IF(ROW(BQ15)-ROW($BQ$5)>COUNT($BQ$5:$BQ$16),\"\",INDEX($BQ$5:$BQ$16,MATCH(BP39,$BP$5:$BP$16,0))),NA())","v":""},null,{"$f":"IFERROR(IF('Step 5 Identify & Select ASHPs'!$I$65,IF((ROW(BS39)-ROW($BS$29))>COUNT($BT$6:$BT$16)+1,\"\",IF((ROW(BS39)-ROW($BS$29))=COUNT($BT$6:$BT$16)+1,$BS$5,IF(ROW(BS14)-ROW($BS$5)>COUNT($BS$6:$BS$16),\"\",SMALL($BS$6:$BS$16,COUNT($BS$6:$BS$16)-MATCH(BS15,$BS$6:$BS$16,0)+1)))),IF((ROW(BS39)-ROW($BS$29))<=COUNT($BS$5:$BS$16),BS14,IF((ROW(BS39)-ROW($BS$29))=COUNT($BS$5:$BS$16)+1,$BS$16,\"\"))),1)","v":""},{"$f":"IF(AND($C$6,'Step 5 Identify & Select ASHPs'!$D$11>=3),IF(ROW(BT15)-ROW($BT$5)>COUNT($BT$5:$BT$16),\"\",INDEX($BT$5:$BT$16,MATCH(BS39,$BS$5:$BS$16,0))),NA())","v":""},null,{"$f":"IFERROR(IF('Step 5 Identify & Select ASHPs'!$I$84,IF((ROW(BV39)-ROW($BV$29))>COUNT($BW$6:$BW$16)+1,\"\",IF((ROW(BV39)-ROW($BV$29))=COUNT($BW$6:$BW$16)+1,$BV$5,IF(ROW(BV14)-ROW($BV$5)>COUNT($BV$6:$BV$16),\"\",SMALL($BV$6:$BV$16,COUNT($BV$6:$BV$16)-MATCH(BV15,$BV$6:$BV$16,0)+1)))),IF((ROW(BV39)-ROW($BV$29))<=COUNT($BV$5:$BV$16),BV14,IF((ROW(BV39)-ROW($BV$29))=COUNT($BV$5:$BV$16)+1,$BV$16,\"\"))),1)","v":""},{"$f":"IF(AND($C$7,'Step 5 Identify & Select ASHPs'!$D$11>=4),IF(ROW(BW15)-ROW($BW$5)>COUNT($BW$5:$BW$16),\"\",INDEX($BW$5:$BW$16,MATCH(BV39,$BV$5:$BV$16,0))),NA())","v":""},null,{"$f":"IFERROR(IF('Step 5 Identify & Select ASHPs'!$I$27,IF((ROW(BY39)-ROW($BM$29))>COUNT($BZ$6:$BZ$16)+1,\"\",IF((ROW(BY39)-ROW($BM$29))=COUNT($BZ$6:$BZ$16)+1,$BY$5,IF(ROW(BY14)-ROW($BY$5)>COUNT($BY$6:$BY$16),\"\",SMALL($BY$6:$BY$16,COUNT($BY$6:$BY$16)-MATCH(BY15,$BY$6:$BY$16,0)+1)))),IF((ROW(BY39)-ROW($BM$29))<=COUNT($BY$5:$BY$16),BY14,IF((ROW(BY39)-ROW($BM$29))=COUNT($BY$5:$BY$16)+1,$BY$16,\"\"))),1)","v":""},{"$f":"IF(AND($C$8,'Step 5 Identify & Select ASHPs'!$D$11>=1),IF(ROW(BZ15)-ROW($BZ$5)>COUNT($BZ$5:$BZ$16),\"\",INDEX($BZ$5:$BZ$16,MATCH(BY39,$BY$5:$BY$16,0))),NA())","v":""},null,{"$f":"IFERROR(IF('Step 5 Identify & Select ASHPs'!$I$46,IF((ROW(CB39)-ROW($BP$29))>COUNT($CC$6:$CC$16)+1,\"\",IF((ROW(CB39)-ROW($BP$29))=COUNT($CC$6:$CC$16)+1,$CB$5,IF(ROW(CB14)-ROW($CB$5)>COUNT($CB$6:$CB$16),\"\",SMALL($CB$6:$CB$16,COUNT($CB$6:$CB$16)-MATCH(CB15,$CB$6:$CB$16,0)+1)))),IF((ROW(CB39)-ROW($BP$29))<=COUNT($CB$5:$CB$16),CB14,IF((ROW(CB39)-ROW($BP$29))=COUNT($CB$5:$CB$16)+1,$CB$16,\"\"))),1)","v":""},{"$f":"IF(AND($C$9,'Step 5 Identify & Select ASHPs'!$D$11>=2),IF(ROW(CC15)-ROW($CC$5)>COUNT($CC$5:$CC$16),\"\",INDEX($CC$5:$CC$16,MATCH(CB39,$CB$5:$CB$16,0))),NA())","v":""},null,{"$f":"IFERROR(IF('Step 5 Identify & Select ASHPs'!$I$65,IF((ROW(CE39)-ROW($BS$29))>COUNT($CF$6:$CF$16)+1,\"\",IF((ROW(CE39)-ROW($BS$29))=COUNT($CF$6:$CF$16)+1,$CE$5,IF(ROW(CE14)-ROW($CE$5)>COUNT($CE$6:$CE$16),\"\",SMALL($CE$6:$CE$16,COUNT($CE$6:$CE$16)-MATCH(CE15,$CE$6:$CE$16,0)+1)))),IF((ROW(CE39)-ROW($BS$29))<=COUNT($CE$5:$CE$16),CE14,IF((ROW(CE39)-ROW($BS$29))=COUNT($CE$5:$CE$16)+1,$CE$16,\"\"))),1)","v":""},{"$f":"IF(AND($C$10,'Step 5 Identify & Select ASHPs'!$D$11>=3),IF(ROW(CF15)-ROW($CF$5)>COUNT($CF$5:$CF$16),\"\",INDEX($CF$5:$CF$16,MATCH(CE39,$CE$5:$CE$16,0))),NA())","v":""},null,{"$f":"IFERROR(IF('Step 5 Identify & Select ASHPs'!$I$84,IF((ROW(CH39)-ROW($BV$29))>COUNT($CI$6:$CI$16)+1,\"\",IF((ROW(CH39)-ROW($BV$29))=COUNT($CI$6:$CI$16)+1,$CH$5,IF(ROW(CH14)-ROW($CH$5)>COUNT($CH$6:$CH$16),\"\",SMALL($CH$6:$CH$16,COUNT($CH$6:$CH$16)-MATCH(CH15,$CH$6:$CH$16,0)+1)))),IF((ROW(CH39)-ROW($BV$29))<=COUNT($CH$5:$CH$16),CH14,IF((ROW(CH39)-ROW($BV$29))=COUNT($CH$5:$CH$16)+1,$CH$16,\"\"))),1)","v":""},{"$f":"IF(AND($C$11,'Step 5 Identify & Select ASHPs'!$D$11>=4),IF(ROW(CI15)-ROW($CI$5)>COUNT($CI$5:$CI$16),\"\",INDEX($CI$5:$CI$16,MATCH(CH39,$CH$5:$CH$16,0))),NA())","v":""}]
[null,null,null,null,{"$f":"IFERROR(IF('Step 5 Identify & Select ASHPs'!$I$27,IF((ROW(E40)-ROW($E$29))>COUNT($F$6:$F$25)+1,\"\",IF((ROW(E40)-ROW($E$29))=COUNT($F$6:$F$25)+1,$E$5,IF(ROW(E15)-ROW($E$5)>COUNT($E$6:$E$25),\"\",SMALL($E$6:$E$25,COUNT($E$6:$E$25)-MATCH(E16,$E$6:$E$25,0)+1)))),IF((ROW(E40)-ROW($E$29))<=COUNT($E$5:$E$24),E15,IF((ROW(E40)-ROW($E$29))=COUNT($E$5:$E$24)+1,$E$25,\"\"))),1)","v":""},{"$f":"IF(AND($C$4,'Step 5 Identify & Select ASHPs'!$D$11>=1),IF('Step 5 Identify & Select ASHPs'!$I$27,IF(ROW(F16)-ROW($F$5)=COUNT($F$6:$F$25)+1,$F$5,IF(ROW(F16)-ROW($F$5)>COUNT($F$6:$F$25),\"\",INDEX($F$6:$F$25,COUNT($F$6:$F$25)+COUNTIF($F$6:$F$25,\"-\")-MATCH(E40,$E$30:$E$50,0)+1))),INDEX($F$5:$F$25,MATCH(E40,$E$5:$E$25,0))),NA())","v":""},null,{"$f":"IFERROR(IF('Step 5 Identify & Select ASHPs'!$I$46,IF((ROW(H40)-ROW($H$29))>COUNT($I$6:$I$25)+1,\"\",IF((ROW(H40)-ROW($H$29))=COUNT($I$6:$I$25)+1,$H$5,IF(ROW(H15)-ROW($H$5)>COUNT($H$6:$H$25),\"\",SMALL($H$6:$H$25,COUNT($H$6:$H$25)-MATCH(H16,$H$6:$H$25,0)+1)))),IF((ROW(H40)-ROW($H$29))<=COUNT($H$5:$H$24),H15,IF((ROW(H40)-ROW($H$29))=COUNT($H$5:$H$24)+1,$H$25,\"\"))),1)","v":""},{"$f":"IF(AND($C$5,'Step 5 Identify & Select ASHPs'!$D$11>=2),IF('Step 5 Identify & Select ASHPs'!$I$46,IF(ROW(I16)-ROW($I$5)=COUNT($I$6:$I$25)+1,$I$5,IF(ROW(I16)-ROW($I$5)>COUNT($I$6:$I$25),\"\",INDEX($I$6:$I$25,COUNT($I$6:$I$25)+COUNTIF($I$6:$I$25,\"-\")-MATCH(H40,$H$30:$H$50,0)+1))),INDEX($I$5:$I$25,MATCH(H40,$H$5:$H$25,0))),NA())","v":""},null,{"$f":"IFERROR(IF('Step 5 Identify & Select ASHPs'!$I$65,IF((ROW(K40)-ROW($K$29))>COUNT($L$6:$L$25)+1,\"\",IF((ROW(K40)-ROW($K$29))=COUNT($L$6:$L$25)+1,$K$5,IF(ROW(K15)-ROW($K$5)>COUNT($K$6:$K$25),\"\",SMALL($K$6:$K$25,COUNT($K$6:$K$25)-MATCH(K16,$K$6:$K$25,0)+1)))),IF((ROW(K40)-ROW($K$29))<=COUNT($K$5:$K$24),K15,IF((ROW(K40)-ROW($K$29))=COUNT($K$5:$K$24)+1,$K$25,\"\"))),1)","v":""},{"$f":"IF(AND($C$6,'Step 5 Identify & Select ASHPs'!$D$11>=3),IF('Step 5 Identify & Select ASHPs'!$I$65,IF(ROW(L16)-ROW($L$5)=COUNT($L$6:$L$25)+1,$L$5,IF(ROW(L16)-ROW($L$5)>COUNT($L$6:$L$25),\"\",INDEX($L$6:$L$25,COUNT($L$6:$L$25)+COUNTIF($L$6:$L$25,\"-\")-MATCH(K40,$K$30:$K$50,0)+1))),INDEX($L$5:$L$25,MATCH(K40,$K$5:$K$25,0))),NA())","v":""},null,{"$f":"IFERROR(IF('Step 5 Identify & Select ASHPs'!$I$84,IF((ROW(N40)-ROW($N$29))>COUNT($O$6:$O$25)+1,\"\",IF((ROW(N40)-ROW($N$29))=COUNT($O$6:$O$25)+1,$N$5,IF(ROW(N15)-ROW($N$5)>COUNT($N$6:$N$25),\"\",SMALL($N$6:$N$25,COUNT($N$6:$N$25)-MATCH(N16,$N$6:$N$25,0)+1)))),IF((ROW(N40)-ROW($N$29))<=COUNT($N$5:$N$24),N15,IF((ROW(N40)-ROW($N$29))=COUNT($N$5:$N$24)+1,$N$25,\"\"))),1)","v":""},{"$f":"IF(AND($C$7,'Step 5 Identify & Select ASHPs'!$D$11>=4),IF('Step 5 Identify & Select ASHPs'!$I$84,IF(ROW(O16)-ROW($O$5)=COUNT($O$6:$O$25)+1,$O$5,IF(ROW(O16)-ROW($O$5)>COUNT($O$6:$O$25),\"\",INDEX($O$6:$O$25,COUNT($O$6:$O$25)+COUNTIF($O$6:$O$25,\"-\")-MATCH(N40,$N$30:$N$50,0)+1))),INDEX($O$5:$O$25,MATCH(N40,$N$5:$N$25,0))),NA())","v":""},null,null,null,null,null,null,null,null,null,null,null,null,null,{"$f":"IFERROR(IF('Step 5 Identify & Select ASHPs'!$I$27,IF((ROW(AC40)-ROW($AC$29))>COUNT($AD$6:$AD$25)+1,\"\",IF((ROW(AC40)-ROW($AC$29))=COUNT($AD$6:$AD$25)+1,$AC$5,IF(ROW(AC15)-ROW($AC$5)>COUNT($AC$6:$AC$25),\"\",SMALL($AC$6:$AC$25,COUNT($AC$6:$AC$25)-MATCH(AC16,$AC$6:$AC$25,0)+1)))),IF((ROW(AC40)-ROW($AC$29))<=COUNT($AC$5:$AC$24),AC15,IF((ROW(AC40)-ROW($AC$29))=COUNT($AC$5:$AC$24)+1,$AC$25,\"\"))),1)","v":""},{"$f":"IF(AND($C$8,'Step 5 Identify & Select ASHPs'!$D$11>=1),IF('Step 5 Identify & Select ASHPs'!$I$27,IF(ROW(AD16)-ROW($AD$5)=COUNT($AD$6:$AD$25)+1,$AD$5,IF(ROW(AD16)-ROW($AD$5)>COUNT($AD$6:$AD$25),\"\",INDEX($AD$6:$AD$25,COUNT($AD$6:$AD$25)+COUNTIF($AD$6:$AD$25,\"-\")-MATCH(AC40,$AC$30:$AC$50,0)+1))),INDEX($AD$5:$AD$25,MATCH(AC40,$AC$5:$AC$25,0))),NA())","v":""},null,{"$f":"IFERROR(IF('Step 5 Identify & Select ASHPs'!$I$46,IF((ROW(AF40)-ROW($AF$29))>COUNT($AG$6:$AG$25)+1,\"\",IF((ROW(AF40)-ROW($AF$29))=COUNT($AG$6:$AG$25)+1,$AF$5,IF(ROW(AF15)-ROW($AF$5)>COUNT($AF$6:$AF$25),\"\",SMALL($AF$6:$AF$25,COUNT($AF$6:$AF$25)-MATCH(AF16,$AF$6:$AF$25,0)+1)))),IF((ROW(AF40)-ROW($AF$29))<=COUNT($AF$5:$AF$24),AF15,IF((ROW(AF40)-ROW($AF$29))=COUNT($AF$5:$AF$24)+1,$AF$25,\"\"))),1)","v":""},{"$f":"IF(AND($C$9,'Step 5 Identify & Select ASHPs'!$D$11>=2),IF('Step 5 Identify & Select ASHPs'!$I$46,IF(ROW(AG16)-ROW($AG$5)=COUNT($AG$6:$AG$25)+1,$AG$5,IF(ROW(AG16)-ROW($AG$5)>COUNT($AG$6:$AG$25),\"\",INDEX($AG$6:$AG$25,COUNT($AG$6:$AG$25)+COUNTIF($AG$6:$AG$25,\"-\")-MATCH(AF40,$AF$30:$AF$50,0)+1))),INDEX($AG$5:$AG$25,MATCH(AF40,$AF$5:$AF$25,0))),NA())","v":""},null,{"$f":"IFERROR(IF('Step 5 Identify & Select ASHPs'!$I$65,IF((ROW(AI40)-ROW($AI$29))>COUNT($AJ$6:$AJ$25)+1,\"\",IF((ROW(AI40)-ROW($AI$29))=COUNT($AJ$6:$AJ$25)+1,$AI$5,IF(ROW(AI15)-ROW($AI$5)>COUNT($AI$6:$AI$25),\"\",SMALL($AI$6:$AI$25,COUNT($AI$6:$AI$25)-MATCH(AI16,$AI$6:$AI$25,0)+1)))),IF((ROW(AI40)-ROW($AI$29))<=COUNT($AI$5:$AI$24),AI15,IF((ROW(AI40)-ROW($AI$29))=COUNT($AI$5:$AI$24)+1,$AI$25,\"\"))),1)","v":""},{"$f":"IF(AND($C$10,'Step 5 Identify & Select ASHPs'!$D$11>=3),IF('Step 5 Identify & Select ASHPs'!$I$65,IF(ROW(AJ16)-ROW($AJ$5)=COUNT($AJ$6:$AJ$25)+1,$AJ$5,IF(ROW(AJ16)-ROW($AJ$5)>COUNT($AJ$6:$AJ$25),\"\",INDEX($AJ$6:$AJ$25,COUNT($AJ$6:$AJ$25)+COUNTIF($AJ$6:$AJ$25,\"-\")-MATCH(AI40,$AI$30:$AI$50,0)+1))),INDEX($AJ$5:$AJ$25,MATCH(AI40,$AI$5:$AI$25,0))),NA())","v":""},null,{"$f":"IFERROR(IF('Step 5 Identify & Select ASHPs'!$I$84,IF((ROW(AL40)-ROW($AL$29))>COUNT($AM$6:$AM$25)+1,\"\",IF((ROW(AL40)-ROW($AL$29))=COUNT($AM$6:$AM$25)+1,$AL$5,IF(ROW(AL15)-ROW($AL$5)>COUNT($AL$6:$AL$25),\"\",SMALL($AL$6:$AL$25,COUNT($AL$6:$AL$25)-MATCH(AL16,$AL$6:$AL$25,0)+1)))),IF((ROW(AL40)-ROW($AL$29))<=COUNT($AL$5:$AL$24),AL15,IF((ROW(AL40)-ROW($AL$29))=COUNT($AL$5:$AL$24)+1,$AL$25,\"\"))),1)","v":""},{"$f":"IF(AND($C$11,'Step 5 Identify & Select ASHPs'!$D$11>=4),IF('Step 5 Identify & Select ASHPs'!$I$84,IF(ROW(AM16)-ROW($AM$5)=COUNT($AM$6:$AM$25)+1,$AM$5,IF(ROW(AM16)-ROW($AM$5)>COUNT($AM$6:$AM$25),\"\",INDEX($AM$6:$AM$25,COUNT($AM$6:$AM$25)+COUNTIF($AM$6:$AM$25,\"-\")-MATCH(AL40,$AL$30:$AL$50,0)+1))),INDEX($AM$5:$AM$25,MATCH(AL40,$AL$5:$AL$25,0))),NA())","v":""},null,null,null,null,null,null,null,null,null,null,null,null,null,null,null,null,null,null,null,null,null,null,null,null,null,{"$f":"IFERROR(IF('Step 5 Identify & Select ASHPs'!$I$27,IF((ROW(BM40)-ROW($BM$29))>COUNT($BN$6:$BN$16)+1,\"\",IF((ROW(BM40)-ROW($BM$29))=COUNT($BN$6:$BN$16)+1,$BM$5,IF(ROW(BM15)-ROW($BM$5)>COUNT($BM$6:$BM$16),\"\",SMALL($BM$6:$BM$16,COUNT($BM$6:$BM$16)-MATCH(BM16,$BM$6:$BM$16,0)+1)))),IF((ROW(BM40)-ROW($BM$29))<=COUNT($BM$5:$BM$16),BM15,IF((ROW(BM40)-ROW($BM$29))=COUNT($BM$5:$BM$16)+1,$BM$16,\"\"))),1)","v":""},{"$f":"IF(AND($C$4,'Step 5 Identify & Select ASHPs'!$D$11>=1),IF(ROW(BN16)-ROW($BN$5)>COUNT($BN$5:$BN$16),\"\",INDEX($BN$5:$BN$16,MATCH(BM40,$BM$5:$BM$16,0))),NA())","v":""},null,{"$f":"IFERROR(IF('Step 5 Identify & Select ASHPs'!$I$46,IF((ROW(BP40)-ROW($BP$29))>COUNT($BQ$6:$BQ$16)+1,\"\",IF((ROW(BP40)-ROW($BP$29))=COUNT($BQ$6:$BQ$16)+1,$BP$5,IF(ROW(BP15)-ROW($BP$5)>COUNT($BP$6:$BP$16),\"\",SMALL($BP$6:$BP$16,COUNT($BP$6:$BP$16)-MATCH(BP16,$BP$6:$BP$16,0)+1)))),IF((ROW(BP40)-ROW($BP$29))<=COUNT($BP$5:$BP$16),BP15,IF((ROW(BP40)-ROW($BP$29))=COUNT($BP$5:$BP$16)+1,$BP$16,\"\"))),1)","v":""},{"$f":"IF(AND($C$5,'Step 5 Identify & Select ASHPs'!$D$11>=2),IF(ROW(BQ16)-ROW($BQ$5)>COUNT($BQ$5:$BQ$16),\"\",INDEX($BQ$5:$BQ$16,MATCH(BP40,$BP$5:$BP$16,0))),NA())","v":""},null,{"$f":"IFERROR(IF('Step 5 Identify & Select ASHPs'!$I$65,IF((ROW(BS40)-ROW($BS$29))>COUNT($BT$6:$BT$16)+1,\"\",IF((ROW(BS40)-ROW($BS$29))=COUNT($BT$6:$BT$16)+1,$BS$5,IF(ROW(BS15)-ROW($BS$5)>COUNT($BS$6:$BS$16),\"\",SMALL($BS$6:$BS$16,COUNT($BS$6:$BS$16)-MATCH(BS16,$BS$6:$BS$16,0)+1)))),IF((ROW(BS40)-ROW($BS$29))<=COUNT($BS$5:$BS$16),BS15,IF((ROW(BS40)-ROW($BS$29))=COUNT($BS$5:$BS$16)+1,$BS$16,\"\"))),1)","v":""},{"$f":"IF(AND($C$6,'Step 5 Identify & Select ASHPs'!$D$11>=3),IF(ROW(BT16)-ROW($BT$5)>COUNT($BT$5:$BT$16),\"\",INDEX($BT$5:$BT$16,MATCH(BS40,$BS$5:$BS$16,0))),NA())","v":""},null,{"$f":"IFERROR(IF('Step 5 Identify & Select ASHPs'!$I$84,IF((ROW(BV40)-ROW($BV$29))>COUNT($BW$6:$BW$16)+1,\"\",IF((ROW(BV40)-ROW($BV$29))=COUNT($BW$6:$BW$16)+1,$BV$5,IF(ROW(BV15)-ROW($BV$5)>COUNT($BV$6:$BV$16),\"\",SMALL($BV$6:$BV$16,COUNT($BV$6:$BV$16)-MATCH(BV16,$BV$6:$BV$16,0)+1)))),IF((ROW(BV40)-ROW($BV$29))<=COUNT($BV$5:$BV$16),BV15,IF((ROW(BV40)-ROW($BV$29))=COUNT($BV$5:$BV$16)+1,$BV$16,\"\"))),1)","v":""},{"$f":"IF(AND($C$7,'Step 5 Identify & Select ASHPs'!$D$11>=4),IF(ROW(BW16)-ROW($BW$5)>COUNT($BW$5:$BW$16),\"\",INDEX($BW$5:$BW$16,MATCH(BV40,$BV$5:$BV$16,0))),NA())","v":""},null,{"$f":"IFERROR(IF('Step 5 Identify & Select ASHPs'!$I$27,IF((ROW(BY40)-ROW($BM$29))>COUNT($BZ$6:$BZ$16)+1,\"\",IF((ROW(BY40)-ROW($BM$29))=COUNT($BZ$6:$BZ$16)+1,$BY$5,IF(ROW(BY15)-ROW($BY$5)>COUNT($BY$6:$BY$16),\"\",SMALL($BY$6:$BY$16,COUNT($BY$6:$BY$16)-MATCH(BY16,$BY$6:$BY$16,0)+1)))),IF((ROW(BY40)-ROW($BM$29))<=COUNT($BY$5:$BY$16),BY15,IF((ROW(BY40)-ROW($BM$29))=COUNT($BY$5:$BY$16)+1,$BY$16,\"\"))),1)","v":""},{"$f":"IF(AND($C$8,'Step 5 Identify & Select ASHPs'!$D$11>=1),IF(ROW(BZ16)-ROW($BZ$5)>COUNT($BZ$5:$BZ$16),\"\",INDEX($BZ$5:$BZ$16,MATCH(BY40,$BY$5:$BY$16,0))),NA())","v":""},null,{"$f":"IFERROR(IF('Step 5 Identify & Select ASHPs'!$I$46,IF((ROW(CB40)-ROW($BP$29))>COUNT($CC$6:$CC$16)+1,\"\",IF((ROW(CB40)-ROW($BP$29))=COUNT($CC$6:$CC$16)+1,$CB$5,IF(ROW(CB15)-ROW($CB$5)>COUNT($CB$6:$CB$16),\"\",SMALL($CB$6:$CB$16,COUNT($CB$6:$CB$16)-MATCH(CB16,$CB$6:$CB$16,0)+1)))),IF((ROW(CB40)-ROW($BP$29))<=COUNT($CB$5:$CB$16),CB15,IF((ROW(CB40)-ROW($BP$29))=COUNT($CB$5:$CB$16)+1,$CB$16,\"\"))),1)","v":""},{"$f":"IF(AND($C$9,'Step 5 Identify & Select ASHPs'!$D$11>=2),IF(ROW(CC16)-ROW($CC$5)>COUNT($CC$5:$CC$16),\"\",INDEX($CC$5:$CC$16,MATCH(CB40,$CB$5:$CB$16,0))),NA())","v":""},null,{"$f":"IFERROR(IF('Step 5 Identify & Select ASHPs'!$I$65,IF((ROW(CE40)-ROW($BS$29))>COUNT($CF$6:$CF$16)+1,\"\",IF((ROW(CE40)-ROW($BS$29))=COUNT($CF$6:$CF$16)+1,$CE$5,IF(ROW(CE15)-ROW($CE$5)>COUNT($CE$6:$CE$16),\"\",SMALL($CE$6:$CE$16,COUNT($CE$6:$CE$16)-MATCH(CE16,$CE$6:$CE$16,0)+1)))),IF((ROW(CE40)-ROW($BS$29))<=COUNT($CE$5:$CE$16),CE15,IF((ROW(CE40)-ROW($BS$29))=COUNT($CE$5:$CE$16)+1,$CE$16,\"\"))),1)","v":""},{"$f":"IF(AND($C$10,'Step 5 Identify & Select ASHPs'!$D$11>=3),IF(ROW(CF16)-ROW($CF$5)>COUNT($CF$5:$CF$16),\"\",INDEX($CF$5:$CF$16,MATCH(CE40,$CE$5:$CE$16,0))),NA())","v":""},null,{"$f":"IFERROR(IF('Step 5 Identify & Select ASHPs'!$I$84,IF((ROW(CH40)-ROW($BV$29))>COUNT($CI$6:$CI$16)+1,\"\",IF((ROW(CH40)-ROW($BV$29))=COUNT($CI$6:$CI$16)+1,$CH$5,IF(ROW(CH15)-ROW($CH$5)>COUNT($CH$6:$CH$16),\"\",SMALL($CH$6:$CH$16,COUNT($CH$6:$CH$16)-MATCH(CH16,$CH$6:$CH$16,0)+1)))),IF((ROW(CH40)-ROW($BV$29))<=COUNT($CH$5:$CH$16),CH15,IF((ROW(CH40)-ROW($BV$29))=COUNT($CH$5:$CH$16)+1,$CH$16,\"\"))),1)","v":""},{"$f":"IF(AND($C$11,'Step 5 Identify & Select ASHPs'!$D$11>=4),IF(ROW(CI16)-ROW($CI$5)>COUNT($CI$5:$CI$16),\"\",INDEX($CI$5:$CI$16,MATCH(CH40,$CH$5:$CH$16,0))),NA())","v":""}]
[null,null,null,null,{"$f":"IFERROR(IF('Step 5 Identify & Select ASHPs'!$I$27,IF((ROW(E41)-ROW($E$29))>COUNT($F$6:$F$25)+1,\"\",IF((ROW(E41)-ROW($E$29))=COUNT($F$6:$F$25)+1,$E$5,IF(ROW(E16)-ROW($E$5)>COUNT($E$6:$E$25),\"\",SMALL($E$6:$E$25,COUNT($E$6:$E$25)-MATCH(E17,$E$6:$E$25,0)+1)))),IF((ROW(E41)-ROW($E$29))<=COUNT($E$5:$E$24),E16,IF((ROW(E41)-ROW($E$29))=COUNT($E$5:$E$24)+1,$E$25,\"\"))),1)","v":""},{"$f":"IF(AND($C$4,'Step 5 Identify & Select ASHPs'!$D$11>=1),IF('Step 5 Identify & Select ASHPs'!$I$27,IF(ROW(F17)-ROW($F$5)=COUNT($F$6:$F$25)+1,$F$5,IF(ROW(F17)-ROW($F$5)>COUNT($F$6:$F$25),\"\",INDEX($F$6:$F$25,COUNT($F$6:$F$25)+COUNTIF($F$6:$F$25,\"-\")-MATCH(E41,$E$30:$E$50,0)+1))),INDEX($F$5:$F$25,MATCH(E41,$E$5:$E$25,0))),NA())","v":""},null,{"$f":"IFERROR(IF('Step 5 Identify & Select ASHPs'!$I$46,IF((ROW(H41)-ROW($H$29))>COUNT($I$6:$I$25)+1,\"\",IF((ROW(H41)-ROW($H$29))=COUNT($I$6:$I$25)+1,$H$5,IF(ROW(H16)-ROW($H$5)>COUNT($H$6:$H$25),\"\",SMALL($H$6:$H$25,COUNT($H$6:$H$25)-MATCH(H17,$H$6:$H$25,0)+1)))),IF((ROW(H41)-ROW($H$29))<=COUNT($H$5:$H$24),H16,IF((ROW(H41)-ROW($H$29))=COUNT($H$5:$H$24)+1,$H$25,\"\"))),1)","v":""},{"$f":"IF(AND($C$5,'Step 5 Identify & Select ASHPs'!$D$11>=2),IF('Step 5 Identify & Select ASHPs'!$I$46,IF(ROW(I17)-ROW($I$5)=COUNT($I$6:$I$25)+1,$I$5,IF(ROW(I17)-ROW($I$5)>COUNT($I$6:$I$25),\"\",INDEX($I$6:$I$25,COUNT($I$6:$I$25)+COUNTIF($I$6:$I$25,\"-\")-MATCH(H41,$H$30:$H$50,0)+1))),INDEX($I$5:$I$25,MATCH(H41,$H$5:$H$25,0))),NA())","v":""},null,{"$f":"IFERROR(IF('Step 5 Identify & Select ASHPs'!$I$65,IF((ROW(K41)-ROW($K$29))>COUNT($L$6:$L$25)+1,\"\",IF((ROW(K41)-ROW($K$29))=COUNT($L$6:$L$25)+1,$K$5,IF(ROW(K16)-ROW($K$5)>COUNT($K$6:$K$25),\"\",SMALL($K$6:$K$25,COUNT($K$6:$K$25)-MATCH(K17,$K$6:$K$25,0)+1)))),IF((ROW(K41)-ROW($K$29))<=COUNT($K$5:$K$24),K16,IF((ROW(K41)-ROW($K$29))=COUNT($K$5:$K$24)+1,$K$25,\"\"))),1)","v":""},{"$f":"IF(AND($C$6,'Step 5 Identify & Select ASHPs'!$D$11>=3),IF('Step 5 Identify & Select ASHPs'!$I$65,IF(ROW(L17)-ROW($L$5)=COUNT($L$6:$L$25)+1,$L$5,IF(ROW(L17)-ROW($L$5)>COUNT($L$6:$L$25),\"\",INDEX($L$6:$L$25,COUNT($L$6:$L$25)+COUNTIF($L$6:$L$25,\"-\")-MATCH(K41,$K$30:$K$50,0)+1))),INDEX($L$5:$L$25,MATCH(K41,$K$5:$K$25,0))),NA())","v":""},null,{"$f":"IFERROR(IF('Step 5 Identify & Select ASHPs'!$I$84,IF((ROW(N41)-ROW($N$29))>COUNT($O$6:$O$25)+1,\"\",IF((ROW(N41)-ROW($N$29))=COUNT($O$6:$O$25)+1,$N$5,IF(ROW(N16)-ROW($N$5)>COUNT($N$6:$N$25),\"\",SMALL($N$6:$N$25,COUNT($N$6:$N$25)-MATCH(N17,$N$6:$N$25,0)+1)))),IF((ROW(N41)-ROW($N$29))<=COUNT($N$5:$N$24),N16,IF((ROW(N41)-ROW($N$29))=COUNT($N$5:$N$24)+1,$N$25,\"\"))),1)","v":""},{"$f":"IF(AND($C$7,'Step 5 Identify & Select ASHPs'!$D$11>=4),IF('Step 5 Identify & Select ASHPs'!$I$84,IF(ROW(O17)-ROW($O$5)=COUNT($O$6:$O$25)+1,$O$5,IF(ROW(O17)-ROW($O$5)>COUNT($O$6:$O$25),\"\",INDEX($O$6:$O$25,COUNT($O$6:$O$25)+COUNTIF($O$6:$O$25,\"-\")-MATCH(N41,$N$30:$N$50,0)+1))),INDEX($O$5:$O$25,MATCH(N41,$N$5:$N$25,0))),NA())","v":""},null,null,null,null,null,null,null,null,null,null,null,null,null,{"$f":"IFERROR(IF('Step 5 Identify & Select ASHPs'!$I$27,IF((ROW(AC41)-ROW($AC$29))>COUNT($AD$6:$AD$25)+1,\"\",IF((ROW(AC41)-ROW($AC$29))=COUNT($AD$6:$AD$25)+1,$AC$5,IF(ROW(AC16)-ROW($AC$5)>COUNT($AC$6:$AC$25),\"\",SMALL($AC$6:$AC$25,COUNT($AC$6:$AC$25)-MATCH(AC17,$AC$6:$AC$25,0)+1)))),IF((ROW(AC41)-ROW($AC$29))<=COUNT($AC$5:$AC$24),AC16,IF((ROW(AC41)-ROW($AC$29))=COUNT($AC$5:$AC$24)+1,$AC$25,\"\"))),1)","v":""},{"$f":"IF(AND($C$8,'Step 5 Identify & Select ASHPs'!$D$11>=1),IF('Step 5 Identify & Select ASHPs'!$I$27,IF(ROW(AD17)-ROW($AD$5)=COUNT($AD$6:$AD$25)+1,$AD$5,IF(ROW(AD17)-ROW($AD$5)>COUNT($AD$6:$AD$25),\"\",INDEX($AD$6:$AD$25,COUNT($AD$6:$AD$25)+COUNTIF($AD$6:$AD$25,\"-\")-MATCH(AC41,$AC$30:$AC$50,0)+1))),INDEX($AD$5:$AD$25,MATCH(AC41,$AC$5:$AC$25,0))),NA())","v":""},null,{"$f":"IFERROR(IF('Step 5 Identify & Select ASHPs'!$I$46,IF((ROW(AF41)-ROW($AF$29))>COUNT($AG$6:$AG$25)+1,\"\",IF((ROW(AF41)-ROW($AF$29))=COUNT($AG$6:$AG$25)+1,$AF$5,IF(ROW(AF16)-ROW($AF$5)>COUNT($AF$6:$AF$25),\"\",SMALL($AF$6:$AF$25,COUNT($AF$6:$AF$25)-MATCH(AF17,$AF$6:$AF$25,0)+1)))),IF((ROW(AF41)-ROW($AF$29))<=COUNT($AF$5:$AF$24),AF16,IF((ROW(AF41)-ROW($AF$29))=COUNT($AF$5:$AF$24)+1,$AF$25,\"\"))),1)","v":""},{"$f":"IF(AND($C$9,'Step 5 Identify & Select ASHPs'!$D$11>=2),IF('Step 5 Identify & Select ASHPs'!$I$46,IF(ROW(AG17)-ROW($AG$5)=COUNT($AG$6:$AG$25)+1,$AG$5,IF(ROW(AG17)-ROW($AG$5)>COUNT($AG$6:$AG$25),\"\",INDEX($AG$6:$AG$25,COUNT($AG$6:$AG$25)+COUNTIF($AG$6:$AG$25,\"-\")-MATCH(AF41,$AF$30:$AF$50,0)+1))),INDEX($AG$5:$AG$25,MATCH(AF41,$AF$5:$AF$25,0))),NA())","v":""},null,{"$f":"IFERROR(IF('Step 5 Identify & Select ASHPs'!$I$65,IF((ROW(AI41)-ROW($AI$29))>COUNT($AJ$6:$AJ$25)+1,\"\",IF((ROW(AI41)-ROW($AI$29))=COUNT($AJ$6:$AJ$25)+1,$AI$5,IF(ROW(AI16)-ROW($AI$5)>COUNT($AI$6:$AI$25),\"\",SMALL($AI$6:$AI$25,COUNT($AI$6:$AI$25)-MATCH(AI17,$AI$6:$AI$25,0)+1)))),IF((ROW(AI41)-ROW($AI$29))<=COUNT($AI$5:$AI$24),AI16,IF((ROW(AI41)-ROW($AI$29))=COUNT($AI$5:$AI$24)+1,$AI$25,\"\"))),1)","v":""},{"$f":"IF(AND($C$10,'Step 5 Identify & Select ASHPs'!$D$11>=3),IF('Step 5 Identify & Select ASHPs'!$I$65,IF(ROW(AJ17)-ROW($AJ$5)=COUNT($AJ$6:$AJ$25)+1,$AJ$5,IF(ROW(AJ17)-ROW($AJ$5)>COUNT($AJ$6:$AJ$25),\"\",INDEX($AJ$6:$AJ$25,COUNT($AJ$6:$AJ$25)+COUNTIF($AJ$6:$AJ$25,\"-\")-MATCH(AI41,$AI$30:$AI$50,0)+1))),INDEX($AJ$5:$AJ$25,MATCH(AI41,$AI$5:$AI$25,0))),NA())","v":""},null,{"$f":"IFERROR(IF('Step 5 Identify & Select ASHPs'!$I$84,IF((ROW(AL41)-ROW($AL$29))>COUNT($AM$6:$AM$25)+1,\"\",IF((ROW(AL41)-ROW($AL$29))=COUNT($AM$6:$AM$25)+1,$AL$5,IF(ROW(AL16)-ROW($AL$5)>COUNT($AL$6:$AL$25),\"\",SMALL($AL$6:$AL$25,COUNT($AL$6:$AL$25)-MATCH(AL17,$AL$6:$AL$25,0)+1)))),IF((ROW(AL41)-ROW($AL$29))<=COUNT($AL$5:$AL$24),AL16,IF((ROW(AL41)-ROW($AL$29))=COUNT($AL$5:$AL$24)+1,$AL$25,\"\"))),1)","v":""},{"$f":"IF(AND($C$11,'Step 5 Identify & Select ASHPs'!$D$11>=4),IF('Step 5 Identify & Select ASHPs'!$I$84,IF(ROW(AM17)-ROW($AM$5)=COUNT($AM$6:$AM$25)+1,$AM$5,IF(ROW(AM17)-ROW($AM$5)>COUNT($AM$6:$AM$25),\"\",INDEX($AM$6:$AM$25,COUNT($AM$6:$AM$25)+COUNTIF($AM$6:$AM$25,\"-\")-MATCH(AL41,$AL$30:$AL$50,0)+1))),INDEX($AM$5:$AM$25,MATCH(AL41,$AL$5:$AL$25,0))),NA())","v":""},null,null,null,null,null,null,null,null,null,null,null,null,null,null,null,null,null,null,null,null,null,null,null,null,null,{"$f":"IFERROR(IF('Step 5 Identify & Select ASHPs'!$I$27,IF((ROW(BM41)-ROW($BM$29))>COUNT($BN$6:$BN$16)+1,\"\",IF((ROW(BM41)-ROW($BM$29))=COUNT($BN$6:$BN$16)+1,$BM$5,IF(ROW(BM16)-ROW($BM$5)>COUNT($BM$6:$BM$16),\"\",SMALL($BM$6:$BM$16,COUNT($BM$6:$BM$16)-MATCH(BM17,$BM$6:$BM$16,0)+1)))),IF((ROW(BM41)-ROW($BM$29))<=COUNT($BM$5:$BM$16),BM16,IF((ROW(BM41)-ROW($BM$29))=COUNT($BM$5:$BM$16)+1,$BM$16,\"\"))),1)","v":""},{"$f":"IF(AND($C$4,'Step 5 Identify & Select ASHPs'!$D$11>=1),IF(ROW(BN17)-ROW($BN$5)>COUNT($BN$5:$BN$16),\"\",INDEX($BN$5:$BN$16,MATCH(BM41,$BM$5:$BM$16,0))),NA())","v":""},null,{"$f":"IFERROR(IF('Step 5 Identify & Select ASHPs'!$I$46,IF((ROW(BP41)-ROW($BP$29))>COUNT($BQ$6:$BQ$16)+1,\"\",IF((ROW(BP41)-ROW($BP$29))=COUNT($BQ$6:$BQ$16)+1,$BP$5,IF(ROW(BP16)-ROW($BP$5)>COUNT($BP$6:$BP$16),\"\",SMALL($BP$6:$BP$16,COUNT($BP$6:$BP$16)-MATCH(BP17,$BP$6:$BP$16,0)+1)))),IF((ROW(BP41)-ROW($BP$29))<=COUNT($BP$5:$BP$16),BP16,IF((ROW(BP41)-ROW($BP$29))=COUNT($BP$5:$BP$16)+1,$BP$16,\"\"))),1)","v":""},{"$f":"IF(AND($C$5,'Step 5 Identify & Select ASHPs'!$D$11>=2),IF(ROW(BQ17)-ROW($BQ$5)>COUNT($BQ$5:$BQ$16),\"\",INDEX($BQ$5:$BQ$16,MATCH(BP41,$BP$5:$BP$16,0))),NA())","v":""},null,{"$f":"IFERROR(IF('Step 5 Identify & Select ASHPs'!$I$65,IF((ROW(BS41)-ROW($BS$29))>COUNT($BT$6:$BT$16)+1,\"\",IF((ROW(BS41)-ROW($BS$29))=COUNT($BT$6:$BT$16)+1,$BS$5,IF(ROW(BS16)-ROW($BS$5)>COUNT($BS$6:$BS$16),\"\",SMALL($BS$6:$BS$16,COUNT($BS$6:$BS$16)-MATCH(BS17,$BS$6:$BS$16,0)+1)))),IF((ROW(BS41)-ROW($BS$29))<=COUNT($BS$5:$BS$16),BS16,IF((ROW(BS41)-ROW($BS$29))=COUNT($BS$5:$BS$16)+1,$BS$16,\"\"))),1)","v":""},{"$f":"IF(AND($C$6,'Step 5 Identify & Select ASHPs'!$D$11>=3),IF(ROW(BT17)-ROW($BT$5)>COUNT($BT$5:$BT$16),\"\",INDEX($BT$5:$BT$16,MATCH(BS41,$BS$5:$BS$16,0))),NA())","v":""},null,{"$f":"IFERROR(IF('Step 5 Identify & Select ASHPs'!$I$84,IF((ROW(BV41)-ROW($BV$29))>COUNT($BW$6:$BW$16)+1,\"\",IF((ROW(BV41)-ROW($BV$29))=COUNT($BW$6:$BW$16)+1,$BV$5,IF(ROW(BV16)-ROW($BV$5)>COUNT($BV$6:$BV$16),\"\",SMALL($BV$6:$BV$16,COUNT($BV$6:$BV$16)-MATCH(BV17,$BV$6:$BV$16,0)+1)))),IF((ROW(BV41)-ROW($BV$29))<=COUNT($BV$5:$BV$16),BV16,IF((ROW(BV41)-ROW($BV$29))=COUNT($BV$5:$BV$16)+1,$BV$16,\"\"))),1)","v":""},{"$f":"IF(AND($C$7,'Step 5 Identify & Select ASHPs'!$D$11>=4),IF(ROW(BW17)-ROW($BW$5)>COUNT($BW$5:$BW$16),\"\",INDEX($BW$5:$BW$16,MATCH(BV41,$BV$5:$BV$16,0))),NA())","v":""},null,{"$f":"IFERROR(IF('Step 5 Identify & Select ASHPs'!$I$27,IF((ROW(BY41)-ROW($BM$29))>COUNT($BZ$6:$BZ$16)+1,\"\",IF((ROW(BY41)-ROW($BM$29))=COUNT($BZ$6:$BZ$16)+1,$BY$5,IF(ROW(BY16)-ROW($BY$5)>COUNT($BY$6:$BY$16),\"\",SMALL($BY$6:$BY$16,COUNT($BY$6:$BY$16)-MATCH(BY17,$BY$6:$BY$16,0)+1)))),IF((ROW(BY41)-ROW($BM$29))<=COUNT($BY$5:$BY$16),BY16,IF((ROW(BY41)-ROW($BM$29))=COUNT($BY$5:$BY$16)+1,$BY$16,\"\"))),1)","v":""},{"$f":"IF(AND($C$8,'Step 5 Identify & Select ASHPs'!$D$11>=1),IF(ROW(BZ17)-ROW($BZ$5)>COUNT($BZ$5:$BZ$16),\"\",INDEX($BZ$5:$BZ$16,MATCH(BY41,$BY$5:$BY$16,0))),NA())","v":""},null,{"$f":"IFERROR(IF('Step 5 Identify & Select ASHPs'!$I$46,IF((ROW(CB41)-ROW($BP$29))>COUNT($CC$6:$CC$16)+1,\"\",IF((ROW(CB41)-ROW($BP$29))=COUNT($CC$6:$CC$16)+1,$CB$5,IF(ROW(CB16)-ROW($CB$5)>COUNT($CB$6:$CB$16),\"\",SMALL($CB$6:$CB$16,COUNT($CB$6:$CB$16)-MATCH(CB17,$CB$6:$CB$16,0)+1)))),IF((ROW(CB41)-ROW($BP$29))<=COUNT($CB$5:$CB$16),CB16,IF((ROW(CB41)-ROW($BP$29))=COUNT($CB$5:$CB$16)+1,$CB$16,\"\"))),1)","v":""},{"$f":"IF(AND($C$9,'Step 5 Identify & Select ASHPs'!$D$11>=2),IF(ROW(CC17)-ROW($CC$5)>COUNT($CC$5:$CC$16),\"\",INDEX($CC$5:$CC$16,MATCH(CB41,$CB$5:$CB$16,0))),NA())","v":""},null,{"$f":"IFERROR(IF('Step 5 Identify & Select ASHPs'!$I$65,IF((ROW(CE41)-ROW($BS$29))>COUNT($CF$6:$CF$16)+1,\"\",IF((ROW(CE41)-ROW($BS$29))=COUNT($CF$6:$CF$16)+1,$CE$5,IF(ROW(CE16)-ROW($CE$5)>COUNT($CE$6:$CE$16),\"\",SMALL($CE$6:$CE$16,COUNT($CE$6:$CE$16)-MATCH(CE17,$CE$6:$CE$16,0)+1)))),IF((ROW(CE41)-ROW($BS$29))<=COUNT($CE$5:$CE$16),CE16,IF((ROW(CE41)-ROW($BS$29))=COUNT($CE$5:$CE$16)+1,$CE$16,\"\"))),1)","v":""},{"$f":"IF(AND($C$10,'Step 5 Identify & Select ASHPs'!$D$11>=3),IF(ROW(CF17)-ROW($CF$5)>COUNT($CF$5:$CF$16),\"\",INDEX($CF$5:$CF$16,MATCH(CE41,$CE$5:$CE$16,0))),NA())","v":""},null,{"$f":"IFERROR(IF('Step 5 Identify & Select ASHPs'!$I$84,IF((ROW(CH41)-ROW($BV$29))>COUNT($CI$6:$CI$16)+1,\"\",IF((ROW(CH41)-ROW($BV$29))=COUNT($CI$6:$CI$16)+1,$CH$5,IF(ROW(CH16)-ROW($CH$5)>COUNT($CH$6:$CH$16),\"\",SMALL($CH$6:$CH$16,COUNT($CH$6:$CH$16)-MATCH(CH17,$CH$6:$CH$16,0)+1)))),IF((ROW(CH41)-ROW($BV$29))<=COUNT($CH$5:$CH$16),CH16,IF((ROW(CH41)-ROW($BV$29))=COUNT($CH$5:$CH$16)+1,$CH$16,\"\"))),1)","v":""},{"$f":"IF(AND($C$11,'Step 5 Identify & Select ASHPs'!$D$11>=4),IF(ROW(CI17)-ROW($CI$5)>COUNT($CI$5:$CI$16),\"\",INDEX($CI$5:$CI$16,MATCH(CH41,$CH$5:$CH$16,0))),NA())","v":""}]
[null,null,null,null,{"$f":"IFERROR(IF('Step 5 Identify & Select ASHPs'!$I$27,IF((ROW(E42)-ROW($E$29))>COUNT($F$6:$F$25)+1,\"\",IF((ROW(E42)-ROW($E$29))=COUNT($F$6:$F$25)+1,$E$5,IF(ROW(E17)-ROW($E$5)>COUNT($E$6:$E$25),\"\",SMALL($E$6:$E$25,COUNT($E$6:$E$25)-MATCH(E18,$E$6:$E$25,0)+1)))),IF((ROW(E42)-ROW($E$29))<=COUNT($E$5:$E$24),E17,IF((ROW(E42)-ROW($E$29))=COUNT($E$5:$E$24)+1,$E$25,\"\"))),1)","v":""},{"$f":"IF(AND($C$4,'Step 5 Identify & Select ASHPs'!$D$11>=1),IF('Step 5 Identify & Select ASHPs'!$I$27,IF(ROW(F18)-ROW($F$5)=COUNT($F$6:$F$25)+1,$F$5,IF(ROW(F18)-ROW($F$5)>COUNT($F$6:$F$25),\"\",INDEX($F$6:$F$25,COUNT($F$6:$F$25)+COUNTIF($F$6:$F$25,\"-\")-MATCH(E42,$E$30:$E$50,0)+1))),INDEX($F$5:$F$25,MATCH(E42,$E$5:$E$25,0))),NA())","v":""},null,{"$f":"IFERROR(IF('Step 5 Identify & Select ASHPs'!$I$46,IF((ROW(H42)-ROW($H$29))>COUNT($I$6:$I$25)+1,\"\",IF((ROW(H42)-ROW($H$29))=COUNT($I$6:$I$25)+1,$H$5,IF(ROW(H17)-ROW($H$5)>COUNT($H$6:$H$25),\"\",SMALL($H$6:$H$25,COUNT($H$6:$H$25)-MATCH(H18,$H$6:$H$25,0)+1)))),IF((ROW(H42)-ROW($H$29))<=COUNT($H$5:$H$24),H17,IF((ROW(H42)-ROW($H$29))=COUNT($H$5:$H$24)+1,$H$25,\"\"))),1)","v":""},{"$f":"IF(AND($C$5,'Step 5 Identify & Select ASHPs'!$D$11>=2),IF('Step 5 Identify & Select ASHPs'!$I$46,IF(ROW(I18)-ROW($I$5)=COUNT($I$6:$I$25)+1,$I$5,IF(ROW(I18)-ROW($I$5)>COUNT($I$6:$I$25),\"\",INDEX($I$6:$I$25,COUNT($I$6:$I$25)+COUNTIF($I$6:$I$25,\"-\")-MATCH(H42,$H$30:$H$50,0)+1))),INDEX($I$5:$I$25,MATCH(H42,$H$5:$H$25,0))),NA())","v":""},null,{"$f":"IFERROR(IF('Step 5 Identify & Select ASHPs'!$I$65,IF((ROW(K42)-ROW($K$29))>COUNT($L$6:$L$25)+1,\"\",IF((ROW(K42)-ROW($K$29))=COUNT($L$6:$L$25)+1,$K$5,IF(ROW(K17)-ROW($K$5)>COUNT($K$6:$K$25),\"\",SMALL($K$6:$K$25,COUNT($K$6:$K$25)-MATCH(K18,$K$6:$K$25,0)+1)))),IF((ROW(K42)-ROW($K$29))<=COUNT($K$5:$K$24),K17,IF((ROW(K42)-ROW($K$29))=COUNT($K$5:$K$24)+1,$K$25,\"\"))),1)","v":""},{"$f":"IF(AND($C$6,'Step 5 Identify & Select ASHPs'!$D$11>=3),IF('Step 5 Identify & Select ASHPs'!$I$65,IF(ROW(L18)-ROW($L$5)=COUNT($L$6:$L$25)+1,$L$5,IF(ROW(L18)-ROW($L$5)>COUNT($L$6:$L$25),\"\",INDEX($L$6:$L$25,COUNT($L$6:$L$25)+COUNTIF($L$6:$L$25,\"-\")-MATCH(K42,$K$30:$K$50,0)+1))),INDEX($L$5:$L$25,MATCH(K42,$K$5:$K$25,0))),NA())","v":""},null,{"$f":"IFERROR(IF('Step 5 Identify & Select ASHPs'!$I$84,IF((ROW(N42)-ROW($N$29))>COUNT($O$6:$O$25)+1,\"\",IF((ROW(N42)-ROW($N$29))=COUNT($O$6:$O$25)+1,$N$5,IF(ROW(N17)-ROW($N$5)>COUNT($N$6:$N$25),\"\",SMALL($N$6:$N$25,COUNT($N$6:$N$25)-MATCH(N18,$N$6:$N$25,0)+1)))),IF((ROW(N42)-ROW($N$29))<=COUNT($N$5:$N$24),N17,IF((ROW(N42)-ROW($N$29))=COUNT($N$5:$N$24)+1,$N$25,\"\"))),1)","v":""},{"$f":"IF(AND($C$7,'Step 5 Identify & Select ASHPs'!$D$11>=4),IF('Step 5 Identify & Select ASHPs'!$I$84,IF(ROW(O18)-ROW($O$5)=COUNT($O$6:$O$25)+1,$O$5,IF(ROW(O18)-ROW($O$5)>COUNT($O$6:$O$25),\"\",INDEX($O$6:$O$25,COUNT($O$6:$O$25)+COUNTIF($O$6:$O$25,\"-\")-MATCH(N42,$N$30:$N$50,0)+1))),INDEX($O$5:$O$25,MATCH(N42,$N$5:$N$25,0))),NA())","v":""},null,null,null,null,null,null,null,null,null,null,null,null,null,{"$f":"IFERROR(IF('Step 5 Identify & Select ASHPs'!$I$27,IF((ROW(AC42)-ROW($AC$29))>COUNT($AD$6:$AD$25)+1,\"\",IF((ROW(AC42)-ROW($AC$29))=COUNT($AD$6:$AD$25)+1,$AC$5,IF(ROW(AC17)-ROW($AC$5)>COUNT($AC$6:$AC$25),\"\",SMALL($AC$6:$AC$25,COUNT($AC$6:$AC$25)-MATCH(AC18,$AC$6:$AC$25,0)+1)))),IF((ROW(AC42)-ROW($AC$29))<=COUNT($AC$5:$AC$24),AC17,IF((ROW(AC42)-ROW($AC$29))=COUNT($AC$5:$AC$24)+1,$AC$25,\"\"))),1)","v":""},{"$f":"IF(AND($C$8,'Step 5 Identify & Select ASHPs'!$D$11>=1),IF('Step 5 Identify & Select ASHPs'!$I$27,IF(ROW(AD18)-ROW($AD$5)=COUNT($AD$6:$AD$25)+1,$AD$5,IF(ROW(AD18)-ROW($AD$5)>COUNT($AD$6:$AD$25),\"\",INDEX($AD$6:$AD$25,COUNT($AD$6:$AD$25)+COUNTIF($AD$6:$AD$25,\"-\")-MATCH(AC42,$AC$30:$AC$50,0)+1))),INDEX($AD$5:$AD$25,MATCH(AC42,$AC$5:$AC$25,0))),NA())","v":""},null,{"$f":"IFERROR(IF('Step 5 Identify & Select ASHPs'!$I$46,IF((ROW(AF42)-ROW($AF$29))>COUNT($AG$6:$AG$25)+1,\"\",IF((ROW(AF42)-ROW($AF$29))=COUNT($AG$6:$AG$25)+1,$AF$5,IF(ROW(AF17)-ROW($AF$5)>COUNT($AF$6:$AF$25),\"\",SMALL($AF$6:$AF$25,COUNT($AF$6:$AF$25)-MATCH(AF18,$AF$6:$AF$25,0)+1)))),IF((ROW(AF42)-ROW($AF$29))<=COUNT($AF$5:$AF$24),AF17,IF((ROW(AF42)-ROW($AF$29))=COUNT($AF$5:$AF$24)+1,$AF$25,\"\"))),1)","v":""},{"$f":"IF(AND($C$9,'Step 5 Identify & Select ASHPs'!$D$11>=2),IF('Step 5 Identify & Select ASHPs'!$I$46,IF(ROW(AG18)-ROW($AG$5)=COUNT($AG$6:$AG$25)+1,$AG$5,IF(ROW(AG18)-ROW($AG$5)>COUNT($AG$6:$AG$25),\"\",INDEX($AG$6:$AG$25,COUNT($AG$6:$AG$25)+COUNTIF($AG$6:$AG$25,\"-\")-MATCH(AF42,$AF$30:$AF$50,0)+1))),INDEX($AG$5:$AG$25,MATCH(AF42,$AF$5:$AF$25,0))),NA())","v":""},null,{"$f":"IFERROR(IF('Step 5 Identify & Select ASHPs'!$I$65,IF((ROW(AI42)-ROW($AI$29))>COUNT($AJ$6:$AJ$25)+1,\"\",IF((ROW(AI42)-ROW($AI$29))=COUNT($AJ$6:$AJ$25)+1,$AI$5,IF(ROW(AI17)-ROW($AI$5)>COUNT($AI$6:$AI$25),\"\",SMALL($AI$6:$AI$25,COUNT($AI$6:$AI$25)-MATCH(AI18,$AI$6:$AI$25,0)+1)))),IF((ROW(AI42)-ROW($AI$29))<=COUNT($AI$5:$AI$24),AI17,IF((ROW(AI42)-ROW($AI$29))=COUNT($AI$5:$AI$24)+1,$AI$25,\"\"))),1)","v":""},{"$f":"IF(AND($C$10,'Step 5 Identify & Select ASHPs'!$D$11>=3),IF('Step 5 Identify & Select ASHPs'!$I$65,IF(ROW(AJ18)-ROW($AJ$5)=COUNT($AJ$6:$AJ$25)+1,$AJ$5,IF(ROW(AJ18)-ROW($AJ$5)>COUNT($AJ$6:$AJ$25),\"\",INDEX($AJ$6:$AJ$25,COUNT($AJ$6:$AJ$25)+COUNTIF($AJ$6:$AJ$25,\"-\")-MATCH(AI42,$AI$30:$AI$50,0)+1))),INDEX($AJ$5:$AJ$25,MATCH(AI42,$AI$5:$AI$25,0))),NA())","v":""},null,{"$f":"IFERROR(IF('Step 5 Identify & Select ASHPs'!$I$84,IF((ROW(AL42)-ROW($AL$29))>COUNT($AM$6:$AM$25)+1,\"\",IF((ROW(AL42)-ROW($AL$29))=COUNT($AM$6:$AM$25)+1,$AL$5,IF(ROW(AL17)-ROW($AL$5)>COUNT($AL$6:$AL$25),\"\",SMALL($AL$6:$AL$25,COUNT($AL$6:$AL$25)-MATCH(AL18,$AL$6:$AL$25,0)+1)))),IF((ROW(AL42)-ROW($AL$29))<=COUNT($AL$5:$AL$24),AL17,IF((ROW(AL42)-ROW($AL$29))=COUNT($AL$5:$AL$24)+1,$AL$25,\"\"))),1)","v":""},{"$f":"IF(AND($C$11,'Step 5 Identify & Select ASHPs'!$D$11>=4),IF('Step 5 Identify & Select ASHPs'!$I$84,IF(ROW(AM18)-ROW($AM$5)=COUNT($AM$6:$AM$25)+1,$AM$5,IF(ROW(AM18)-ROW($AM$5)>COUNT($AM$6:$AM$25),\"\",INDEX($AM$6:$AM$25,COUNT($AM$6:$AM$25)+COUNTIF($AM$6:$AM$25,\"-\")-MATCH(AL42,$AL$30:$AL$50,0)+1))),INDEX($AM$5:$AM$25,MATCH(AL42,$AL$5:$AL$25,0))),NA())","v":""}]
[null,null,null,null,{"$f":"IFERROR(IF('Step 5 Identify & Select ASHPs'!$I$27,IF((ROW(E43)-ROW($E$29))>COUNT($F$6:$F$25)+1,\"\",IF((ROW(E43)-ROW($E$29))=COUNT($F$6:$F$25)+1,$E$5,IF(ROW(E18)-ROW($E$5)>COUNT($E$6:$E$25),\"\",SMALL($E$6:$E$25,COUNT($E$6:$E$25)-MATCH(E19,$E$6:$E$25,0)+1)))),IF((ROW(E43)-ROW($E$29))<=COUNT($E$5:$E$24),E18,IF((ROW(E43)-ROW($E$29))=COUNT($E$5:$E$24)+1,$E$25,\"\"))),1)","v":""},{"$f":"IF(AND($C$4,'Step 5 Identify & Select ASHPs'!$D$11>=1),IF('Step 5 Identify & Select ASHPs'!$I$27,IF(ROW(F19)-ROW($F$5)=COUNT($F$6:$F$25)+1,$F$5,IF(ROW(F19)-ROW($F$5)>COUNT($F$6:$F$25),\"\",INDEX($F$6:$F$25,COUNT($F$6:$F$25)+COUNTIF($F$6:$F$25,\"-\")-MATCH(E43,$E$30:$E$50,0)+1))),INDEX($F$5:$F$25,MATCH(E43,$E$5:$E$25,0))),NA())","v":""},null,{"$f":"IFERROR(IF('Step 5 Identify & Select ASHPs'!$I$46,IF((ROW(H43)-ROW($H$29))>COUNT($I$6:$I$25)+1,\"\",IF((ROW(H43)-ROW($H$29))=COUNT($I$6:$I$25)+1,$H$5,IF(ROW(H18)-ROW($H$5)>COUNT($H$6:$H$25),\"\",SMALL($H$6:$H$25,COUNT($H$6:$H$25)-MATCH(H19,$H$6:$H$25,0)+1)))),IF((ROW(H43)-ROW($H$29))<=COUNT($H$5:$H$24),H18,IF((ROW(H43)-ROW($H$29))=COUNT($H$5:$H$24)+1,$H$25,\"\"))),1)","v":""},{"$f":"IF(AND($C$5,'Step 5 Identify & Select ASHPs'!$D$11>=2),IF('Step 5 Identify & Select ASHPs'!$I$46,IF(ROW(I19)-ROW($I$5)=COUNT($I$6:$I$25)+1,$I$5,IF(ROW(I19)-ROW($I$5)>COUNT($I$6:$I$25),\"\",INDEX($I$6:$I$25,COUNT($I$6:$I$25)+COUNTIF($I$6:$I$25,\"-\")-MATCH(H43,$H$30:$H$50,0)+1))),INDEX($I$5:$I$25,MATCH(H43,$H$5:$H$25,0))),NA())","v":""},null,{"$f":"IFERROR(IF('Step 5 Identify & Select ASHPs'!$I$65,IF((ROW(K43)-ROW($K$29))>COUNT($L$6:$L$25)+1,\"\",IF((ROW(K43)-ROW($K$29))=COUNT($L$6:$L$25)+1,$K$5,IF(ROW(K18)-ROW($K$5)>COUNT($K$6:$K$25),\"\",SMALL($K$6:$K$25,COUNT($K$6:$K$25)-MATCH(K19,$K$6:$K$25,0)+1)))),IF((ROW(K43)-ROW($K$29))<=COUNT($K$5:$K$24),K18,IF((ROW(K43)-ROW($K$29))=COUNT($K$5:$K$24)+1,$K$25,\"\"))),1)","v":""},{"$f":"IF(AND($C$6,'Step 5 Identify & Select ASHPs'!$D$11>=3),IF('Step 5 Identify & Select ASHPs'!$I$65,IF(ROW(L19)-ROW($L$5)=COUNT($L$6:$L$25)+1,$L$5,IF(ROW(L19)-ROW($L$5)>COUNT($L$6:$L$25),\"\",INDEX($L$6:$L$25,COUNT($L$6:$L$25)+COUNTIF($L$6:$L$25,\"-\")-MATCH(K43,$K$30:$K$50,0)+1))),INDEX($L$5:$L$25,MATCH(K43,$K$5:$K$25,0))),NA())","v":""},null,{"$f":"IFERROR(IF('Step 5 Identify & Select ASHPs'!$I$84,IF((ROW(N43)-ROW($N$29))>COUNT($O$6:$O$25)+1,\"\",IF((ROW(N43)-ROW($N$29))=COUNT($O$6:$O$25)+1,$N$5,IF(ROW(N18)-ROW($N$5)>COUNT($N$6:$N$25),\"\",SMALL($N$6:$N$25,COUNT($N$6:$N$25)-MATCH(N19,$N$6:$N$25,0)+1)))),IF((ROW(N43)-ROW($N$29))<=COUNT($N$5:$N$24),N18,IF((ROW(N43)-ROW($N$29))=COUNT($N$5:$N$24)+1,$N$25,\"\"))),1)","v":""},{"$f":"IF(AND($C$7,'Step 5 Identify & Select ASHPs'!$D$11>=4),IF('Step 5 Identify & Select ASHPs'!$I$84,IF(ROW(O19)-ROW($O$5)=COUNT($O$6:$O$25)+1,$O$5,IF(ROW(O19)-ROW($O$5)>COUNT($O$6:$O$25),\"\",INDEX($O$6:$O$25,COUNT($O$6:$O$25)+COUNTIF($O$6:$O$25,\"-\")-MATCH(N43,$N$30:$N$50,0)+1))),INDEX($O$5:$O$25,MATCH(N43,$N$5:$N$25,0))),NA())","v":""},null,null,null,null,null,null,null,null,null,null,null,null,null,{"$f":"IFERROR(IF('Step 5 Identify & Select ASHPs'!$I$27,IF((ROW(AC43)-ROW($AC$29))>COUNT($AD$6:$AD$25)+1,\"\",IF((ROW(AC43)-ROW($AC$29))=COUNT($AD$6:$AD$25)+1,$AC$5,IF(ROW(AC18)-ROW($AC$5)>COUNT($AC$6:$AC$25),\"\",SMALL($AC$6:$AC$25,COUNT($AC$6:$AC$25)-MATCH(AC19,$AC$6:$AC$25,0)+1)))),IF((ROW(AC43)-ROW($AC$29))<=COUNT($AC$5:$AC$24),AC18,IF((ROW(AC43)-ROW($AC$29))=COUNT($AC$5:$AC$24)+1,$AC$25,\"\"))),1)","v":""},{"$f":"IF(AND($C$8,'Step 5 Identify & Select ASHPs'!$D$11>=1),IF('Step 5 Identify & Select ASHPs'!$I$27,IF(ROW(AD19)-ROW($AD$5)=COUNT($AD$6:$AD$25)+1,$AD$5,IF(ROW(AD19)-ROW($AD$5)>COUNT($AD$6:$AD$25),\"\",INDEX($AD$6:$AD$25,COUNT($AD$6:$AD$25)+COUNTIF($AD$6:$AD$25,\"-\")-MATCH(AC43,$AC$30:$AC$50,0)+1))),INDEX($AD$5:$AD$25,MATCH(AC43,$AC$5:$AC$25,0))),NA())","v":""},null,{"$f":"IFERROR(IF('Step 5 Identify & Select ASHPs'!$I$46,IF((ROW(AF43)-ROW($AF$29))>COUNT($AG$6:$AG$25)+1,\"\",IF((ROW(AF43)-ROW($AF$29))=COUNT($AG$6:$AG$25)+1,$AF$5,IF(ROW(AF18)-ROW($AF$5)>COUNT($AF$6:$AF$25),\"\",SMALL($AF$6:$AF$25,COUNT($AF$6:$AF$25)-MATCH(AF19,$AF$6:$AF$25,0)+1)))),IF((ROW(AF43)-ROW($AF$29))<=COUNT($AF$5:$AF$24),AF18,IF((ROW(AF43)-ROW($AF$29))=COUNT($AF$5:$AF$24)+1,$AF$25,\"\"))),1)","v":""},{"$f":"IF(AND($C$9,'Step 5 Identify & Select ASHPs'!$D$11>=2),IF('Step 5 Identify & Select ASHPs'!$I$46,IF(ROW(AG19)-ROW($AG$5)=COUNT($AG$6:$AG$25)+1,$AG$5,IF(ROW(AG19)-ROW($AG$5)>COUNT($AG$6:$AG$25),\"\",INDEX($AG$6:$AG$25,COUNT($AG$6:$AG$25)+COUNTIF($AG$6:$AG$25,\"-\")-MATCH(AF43,$AF$30:$AF$50,0)+1))),INDEX($AG$5:$AG$25,MATCH(AF43,$AF$5:$AF$25,0))),NA())","v":""},null,{"$f":"IFERROR(IF('Step 5 Identify & Select ASHPs'!$I$65,IF((ROW(AI43)-ROW($AI$29))>COUNT($AJ$6:$AJ$25)+1,\"\",IF((ROW(AI43)-ROW($AI$29))=COUNT($AJ$6:$AJ$25)+1,$AI$5,IF(ROW(AI18)-ROW($AI$5)>COUNT($AI$6:$AI$25),\"\",SMALL($AI$6:$AI$25,COUNT($AI$6:$AI$25)-MATCH(AI19,$AI$6:$AI$25,0)+1)))),IF((ROW(AI43)-ROW($AI$29))<=COUNT($AI$5:$AI$24),AI18,IF((ROW(AI43)-ROW($AI$29))=COUNT($AI$5:$AI$24)+1,$AI$25,\"\"))),1)","v":""},{"$f":"IF(AND($C$10,'Step 5 Identify & Select ASHPs'!$D$11>=3),IF('Step 5 Identify & Select ASHPs'!$I$65,IF(ROW(AJ19)-ROW($AJ$5)=COUNT($AJ$6:$AJ$25)+1,$AJ$5,IF(ROW(AJ19)-ROW($AJ$5)>COUNT($AJ$6:$AJ$25),\"\",INDEX($AJ$6:$AJ$25,COUNT($AJ$6:$AJ$25)+COUNTIF($AJ$6:$AJ$25,\"-\")-MATCH(AI43,$AI$30:$AI$50,0)+1))),INDEX($AJ$5:$AJ$25,MATCH(AI43,$AI$5:$AI$25,0))),NA())","v":""},null,{"$f":"IFERROR(IF('Step 5 Identify & Select ASHPs'!$I$84,IF((ROW(AL43)-ROW($AL$29))>COUNT($AM$6:$AM$25)+1,\"\",IF((ROW(AL43)-ROW($AL$29))=COUNT($AM$6:$AM$25)+1,$AL$5,IF(ROW(AL18)-ROW($AL$5)>COUNT($AL$6:$AL$25),\"\",SMALL($AL$6:$AL$25,COUNT($AL$6:$AL$25)-MATCH(AL19,$AL$6:$AL$25,0)+1)))),IF((ROW(AL43)-ROW($AL$29))<=COUNT($AL$5:$AL$24),AL18,IF((ROW(AL43)-ROW($AL$29))=COUNT($AL$5:$AL$24)+1,$AL$25,\"\"))),1)","v":""},{"$f":"IF(AND($C$11,'Step 5 Identify & Select ASHPs'!$D$11>=4),IF('Step 5 Identify & Select ASHPs'!$I$84,IF(ROW(AM19)-ROW($AM$5)=COUNT($AM$6:$AM$25)+1,$AM$5,IF(ROW(AM19)-ROW($AM$5)>COUNT($AM$6:$AM$25),\"\",INDEX($AM$6:$AM$25,COUNT($AM$6:$AM$25)+COUNTIF($AM$6:$AM$25,\"-\")-MATCH(AL43,$AL$30:$AL$50,0)+1))),INDEX($AM$5:$AM$25,MATCH(AL43,$AL$5:$AL$25,0))),NA())","v":""}]
[null,null,null,null,{"$f":"IFERROR(IF('Step 5 Identify & Select ASHPs'!$I$27,IF((ROW(E44)-ROW($E$29))>COUNT($F$6:$F$25)+1,\"\",IF((ROW(E44)-ROW($E$29))=COUNT($F$6:$F$25)+1,$E$5,IF(ROW(E19)-ROW($E$5)>COUNT($E$6:$E$25),\"\",SMALL($E$6:$E$25,COUNT($E$6:$E$25)-MATCH(E20,$E$6:$E$25,0)+1)))),IF((ROW(E44)-ROW($E$29))<=COUNT($E$5:$E$24),E19,IF((ROW(E44)-ROW($E$29))=COUNT($E$5:$E$24)+1,$E$25,\"\"))),1)","v":""},{"$f":"IF(AND($C$4,'Step 5 Identify & Select ASHPs'!$D$11>=1),IF('Step 5 Identify & Select ASHPs'!$I$27,IF(ROW(F20)-ROW($F$5)=COUNT($F$6:$F$25)+1,$F$5,IF(ROW(F20)-ROW($F$5)>COUNT($F$6:$F$25),\"\",INDEX($F$6:$F$25,COUNT($F$6:$F$25)+COUNTIF($F$6:$F$25,\"-\")-MATCH(E44,$E$30:$E$50,0)+1))),INDEX($F$5:$F$25,MATCH(E44,$E$5:$E$25,0))),NA())","v":""},null,{"$f":"IFERROR(IF('Step 5 Identify & Select ASHPs'!$I$46,IF((ROW(H44)-ROW($H$29))>COUNT($I$6:$I$25)+1,\"\",IF((ROW(H44)-ROW($H$29))=COUNT($I$6:$I$25)+1,$H$5,IF(ROW(H19)-ROW($H$5)>COUNT($H$6:$H$25),\"\",SMALL($H$6:$H$25,COUNT($H$6:$H$25)-MATCH(H20,$H$6:$H$25,0)+1)))),IF((ROW(H44)-ROW($H$29))<=COUNT($H$5:$H$24),H19,IF((ROW(H44)-ROW($H$29))=COUNT($H$5:$H$24)+1,$H$25,\"\"))),1)","v":""},{"$f":"IF(AND($C$5,'Step 5 Identify & Select ASHPs'!$D$11>=2),IF('Step 5 Identify & Select ASHPs'!$I$46,IF(ROW(I20)-ROW($I$5)=COUNT($I$6:$I$25)+1,$I$5,IF(ROW(I20)-ROW($I$5)>COUNT($I$6:$I$25),\"\",INDEX($I$6:$I$25,COUNT($I$6:$I$25)+COUNTIF($I$6:$I$25,\"-\")-MATCH(H44,$H$30:$H$50,0)+1))),INDEX($I$5:$I$25,MATCH(H44,$H$5:$H$25,0))),NA())","v":""},null,{"$f":"IFERROR(IF('Step 5 Identify & Select ASHPs'!$I$65,IF((ROW(K44)-ROW($K$29))>COUNT($L$6:$L$25)+1,\"\",IF((ROW(K44)-ROW($K$29))=COUNT($L$6:$L$25)+1,$K$5,IF(ROW(K19)-ROW($K$5)>COUNT($K$6:$K$25),\"\",SMALL($K$6:$K$25,COUNT($K$6:$K$25)-MATCH(K20,$K$6:$K$25,0)+1)))),IF((ROW(K44)-ROW($K$29))<=COUNT($K$5:$K$24),K19,IF((ROW(K44)-ROW($K$29))=COUNT($K$5:$K$24)+1,$K$25,\"\"))),1)","v":""},{"$f":"IF(AND($C$6,'Step 5 Identify & Select ASHPs'!$D$11>=3),IF('Step 5 Identify & Select ASHPs'!$I$65,IF(ROW(L20)-ROW($L$5)=COUNT($L$6:$L$25)+1,$L$5,IF(ROW(L20)-ROW($L$5)>COUNT($L$6:$L$25),\"\",INDEX($L$6:$L$25,COUNT($L$6:$L$25)+COUNTIF($L$6:$L$25,\"-\")-MATCH(K44,$K$30:$K$50,0)+1))),INDEX($L$5:$L$25,MATCH(K44,$K$5:$K$25,0))),NA())","v":""},null,{"$f":"IFERROR(IF('Step 5 Identify & Select ASHPs'!$I$84,IF((ROW(N44)-ROW($N$29))>COUNT($O$6:$O$25)+1,\"\",IF((ROW(N44)-ROW($N$29))=COUNT($O$6:$O$25)+1,$N$5,IF(ROW(N19)-ROW($N$5)>COUNT($N$6:$N$25),\"\",SMALL($N$6:$N$25,COUNT($N$6:$N$25)-MATCH(N20,$N$6:$N$25,0)+1)))),IF((ROW(N44)-ROW($N$29))<=COUNT($N$5:$N$24),N19,IF((ROW(N44)-ROW($N$29))=COUNT($N$5:$N$24)+1,$N$25,\"\"))),1)","v":""},{"$f":"IF(AND($C$7,'Step 5 Identify & Select ASHPs'!$D$11>=4),IF('Step 5 Identify & Select ASHPs'!$I$84,IF(ROW(O20)-ROW($O$5)=COUNT($O$6:$O$25)+1,$O$5,IF(ROW(O20)-ROW($O$5)>COUNT($O$6:$O$25),\"\",INDEX($O$6:$O$25,COUNT($O$6:$O$25)+COUNTIF($O$6:$O$25,\"-\")-MATCH(N44,$N$30:$N$50,0)+1))),INDEX($O$5:$O$25,MATCH(N44,$N$5:$N$25,0))),NA())","v":""},null,null,null,null,null,null,null,null,null,null,null,null,null,{"$f":"IFERROR(IF('Step 5 Identify & Select ASHPs'!$I$27,IF((ROW(AC44)-ROW($AC$29))>COUNT($AD$6:$AD$25)+1,\"\",IF((ROW(AC44)-ROW($AC$29))=COUNT($AD$6:$AD$25)+1,$AC$5,IF(ROW(AC19)-ROW($AC$5)>COUNT($AC$6:$AC$25),\"\",SMALL($AC$6:$AC$25,COUNT($AC$6:$AC$25)-MATCH(AC20,$AC$6:$AC$25,0)+1)))),IF((ROW(AC44)-ROW($AC$29))<=COUNT($AC$5:$AC$24),AC19,IF((ROW(AC44)-ROW($AC$29))=COUNT($AC$5:$AC$24)+1,$AC$25,\"\"))),1)","v":""},{"$f":"IF(AND($C$8,'Step 5 Identify & Select ASHPs'!$D$11>=1),IF('Step 5 Identify & Select ASHPs'!$I$27,IF(ROW(AD20)-ROW($AD$5)=COUNT($AD$6:$AD$25)+1,$AD$5,IF(ROW(AD20)-ROW($AD$5)>COUNT($AD$6:$AD$25),\"\",INDEX($AD$6:$AD$25,COUNT($AD$6:$AD$25)+COUNTIF($AD$6:$AD$25,\"-\")-MATCH(AC44,$AC$30:$AC$50,0)+1))),INDEX($AD$5:$AD$25,MATCH(AC44,$AC$5:$AC$25,0))),NA())","v":""},null,{"$f":"IFERROR(IF('Step 5 Identify & Select ASHPs'!$I$46,IF((ROW(AF44)-ROW($AF$29))>COUNT($AG$6:$AG$25)+1,\"\",IF((ROW(AF44)-ROW($AF$29))=COUNT($AG$6:$AG$25)+1,$AF$5,IF(ROW(AF19)-ROW($AF$5)>COUNT($AF$6:$AF$25),\"\",SMALL($AF$6:$AF$25,COUNT($AF$6:$AF$25)-MATCH(AF20,$AF$6:$AF$25,0)+1)))),IF((ROW(AF44)-ROW($AF$29))<=COUNT($AF$5:$AF$24),AF19,IF((ROW(AF44)-ROW($AF$29))=COUNT($AF$5:$AF$24)+1,$AF$25,\"\"))),1)","v":""},{"$f":"IF(AND($C$9,'Step 5 Identify & Select ASHPs'!$D$11>=2),IF('Step 5 Identify & Select ASHPs'!$I$46,IF(ROW(AG20)-ROW($AG$5)=COUNT($AG$6:$AG$25)+1,$AG$5,IF(ROW(AG20)-ROW($AG$5)>COUNT($AG$6:$AG$25),\"\",INDEX($AG$6:$AG$25,COUNT($AG$6:$AG$25)+COUNTIF($AG$6:$AG$25,\"-\")-MATCH(AF44,$AF$30:$AF$50,0)+1))),INDEX($AG$5:$AG$25,MATCH(AF44,$AF$5:$AF$25,0))),NA())","v":""},null,{"$f":"IFERROR(IF('Step 5 Identify & Select ASHPs'!$I$65,IF((ROW(AI44)-ROW($AI$29))>COUNT($AJ$6:$AJ$25)+1,\"\",IF((ROW(AI44)-ROW($AI$29))=COUNT($AJ$6:$AJ$25)+1,$AI$5,IF(ROW(AI19)-ROW($AI$5)>COUNT($AI$6:$AI$25),\"\",SMALL($AI$6:$AI$25,COUNT($AI$6:$AI$25)-MATCH(AI20,$AI$6:$AI$25,0)+1)))),IF((ROW(AI44)-ROW($AI$29))<=COUNT($AI$5:$AI$24),AI19,IF((ROW(AI44)-ROW($AI$29))=COUNT($AI$5:$AI$24)+1,$AI$25,\"\"))),1)","v":""},{"$f":"IF(AND($C$10,'Step 5 Identify & Select ASHPs'!$D$11>=3),IF('Step 5 Identify & Select ASHPs'!$I$65,IF(ROW(AJ20)-ROW($AJ$5)=COUNT($AJ$6:$AJ$25)+1,$AJ$5,IF(ROW(AJ20)-ROW($AJ$5)>COUNT($AJ$6:$AJ$25),\"\",INDEX($AJ$6:$AJ$25,COUNT($AJ$6:$AJ$25)+COUNTIF($AJ$6:$AJ$25,\"-\")-MATCH(AI44,$AI$30:$AI$50,0)+1))),INDEX($AJ$5:$AJ$25,MATCH(AI44,$AI$5:$AI$25,0))),NA())","v":""},null,{"$f":"IFERROR(IF('Step 5 Identify & Select ASHPs'!$I$84,IF((ROW(AL44)-ROW($AL$29))>COUNT($AM$6:$AM$25)+1,\"\",IF((ROW(AL44)-ROW($AL$29))=COUNT($AM$6:$AM$25)+1,$AL$5,IF(ROW(AL19)-ROW($AL$5)>COUNT($AL$6:$AL$25),\"\",SMALL($AL$6:$AL$25,COUNT($AL$6:$AL$25)-MATCH(AL20,$AL$6:$AL$25,0)+1)))),IF((ROW(AL44)-ROW($AL$29))<=COUNT($AL$5:$AL$24),AL19,IF((ROW(AL44)-ROW($AL$29))=COUNT($AL$5:$AL$24)+1,$AL$25,\"\"))),1)","v":""},{"$f":"IF(AND($C$11,'Step 5 Identify & Select ASHPs'!$D$11>=4),IF('Step 5 Identify & Select ASHPs'!$I$84,IF(ROW(AM20)-ROW($AM$5)=COUNT($AM$6:$AM$25)+1,$AM$5,IF(ROW(AM20)-ROW($AM$5)>COUNT($AM$6:$AM$25),\"\",INDEX($AM$6:$AM$25,COUNT($AM$6:$AM$25)+COUNTIF($AM$6:$AM$25,\"-\")-MATCH(AL44,$AL$30:$AL$50,0)+1))),INDEX($AM$5:$AM$25,MATCH(AL44,$AL$5:$AL$25,0))),NA())","v":""}]
[null,null,null,null,{"$f":"IFERROR(IF('Step 5 Identify & Select ASHPs'!$I$27,IF((ROW(E45)-ROW($E$29))>COUNT($F$6:$F$25)+1,\"\",IF((ROW(E45)-ROW($E$29))=COUNT($F$6:$F$25)+1,$E$5,IF(ROW(E20)-ROW($E$5)>COUNT($E$6:$E$25),\"\",SMALL($E$6:$E$25,COUNT($E$6:$E$25)-MATCH(E21,$E$6:$E$25,0)+1)))),IF((ROW(E45)-ROW($E$29))<=COUNT($E$5:$E$24),E20,IF((ROW(E45)-ROW($E$29))=COUNT($E$5:$E$24)+1,$E$25,\"\"))),1)","v":""},{"$f":"IF(AND($C$4,'Step 5 Identify & Select ASHPs'!$D$11>=1),IF('Step 5 Identify & Select ASHPs'!$I$27,IF(ROW(F21)-ROW($F$5)=COUNT($F$6:$F$25)+1,$F$5,IF(ROW(F21)-ROW($F$5)>COUNT($F$6:$F$25),\"\",INDEX($F$6:$F$25,COUNT($F$6:$F$25)+COUNTIF($F$6:$F$25,\"-\")-MATCH(E45,$E$30:$E$50,0)+1))),INDEX($F$5:$F$25,MATCH(E45,$E$5:$E$25,0))),NA())","v":""},null,{"$f":"IFERROR(IF('Step 5 Identify & Select ASHPs'!$I$46,IF((ROW(H45)-ROW($H$29))>COUNT($I$6:$I$25)+1,\"\",IF((ROW(H45)-ROW($H$29))=COUNT($I$6:$I$25)+1,$H$5,IF(ROW(H20)-ROW($H$5)>COUNT($H$6:$H$25),\"\",SMALL($H$6:$H$25,COUNT($H$6:$H$25)-MATCH(H21,$H$6:$H$25,0)+1)))),IF((ROW(H45)-ROW($H$29))<=COUNT($H$5:$H$24),H20,IF((ROW(H45)-ROW($H$29))=COUNT($H$5:$H$24)+1,$H$25,\"\"))),1)","v":""},{"$f":"IF(AND($C$5,'Step 5 Identify & Select ASHPs'!$D$11>=2),IF('Step 5 Identify & Select ASHPs'!$I$46,IF(ROW(I21)-ROW($I$5)=COUNT($I$6:$I$25)+1,$I$5,IF(ROW(I21)-ROW($I$5)>COUNT($I$6:$I$25),\"\",INDEX($I$6:$I$25,COUNT($I$6:$I$25)+COUNTIF($I$6:$I$25,\"-\")-MATCH(H45,$H$30:$H$50,0)+1))),INDEX($I$5:$I$25,MATCH(H45,$H$5:$H$25,0))),NA())","v":""},null,{"$f":"IFERROR(IF('Step 5 Identify & Select ASHPs'!$I$65,IF((ROW(K45)-ROW($K$29))>COUNT($L$6:$L$25)+1,\"\",IF((ROW(K45)-ROW($K$29))=COUNT($L$6:$L$25)+1,$K$5,IF(ROW(K20)-ROW($K$5)>COUNT($K$6:$K$25),\"\",SMALL($K$6:$K$25,COUNT($K$6:$K$25)-MATCH(K21,$K$6:$K$25,0)+1)))),IF((ROW(K45)-ROW($K$29))<=COUNT($K$5:$K$24),K20,IF((ROW(K45)-ROW($K$29))=COUNT($K$5:$K$24)+1,$K$25,\"\"))),1)","v":""},{"$f":"IF(AND($C$6,'Step 5 Identify & Select ASHPs'!$D$11>=3),IF('Step 5 Identify & Select ASHPs'!$I$65,IF(ROW(L21)-ROW($L$5)=COUNT($L$6:$L$25)+1,$L$5,IF(ROW(L21)-ROW($L$5)>COUNT($L$6:$L$25),\"\",INDEX($L$6:$L$25,COUNT($L$6:$L$25)+COUNTIF($L$6:$L$25,\"-\")-MATCH(K45,$K$30:$K$50,0)+1))),INDEX($L$5:$L$25,MATCH(K45,$K$5:$K$25,0))),NA())","v":""},null,{"$f":"IFERROR(IF('Step 5 Identify & Select ASHPs'!$I$84,IF((ROW(N45)-ROW($N$29))>COUNT($O$6:$O$25)+1,\"\",IF((ROW(N45)-ROW($N$29))=COUNT($O$6:$O$25)+1,$N$5,IF(ROW(N20)-ROW($N$5)>COUNT($N$6:$N$25),\"\",SMALL($N$6:$N$25,COUNT($N$6:$N$25)-MATCH(N21,$N$6:$N$25,0)+1)))),IF((ROW(N45)-ROW($N$29))<=COUNT($N$5:$N$24),N20,IF((ROW(N45)-ROW($N$29))=COUNT($N$5:$N$24)+1,$N$25,\"\"))),1)","v":""},{"$f":"IF(AND($C$7,'Step 5 Identify & Select ASHPs'!$D$11>=4),IF('Step 5 Identify & Select ASHPs'!$I$84,IF(ROW(O21)-ROW($O$5)=COUNT($O$6:$O$25)+1,$O$5,IF(ROW(O21)-ROW($O$5)>COUNT($O$6:$O$25),\"\",INDEX($O$6:$O$25,COUNT($O$6:$O$25)+COUNTIF($O$6:$O$25,\"-\")-MATCH(N45,$N$30:$N$50,0)+1))),INDEX($O$5:$O$25,MATCH(N45,$N$5:$N$25,0))),NA())","v":""},null,null,null,null,null,null,null,null,null,null,null,null,null,{"$f":"IFERROR(IF('Step 5 Identify & Select ASHPs'!$I$27,IF((ROW(AC45)-ROW($AC$29))>COUNT($AD$6:$AD$25)+1,\"\",IF((ROW(AC45)-ROW($AC$29))=COUNT($AD$6:$AD$25)+1,$AC$5,IF(ROW(AC20)-ROW($AC$5)>COUNT($AC$6:$AC$25),\"\",SMALL($AC$6:$AC$25,COUNT($AC$6:$AC$25)-MATCH(AC21,$AC$6:$AC$25,0)+1)))),IF((ROW(AC45)-ROW($AC$29))<=COUNT($AC$5:$AC$24),AC20,IF((ROW(AC45)-ROW($AC$29))=COUNT($AC$5:$AC$24)+1,$AC$25,\"\"))),1)","v":""},{"$f":"IF(AND($C$8,'Step 5 Identify & Select ASHPs'!$D$11>=1),IF('Step 5 Identify & Select ASHPs'!$I$27,IF(ROW(AD21)-ROW($AD$5)=COUNT($AD$6:$AD$25)+1,$AD$5,IF(ROW(AD21)-ROW($AD$5)>COUNT($AD$6:$AD$25),\"\",INDEX($AD$6:$AD$25,COUNT($AD$6:$AD$25)+COUNTIF($AD$6:$AD$25,\"-\")-MATCH(AC45,$AC$30:$AC$50,0)+1))),INDEX($AD$5:$AD$25,MATCH(AC45,$AC$5:$AC$25,0))),NA())","v":""},null,{"$f":"IFERROR(IF('Step 5 Identify & Select ASHPs'!$I$46,IF((ROW(AF45)-ROW($AF$29))>COUNT($AG$6:$AG$25)+1,\"\",IF((ROW(AF45)-ROW($AF$29))=COUNT($AG$6:$AG$25)+1,$AF$5,IF(ROW(AF20)-ROW($AF$5)>COUNT($AF$6:$AF$25),\"\",SMALL($AF$6:$AF$25,COUNT($AF$6:$AF$25)-MATCH(AF21,$AF$6:$AF$25,0)+1)))),IF((ROW(AF45)-ROW($AF$29))<=COUNT($AF$5:$AF$24),AF20,IF((ROW(AF45)-ROW($AF$29))=COUNT($AF$5:$AF$24)+1,$AF$25,\"\"))),1)","v":""},{"$f":"IF(AND($C$9,'Step 5 Identify & Select ASHPs'!$D$11>=2),IF('Step 5 Identify & Select ASHPs'!$I$46,IF(ROW(AG21)-ROW($AG$5)=COUNT($AG$6:$AG$25)+1,$AG$5,IF(ROW(AG21)-ROW($AG$5)>COUNT($AG$6:$AG$25),\"\",INDEX($AG$6:$AG$25,COUNT($AG$6:$AG$25)+COUNTIF($AG$6:$AG$25,\"-\")-MATCH(AF45,$AF$30:$AF$50,0)+1))),INDEX($AG$5:$AG$25,MATCH(AF45,$AF$5:$AF$25,0))),NA())","v":""},null,{"$f":"IFERROR(IF('Step 5 Identify & Select ASHPs'!$I$65,IF((ROW(AI45)-ROW($AI$29))>COUNT($AJ$6:$AJ$25)+1,\"\",IF((ROW(AI45)-ROW($AI$29))=COUNT($AJ$6:$AJ$25)+1,$AI$5,IF(ROW(AI20)-ROW($AI$5)>COUNT($AI$6:$AI$25),\"\",SMALL($AI$6:$AI$25,COUNT($AI$6:$AI$25)-MATCH(AI21,$AI$6:$AI$25,0)+1)))),IF((ROW(AI45)-ROW($AI$29))<=COUNT($AI$5:$AI$24),AI20,IF((ROW(AI45)-ROW($AI$29))=COUNT($AI$5:$AI$24)+1,$AI$25,\"\"))),1)","v":""},{"$f":"IF(AND($C$10,'Step 5 Identify & Select ASHPs'!$D$11>=3),IF('Step 5 Identify & Select ASHPs'!$I$65,IF(ROW(AJ21)-ROW($AJ$5)=COUNT($AJ$6:$AJ$25)+1,$AJ$5,IF(ROW(AJ21)-ROW($AJ$5)>COUNT($AJ$6:$AJ$25),\"\",INDEX($AJ$6:$AJ$25,COUNT($AJ$6:$AJ$25)+COUNTIF($AJ$6:$AJ$25,\"-\")-MATCH(AI45,$AI$30:$AI$50,0)+1))),INDEX($AJ$5:$AJ$25,MATCH(AI45,$AI$5:$AI$25,0))),NA())","v":""},null,{"$f":"IFERROR(IF('Step 5 Identify & Select ASHPs'!$I$84,IF((ROW(AL45)-ROW($AL$29))>COUNT($AM$6:$AM$25)+1,\"\",IF((ROW(AL45)-ROW($AL$29))=COUNT($AM$6:$AM$25)+1,$AL$5,IF(ROW(AL20)-ROW($AL$5)>COUNT($AL$6:$AL$25),\"\",SMALL($AL$6:$AL$25,COUNT($AL$6:$AL$25)-MATCH(AL21,$AL$6:$AL$25,0)+1)))),IF((ROW(AL45)-ROW($AL$29))<=COUNT($AL$5:$AL$24),AL20,IF((ROW(AL45)-ROW($AL$29))=COUNT($AL$5:$AL$24)+1,$AL$25,\"\"))),1)","v":""},{"$f":"IF(AND($C$11,'Step 5 Identify & Select ASHPs'!$D$11>=4),IF('Step 5 Identify & Select ASHPs'!$I$84,IF(ROW(AM21)-ROW($AM$5)=COUNT($AM$6:$AM$25)+1,$AM$5,IF(ROW(AM21)-ROW($AM$5)>COUNT($AM$6:$AM$25),\"\",INDEX($AM$6:$AM$25,COUNT($AM$6:$AM$25)+COUNTIF($AM$6:$AM$25,\"-\")-MATCH(AL45,$AL$30:$AL$50,0)+1))),INDEX($AM$5:$AM$25,MATCH(AL45,$AL$5:$AL$25,0))),NA())","v":""}]
[null,null,null,null,{"$f":"IFERROR(IF('Step 5 Identify & Select ASHPs'!$I$27,IF((ROW(E46)-ROW($E$29))>COUNT($F$6:$F$25)+1,\"\",IF((ROW(E46)-ROW($E$29))=COUNT($F$6:$F$25)+1,$E$5,IF(ROW(E21)-ROW($E$5)>COUNT($E$6:$E$25),\"\",SMALL($E$6:$E$25,COUNT($E$6:$E$25)-MATCH(E22,$E$6:$E$25,0)+1)))),IF((ROW(E46)-ROW($E$29))<=COUNT($E$5:$E$24),E21,IF((ROW(E46)-ROW($E$29))=COUNT($E$5:$E$24)+1,$E$25,\"\"))),1)","v":""},{"$f":"IF(AND($C$4,'Step 5 Identify & Select ASHPs'!$D$11>=1),IF('Step 5 Identify & Select ASHPs'!$I$27,IF(ROW(F22)-ROW($F$5)=COUNT($F$6:$F$25)+1,$F$5,IF(ROW(F22)-ROW($F$5)>COUNT($F$6:$F$25),\"\",INDEX($F$6:$F$25,COUNT($F$6:$F$25)+COUNTIF($F$6:$F$25,\"-\")-MATCH(E46,$E$30:$E$50,0)+1))),INDEX($F$5:$F$25,MATCH(E46,$E$5:$E$25,0))),NA())","v":""},null,{"$f":"IFERROR(IF('Step 5 Identify & Select ASHPs'!$I$46,IF((ROW(H46)-ROW($H$29))>COUNT($I$6:$I$25)+1,\"\",IF((ROW(H46)-ROW($H$29))=COUNT($I$6:$I$25)+1,$H$5,IF(ROW(H21)-ROW($H$5)>COUNT($H$6:$H$25),\"\",SMALL($H$6:$H$25,COUNT($H$6:$H$25)-MATCH(H22,$H$6:$H$25,0)+1)))),IF((ROW(H46)-ROW($H$29))<=COUNT($H$5:$H$24),H21,IF((ROW(H46)-ROW($H$29))=COUNT($H$5:$H$24)+1,$H$25,\"\"))),1)","v":""},{"$f":"IF(AND($C$5,'Step 5 Identify & Select ASHPs'!$D$11>=2),IF('Step 5 Identify & Select ASHPs'!$I$46,IF(ROW(I22)-ROW($I$5)=COUNT($I$6:$I$25)+1,$I$5,IF(ROW(I22)-ROW($I$5)>COUNT($I$6:$I$25),\"\",INDEX($I$6:$I$25,COUNT($I$6:$I$25)+COUNTIF($I$6:$I$25,\"-\")-MATCH(H46,$H$30:$H$50,0)+1))),INDEX($I$5:$I$25,MATCH(H46,$H$5:$H$25,0))),NA())","v":""},null,{"$f":"IFERROR(IF('Step 5 Identify & Select ASHPs'!$I$65,IF((ROW(K46)-ROW($K$29))>COUNT($L$6:$L$25)+1,\"\",IF((ROW(K46)-ROW($K$29))=COUNT($L$6:$L$25)+1,$K$5,IF(ROW(K21)-ROW($K$5)>COUNT($K$6:$K$25),\"\",SMALL($K$6:$K$25,COUNT($K$6:$K$25)-MATCH(K22,$K$6:$K$25,0)+1)))),IF((ROW(K46)-ROW($K$29))<=COUNT($K$5:$K$24),K21,IF((ROW(K46)-ROW($K$29))=COUNT($K$5:$K$24)+1,$K$25,\"\"))),1)","v":""},{"$f":"IF(AND($C$6,'Step 5 Identify & Select ASHPs'!$D$11>=3),IF('Step 5 Identify & Select ASHPs'!$I$65,IF(ROW(L22)-ROW($L$5)=COUNT($L$6:$L$25)+1,$L$5,IF(ROW(L22)-ROW($L$5)>COUNT($L$6:$L$25),\"\",INDEX($L$6:$L$25,COUNT($L$6:$L$25)+COUNTIF($L$6:$L$25,\"-\")-MATCH(K46,$K$30:$K$50,0)+1))),INDEX($L$5:$L$25,MATCH(K46,$K$5:$K$25,0))),NA())","v":""},null,{"$f":"IFERROR(IF('Step 5 Identify & Select ASHPs'!$I$84,IF((ROW(N46)-ROW($N$29))>COUNT($O$6:$O$25)+1,\"\",IF((ROW(N46)-ROW($N$29))=COUNT($O$6:$O$25)+1,$N$5,IF(ROW(N21)-ROW($N$5)>COUNT($N$6:$N$25),\"\",SMALL($N$6:$N$25,COUNT($N$6:$N$25)-MATCH(N22,$N$6:$N$25,0)+1)))),IF((ROW(N46)-ROW($N$29))<=COUNT($N$5:$N$24),N21,IF((ROW(N46)-ROW($N$29))=COUNT($N$5:$N$24)+1,$N$25,\"\"))),1)","v":""},{"$f":"IF(AND($C$7,'Step 5 Identify & Select ASHPs'!$D$11>=4),IF('Step 5 Identify & Select ASHPs'!$I$84,IF(ROW(O22)-ROW($O$5)=COUNT($O$6:$O$25)+1,$O$5,IF(ROW(O22)-ROW($O$5)>COUNT($O$6:$O$25),\"\",INDEX($O$6:$O$25,COUNT($O$6:$O$25)+COUNTIF($O$6:$O$25,\"-\")-MATCH(N46,$N$30:$N$50,0)+1))),INDEX($O$5:$O$25,MATCH(N46,$N$5:$N$25,0))),NA())","v":""},null,null,null,null,null,null,null,null,null,null,null,null,null,{"$f":"IFERROR(IF('Step 5 Identify & Select ASHPs'!$I$27,IF((ROW(AC46)-ROW($AC$29))>COUNT($AD$6:$AD$25)+1,\"\",IF((ROW(AC46)-ROW($AC$29))=COUNT($AD$6:$AD$25)+1,$AC$5,IF(ROW(AC21)-ROW($AC$5)>COUNT($AC$6:$AC$25),\"\",SMALL($AC$6:$AC$25,COUNT($AC$6:$AC$25)-MATCH(AC22,$AC$6:$AC$25,0)+1)))),IF((ROW(AC46)-ROW($AC$29))<=COUNT($AC$5:$AC$24),AC21,IF((ROW(AC46)-ROW($AC$29))=COUNT($AC$5:$AC$24)+1,$AC$25,\"\"))),1)","v":""},{"$f":"IF(AND($C$8,'Step 5 Identify & Select ASHPs'!$D$11>=1),IF('Step 5 Identify & Select ASHPs'!$I$27,IF(ROW(AD22)-ROW($AD$5)=COUNT($AD$6:$AD$25)+1,$AD$5,IF(ROW(AD22)-ROW($AD$5)>COUNT($AD$6:$AD$25),\"\",INDEX($AD$6:$AD$25,COUNT($AD$6:$AD$25)+COUNTIF($AD$6:$AD$25,\"-\")-MATCH(AC46,$AC$30:$AC$50,0)+1))),INDEX($AD$5:$AD$25,MATCH(AC46,$AC$5:$AC$25,0))),NA())","v":""},null,{"$f":"IFERROR(IF('Step 5 Identify & Select ASHPs'!$I$46,IF((ROW(AF46)-ROW($AF$29))>COUNT($AG$6:$AG$25)+1,\"\",IF((ROW(AF46)-ROW($AF$29))=COUNT($AG$6:$AG$25)+1,$AF$5,IF(ROW(AF21)-ROW($AF$5)>COUNT($AF$6:$AF$25),\"\",SMALL($AF$6:$AF$25,COUNT($AF$6:$AF$25)-MATCH(AF22,$AF$6:$AF$25,0)+1)))),IF((ROW(AF46)-ROW($AF$29))<=COUNT($AF$5:$AF$24),AF21,IF((ROW(AF46)-ROW($AF$29))=COUNT($AF$5:$AF$24)+1,$AF$25,\"\"))),1)","v":""},{"$f":"IF(AND($C$9,'Step 5 Identify & Select ASHPs'!$D$11>=2),IF('Step 5 Identify & Select ASHPs'!$I$46,IF(ROW(AG22)-ROW($AG$5)=COUNT($AG$6:$AG$25)+1,$AG$5,IF(ROW(AG22)-ROW($AG$5)>COUNT($AG$6:$AG$25),\"\",INDEX($AG$6:$AG$25,COUNT($AG$6:$AG$25)+COUNTIF($AG$6:$AG$25,\"-\")-MATCH(AF46,$AF$30:$AF$50,0)+1))),INDEX($AG$5:$AG$25,MATCH(AF46,$AF$5:$AF$25,0))),NA())","v":""},null,{"$f":"IFERROR(IF('Step 5 Identify & Select ASHPs'!$I$65,IF((ROW(AI46)-ROW($AI$29))>COUNT($AJ$6:$AJ$25)+1,\"\",IF((ROW(AI46)-ROW($AI$29))=COUNT($AJ$6:$AJ$25)+1,$AI$5,IF(ROW(AI21)-ROW($AI$5)>COUNT($AI$6:$AI$25),\"\",SMALL($AI$6:$AI$25,COUNT($AI$6:$AI$25)-MATCH(AI22,$AI$6:$AI$25,0)+1)))),IF((ROW(AI46)-ROW($AI$29))<=COUNT($AI$5:$AI$24),AI21,IF((ROW(AI46)-ROW($AI$29))=COUNT($AI$5:$AI$24)+1,$AI$25,\"\"))),1)","v":""},{"$f":"IF(AND($C$10,'Step 5 Identify & Select ASHPs'!$D$11>=3),IF('Step 5 Identify & Select ASHPs'!$I$65,IF(ROW(AJ22)-ROW($AJ$5)=COUNT($AJ$6:$AJ$25)+1,$AJ$5,IF(ROW(AJ22)-ROW($AJ$5)>COUNT($AJ$6:$AJ$25),\"\",INDEX($AJ$6:$AJ$25,COUNT($AJ$6:$AJ$25)+COUNTIF($AJ$6:$AJ$25,\"-\")-MATCH(AI46,$AI$30:$AI$50,0)+1))),INDEX($AJ$5:$AJ$25,MATCH(AI46,$AI$5:$AI$25,0))),NA())","v":""},null,{"$f":"IFERROR(IF('Step 5 Identify & Select ASHPs'!$I$84,IF((ROW(AL46)-ROW($AL$29))>COUNT($AM$6:$AM$25)+1,\"\",IF((ROW(AL46)-ROW($AL$29))=COUNT($AM$6:$AM$25)+1,$AL$5,IF(ROW(AL21)-ROW($AL$5)>COUNT($AL$6:$AL$25),\"\",SMALL($AL$6:$AL$25,COUNT($AL$6:$AL$25)-MATCH(AL22,$AL$6:$AL$25,0)+1)))),IF((ROW(AL46)-ROW($AL$29))<=COUNT($AL$5:$AL$24),AL21,IF((ROW(AL46)-ROW($AL$29))=COUNT($AL$5:$AL$24)+1,$AL$25,\"\"))),1)","v":""},{"$f":"IF(AND($C$11,'Step 5 Identify & Select ASHPs'!$D$11>=4),IF('Step 5 Identify & Select ASHPs'!$I$84,IF(ROW(AM22)-ROW($AM$5)=COUNT($AM$6:$AM$25)+1,$AM$5,IF(ROW(AM22)-ROW($AM$5)>COUNT($AM$6:$AM$25),\"\",INDEX($AM$6:$AM$25,COUNT($AM$6:$AM$25)+COUNTIF($AM$6:$AM$25,\"-\")-MATCH(AL46,$AL$30:$AL$50,0)+1))),INDEX($AM$5:$AM$25,MATCH(AL46,$AL$5:$AL$25,0))),NA())","v":""}]
[null,null,null,null,{"$f":"IFERROR(IF('Step 5 Identify & Select ASHPs'!$I$27,IF((ROW(E47)-ROW($E$29))>COUNT($F$6:$F$25)+1,\"\",IF((ROW(E47)-ROW($E$29))=COUNT($F$6:$F$25)+1,$E$5,IF(ROW(E22)-ROW($E$5)>COUNT($E$6:$E$25),\"\",SMALL($E$6:$E$25,COUNT($E$6:$E$25)-MATCH(E23,$E$6:$E$25,0)+1)))),IF((ROW(E47)-ROW($E$29))<=COUNT($E$5:$E$24),E22,IF((ROW(E47)-ROW($E$29))=COUNT($E$5:$E$24)+1,$E$25,\"\"))),1)","v":""},{"$f":"IF(AND($C$4,'Step 5 Identify & Select ASHPs'!$D$11>=1),IF('Step 5 Identify & Select ASHPs'!$I$27,IF(ROW(F23)-ROW($F$5)=COUNT($F$6:$F$25)+1,$F$5,IF(ROW(F23)-ROW($F$5)>COUNT($F$6:$F$25),\"\",INDEX($F$6:$F$25,COUNT($F$6:$F$25)+COUNTIF($F$6:$F$25,\"-\")-MATCH(E47,$E$30:$E$50,0)+1))),INDEX($F$5:$F$25,MATCH(E47,$E$5:$E$25,0))),NA())","v":""},null,{"$f":"IFERROR(IF('Step 5 Identify & Select ASHPs'!$I$46,IF((ROW(H47)-ROW($H$29))>COUNT($I$6:$I$25)+1,\"\",IF((ROW(H47)-ROW($H$29))=COUNT($I$6:$I$25)+1,$H$5,IF(ROW(H22)-ROW($H$5)>COUNT($H$6:$H$25),\"\",SMALL($H$6:$H$25,COUNT($H$6:$H$25)-MATCH(H23,$H$6:$H$25,0)+1)))),IF((ROW(H47)-ROW($H$29))<=COUNT($H$5:$H$24),H22,IF((ROW(H47)-ROW($H$29))=COUNT($H$5:$H$24)+1,$H$25,\"\"))),1)","v":""},{"$f":"IF(AND($C$5,'Step 5 Identify & Select ASHPs'!$D$11>=2),IF('Step 5 Identify & Select ASHPs'!$I$46,IF(ROW(I23)-ROW($I$5)=COUNT($I$6:$I$25)+1,$I$5,IF(ROW(I23)-ROW($I$5)>COUNT($I$6:$I$25),\"\",INDEX($I$6:$I$25,COUNT($I$6:$I$25)+COUNTIF($I$6:$I$25,\"-\")-MATCH(H47,$H$30:$H$50,0)+1))),INDEX($I$5:$I$25,MATCH(H47,$H$5:$H$25,0))),NA())","v":""},null,{"$f":"IFERROR(IF('Step 5 Identify & Select ASHPs'!$I$65,IF((ROW(K47)-ROW($K$29))>COUNT($L$6:$L$25)+1,\"\",IF((ROW(K47)-ROW($K$29))=COUNT($L$6:$L$25)+1,$K$5,IF(ROW(K22)-ROW($K$5)>COUNT($K$6:$K$25),\"\",SMALL($K$6:$K$25,COUNT($K$6:$K$25)-MATCH(K23,$K$6:$K$25,0)+1)))),IF((ROW(K47)-ROW($K$29))<=COUNT($K$5:$K$24),K22,IF((ROW(K47)-ROW($K$29))=COUNT($K$5:$K$24)+1,$K$25,\"\"))),1)","v":""},{"$f":"IF(AND($C$6,'Step 5 Identify & Select ASHPs'!$D$11>=3),IF('Step 5 Identify & Select ASHPs'!$I$65,IF(ROW(L23)-ROW($L$5)=COUNT($L$6:$L$25)+1,$L$5,IF(ROW(L23)-ROW($L$5)>COUNT($L$6:$L$25),\"\",INDEX($L$6:$L$25,COUNT($L$6:$L$25)+COUNTIF($L$6:$L$25,\"-\")-MATCH(K47,$K$30:$K$50,0)+1))),INDEX($L$5:$L$25,MATCH(K47,$K$5:$K$25,0))),NA())","v":""},null,{"$f":"IFERROR(IF('Step 5 Identify & Select ASHPs'!$I$84,IF((ROW(N47)-ROW($N$29))>COUNT($O$6:$O$25)+1,\"\",IF((ROW(N47)-ROW($N$29))=COUNT($O$6:$O$25)+1,$N$5,IF(ROW(N22)-ROW($N$5)>COUNT($N$6:$N$25),\"\",SMALL($N$6:$N$25,COUNT($N$6:$N$25)-MATCH(N23,$N$6:$N$25,0)+1)))),IF((ROW(N47)-ROW($N$29))<=COUNT($N$5:$N$24),N22,IF((ROW(N47)-ROW($N$29))=COUNT($N$5:$N$24)+1,$N$25,\"\"))),1)","v":""},{"$f":"IF(AND($C$7,'Step 5 Identify & Select ASHPs'!$D$11>=4),IF('Step 5 Identify & Select ASHPs'!$I$84,IF(ROW(O23)-ROW($O$5)=COUNT($O$6:$O$25)+1,$O$5,IF(ROW(O23)-ROW($O$5)>COUNT($O$6:$O$25),\"\",INDEX($O$6:$O$25,COUNT($O$6:$O$25)+COUNTIF($O$6:$O$25,\"-\")-MATCH(N47,$N$30:$N$50,0)+1))),INDEX($O$5:$O$25,MATCH(N47,$N$5:$N$25,0))),NA())","v":""},null,null,null,null,null,null,null,null,null,null,null,null,null,{"$f":"IFERROR(IF('Step 5 Identify & Select ASHPs'!$I$27,IF((ROW(AC47)-ROW($AC$29))>COUNT($AD$6:$AD$25)+1,\"\",IF((ROW(AC47)-ROW($AC$29))=COUNT($AD$6:$AD$25)+1,$AC$5,IF(ROW(AC22)-ROW($AC$5)>COUNT($AC$6:$AC$25),\"\",SMALL($AC$6:$AC$25,COUNT($AC$6:$AC$25)-MATCH(AC23,$AC$6:$AC$25,0)+1)))),IF((ROW(AC47)-ROW($AC$29))<=COUNT($AC$5:$AC$24),AC22,IF((ROW(AC47)-ROW($AC$29))=COUNT($AC$5:$AC$24)+1,$AC$25,\"\"))),1)","v":""},{"$f":"IF(AND($C$8,'Step 5 Identify & Select ASHPs'!$D$11>=1),IF('Step 5 Identify & Select ASHPs'!$I$27,IF(ROW(AD23)-ROW($AD$5)=COUNT($AD$6:$AD$25)+1,$AD$5,IF(ROW(AD23)-ROW($AD$5)>COUNT($AD$6:$AD$25),\"\",INDEX($AD$6:$AD$25,COUNT($AD$6:$AD$25)+COUNTIF($AD$6:$AD$25,\"-\")-MATCH(AC47,$AC$30:$AC$50,0)+1))),INDEX($AD$5:$AD$25,MATCH(AC47,$AC$5:$AC$25,0))),NA())","v":""},null,{"$f":"IFERROR(IF('Step 5 Identify & Select ASHPs'!$I$46,IF((ROW(AF47)-ROW($AF$29))>COUNT($AG$6:$AG$25)+1,\"\",IF((ROW(AF47)-ROW($AF$29))=COUNT($AG$6:$AG$25)+1,$AF$5,IF(ROW(AF22)-ROW($AF$5)>COUNT($AF$6:$AF$25),\"\",SMALL($AF$6:$AF$25,COUNT($AF$6:$AF$25)-MATCH(AF23,$AF$6:$AF$25,0)+1)))),IF((ROW(AF47)-ROW($AF$29))<=COUNT($AF$5:$AF$24),AF22,IF((ROW(AF47)-ROW($AF$29))=COUNT($AF$5:$AF$24)+1,$AF$25,\"\"))),1)","v":""},{"$f":"IF(AND($C$9,'Step 5 Identify & Select ASHPs'!$D$11>=2),IF('Step 5 Identify & Select ASHPs'!$I$46,IF(ROW(AG23)-ROW($AG$5)=COUNT($AG$6:$AG$25)+1,$AG$5,IF(ROW(AG23)-ROW($AG$5)>COUNT($AG$6:$AG$25),\"\",INDEX($AG$6:$AG$25,COUNT($AG$6:$AG$25)+COUNTIF($AG$6:$AG$25,\"-\")-MATCH(AF47,$AF$30:$AF$50,0)+1))),INDEX($AG$5:$AG$25,MATCH(AF47,$AF$5:$AF$25,0))),NA())","v":""},null,{"$f":"IFERROR(IF('Step 5 Identify & Select ASHPs'!$I$65,IF((ROW(AI47)-ROW($AI$29))>COUNT($AJ$6:$AJ$25)+1,\"\",IF((ROW(AI47)-ROW($AI$29))=COUNT($AJ$6:$AJ$25)+1,$AI$5,IF(ROW(AI22)-ROW($AI$5)>COUNT($AI$6:$AI$25),\"\",SMALL($AI$6:$AI$25,COUNT($AI$6:$AI$25)-MATCH(AI23,$AI$6:$AI$25,0)+1)))),IF((ROW(AI47)-ROW($AI$29))<=COUNT($AI$5:$AI$24),AI22,IF((ROW(AI47)-ROW($AI$29))=COUNT($AI$5:$AI$24)+1,$AI$25,\"\"))),1)","v":""},{"$f":"IF(AND($C$10,'Step 5 Identify & Select ASHPs'!$D$11>=3),IF('Step 5 Identify & Select ASHPs'!$I$65,IF(ROW(AJ23)-ROW($AJ$5)=COUNT($AJ$6:$AJ$25)+1,$AJ$5,IF(ROW(AJ23)-ROW($AJ$5)>COUNT($AJ$6:$AJ$25),\"\",INDEX($AJ$6:$AJ$25,COUNT($AJ$6:$AJ$25)+COUNTIF($AJ$6:$AJ$25,\"-\")-MATCH(AI47,$AI$30:$AI$50,0)+1))),INDEX($AJ$5:$AJ$25,MATCH(AI47,$AI$5:$AI$25,0))),NA())","v":""},null,{"$f":"IFERROR(IF('Step 5 Identify & Select ASHPs'!$I$84,IF((ROW(AL47)-ROW($AL$29))>COUNT($AM$6:$AM$25)+1,\"\",IF((ROW(AL47)-ROW($AL$29))=COUNT($AM$6:$AM$25)+1,$AL$5,IF(ROW(AL22)-ROW($AL$5)>COUNT($AL$6:$AL$25),\"\",SMALL($AL$6:$AL$25,COUNT($AL$6:$AL$25)-MATCH(AL23,$AL$6:$AL$25,0)+1)))),IF((ROW(AL47)-ROW($AL$29))<=COUNT($AL$5:$AL$24),AL22,IF((ROW(AL47)-ROW($AL$29))=COUNT($AL$5:$AL$24)+1,$AL$25,\"\"))),1)","v":""},{"$f":"IF(AND($C$11,'Step 5 Identify & Select ASHPs'!$D$11>=4),IF('Step 5 Identify & Select ASHPs'!$I$84,IF(ROW(AM23)-ROW($AM$5)=COUNT($AM$6:$AM$25)+1,$AM$5,IF(ROW(AM23)-ROW($AM$5)>COUNT($AM$6:$AM$25),\"\",INDEX($AM$6:$AM$25,COUNT($AM$6:$AM$25)+COUNTIF($AM$6:$AM$25,\"-\")-MATCH(AL47,$AL$30:$AL$50,0)+1))),INDEX($AM$5:$AM$25,MATCH(AL47,$AL$5:$AL$25,0))),NA())","v":""},null,null,null,null,null,null,null,null,null,null,null,null,null,null,null,null,null,null,null,null,null,null,null,null,null,null,"X Axis",null,"Y Axis"]
[null,null,null,null,{"$f":"IFERROR(IF('Step 5 Identify & Select ASHPs'!$I$27,IF((ROW(E48)-ROW($E$29))>COUNT($F$6:$F$25)+1,\"\",IF((ROW(E48)-ROW($E$29))=COUNT($F$6:$F$25)+1,$E$5,IF(ROW(E23)-ROW($E$5)>COUNT($E$6:$E$25),\"\",SMALL($E$6:$E$25,COUNT($E$6:$E$25)-MATCH(E24,$E$6:$E$25,0)+1)))),IF((ROW(E48)-ROW($E$29))<=COUNT($E$5:$E$24),E23,IF((ROW(E48)-ROW($E$29))=COUNT($E$5:$E$24)+1,$E$25,\"\"))),1)","v":""},{"$f":"IF(AND($C$4,'Step 5 Identify & Select ASHPs'!$D$11>=1),IF('Step 5 Identify & Select ASHPs'!$I$27,IF(ROW(F24)-ROW($F$5)=COUNT($F$6:$F$25)+1,$F$5,IF(ROW(F24)-ROW($F$5)>COUNT($F$6:$F$25),\"\",INDEX($F$6:$F$25,COUNT($F$6:$F$25)+COUNTIF($F$6:$F$25,\"-\")-MATCH(E48,$E$30:$E$50,0)+1))),INDEX($F$5:$F$25,MATCH(E48,$E$5:$E$25,0))),NA())","v":""},null,{"$f":"IFERROR(IF('Step 5 Identify & Select ASHPs'!$I$46,IF((ROW(H48)-ROW($H$29))>COUNT($I$6:$I$25)+1,\"\",IF((ROW(H48)-ROW($H$29))=COUNT($I$6:$I$25)+1,$H$5,IF(ROW(H23)-ROW($H$5)>COUNT($H$6:$H$25),\"\",SMALL($H$6:$H$25,COUNT($H$6:$H$25)-MATCH(H24,$H$6:$H$25,0)+1)))),IF((ROW(H48)-ROW($H$29))<=COUNT($H$5:$H$24),H23,IF((ROW(H48)-ROW($H$29))=COUNT($H$5:$H$24)+1,$H$25,\"\"))),1)","v":""},{"$f":"IF(AND($C$5,'Step 5 Identify & Select ASHPs'!$D$11>=2),IF('Step 5 Identify & Select ASHPs'!$I$46,IF(ROW(I24)-ROW($I$5)=COUNT($I$6:$I$25)+1,$I$5,IF(ROW(I24)-ROW($I$5)>COUNT($I$6:$I$25),\"\",INDEX($I$6:$I$25,COUNT($I$6:$I$25)+COUNTIF($I$6:$I$25,\"-\")-MATCH(H48,$H$30:$H$50,0)+1))),INDEX($I$5:$I$25,MATCH(H48,$H$5:$H$25,0))),NA())","v":""},null,{"$f":"IFERROR(IF('Step 5 Identify & Select ASHPs'!$I$65,IF((ROW(K48)-ROW($K$29))>COUNT($L$6:$L$25)+1,\"\",IF((ROW(K48)-ROW($K$29))=COUNT($L$6:$L$25)+1,$K$5,IF(ROW(K23)-ROW($K$5)>COUNT($K$6:$K$25),\"\",SMALL($K$6:$K$25,COUNT($K$6:$K$25)-MATCH(K24,$K$6:$K$25,0)+1)))),IF((ROW(K48)-ROW($K$29))<=COUNT($K$5:$K$24),K23,IF((ROW(K48)-ROW($K$29))=COUNT($K$5:$K$24)+1,$K$25,\"\"))),1)","v":""},{"$f":"IF(AND($C$6,'Step 5 Identify & Select ASHPs'!$D$11>=3),IF('Step 5 Identify & Select ASHPs'!$I$65,IF(ROW(L24)-ROW($L$5)=COUNT($L$6:$L$25)+1,$L$5,IF(ROW(L24)-ROW($L$5)>COUNT($L$6:$L$25),\"\",INDEX($L$6:$L$25,COUNT($L$6:$L$25)+COUNTIF($L$6:$L$25,\"-\")-MATCH(K48,$K$30:$K$50,0)+1))),INDEX($L$5:$L$25,MATCH(K48,$K$5:$K$25,0))),NA())","v":""},null,{"$f":"IFERROR(IF('Step 5 Identify & Select ASHPs'!$I$84,IF((ROW(N48)-ROW($N$29))>COUNT($O$6:$O$25)+1,\"\",IF((ROW(N48)-ROW($N$29))=COUNT($O$6:$O$25)+1,$N$5,IF(ROW(N23)-ROW($N$5)>COUNT($N$6:$N$25),\"\",SMALL($N$6:$N$25,COUNT($N$6:$N$25)-MATCH(N24,$N$6:$N$25,0)+1)))),IF((ROW(N48)-ROW($N$29))<=COUNT($N$5:$N$24),N23,IF((ROW(N48)-ROW($N$29))=COUNT($N$5:$N$24)+1,$N$25,\"\"))),1)","v":""},{"$f":"IF(AND($C$7,'Step 5 Identify & Select ASHPs'!$D$11>=4),IF('Step 5 Identify & Select ASHPs'!$I$84,IF(ROW(O24)-ROW($O$5)=COUNT($O$6:$O$25)+1,$O$5,IF(ROW(O24)-ROW($O$5)>COUNT($O$6:$O$25),\"\",INDEX($O$6:$O$25,COUNT($O$6:$O$25)+COUNTIF($O$6:$O$25,\"-\")-MATCH(N48,$N$30:$N$50,0)+1))),INDEX($O$5:$O$25,MATCH(N48,$N$5:$N$25,0))),NA())","v":""},null,null,null,null,null,null,null,null,null,null,null,null,null,{"$f":"IFERROR(IF('Step 5 Identify & Select ASHPs'!$I$27,IF((ROW(AC48)-ROW($AC$29))>COUNT($AD$6:$AD$25)+1,\"\",IF((ROW(AC48)-ROW($AC$29))=COUNT($AD$6:$AD$25)+1,$AC$5,IF(ROW(AC23)-ROW($AC$5)>COUNT($AC$6:$AC$25),\"\",SMALL($AC$6:$AC$25,COUNT($AC$6:$AC$25)-MATCH(AC24,$AC$6:$AC$25,0)+1)))),IF((ROW(AC48)-ROW($AC$29))<=COUNT($AC$5:$AC$24),AC23,IF((ROW(AC48)-ROW($AC$29))=COUNT($AC$5:$AC$24)+1,$AC$25,\"\"))),1)","v":""},{"$f":"IF(AND($C$8,'Step 5 Identify & Select ASHPs'!$D$11>=1),IF('Step 5 Identify & Select ASHPs'!$I$27,IF(ROW(AD24)-ROW($AD$5)=COUNT($AD$6:$AD$25)+1,$AD$5,IF(ROW(AD24)-ROW($AD$5)>COUNT($AD$6:$AD$25),\"\",INDEX($AD$6:$AD$25,COUNT($AD$6:$AD$25)+COUNTIF($AD$6:$AD$25,\"-\")-MATCH(AC48,$AC$30:$AC$50,0)+1))),INDEX($AD$5:$AD$25,MATCH(AC48,$AC$5:$AC$25,0))),NA())","v":""},null,{"$f":"IFERROR(IF('Step 5 Identify & Select ASHPs'!$I$46,IF((ROW(AF48)-ROW($AF$29))>COUNT($AG$6:$AG$25)+1,\"\",IF((ROW(AF48)-ROW($AF$29))=COUNT($AG$6:$AG$25)+1,$AF$5,IF(ROW(AF23)-ROW($AF$5)>COUNT($AF$6:$AF$25),\"\",SMALL($AF$6:$AF$25,COUNT($AF$6:$AF$25)-MATCH(AF24,$AF$6:$AF$25,0)+1)))),IF((ROW(AF48)-ROW($AF$29))<=COUNT($AF$5:$AF$24),AF23,IF((ROW(AF48)-ROW($AF$29))=COUNT($AF$5:$AF$24)+1,$AF$25,\"\"))),1)","v":""},{"$f":"IF(AND($C$9,'Step 5 Identify & Select ASHPs'!$D$11>=2),IF('Step 5 Identify & Select ASHPs'!$I$46,IF(ROW(AG24)-ROW($AG$5)=COUNT($AG$6:$AG$25)+1,$AG$5,IF(ROW(AG24)-ROW($AG$5)>COUNT($AG$6:$AG$25),\"\",INDEX($AG$6:$AG$25,COUNT($AG$6:$AG$25)+COUNTIF($AG$6:$AG$25,\"-\")-MATCH(AF48,$AF$30:$AF$50,0)+1))),INDEX($AG$5:$AG$25,MATCH(AF48,$AF$5:$AF$25,0))),NA())","v":""},null,{"$f":"IFERROR(IF('Step 5 Identify & Select ASHPs'!$I$65,IF((ROW(AI48)-ROW($AI$29))>COUNT($AJ$6:$AJ$25)+1,\"\",IF((ROW(AI48)-ROW($AI$29))=COUNT($AJ$6:$AJ$25)+1,$AI$5,IF(ROW(AI23)-ROW($AI$5)>COUNT($AI$6:$AI$25),\"\",SMALL($AI$6:$AI$25,COUNT($AI$6:$AI$25)-MATCH(AI24,$AI$6:$AI$25,0)+1)))),IF((ROW(AI48)-ROW($AI$29))<=COUNT($AI$5:$AI$24),AI23,IF((ROW(AI48)-ROW($AI$29))=COUNT($AI$5:$AI$24)+1,$AI$25,\"\"))),1)","v":""},{"$f":"IF(AND($C$10,'Step 5 Identify & Select ASHPs'!$D$11>=3),IF('Step 5 Identify & Select ASHPs'!$I$65,IF(ROW(AJ24)-ROW($AJ$5)=COUNT($AJ$6:$AJ$25)+1,$AJ$5,IF(ROW(AJ24)-ROW($AJ$5)>COUNT($AJ$6:$AJ$25),\"\",INDEX($AJ$6:$AJ$25,COUNT($AJ$6:$AJ$25)+COUNTIF($AJ$6:$AJ$25,\"-\")-MATCH(AI48,$AI$30:$AI$50,0)+1))),INDEX($AJ$5:$AJ$25,MATCH(AI48,$AI$5:$AI$25,0))),NA())","v":""},null,{"$f":"IFERROR(IF('Step 5 Identify & Select ASHPs'!$I$84,IF((ROW(AL48)-ROW($AL$29))>COUNT($AM$6:$AM$25)+1,\"\",IF((ROW(AL48)-ROW($AL$29))=COUNT($AM$6:$AM$25)+1,$AL$5,IF(ROW(AL23)-ROW($AL$5)>COUNT($AL$6:$AL$25),\"\",SMALL($AL$6:$AL$25,COUNT($AL$6:$AL$25)-MATCH(AL24,$AL$6:$AL$25,0)+1)))),IF((ROW(AL48)-ROW($AL$29))<=COUNT($AL$5:$AL$24),AL23,IF((ROW(AL48)-ROW($AL$29))=COUNT($AL$5:$AL$24)+1,$AL$25,\"\"))),1)","v":""},{"$f":"IF(AND($C$11,'Step 5 Identify & Select ASHPs'!$D$11>=4),IF('Step 5 Identify & Select ASHPs'!$I$84,IF(ROW(AM24)-ROW($AM$5)=COUNT($AM$6:$AM$25)+1,$AM$5,IF(ROW(AM24)-ROW($AM$5)>COUNT($AM$6:$AM$25),\"\",INDEX($AM$6:$AM$25,COUNT($AM$6:$AM$25)+COUNTIF($AM$6:$AM$25,\"-\")-MATCH(AL48,$AL$30:$AL$50,0)+1))),INDEX($AM$5:$AM$25,MATCH(AL48,$AL$5:$AL$25,0))),NA())","v":""},null,null,null,null,null,null,null,null,null,null,null,null,null,null,null,null,null,null,null,null,null,null,null,null,null,"Max",{"$f":"CEILING(MAX('Design Load Calcs'!O12,IFERROR(MAX(BP30:BP41),0),IFERROR(MAX(BS30:BS41),0),IFERROR(MAX(BV30:BV41),0),IFERROR(MAX(BM30:BM41),0)),10)","v":110},null,{"$f":"CEILING(MAX(IFERROR(CL6,0),'Step 3 Design Loads'!$B$12,IFERROR(MAX(I30:I50),0),IFERROR(MAX(L30:L50),0),IFERROR(MAX(O30:O50),0),IFERROR(MAX(AD30:AD50),0),IFERROR(MAX(AG30:AG50),0),IFERROR(MAX(AJ30:AJ50),0),IFERROR(MAX(AM30:AM50),0),IFERROR(MAX(F30:F50),0),IFERROR(MAX(BN5:BN16),0),IFERROR(MAX(BQ5:BQ16),0),IFERROR(MAX(BT5:BT16),0),IFERROR(MAX(BW5:BW16),0)),IF('Intro & Unit Options'!$B$12=Dropdown_Menus!$F$1,2,10000))","v":50000}]
[null,null,null,null,{"$f":"IFERROR(IF('Step 5 Identify & Select ASHPs'!$I$27,IF((ROW(E49)-ROW($E$29))>COUNT($F$6:$F$25)+1,\"\",IF((ROW(E49)-ROW($E$29))=COUNT($F$6:$F$25)+1,$E$5,IF(ROW(E24)-ROW($E$5)>COUNT($E$6:$E$25),\"\",SMALL($E$6:$E$25,COUNT($E$6:$E$25)-MATCH(E25,$E$6:$E$25,0)+1)))),IF((ROW(E49)-ROW($E$29))<=COUNT($E$5:$E$24),E24,IF((ROW(E49)-ROW($E$29))=COUNT($E$5:$E$24)+1,$E$25,\"\"))),1)","v":""},{"$f":"IF(AND($C$4,'Step 5 Identify & Select ASHPs'!$D$11>=1),IF('Step 5 Identify & Select ASHPs'!$I$27,IF(ROW(F25)-ROW($F$5)=COUNT($F$6:$F$25)+1,$F$5,IF(ROW(F25)-ROW($F$5)>COUNT($F$6:$F$25),\"\",INDEX($F$6:$F$25,COUNT($F$6:$F$25)+COUNTIF($F$6:$F$25,\"-\")-MATCH(E49,$E$30:$E$50,0)+1))),INDEX($F$5:$F$25,MATCH(E49,$E$5:$E$25,0))),NA())","v":""},null,{"$f":"IFERROR(IF('Step 5 Identify & Select ASHPs'!$I$46,IF((ROW(H49)-ROW($H$29))>COUNT($I$6:$I$25)+1,\"\",IF((ROW(H49)-ROW($H$29))=COUNT($I$6:$I$25)+1,$H$5,IF(ROW(H24)-ROW($H$5)>COUNT($H$6:$H$25),\"\",SMALL($H$6:$H$25,COUNT($H$6:$H$25)-MATCH(H25,$H$6:$H$25,0)+1)))),IF((ROW(H49)-ROW($H$29))<=COUNT($H$5:$H$24),H24,IF((ROW(H49)-ROW($H$29))=COUNT($H$5:$H$24)+1,$H$25,\"\"))),1)","v":""},{"$f":"IF(AND($C$5,'Step 5 Identify & Select ASHPs'!$D$11>=2),IF('Step 5 Identify & Select ASHPs'!$I$46,IF(ROW(I25)-ROW($I$5)=COUNT($I$6:$I$25)+1,$I$5,IF(ROW(I25)-ROW($I$5)>COUNT($I$6:$I$25),\"\",INDEX($I$6:$I$25,COUNT($I$6:$I$25)+COUNTIF($I$6:$I$25,\"-\")-MATCH(H49,$H$30:$H$50,0)+1))),INDEX($I$5:$I$25,MATCH(H49,$H$5:$H$25,0))),NA())","v":""},null,{"$f":"IFERROR(IF('Step 5 Identify & Select ASHPs'!$I$65,IF((ROW(K49)-ROW($K$29))>COUNT($L$6:$L$25)+1,\"\",IF((ROW(K49)-ROW($K$29))=COUNT($L$6:$L$25)+1,$K$5,IF(ROW(K24)-ROW($K$5)>COUNT($K$6:$K$25),\"\",SMALL($K$6:$K$25,COUNT($K$6:$K$25)-MATCH(K25,$K$6:$K$25,0)+1)))),IF((ROW(K49)-ROW($K$29))<=COUNT($K$5:$K$24),K24,IF((ROW(K49)-ROW($K$29))=COUNT($K$5:$K$24)+1,$K$25,\"\"))),1)","v":""},{"$f":"IF(AND($C$6,'Step 5 Identify & Select ASHPs'!$D$11>=3),IF('Step 5 Identify & Select ASHPs'!$I$65,IF(ROW(L25)-ROW($L$5)=COUNT($L$6:$L$25)+1,$L$5,IF(ROW(L25)-ROW($L$5)>COUNT($L$6:$L$25),\"\",INDEX($L$6:$L$25,COUNT($L$6:$L$25)+COUNTIF($L$6:$L$25,\"-\")-MATCH(K49,$K$30:$K$50,0)+1))),INDEX($L$5:$L$25,MATCH(K49,$K$5:$K$25,0))),NA())","v":""},null,{"$f":"IFERROR(IF('Step 5 Identify & Select ASHPs'!$I$84,IF((ROW(N49)-ROW($N$29))>COUNT($O$6:$O$25)+1,\"\",IF((ROW(N49)-ROW($N$29))=COUNT($O$6:$O$25)+1,$N$5,IF(ROW(N24)-ROW($N$5)>COUNT($N$6:$N$25),\"\",SMALL($N$6:$N$25,COUNT($N$6:$N$25)-MATCH(N25,$N$6:$N$25,0)+1)))),IF((ROW(N49)-ROW($N$29))<=COUNT($N$5:$N$24),N24,IF((ROW(N49)-ROW($N$29))=COUNT($N$5:$N$24)+1,$N$25,\"\"))),1)","v":""},{"$f":"IF(AND($C$7,'Step 5 Identify & Select ASHPs'!$D$11>=4),IF('Step 5 Identify & Select ASHPs'!$I$84,IF(ROW(O25)-ROW($O$5)=COUNT($O$6:$O$25)+1,$O$5,IF(ROW(O25)-ROW($O$5)>COUNT($O$6:$O$25),\"\",INDEX($O$6:$O$25,COUNT($O$6:$O$25)+COUNTIF($O$6:$O$25,\"-\")-MATCH(N49,$N$30:$N$50,0)+1))),INDEX($O$5:$O$25,MATCH(N49,$N$5:$N$25,0))),NA())","v":""},null,null,null,null,null,null,null,null,null,null,null,null,null,{"$f":"IFERROR(IF('Step 5 Identify & Select ASHPs'!$I$27,IF((ROW(AC49)-ROW($AC$29))>COUNT($AD$6:$AD$25)+1,\"\",IF((ROW(AC49)-ROW($AC$29))=COUNT($AD$6:$AD$25)+1,$AC$5,IF(ROW(AC24)-ROW($AC$5)>COUNT($AC$6:$AC$25),\"\",SMALL($AC$6:$AC$25,COUNT($AC$6:$AC$25)-MATCH(AC25,$AC$6:$AC$25,0)+1)))),IF((ROW(AC49)-ROW($AC$29))<=COUNT($AC$5:$AC$24),AC24,IF((ROW(AC49)-ROW($AC$29))=COUNT($AC$5:$AC$24)+1,$AC$25,\"\"))),1)","v":""},{"$f":"IF(AND($C$8,'Step 5 Identify & Select ASHPs'!$D$11>=1),IF('Step 5 Identify & Select ASHPs'!$I$27,IF(ROW(AD25)-ROW($AD$5)=COUNT($AD$6:$AD$25)+1,$AD$5,IF(ROW(AD25)-ROW($AD$5)>COUNT($AD$6:$AD$25),\"\",INDEX($AD$6:$AD$25,COUNT($AD$6:$AD$25)+COUNTIF($AD$6:$AD$25,\"-\")-MATCH(AC49,$AC$30:$AC$50,0)+1))),INDEX($AD$5:$AD$25,MATCH(AC49,$AC$5:$AC$25,0))),NA())","v":""},null,{"$f":"IFERROR(IF('Step 5 Identify & Select ASHPs'!$I$46,IF((ROW(AF49)-ROW($AF$29))>COUNT($AG$6:$AG$25)+1,\"\",IF((ROW(AF49)-ROW($AF$29))=COUNT($AG$6:$AG$25)+1,$AF$5,IF(ROW(AF24)-ROW($AF$5)>COUNT($AF$6:$AF$25),\"\",SMALL($AF$6:$AF$25,COUNT($AF$6:$AF$25)-MATCH(AF25,$AF$6:$AF$25,0)+1)))),IF((ROW(AF49)-ROW($AF$29))<=COUNT($AF$5:$AF$24),AF24,IF((ROW(AF49)-ROW($AF$29))=COUNT($AF$5:$AF$24)+1,$AF$25,\"\"))),1)","v":""},{"$f":"IF(AND($C$9,'Step 5 Identify & Select ASHPs'!$D$11>=2),IF('Step 5 Identify & Select ASHPs'!$I$46,IF(ROW(AG25)-ROW($AG$5)=COUNT($AG$6:$AG$25)+1,$AG$5,IF(ROW(AG25)-ROW($AG$5)>COUNT($AG$6:$AG$25),\"\",INDEX($AG$6:$AG$25,COUNT($AG$6:$AG$25)+COUNTIF($AG$6:$AG$25,\"-\")-MATCH(AF49,$AF$30:$AF$50,0)+1))),INDEX($AG$5:$AG$25,MATCH(AF49,$AF$5:$AF$25,0))),NA())","v":""},null,{"$f":"IFERROR(IF('Step 5 Identify & Select ASHPs'!$I$65,IF((ROW(AI49)-ROW($AI$29))>COUNT($AJ$6:$AJ$25)+1,\"\",IF((ROW(AI49)-ROW($AI$29))=COUNT($AJ$6:$AJ$25)+1,$AI$5,IF(ROW(AI24)-ROW($AI$5)>COUNT($AI$6:$AI$25),\"\",SMALL($AI$6:$AI$25,COUNT($AI$6:$AI$25)-MATCH(AI25,$AI$6:$AI$25,0)+1)))),IF((ROW(AI49)-ROW($AI$29))<=COUNT($AI$5:$AI$24),AI24,IF((ROW(AI49)-ROW($AI$29))=COUNT($AI$5:$AI$24)+1,$AI$25,\"\"))),1)","v":""},{"$f":"IF(AND($C$10,'Step 5 Identify & Select ASHPs'!$D$11>=3),IF('Step 5 Identify & Select ASHPs'!$I$65,IF(ROW(AJ25)-ROW($AJ$5)=COUNT($AJ$6:$AJ$25)+1,$AJ$5,IF(ROW(AJ25)-ROW($AJ$5)>COUNT($AJ$6:$AJ$25),\"\",INDEX($AJ$6:$AJ$25,COUNT($AJ$6:$AJ$25)+COUNTIF($AJ$6:$AJ$25,\"-\")-MATCH(AI49,$AI$30:$AI$50,0)+1))),INDEX($AJ$5:$AJ$25,MATCH(AI49,$AI$5:$AI$25,0))),NA())","v":""},null,{"$f":"IFERROR(IF('Step 5 Identify & Select ASHPs'!$I$84,IF((ROW(AL49)-ROW($AL$29))>COUNT($AM$6:$AM$25)+1,\"\",IF((ROW(AL49)-ROW($AL$29))=COUNT($AM$6:$AM$25)+1,$AL$5,IF(ROW(AL24)-ROW($AL$5)>COUNT($AL$6:$AL$25),\"\",SMALL($AL$6:$AL$25,COUNT($AL$6:$AL$25)-MATCH(AL25,$AL$6:$AL$25,0)+1)))),IF((ROW(AL49)-ROW($AL$29))<=COUNT($AL$5:$AL$24),AL24,IF((ROW(AL49)-ROW($AL$29))=COUNT($AL$5:$AL$24)+1,$AL$25,\"\"))),1)","v":""},{"$f":"IF(AND($C$11,'Step 5 Identify & Select ASHPs'!$D$11>=4),IF('Step 5 Identify & Select ASHPs'!$I$84,IF(ROW(AM25)-ROW($AM$5)=COUNT($AM$6:$AM$25)+1,$AM$5,IF(ROW(AM25)-ROW($AM$5)>COUNT($AM$6:$AM$25),\"\",INDEX($AM$6:$AM$25,COUNT($AM$6:$AM$25)+COUNTIF($AM$6:$AM$25,\"-\")-MATCH(AL49,$AL$30:$AL$50,0)+1))),INDEX($AM$5:$AM$25,MATCH(AL49,$AL$5:$AL$25,0))),NA())","v":""},null,null,null,null,null,null,null,null,null,null,null,null,null,null,null,null,null,null,null,null,null,null,null,null,null,"Min",{"$f":"FLOOR('Design Load Calcs'!B4,5)","v":0},null,0]
[null,null,null,null,{"$f":"IFERROR(IF('Step 5 Identify & Select ASHPs'!$I$27,IF((ROW(E50)-ROW($E$29))>COUNT($F$6:$F$25)+1,\"\",IF((ROW(E50)-ROW($E$29))=COUNT($F$6:$F$25)+1,$E$5,IF(ROW(E25)-ROW($E$5)>COUNT($E$6:$E$25),\"\",SMALL($E$6:$E$25,COUNT($E$6:$E$25)-MATCH(E26,$E$6:$E$25,0)+1)))),IF((ROW(E50)-ROW($E$29))<=COUNT($E$5:$E$24),E25,IF((ROW(E50)-ROW($E$29))=COUNT($E$5:$E$24)+1,$E$25,\"\"))),1)","v":""},{"$f":"IF(AND($C$4,'Step 5 Identify & Select ASHPs'!$D$11>=1),IF('Step 5 Identify & Select ASHPs'!$I$27,IF(ROW(F26)-ROW($F$5)=COUNT($F$6:$F$25)+1,$F$5,IF(ROW(F26)-ROW($F$5)>COUNT($F$6:$F$25),\"\",INDEX($F$6:$F$25,COUNT($F$6:$F$25)+COUNTIF($F$6:$F$25,\"-\")-MATCH(E50,$E$30:$E$50,0)+1))),INDEX($F$5:$F$25,MATCH(E50,$E$5:$E$25,0))),NA())","v":""},null,{"$f":"IFERROR(IF('Step 5 Identify & Select ASHPs'!$I$46,IF((ROW(H50)-ROW($H$29))>COUNT($I$6:$I$25)+1,\"\",IF((ROW(H50)-ROW($H$29))=COUNT($I$6:$I$25)+1,$H$5,IF(ROW(H25)-ROW($H$5)>COUNT($H$6:$H$25),\"\",SMALL($H$6:$H$25,COUNT($H$6:$H$25)-MATCH(H26,$H$6:$H$25,0)+1)))),IF((ROW(H50)-ROW($H$29))<=COUNT($H$5:$H$24),H25,IF((ROW(H50)-ROW($H$29))=COUNT($H$5:$H$24)+1,$H$25,\"\"))),1)","v":""},{"$f":"IF(AND($C$5,'Step 5 Identify & Select ASHPs'!$D$11>=2),IF('Step 5 Identify & Select ASHPs'!$I$46,IF(ROW(I26)-ROW($I$5)=COUNT($I$6:$I$25)+1,$I$5,IF(ROW(I26)-ROW($I$5)>COUNT($I$6:$I$25),\"\",INDEX($I$6:$I$25,COUNT($I$6:$I$25)+COUNTIF($I$6:$I$25,\"-\")-MATCH(H50,$H$30:$H$50,0)+1))),INDEX($I$5:$I$25,MATCH(H50,$H$5:$H$25,0))),NA())","v":""},null,{"$f":"IFERROR(IF('Step 5 Identify & Select ASHPs'!$I$65,IF((ROW(K50)-ROW($K$29))>COUNT($L$6:$L$25)+1,\"\",IF((ROW(K50)-ROW($K$29))=COUNT($L$6:$L$25)+1,$K$5,IF(ROW(K25)-ROW($K$5)>COUNT($K$6:$K$25),\"\",SMALL($K$6:$K$25,COUNT($K$6:$K$25)-MATCH(K26,$K$6:$K$25,0)+1)))),IF((ROW(K50)-ROW($K$29))<=COUNT($K$5:$K$24),K25,IF((ROW(K50)-ROW($K$29))=COUNT($K$5:$K$24)+1,$K$25,\"\"))),1)","v":""},{"$f":"IF(AND($C$6,'Step 5 Identify & Select ASHPs'!$D$11>=3),IF('Step 5 Identify & Select ASHPs'!$I$65,IF(ROW(L26)-ROW($L$5)=COUNT($L$6:$L$25)+1,$L$5,IF(ROW(L26)-ROW($L$5)>COUNT($L$6:$L$25),\"\",INDEX($L$6:$L$25,COUNT($L$6:$L$25)+COUNTIF($L$6:$L$25,\"-\")-MATCH(K50,$K$30:$K$50,0)+1))),INDEX($L$5:$L$25,MATCH(K50,$K$5:$K$25,0))),NA())","v":""},null,{"$f":"IFERROR(IF('Step 5 Identify & Select ASHPs'!$I$84,IF((ROW(N50)-ROW($N$29))>COUNT($O$6:$O$25)+1,\"\",IF((ROW(N50)-ROW($N$29))=COUNT($O$6:$O$25)+1,$N$5,IF(ROW(N25)-ROW($N$5)>COUNT($N$6:$N$25),\"\",SMALL($N$6:$N$25,COUNT($N$6:$N$25)-MATCH(N26,$N$6:$N$25,0)+1)))),IF((ROW(N50)-ROW($N$29))<=COUNT($N$5:$N$24),N25,IF((ROW(N50)-ROW($N$29))=COUNT($N$5:$N$24)+1,$N$25,\"\"))),1)","v":""},{"$f":"IF(AND($C$7,'Step 5 Identify & Select ASHPs'!$D$11>=4),IF('Step 5 Identify & Select ASHPs'!$I$84,IF(ROW(O26)-ROW($O$5)=COUNT($O$6:$O$25)+1,$O$5,IF(ROW(O26)-ROW($O$5)>COUNT($O$6:$O$25),\"\",INDEX($O$6:$O$25,COUNT($O$6:$O$25)+COUNTIF($O$6:$O$25,\"-\")-MATCH(N50,$N$30:$N$50,0)+1))),INDEX($O$5:$O$25,MATCH(N50,$N$5:$N$25,0))),NA())","v":""},null,null,null,null,null,null,null,null,null,null,null,null,null,{"$f":"IFERROR(IF('Step 5 Identify & Select ASHPs'!$I$27,IF((ROW(AC50)-ROW($AC$29))>COUNT($AD$6:$AD$25)+1,\"\",IF((ROW(AC50)-ROW($AC$29))=COUNT($AD$6:$AD$25)+1,$AC$5,IF(ROW(AC25)-ROW($AC$5)>COUNT($AC$6:$AC$25),\"\",SMALL($AC$6:$AC$25,COUNT($AC$6:$AC$25)-MATCH(AC26,$AC$6:$AC$25,0)+1)))),IF((ROW(AC50)-ROW($AC$29))<=COUNT($AC$5:$AC$24),AC25,IF((ROW(AC50)-ROW($AC$29))=COUNT($AC$5:$AC$24)+1,$AC$25,\"\"))),1)","v":""},{"$f":"IF(AND($C$8,'Step 5 Identify & Select ASHPs'!$D$11>=1),IF('Step 5 Identify & Select ASHPs'!$I$27,IF(ROW(AD26)-ROW($AD$5)=COUNT($AD$6:$AD$25)+1,$AD$5,IF(ROW(AD26)-ROW($AD$5)>COUNT($AD$6:$AD$25),\"\",INDEX($AD$6:$AD$25,COUNT($AD$6:$AD$25)+COUNTIF($AD$6:$AD$25,\"-\")-MATCH(AC50,$AC$30:$AC$50,0)+1))),INDEX($AD$5:$AD$25,MATCH(AC50,$AC$5:$AC$25,0))),NA())","v":""},null,{"$f":"IFERROR(IF('Step 5 Identify & Select ASHPs'!$I$46,IF((ROW(AF50)-ROW($AF$29))>COUNT($AG$6:$AG$25)+1,\"\",IF((ROW(AF50)-ROW($AF$29))=COUNT($AG$6:$AG$25)+1,$AF$5,IF(ROW(AF25)-ROW($AF$5)>COUNT($AF$6:$AF$25),\"\",SMALL($AF$6:$AF$25,COUNT($AF$6:$AF$25)-MATCH(AF26,$AF$6:$AF$25,0)+1)))),IF((ROW(AF50)-ROW($AF$29))<=COUNT($AF$5:$AF$24),AF25,IF((ROW(AF50)-ROW($AF$29))=COUNT($AF$5:$AF$24)+1,$AF$25,\"\"))),1)","v":""},{"$f":"IF(AND($C$9,'Step 5 Identify & Select ASHPs'!$D$11>=2),IF('Step 5 Identify & Select ASHPs'!$I$46,IF(ROW(AG26)-ROW($AG$5)=COUNT($AG$6:$AG$25)+1,$AG$5,IF(ROW(AG26)-ROW($AG$5)>COUNT($AG$6:$AG$25),\"\",INDEX($AG$6:$AG$25,COUNT($AG$6:$AG$25)+COUNTIF($AG$6:$AG$25,\"-\")-MATCH(AF50,$AF$30:$AF$50,0)+1))),INDEX($AG$5:$AG$25,MATCH(AF50,$AF$5:$AF$25,0))),NA())","v":""},null,{"$f":"IFERROR(IF('Step 5 Identify & Select ASHPs'!$I$65,IF((ROW(AI50)-ROW($AI$29))>COUNT($AJ$6:$AJ$25)+1,\"\",IF((ROW(AI50)-ROW($AI$29))=COUNT($AJ$6:$AJ$25)+1,$AI$5,IF(ROW(AI25)-ROW($AI$5)>COUNT($AI$6:$AI$25),\"\",SMALL($AI$6:$AI$25,COUNT($AI$6:$AI$25)-MATCH(AI26,$AI$6:$AI$25,0)+1)))),IF((ROW(AI50)-ROW($AI$29))<=COUNT($AI$5:$AI$24),AI25,IF((ROW(AI50)-ROW($AI$29))=COUNT($AI$5:$AI$24)+1,$AI$25,\"\"))),1)","v":""},{"$f":"IF(AND($C$10,'Step 5 Identify & Select ASHPs'!$D$11>=3),IF('Step 5 Identify & Select ASHPs'!$I$65,IF(ROW(AJ26)-ROW($AJ$5)=COUNT($AJ$6:$AJ$25)+1,$AJ$5,IF(ROW(AJ26)-ROW($AJ$5)>COUNT($AJ$6:$AJ$25),\"\",INDEX($AJ$6:$AJ$25,COUNT($AJ$6:$AJ$25)+COUNTIF($AJ$6:$AJ$25,\"-\")-MATCH(AI50,$AI$30:$AI$50,0)+1))),INDEX($AJ$5:$AJ$25,MATCH(AI50,$AI$5:$AI$25,0))),NA())","v":""},null,{"$f":"IFERROR(IF('Step 5 Identify & Select ASHPs'!$I$84,IF((ROW(AL50)-ROW($AL$29))>COUNT($AM$6:$AM$25)+1,\"\",IF((ROW(AL50)-ROW($AL$29))=COUNT($AM$6:$AM$25)+1,$AL$5,IF(ROW(AL25)-ROW($AL$5)>COUNT($AL$6:$AL$25),\"\",SMALL($AL$6:$AL$25,COUNT($AL$6:$AL$25)-MATCH(AL26,$AL$6:$AL$25,0)+1)))),IF((ROW(AL50)-ROW($AL$29))<=COUNT($AL$5:$AL$24),AL25,IF((ROW(AL50)-ROW($AL$29))=COUNT($AL$5:$AL$24)+1,$AL$25,\"\"))),1)","v":""},{"$f":"IF(AND($C$11,'Step 5 Identify & Select ASHPs'!$D$11>=4),IF('Step 5 Identify & Select ASHPs'!$I$84,IF(ROW(AM26)-ROW($AM$5)=COUNT($AM$6:$AM$25)+1,$AM$5,IF(ROW(AM26)-ROW($AM$5)>COUNT($AM$6:$AM$25),\"\",INDEX($AM$6:$AM$25,COUNT($AM$6:$AM$25)+COUNTIF($AM$6:$AM$25,\"-\")-MATCH(AL50,$AL$30:$AL$50,0)+1))),INDEX($AM$5:$AM$25,MATCH(AL50,$AL$5:$AL$25,0))),NA())","v":""},null,null,null,null,null,null,null,null,null,null,null,null,null,null,null,null,null,null,null,null,null,null,null,null,null,"MajorUnit",10,null,{"$f":"IF(NOT('Intro & Unit Options'!B12=\"Metric\"),10000,2)","v":10000}]
[]
[]
[null,null,null,null,null,null,null,null,null,null,null,null,null,null,null,null,null,null,null,null,null,null,null,null,null,null,null,null,null,null,null,null,null,null,null,null,null,null,null,null,null,null,null,null,null,null,null,null,null,null,null,null,null,null,null,null,null,null,null,null,null,null,null,null,null,null,null,null,null,null,null,null,null,null,null,null,{"$f":"IFERROR(IF('Load Lines Graph'!$C$18,IF('Load Lines Graph'!$C$11,OFFSET('Load Lines Graph'!$CI$29,1,0,COUNT('Load Lines Graph'!$CI$30:$CI$41),1),'Load Lines Graph'!$CI$30:$CI$41),'Load Lines Graph'!$C$13),'Load Lines Graph'!$C$13)","v":{"$error":"#N/A"}}]
[null,null,null,null,null,null,null,null,null,null,null,null,null,null,null,null,null,null,null,null,null,null,null,null,null,null,null,null,null,null,null,null,null,null,null,null,null,null,null,null,null,null,null,null,null,null,null,null,null,null,null,null,null,null,null,null,null,null,null,null,null,null,null,null,null,null,null,null,null,null,null,null,null,null,null,null,{"$error":"#N/A"}]
[null,null,null,null,null,null,null,null,null,null,null,null,null,null,null,null,null,null,null,null,null,null,null,null,null,null,null,null,null,null,null,null,null,null,null,null,null,null,null,null,null,null,null,null,null,null,null,null,null,null,null,null,null,null,null,null,null,null,null,null,null,null,null,null,null,null,null,null,null,null,null,null,null,null,null,null,{"$error":"#N/A"}]
[null,null,null,null,null,null,null,null,null,null,null,null,null,null,null,null,null,null,null,null,null,null,null,null,null,null,null,null,null,null,null,null,null,null,null,null,null,null,null,null,null,null,null,null,null,null,null,null,null,null,null,null,null,null,null,null,null,null,null,null,null,null,null,null,null,null,null,null,null,null,null,null,null,null,null,null,{"$error":"#N/A"}]
[null,null,null,null,null,null,null,null,null,null,null,null,null,null,null,null,null,null,null,null,null,null,null,null,null,null,null,null,null,null,null,null,null,null,null,null,null,null,null,null,null,null,null,null,null,null,null,null,null,null,null,null,null,null,null,null,null,null,null,null,null,null,null,null,null,null,null,null,null,null,null,null,null,null,null,null,{"$error":"#N/A"}]
[null,null,null,null,null,null,null,null,null,null,null,null,null,null,null,null,null,null,null,null,null,null,null,null,null,null,null,null,null,null,null,null,null,null,null,null,null,null,null,null,null,null,null,null,null,null,null,null,null,null,null,null,null,null,null,null,null,null,null,null,null,null,null,null,null,null,null,null,null,null,null,null,null,null,null,null,{"$error":"#N/A"}]
[null,null,null,null,null,null,null,null,null,null,null,null,null,null,null,null,null,null,null,null,null,null,null,null,null,null,null,null,null,null,null,null,null,null,null,null,null,null,null,null,null,null,null,null,null,null,null,null,null,null,null,null,null,null,null,null,null,null,null,null,null,null,null,null,null,null,null,null,null,null,null,null,null,null,null,null,{"$error":"#N/A"}]
[null,null,null,null,null,null,null,null,null,null,null,null,null,null,null,null,null,null,null,null,null,null,null,null,null,null,null,null,null,null,null,null,null,null,null,null,null,null,null,null,null,null,null,null,null,null,null,null,null,null,null,null,null,null,null,null,null,null,null,null,null,null,null,null,null,null,null,null,null,null,null,null,null,null,null,null,{"$error":"#N/A"}]
[null,null,null,null,null,null,null,null,null,null,null,null,null,null,null,null,null,null,null,null,null,null,null,null,null,null,null,null,null,null,null,null,null,null,null,null,null,null,null,null,null,null,null,null,null,null,null,null,null,null,null,null,null,null,null,null,null,null,null,null,null,null,null,null,null,null,null,null,null,null,null,null,null,null,null,null,{"$error":"#N/A"}]
[null,null,null,null,null,null,null,null,null,null,null,null,null,null,null,null,null,null,null,null,null,null,null,null,null,null,null,null,null,null,null,null,null,null,null,null,null,null,null,null,null,null,null,null,null,null,null,null,null,null,null,null,null,null,null,null,null,null,null,null,null,null,null,null,null,null,null,null,null,null,null,null,null,null,null,null,{"$error":"#N/A"}]
[null,null,null,null,null,null,null,null,null,null,null,null,null,null,null,null,null,null,null,null,null,null,null,null,null,null,null,null,null,null,null,null,null,null,null,null,null,null,null,null,null,null,null,null,null,null,null,null,null,null,null,null,null,null,null,null,null,null,null,null,null,null,null,null,null,null,null,null,null,null,null,null,null,null,null,null,{"$error":"#N/A"}]
[null,null,null,null,null,null,null,null,null,null,null,null,null,null,null,null,null,null,null,null,null,null,null,null,null,null,null,null,null,null,null,null,null,null,null,null,null,null,null,null,null,null,null,null,null,null,null,null,null,null,null,null,null,null,null,null,null,null,null,null,null,null,null,null,null,null,null,null,null,null,null,null,null,null,null,null,{"$error":"#N/A"}]

{"sheet":"Fraction of Total Heat Graph","index":27,"n_rows":20,"n_cols":15,"rows_kept":20,"cut":false,"hidden":true,"merged":[[1,1,1,2],[1,4,1,5],[1,7,1,8],[1,10,1,11],[1,13,1,14]]}
[]
[null,"Climate",null,null,"HS BPT HP1",null,null,"HS BPT HP2",null,null,"HS BPT HP3",null,null,"HS BPT HP4"]
[null,"Temp.",{"$f":"CONCATENATE('Step 3 Design Loads'!B8,\" Climate\")","v":"Cold-Humid Climate"},null,"Temp.","Cap. ",null,"Temp.","Cap. ",null,"Temp.","Cap. ",null,"Temp.","Cap. "]
[null,{"$f":"'Load %s'!B8","v":-23},{"$f":"INDIRECT(CONCATENATE(IFERROR(SUBSTITUTE('Step 3 Design Loads'!B8,\"-\",\"\"),'Step 3 Design Loads'!B8),\"_Load\"))","v":1.0000000000000002},null,{"$f":"IFERROR(IF('Step 5 Identify & Select ASHPs'!$I$27,'HP1 Calcs'!$N$15,'HP1'!$J$9),NA())","v":"None"},{"$f":"IF('Load Lines Graph'!C4,IF('Step 5 Identify & Select ASHPs'!$D$11>=1,0,NA()),NA())","v":0},null,{"$f":"IFERROR(IF('Step 5 Identify & Select ASHPs'!$I$46,'HP2 Calcs'!$N$15,'HP2'!$J$9),NA())","v":"None"},{"$f":"IF('Load Lines Graph'!C5,IF('Step 5 Identify & Select ASHPs'!$D$11>=2,0,NA()),NA())","v":0},null,{"$f":"IFERROR(IF('Step 5 Identify & Select ASHPs'!$I$65,'HP3 Calcs'!$N$15,'HP3'!$J$9),NA())","v":"None"},{"$f":"IF('Load Lines Graph'!C6,IF('Step 5 Identify & Select ASHPs'!$D$11>=3,0,NA()),NA())","v":0},null,{"$f":"IFERROR(IF('Step 5 Identify & Select ASHPs'!$I$84,'HP4 Calcs'!$N$15,'HP4'!$J$9),NA())","v":"None"},{"$f":"IF('Load Lines Graph'!C7,IF('Step 5 Identify & Select ASHPs'!$D$11>=4,0,NA()),NA())","v":0}]
[null,{"$f":"'Load %s'!B9","v":-18},1.0000000000000002,null,{"$f":"IFERROR(IF('Step 5 Identify & Select ASHPs'!$I$27,'HP1 Calcs'!$N$15,'HP1'!$J$9),NA())","v":"None"},{"$f":"IF('Load Lines Graph'!C4,IFERROR(IF('Step 5 Identify & Select ASHPs'!$D$11>=1,IF('Step 5 Identify & Select ASHPs'!$I$27,'HP1 Calcs'!$N$17,'HP1'!$J$10),NA()),NA()),NA())","v":{"$error":"#N/A"}},null,{"$f":"IFERROR(IF('Step 5 Identify & Select ASHPs'!$I$46,'HP2 Calcs'!$N$15,'HP2'!$J$9),NA())","v":"None"},{"$f":"IF('Load Lines Graph'!C5,IFERROR(IF('Step 5 Identify & Select ASHPs'!$D$11>=2,IF('Step 5 Identify & Select ASHPs'!$I$46,'HP2 Calcs'!$N$17,'HP2'!$J$10),NA()),NA()),NA())","v":{"$error":"#N/A"}},null,{"$f":"IFERROR(IF('Step 5 Identify & Select ASHPs'!$I$65,'HP3 Calcs'!$N$15,'HP3'!$J$9),NA())","v":"None"},{"$f":"IF('Load Lines Graph'!C6,IFERROR(IF('Step 5 Identify & Select ASHPs'!$D$11>=3,IF('Step 5 Identify & Select ASHPs'!$I$65,'HP3 Calcs'!$N$17,'HP3'!$J$10),NA()),NA()),NA())","v":{"$error":"#N/A"}},null,{"$f":"IFERROR(IF('Step 5 Identify & Select ASHPs'!$I$84,'HP4 Calcs'!$N$15,'HP4'!$J$9),NA())","v":"None"},{"$f":"IF('Load Lines Graph'!C7,IFERROR(IF('Step 5 Identify & Select ASHPs'!$D$11>=4,IF('Step 5 Identify & Select ASHPs'!$I$84,'HP4 Calcs'!$N$17,'HP4'!$J$10),NA()),NA()),NA())","v":{"$error":"#N/A"}}]
[null,{"$f":"'Load %s'!B10","v":-13},0.99424609029212174,null,"HP1 High t-BPT",null,null,"HP2 High t-BPT",null,null,"HP3 High t-BPT",null,null,"HP4 High t-BPT"]
[null,{"$f":"'Load %s'!B11","v":-8},0.98616848627913856]
[null,{"$f":"'Load %s'!B12","v":-3},0.96861168486279159]
[null,{"$f":"'Load %s'!B13","v":2},0.94537474181174408]
[null,{"$f":"'Load %s'!B14","v":7},0.9025892593685455]
[null,{"$f":"'Load %s'!B15","v":12},0.84589849513130733]
[null,{"$f":"'Load %s'!B16","v":17},0.77331071112422556]
[null,{"$f":"'Load %s'!B17","v":22},0.67497786957804673]
[null,{"$f":"'Load %s'!B18","v":27},0.57546473886102101]
[null,{"$f":"'Load %s'!B19","v":32},0.43427264679846561]
[null,{"$f":"'Load %s'!B20","v":37},0.27935969312481557]
[null,{"$f":"'Load %s'!B21","v":42},0.15126143405134257]
[null,{"$f":"'Load %s'!B22","v":47},8.2214517556801411E-2]
[null,{"$f":"'Load %s'!B23","v":52},2.7552375331956327E-2]
[null,{"$f":"'Load %s'!B24","v":57},4.5367365004426088E-3]

{"sheet":"Control Strategy Calcs","index":28,"n_rows":81,"n_cols":25,"rows_kept":81,"cut":false,"hidden":true,"merged":[]}
["Temperature","Actual Capacity","Actual Power","Actual COP",null,null,"Heat pump selected ",{"$f":"H2","v":"HP#1"}]
[{"$f":"IF(INDIRECT(CONCATENATE(\"'Step 5 Identify & Select ASHPs'!$I$\",27+(RIGHT($H$2,1)-1)*19)),IF(INDIRECT(CONCATENATE(\"'HP\",RIGHT($H$2,1),\" Calcs'!B\",16+ROW(A1)-1))=\"\",NA(),INDIRECT(CONCATENATE(\"'HP\",RIGHT($H$2,1),\" Calcs'!B\",16+ROW(A1)-1))),IF(INDIRECT(CONCATENATE(\"'HP\",RIGHT($H$2,1),\"'!B\",10+ROW(A1)-1))=\"\",NA(),INDIRECT(CONCATENATE(\"'HP\",RIGHT($H$2,1),\"'!B\",10+ROW(A1)-1))))","v":47},{"$f":"IF(INDIRECT(CONCATENATE(\"'Step 5 Identify & Select ASHPs'!$I$\",27+(RIGHT($H$2,1)-1)*19)),IF(INDIRECT(CONCATENATE(\"'HP\",RIGHT($H$2,1),\" Calcs'!G\",16+ROW(A1)-1))=\"\",NA(),INDIRECT(CONCATENATE(\"'HP\",RIGHT($H$2,1),\" Calcs'!G\",16+ROW(A1)-1))),IF(INDIRECT(CONCATENATE(\"'HP\",RIGHT($H$2,1),\"'!C\",10+ROW(A1)-1))=\"\",NA(),INDIRECT(CONCATENATE(\"'HP\",RIGHT($H$2,1),\"'!C\",10+ROW(A1)-1))))","v":0},{"$f":"IF(INDIRECT(CONCATENATE(\"'Step 5 Identify & Select ASHPs'!$I$\",27+(RIGHT($H$2,1)-1)*19)),IF(INDIRECT(CONCATENATE(\"'HP\",RIGHT($H$2,1),\" Calcs'!H\",16+ROW(A1)-1))=\"\",NA(),INDIRECT(CONCATENATE(\"'HP\",RIGHT($H$2,1),\" Calcs'!H\",16+ROW(A1)-1))),IF(INDIRECT(CONCATENATE(\"'HP\",RIGHT($H$2,1),\"'!D\",10+ROW(A1)-1))=\"\",NA(),INDIRECT(CONCATENATE(\"'HP\",RIGHT($H$2,1),\"'!D\",10+ROW(A1)-1))))","v":0},{"$f":"IF(INDIRECT(CONCATENATE(\"'Step 5 Identify & Select ASHPs'!$I$\",27+(RIGHT($H$2,1)-1)*19)),IF(INDIRECT(CONCATENATE(\"'HP\",RIGHT($H$2,1),\" Calcs'!I\",16+ROW(A1)-1))=\"\",NA(),INDIRECT(CONCATENATE(\"'HP\",RIGHT($H$2,1),\" Calcs'!I\",16+ROW(A1)-1))),IF(INDIRECT(CONCATENATE(\"'HP\",RIGHT($H$2,1),\"'!E\",10+ROW(A1)-1))=\"\",NA(),INDIRECT(CONCATENATE(\"'HP\",RIGHT($H$2,1),\"'!E\",10+ROW(A1)-1))))","v":{"$error":"#N/A"}},{"$f":"IFERROR(D2,\"\")","v":""},null,null,{"$f":"'Step 6 Control Strategy'!B8","v":"HP#1"},{"$f":"IF(INDIRECT(CONCATENATE(\"'Step 5 Identify & Select ASHPs'!$I$\",27+(RIGHT($H$2,1)-1)*19)),FALSE,\"User Input Curve\")","v":"User Input Curve"}]
[{"$f":"IF(INDIRECT(CONCATENATE(\"'Step 5 Identify & Select ASHPs'!$I$\",27+(RIGHT($H$2,1)-1)*19)),IF(INDIRECT(CONCATENATE(\"'HP\",RIGHT($H$2,1),\" Calcs'!B\",16+ROW(A2)-1))=\"\",NA(),INDIRECT(CONCATENATE(\"'HP\",RIGHT($H$2,1),\" Calcs'!B\",16+ROW(A2)-1))),IF(INDIRECT(CONCATENATE(\"'HP\",RIGHT($H$2,1),\"'!B\",10+ROW(A2)-1))=\"\",NA(),INDIRECT(CONCATENATE(\"'HP\",RIGHT($H$2,1),\"'!B\",10+ROW(A2)-1))))","v":17},{"$f":"IF(INDIRECT(CONCATENATE(\"'Step 5 Identify & Select ASHPs'!$I$\",27+(RIGHT($H$2,1)-1)*19)),IF(INDIRECT(CONCATENATE(\"'HP\",RIGHT($H$2,1),\" Calcs'!G\",16+ROW(A2)-1))=\"\",NA(),INDIRECT(CONCATENATE(\"'HP\",RIGHT($H$2,1),\" Calcs'!G\",16+ROW(A2)-1))),IF(INDIRECT(CONCATENATE(\"'HP\",RIGHT($H$2,1),\"'!C\",10+ROW(A2)-1))=\"\",NA(),INDIRECT(CONCATENATE(\"'HP\",RIGHT($H$2,1),\"'!C\",10+ROW(A2)-1))))","v":0},{"$f":"IF(INDIRECT(CONCATENATE(\"'Step 5 Identify & Select ASHPs'!$I$\",27+(RIGHT($H$2,1)-1)*19)),IF(INDIRECT(CONCATENATE(\"'HP\",RIGHT($H$2,1),\" Calcs'!H\",16+ROW(A2)-1))=\"\",NA(),INDIRECT(CONCATENATE(\"'HP\",RIGHT($H$2,1),\" Calcs'!H\",16+ROW(A2)-1))),IF(INDIRECT(CONCATENATE(\"'HP\",RIGHT($H$2,1),\"'!D\",10+ROW(A2)-1))=\"\",NA(),INDIRECT(CONCATENATE(\"'HP\",RIGHT($H$2,1),\"'!D\",10+ROW(A2)-1))))","v":0},{"$f":"IF(INDIRECT(CONCATENATE(\"'Step 5 Identify & Select ASHPs'!$I$\",27+(RIGHT($H$2,1)-1)*19)),IF(INDIRECT(CONCATENATE(\"'HP\",RIGHT($H$2,1),\" Calcs'!I\",16+ROW(A2)-1))=\"\",NA(),INDIRECT(CONCATENATE(\"'HP\",RIGHT($H$2,1),\" Calcs'!I\",16+ROW(A2)-1))),IF(INDIRECT(CONCATENATE(\"'HP\",RIGHT($H$2,1),\"'!E\",10+ROW(A2)-1))=\"\",NA(),INDIRECT(CONCATENATE(\"'HP\",RIGHT($H$2,1),\"'!E\",10+ROW(A2)-1))))","v":{"$error":"#N/A"}},{"$f":"IFERROR(D3,\"\")","v":""},{"$f":"\"Fuel Price (\"&G4&\")\"","v":"Fuel Price (cents/m3)"},null,"HP cut off temp",null,"ASHP Cut-Off",null,null,null,null,null,null,null,null,null,null,"HP1 cut-off temp"]
[{"$error":"#N/A"},{"$error":"#N/A"},{"$error":"#N/A"},{"$error":"#N/A"},"",{"$f":"'Step 6 Control Strategy'!B20","v":28},{"$f":"IF('Step 6 Control Strategy'!$B$19=\"Electricity\",\"$/kWh\",'Step 6 Control Strategy'!C20)","v":"cents/m3"},{"$f":"IF(H2=Dropdown_Menus!T20,U4,IF(H2=Dropdown_Menus!T21,U6,IF(H2=Dropdown_Menus!T22,U8,IF(H2=Dropdown_Menus!T23,U10))))","v":0},null,{"$f":"IF(I2=\"User Input Curve\",H4,IF(OR('Step 6 Control Strategy'!B9=\"Option A1: ASHP Cut-Off Temperature\",AND(IFERROR(J8=\"\",IFERROR(M8=\"\",IFERROR(P8=\"\",TRUE))),OR('Step 6 Control Strategy'!B9=\"Option A2: Economic Cut-Off Temperature\",'Step 6 Control Strategy'!B9=\"Option B2: Economic Cut-Off Temperature\"),H4>'Step 3 Design Loads'!B13)),IF(H2=Dropdown_Menus!T20,IF(OR('Step 5 Identify & Select ASHPs'!B26=\"Single Speed\",'Step 5 Identify & Select ASHPs'!B26=\"Two-Stage\",AND('Step 5 Identify & Select ASHPs'!B26=\"Regular Variable\",'Step 5 Identify & Select ASHPs'!B25=\"Single Split Ductless\")),A6,IF(OR('Step 5 Identify & Select ASHPs'!B26=\"Variable\",AND('Step 5 Identify & Select ASHPs'!B26=\"Cold Climate Variable\",'Step 5 Identify & Select ASHPs'!B25=\"Multi-Split Ductless\")),A5,IF(AND('Step 5 Identify & Select ASHPs'!B26=\"Cold Climate Variable\",'Step 5 Identify & Select ASHPs'!B25=\"Single Split Ductless\"),A4,IF(AND('Step 5 Identify & Select ASHPs'!B26=\"Regular Variable\",'Step 5 Identify & Select ASHPs'!B25=\"Multi-Split Ductless\"),A8,\"\")))),IF(H2=Dropdown_Menus!T21,IF(OR('Step 5 Identify & Select ASHPs'!G26=\"Single Speed\",'Step 5 Identify & Select ASHPs'!G26=\"Two-Stage\",AND('Step 5 Identify & Select ASHPs'!BG4=\"Regular Variable\",'Step 5 Identify & Select ASHPs'!B25=\"Single Split Ductless\")),A6,IF(OR('Step 5 Identify & Select ASHPs'!G26=\"Variable\",AND('Step 5 Identify & Select ASHPs'!G26=\"Cold Climate Variable\",'Step 5 Identify & Select ASHPs'!B25=\"Multi-Split Ductless\")),A5,IF(AND('Step 5 Identify & Select ASHPs'!G26=\"Cold Climate Variable\",'Step 5 Identify & Select ASHPs'!B25=\"Single Split Ductless\"),A4,IF(AND('Step 5 Identify & Select ASHPs'!G26=\"Regular Variable\",'Step 5 Identify & Select ASHPs'!B25=\"Multi-Split Ductless\"),A8,\"\")))),IF(H2=Dropdown_Menus!T22,IF(OR('Step 5 Identify & Select ASHPs'!L26=\"Single Speed\",'Step 5 Identify & Select ASHPs'!L26=\"Two-Stage\",AND('Step 5 Identify & Select ASHPs'!L26=\"Regular Variable\",'Step 5 Identify & Select ASHPs'!B25=\"Single Split Ductless\")),A6,IF(OR('Step 5 Identify & Select ASHPs'!L26=\"Variable\",AND('Step 5 Identify & Select ASHPs'!L26=\"Cold Climate Variable\",'Step 5 Identify & Select ASHPs'!B25=\"Multi-Split Ductless\")),A5,IF(AND('Step 5 Identify & Select ASHPs'!L26=\"Cold Climate Variable\",'Step 5 Identify & Select ASHPs'!B25=\"Single Split Ductless\"),A4,IF(AND('Step 5 Identify & Select ASHPs'!L26=\"Regular Variable\",'Step 5 Identify & Select ASHPs'!B25=\"Multi-Split Ductless\"),'Control Strategy Calcs'!A8,\"\")))),IF(H2=Dropdown_Menus!T23,IF(OR('Step 5 Identify & Select ASHPs'!Q26=\"Single Speed\",'Step 5 Identify & Select ASHPs'!Q26=\"Two-Stage\",AND('Step 5 Identify & Select ASHPs'!Q26=\"Regular Variable\",'Step 5 Identify & Select ASHPs'!B25=\"Single Split Ductless\")),A6,IF(OR('Step 5 Identify & Select ASHPs'!Q26=\"Variable\",AND('Step 5 Identify & Select ASHPs'!Q26=\"Cold Climate Variable\",'Step 5 Identify & Select ASHPs'!B25=\"Multi-Split Ductless\")),A5,IF(AND('Step 5 Identify & Select ASHPs'!Q26=\"Cold Climate Variable\",'Step 5 Identify & Select ASHPs'!B25=\"Single Split Ductless\"),A4,IF(AND('Step 5 Identify & Select ASHPs'!Q26=\"Regular Variable\",'Step 5 Identify & Select ASHPs'!B25=\"Multi-Split Ductless\"),'Control Strategy Calcs'!A8,\"\")))))))),NA()))","v":0},{"$f":"IF(I2=\"User Input Curve\",H5,('Design Load Calcs'!G23*'Control Strategy Calcs'!J4+'Design Load Calcs'!H23))","v":0},null,null,null,null,null,null,null,null,{"$f":"IF('Step 5 Identify & Select ASHPs'!$I$27,FALSE,'HP1'!$C$30)","v":0},{"$f":"'Step 5 Identify & Select ASHPs'!E31","v":0},{"$f":"IF(OR('Step 5 Identify & Select ASHPs'!E33=\"Single Speed\",'Step 5 Identify & Select ASHPs'!E33=\"Two-Stage\",AND('Step 5 Identify & Select ASHPs'!E33=\"Regular Variable\",'Step 5 Identify & Select ASHPs'!E32=\"Single Split Ductless\")),Y4,IF(OR('Step 5 Identify & Select ASHPs'!E33=\"Variable\",AND('Step 5 Identify & Select ASHPs'!E33=\"Cold Climate Variable\",'Step 5 Identify & Select ASHPs'!E32=\"Multi-Split Ductless\")),Y5,IF(AND('Step 5 Identify & Select ASHPs'!E33=\"Cold Climate Variable\",'Step 5 Identify & Select ASHPs'!E32=\"Single Split Ductless\"),Y6,IF(AND('Step 5 Identify & Select ASHPs'!E33=\"Regular Variable\",'Step 5 Identify & Select ASHPs'!E32=\"Multi-Split Ductless\"),Y7,\"\"))))","v":-8},null,-3,{"$f":"IF('Intro & Unit Options'!$B$12=\"Metric\",(X4-32)*(5/9),X4)","v":-3}]
[{"$error":"#N/A"},{"$error":"#N/A"},{"$error":"#N/A"},{"$error":"#N/A"},"",null,null,{"$f":"IF(H2=Dropdown_Menus!T20,T4,IF(H2=Dropdown_Menus!T21,T6,IF(H2=Dropdown_Menus!T22,T8,IF(H2=Dropdown_Menus!T23,T10))))","v":0},null,{"$f":"J4","v":0},0,null,null,null,null,null,null,null,null,null,"HP2 cut-off temp",null,null,-8,{"$f":"IF('Intro & Unit Options'!$B$12=\"Metric\",(X5-32)*(5/9),X5)","v":-8}]
[{"$error":"#N/A"},{"$error":"#N/A"},{"$error":"#N/A"},{"$error":"#N/A"},"","Electricity Price",null,null,null,null,null,null,null,null,null,null,null,null,null,{"$f":"IF('Step 5 Identify & Select ASHPs'!$I$46,FALSE,'HP2'!$C$30)","v":0},{"$f":"'Step 5 Identify & Select ASHPs'!E50","v":0},{"$f":"IF(OR('Step 5 Identify & Select ASHPs'!E52=\"Single Speed\",'Step 5 Identify & Select ASHPs'!E52=\"Two-Stage\",AND('Step 5 Identify & Select ASHPs'!E52=\"Regular Variable\",'Step 5 Identify & Select ASHPs'!E51=\"Single Split Ductless\")),Y4,IF(OR('Step 5 Identify & Select ASHPs'!E52=\"Variable\",AND('Step 5 Identify & Select ASHPs'!E52=\"Cold Climate Variable\",'Step 5 Identify & Select ASHPs'!E51=\"Multi-Split Ductless\")),Y5,IF(AND('Step 5 Identify & Select ASHPs'!E52=\"Cold Climate Variable\",'Step 5 Identify & Select ASHPs'!E51=\"Single Split Ductless\"),Y6,IF(AND('Step 5 Identify & Select ASHPs'!E52=\"Regular Variable\",'Step 5 Identify & Select ASHPs'!E51=\"Multi-Split Ductless\"),Y7,\"\"))))","v":-8},null,-13,{"$f":"IF('Intro & Unit Options'!$B$12=\"Metric\",(X6-32)*(5/9),X6)","v":-13}]
[{"$error":"#N/A"},{"$error":"#N/A"},{"$error":"#N/A"},{"$error":"#N/A"},"",{"$f":"'Step 6 Control Strategy'!B25","v":15},null,null,null,{"$f":"IF(AND(F8=0,F9=0),\"Economic Cut Off\",IF('Step 6 Control Strategy'!$B$23=\"Time of Use\",\"Economic Cut Off (On Peak)\",\"Economic Cut Off (High Tier)\"))","v":"Economic Cut Off (On Peak)"},null,null,{"$f":"IF(AND('Step 6 Control Strategy'!B24=2,'Step 6 Control Strategy'!$B$23=\"Time of Use\"),\"Economic Cut Off (Off Peak)\",IF('Step 6 Control Strategy'!$B$23=\"Time of Use\",\"Economic Cut Off (Mid Peak)\",\"\"))&IF(AND('Step 6 Control Strategy'!B24=2,'Step 6 Control Strategy'!$B$23=\"Tiered\"),\"Economic Cut Off (Low Tier)\",IF('Step 6 Control Strategy'!$B$23=\"Tiered\",\"Economic Cut Off (Mid Tier)\",\"\"))","v":"Economic Cut Off (Mid Peak)"},null,null,{"$f":"IF(AND('Step 6 Control Strategy'!B24=3,'Step 6 Control Strategy'!$B$23=\"Time of Use\"),\"Economic Cut Off (Off Peak)\",IF('Step 6 Control Strategy'!$B$23=\"Time of Use\",\"Economic Cut Off (Mid Peak)\",\"\"))&IF(AND('Step 6 Control Strategy'!B24=3,'Step 6 Control Strategy'!$B$23=\"Tiered\"),\"Economic Cut Off (Low Tier)\",IF('Step 6 Control Strategy'!$B$23=\"Tiered\",\"Economic Cut Off (Mid Tier)\",\"\"))","v":"Economic Cut Off (Off Peak)"},null,null,null,null,"HP3 cut-off temp",null,null,7,{"$f":"IF('Intro & Unit Options'!$B$12=\"Metric\",(X7-32)*(5/9),X7)","v":7}]
[{"$error":"#N/A"},{"$error":"#N/A"},{"$error":"#N/A"},{"$error":"#N/A"},"",{"$f":"IF(OR('Step 6 Control Strategy'!B23=Dropdown_Menus!T14,'Step 6 Control Strategy'!B23=Dropdown_Menus!T13),'Step 6 Control Strategy'!B26,0)","v":10},null,null,null,{"$f":"IFERROR(IF(F25<'Step 3 Design Loads'!B13,NA(),F25),NA())","v":{"$error":"#N/A"}},{"$f":"IF(($J$14*J8+$K$14)>($J$18*J8+$K$18),($J$14*J8+$K$14),((F35-INDEX(A2:A31,F31))*(INDEX(B2:B31,F32)-INDEX(B2:B31,F31)))/(INDEX(A2:A31,F32)-INDEX(A2:A31,F31))+INDEX(B2:B31,F31))","v":{"$error":"#N/A"}},null,{"$f":"IFERROR(IF(F26<'Step 3 Design Loads'!B13,NA(),F26),NA())","v":{"$error":"#N/A"}},{"$f":"IF(($J$14*M8+$K$14)>($J$18*M8+$K$18),($J$14*M8+$K$14),IF(I2=\"User Input Curve\",($J$18*M8+$K$18),IF(INDEX($B$2:$B$18,G32)<0,J18*M8+K18,INDEX($B$2:$B$18,G32))))","v":{"$error":"#N/A"}},null,{"$f":"IFERROR(IF(F27<'Step 3 Design Loads'!B13,NA(),F27),NA())","v":{"$error":"#N/A"}},{"$f":"IF(($J$14*P8+$K$14)>($J$18*P8+$K$18),($J$14*P8+$K$14),IF(OR(INDEX($B$2:$B$31,H32)<0,I2=\"User Input Curve\"),($J$18*P8+$K$18),INDEX($B$2:$B$31,H32)))","v":{"$error":"#N/A"}},null,null,{"$f":"IF('Step 5 Identify & Select ASHPs'!$I$65,FALSE,'HP3'!$C$30)","v":0},{"$f":"'Step 5 Identify & Select ASHPs'!E69","v":0},{"$f":"IF(OR('Step 5 Identify & Select ASHPs'!E71=\"Single Speed\",'Step 5 Identify & Select ASHPs'!E71=\"Two-Stage\",AND('Step 5 Identify & Select ASHPs'!E71=\"Regular Variable\",'Step 5 Identify & Select ASHPs'!E70=\"Single Split Ductless\")),Y4,IF(OR('Step 5 Identify & Select ASHPs'!E71=\"Variable\",AND('Step 5 Identify & Select ASHPs'!E71=\"Cold Climate Variable\",'Step 5 Identify & Select ASHPs'!E70=\"Multi-Split Ductless\")),Y5,IF(AND('Step 5 Identify & Select ASHPs'!E71=\"Cold Climate Variable\",'Step 5 Identify & Select ASHPs'!E70=\"Single Split Ductless\"),Y6,IF(AND('Step 5 Identify & Select ASHPs'!E71=\"Regular Variable\",'Step 5 Identify & Select ASHPs'!E70=\"Multi-Split Ductless\"),Y7,\"\"))))","v":-3}]
[{"$error":"#N/A"},{"$error":"#N/A"},{"$error":"#N/A"},{"$error":"#N/A"},"",{"$f":"IF(AND(OR('Step 6 Control Strategy'!B23=Dropdown_Menus!T14,'Step 6 Control Strategy'!B23=Dropdown_Menus!T13),'Step 6 Control Strategy'!B24>2),'Step 6 Control Strategy'!B27,0)","v":8},null,null,null,{"$f":"J8","v":{"$error":"#N/A"}},0,null,{"$f":"M8","v":{"$error":"#N/A"}},0,null,{"$f":"P8","v":{"$error":"#N/A"}},0,null,null,null,"HP4 cut-off temp"]
[{"$error":"#N/A"},{"$error":"#N/A"},{"$error":"#N/A"},{"$error":"#N/A"},"",{"$f":"IF(AND(OR('Step 6 Control Strategy'!B23=Dropdown_Menus!T14,'Step 6 Control Strategy'!B23=Dropdown_Menus!T13),'Step 6 Control Strategy'!B24>3),'Step 6 Control Strategy'!B28,0)","v":0},null,null,null,null,null,null,null,null,null,null,null,null,null,{"$f":"IF('Step 5 Identify & Select ASHPs'!$I$84,FALSE,'HP4'!$C$30)","v":0},{"$f":"'Step 5 Identify & Select ASHPs'!E88","v":0},{"$f":"IF(OR('Step 5 Identify & Select ASHPs'!E90=\"Single Speed\",'Step 5 Identify & Select ASHPs'!E90=\"Two-Stage\",AND('Step 5 Identify & Select ASHPs'!E90=\"Regular Variable\",'Step 5 Identify & Select ASHPs'!E89=\"Single Split Ductless\")),Y4,IF(OR('Step 5 Identify & Select ASHPs'!E90=\"Variable\",AND('Step 5 Identify & Select ASHPs'!E90=\"Cold Climate Variable\",'Step 5 Identify & Select ASHPs'!E89=\"Multi-Split Ductless\")),Y5,IF(AND('Step 5 Identify & Select ASHPs'!E90=\"Cold Climate Variable\",'Step 5 Identify & Select ASHPs'!E89=\"Single Split Ductless\"),Y6,IF(AND('Step 5 Identify & Select ASHPs'!E90=\"Regular Variable\",'Step 5 Identify & Select ASHPs'!E89=\"Multi-Split Ductless\"),Y7,\"\"))))","v":-8}]
[{"$error":"#N/A"},{"$error":"#N/A"},{"$error":"#N/A"},{"$error":"#N/A"},"",{"$f":"IF(AND(OR('Step 6 Control Strategy'!B23=Dropdown_Menus!T14,'Step 6 Control Strategy'!B23=Dropdown_Menus!T13),'Step 6 Control Strategy'!B24>4),'Step 6 Control Strategy'!B29,0)","v":0}]
[{"$error":"#N/A"},{"$error":"#N/A"},{"$error":"#N/A"},{"$error":"#N/A"},"",null,null,null,null,"equation of line for heating load"]
[{"$error":"#N/A"},{"$error":"#N/A"},{"$error":"#N/A"},{"$error":"#N/A"},"",null,null,null,null,"a","b",null,{"$f":"IFERROR(IF((IF('Intro & Unit Options'!B12=\"Metric\",15.56,60)-T14)/3+T14<(IF('Intro & Unit Options'!B12=\"Metric\",15.56,60)-J8)/3+J8,(IF('Intro & Unit Options'!B12=\"Metric\",15.56,60)-J8)/3+J8,IFERROR((IF('Intro & Unit Options'!B12=\"Metric\",15.56,60)-T14)/3+T14,IFERROR((IF('Intro & Unit Options'!B12=\"Metric\",15.56,60)-J8)/3+J8,IFERROR((IF('Intro & Unit Options'!B12=\"Metric\",15.56,60)-J4)/3+J4,(IF('Intro & Unit Options'!B12=\"Metric\",15.56,60)-A13)/3+A13)))),IFERROR((IF('Intro & Unit Options'!B12=\"Metric\",15.56,60)-T14)/3+T14,IFERROR((IF('Intro & Unit Options'!B12=\"Metric\",15.56,60)-J8)/3+J8,IFERROR((IF('Intro & Unit Options'!B12=\"Metric\",15.56,60)-J4)/3+J4,(IF('Intro & Unit Options'!B12=\"Metric\",15.56,60)-A13)/3+A13))))","v":20},{"$f":"(J14*M13+K14)/2","v":16666.666666666664},null,null,null,null,null,{"$f":"IFERROR(CONCATENATE(\"t-BPT = \",ROUND(IF(INDIRECT(CONCATENATE(\"'Step 5 Identify & Select ASHPs'!$I$\",27+(RIGHT($H$2,1)-1)*19)),INDIRECT(CONCATENATE(\"'HP\",RIGHT($H$2,1),\" Calcs'!N15\")),INDIRECT(CONCATENATE(\"'HP\",RIGHT($H$2,1),\"'!J9\"))),0),\"F\"),NA())","v":{"$error":"#N/A"}},null,{"$f":"CONCATENATE(\"HP\",RIGHT($H$2,1))","v":"HP1"}]
[{"$error":"#N/A"},{"$error":"#N/A"},{"$error":"#N/A"},{"$error":"#N/A"},"",null,null,null,null,{"$f":"'Design Load Calcs'!G23","v":-833.33333333333337},{"$f":"'Design Load Calcs'!H23","v":50000},null,null,null,null,null,null,null,null,{"$f":"IFERROR(IF(INDIRECT(CONCATENATE(\"'Step 5 Identify & Select ASHPs'!$I$\",27+(RIGHT($H$2,1)-1)*19)),INDIRECT(CONCATENATE(\"'HP\",RIGHT($H$2,1),\" Calcs'!N15\")),INDIRECT(CONCATENATE(\"'HP\",RIGHT($H$2,1),\"'!J9\"))),NA())","v":"None"},{"$f":"IFERROR(IF(INDIRECT(CONCATENATE(\"'Step 5 Identify & Select ASHPs'!$I$\",27+(RIGHT($H$2,1)-1)*19)),INDIRECT(CONCATENATE(\"'HP\",RIGHT($H$2,1),\" Calcs'!N16\")),INDIRECT(CONCATENATE(\"'HP\",RIGHT($H$2,1),\"'!J11\"))),NA())","v":"None"}]
[{"$error":"#N/A"},{"$error":"#N/A"},{"$error":"#N/A"},{"$error":"#N/A"},"",null,null,null,null,null,null,null,null,null,null,null,null,null,null,{"$f":"IFERROR(IF(INDIRECT(CONCATENATE(\"'Step 5 Identify & Select ASHPs'!$I$\",27+(RIGHT($H$2,1)-1)*19)),INDIRECT(CONCATENATE(\"'HP\",RIGHT($H$2,1),\" Calcs'!N15\")),INDIRECT(CONCATENATE(\"'HP\",RIGHT($H$2,1),\"'!J9\"))),NA())","v":"None"},0]
[{"$error":"#N/A"},{"$error":"#N/A"},{"$error":"#N/A"},{"$error":"#N/A"},"",null,null,null,null,"equation of line for HP",null,null,{"$f":"IF(IFERROR(M19,-101)<-100,IF(T14<IFERROR(J8,IFERROR(M8,IFERROR(P8,IFERROR(Q29,IFERROR(Q33,H4))))),NA(),IFERROR(IF(OR('Step 6 Control Strategy'!$B$9=\"Option A1: ASHP Cut-Off Temperature\",'Step 6 Control Strategy'!$B$9=\"Option B1: ASHP Cut-Off Temperature\",AND(OR('Step 6 Control Strategy'!$B$9=\"Option A2: Economic Cut-Off Temperature\",'Step 6 Control Strategy'!$B$9=\"Option B2: Economic Cut-Off Temperature\"),IFERROR(IFERROR(J8,IFERROR(M8,IFERROR(P8,IFERROR(Q29,IFERROR(Q33,H4)))))<'Control Strategy Calcs'!T14,TRUE)),AND('Step 6 Control Strategy'!$B$9=\"Option A2: Economic Cut-Off Temperature\",IFERROR(IFERROR(J8,IFERROR(M8,IFERROR(P8,IFERROR(Q29,IFERROR(Q33,H4)))))<'Control Strategy Calcs'!T14,TRUE))),IFERROR((T14-IFERROR(J8,IFERROR(M8,IFERROR(P8,IFERROR(Q29,IFERROR(Q33,H4))))))/2+IFERROR(J8,IFERROR(M8,IFERROR(P8,IFERROR(Q29,IFERROR(Q33,H4))))),('Control Strategy Calcs'!T14-H4)/2+H4),IF(OR('Step 6 Control Strategy'!$B$9=\"Option A1: ASHP Cut-Off Temperature\",'Step 6 Control Strategy'!$B$9=\"Option B1: ASHP Cut-Off Temperature\",AND('Step 6 Control Strategy'!$B$9=\"Option A2: Economic Cut-Off Temperature\",IFERROR(IFERROR(J8,IFERROR(M8,IFERROR(P8,IFERROR(Q29,IFERROR(Q33,H4)))))<'Control Strategy Calcs'!T14,TRUE)),AND('Step 6 Control Strategy'!$B$9=\"Option A2: Economic Cut-Off Temperature\",IFERROR(IFERROR(J8,IFERROR(M8,IFERROR(P8,IFERROR(Q29,IFERROR(Q33,H4)))))<'Control Strategy Calcs'!T14,TRUE)),H4<T14),IF(IFERROR(ABS(T14-IFERROR(J8,IFERROR(M8,IFERROR(P8,IFERROR(Q29,IFERROR(Q33,H4))))))>IF('Intro & Unit Options'!B12=\"Metric\",5,10),TRUE),(T14-IFERROR(J8,IFERROR(M8,IFERROR(P8,IFERROR(Q29,IFERROR(Q33,H4))))))/2+IFERROR(J8,IFERROR(M8,IFERROR(P8,IFERROR(Q29,IFERROR(Q33,H4))))),NA()),NA())),IF(ABS('Control Strategy Calcs'!T14-H4)>IF('Intro & Unit Options'!B12=\"Metric\",5,10),('Control Strategy Calcs'!T14-H4)/2+H4,NA()))),NA())","v":{"$error":"#VALUE!"}},{"$f":"IF(OR('Step 6 Control Strategy'!$B$9=\"Option A1: ASHP Cut-Off Temperature\",'Step 6 Control Strategy'!$B$9=\"Option B1: ASHP Cut-Off Temperature\",AND(OR('Step 6 Control Strategy'!$B$9=\"Option A2: Economic Cut-Off Temperature\",'Step 6 Control Strategy'!$B$9=\"Option B2: Economic Cut-Off Temperature\"),IFERROR('Control Strategy Calcs'!K8<'Control Strategy Calcs'!U14,TRUE)),AND('Step 6 Control Strategy'!$B$9=\"Option A2: Economic Cut-Off Temperature\",IFERROR('Control Strategy Calcs'!K8<'Control Strategy Calcs'!U14,TRUE))),'Control Strategy Calcs'!U14/2,IF(OR('Step 6 Control Strategy'!$B$9=\"Option A1: ASHP Cut-Off Temperature\",'Step 6 Control Strategy'!$B$9=\"Option B1: ASHP Cut-Off Temperature\",AND('Step 6 Control Strategy'!$B$9=\"Option A2: Economic Cut-Off Temperature\",IFERROR('Control Strategy Calcs'!K8<'Control Strategy Calcs'!U14,TRUE)),AND('Step 6 Control Strategy'!$B$9=\"Option A2: Economic Cut-Off Temperature\",IFERROR('Control Strategy Calcs'!K8<'Control Strategy Calcs'!U14,TRUE)),H4<T14),IF(ABS(T14-J8)>IF('Intro & Unit Options'!B12=\"Metric\",5,10),U14/2,NA()),NA()))","v":{"$error":"#VALUE!"}}]
[{"$error":"#N/A"},{"$error":"#N/A"},{"$error":"#N/A"},{"$error":"#N/A"},"","COP required",null,null,null,"a","b"]
[{"$error":"#N/A"},{"$error":"#N/A"},{"$error":"#N/A"},{"$error":"#N/A"},"",{"$f":"IF('Step 6 Control Strategy'!B19=\"Electricity\",1,F7/100*(('Step 6 Control Strategy'!$B$16/100)/$F$4)*IF($G$4=\"cents/m3\",'Economic Cutoff'!$I$4*100,IF($G$4=Dropdown_Menus!$T$17,'Economic Cutoff'!$I$5,IF(AND($G$4=\"$/L\",'Step 6 Control Strategy'!$B$19=Dropdown_Menus!$T$3),'Economic Cutoff'!I$7,IF(AND($G$4=\"$/L\",'Step 6 Control Strategy'!$B$19=Dropdown_Menus!$T$4),'Economic Cutoff'!$I$6,\"\")))))","v":5.2724999999999991},null,null,null,{"$f":"IFERROR(IF(INDIRECT(CONCATENATE(\"'Step 5 Identify & Select ASHPs'!$I$\",27+(RIGHT($H$2,1)-1)*19)),INDIRECT(CONCATENATE(\"'HP\",RIGHT($H$2,1),\" Calcs'!N24\")),INDIRECT(CONCATENATE(\"'HP\",RIGHT($H$2,1),\"'!J17\"))),NA())","v":"None"},{"$f":"IFERROR(IF(INDIRECT(CONCATENATE(\"'Step 5 Identify & Select ASHPs'!$I$\",27+(RIGHT($H$2,1)-1)*19)),INDIRECT(CONCATENATE(\"'HP\",RIGHT($H$2,1),\" Calcs'!N25\")),INDIRECT(CONCATENATE(\"'HP\",RIGHT($H$2,1),\"'!J18\"))),NA())","v":"None"},null,null,null,null,null,null,null,null,"HP cap @Tdesign"]
[{"$error":"#N/A"},{"$error":"#N/A"},{"$error":"#N/A"},{"$error":"#N/A"},"",{"$f":"IF('Step 6 Control Strategy'!B19=\"Electricity\",1,F8/100*(('Step 6 Control Strategy'!$B$16/100)/$F$4)*IF($G$4=\"cents/m3\",'Economic Cutoff'!$I$4*100,IF($G$4=Dropdown_Menus!$T$17,'Economic Cutoff'!$I$5,IF(AND($G$4=\"$/L\",'Step 6 Control Strategy'!$B$19=Dropdown_Menus!$T$3),'Economic Cutoff'!I$7,IF(AND($G$4=\"$/L\",'Step 6 Control Strategy'!$B$19=Dropdown_Menus!$T$4),'Economic Cutoff'!$I$6,\"\")))))","v":3.5150000000000001},null,null,null,null,null,null,{"$f":"IFERROR(IF(T14<J8,NA(),IF(OR('Step 6 Control Strategy'!$B$9=\"Option A1: ASHP Cut-Off Temperature\",'Step 6 Control Strategy'!$B$9=\"Option B1: ASHP Cut-Off Temperature\",AND('Step 6 Control Strategy'!$B$9=\"Option A2: Economic Cut-Off Temperature\",IFERROR(IFERROR(J8,IFERROR(M8,IFERROR(P8,IFERROR(Q29,IFERROR(Q33,H4)))))<'Control Strategy Calcs'!T14,TRUE)),AND('Step 6 Control Strategy'!$B$9=\"Option A2: Economic Cut-Off Temperature\",IFERROR(IFERROR(J8,IFERROR(M8,IFERROR(P8,IFERROR(Q29,IFERROR(Q33,H4)))))<'Control Strategy Calcs'!T14,TRUE)),H4<T14),IF(ABS(T14-IFERROR(J8,IFERROR(M8,IFERROR(P8,IFERROR(Q29,IFERROR(Q33,H4))))))<IF('Intro & Unit Options'!B12=\"Metric\",5,10),(T14-IFERROR(J8,IFERROR(M8,IFERROR(P8,IFERROR(Q29,IFERROR(Q33,H4))))))/2+IFERROR(J8,IFERROR(M8,IFERROR(P8,IFERROR(Q29,IFERROR(Q33,H4))))),NA()),NA())),IF(ABS(('Control Strategy Calcs'!T14-H4))<IF('Intro & Unit Options'!B12=\"Metric\",5,10),('Control Strategy Calcs'!T14-H4)/2+H4,NA()))","v":{"$error":"#VALUE!"}},{"$f":"IF(OR('Step 6 Control Strategy'!$B$9=\"Option A1: ASHP Cut-Off Temperature\",'Step 6 Control Strategy'!$B$9=\"Option B1: ASHP Cut-Off Temperature\",AND('Step 6 Control Strategy'!$B$9=\"Option A2: Economic Cut-Off Temperature\",IFERROR('Control Strategy Calcs'!K8<'Control Strategy Calcs'!U14,TRUE)),AND('Step 6 Control Strategy'!$B$9=\"Option A2: Economic Cut-Off Temperature\",IFERROR('Control Strategy Calcs'!K8<'Control Strategy Calcs'!U14,TRUE)),H4<T14),IF(ABS(T14-J8)<IF('Intro & Unit Options'!B12=\"Metric\",5,10),U14/2,IF(ABS(('Control Strategy Calcs'!T14-H4))<IF('Intro & Unit Options'!B12=\"Metric\",5,10),K4/2,NA())),NA())","v":{"$error":"#VALUE!"}},null,null,null,null,null,{"$f":"IFERROR(IF(INDIRECT(CONCATENATE(\"'Step 5 Identify & Select ASHPs'!$I$\",27+(RIGHT($H$2,1)-1)*19)),INDIRECT(CONCATENATE(\"'HP\",RIGHT($H$2,1),\" Calcs'!N14\")),INDIRECT(CONCATENATE(\"'HP\",RIGHT($H$2,1),\"'!J8\"))),NA())","v":0}]
[{"$f":"IF(INDIRECT(CONCATENATE(\"'Step 5 Identify & Select ASHPs'!$I$\",27+(RIGHT($H$2,1)-1)*19)),NA(),IF(INDIRECT(CONCATENATE(\"'HP\",RIGHT($H$2,1),\"'!B\",10+ROW(A19)-1))=\"\",NA(),INDIRECT(CONCATENATE(\"'HP\",RIGHT($H$2,1),\"'!B\",10+ROW(A19)-1))))","v":{"$error":"#N/A"}},{"$f":"IF(INDIRECT(CONCATENATE(\"'Step 5 Identify & Select ASHPs'!$I$\",27+(RIGHT($H$2,1)-1)*19)),NA(),IF(INDIRECT(CONCATENATE(\"'HP\",RIGHT($H$2,1),\"'!C\",10+ROW(A19)-1))=\"\",NA(),INDIRECT(CONCATENATE(\"'HP\",RIGHT($H$2,1),\"'!C\",10+ROW(A19)-1))))","v":{"$error":"#N/A"}},{"$f":"IF(INDIRECT(CONCATENATE(\"'Step 5 Identify & Select ASHPs'!$I$\",27+(RIGHT($H$2,1)-1)*19)),NA(),IF(INDIRECT(CONCATENATE(\"'HP\",RIGHT($H$2,1),\"'!D\",10+ROW(A19)-1))=\"\",NA(),INDIRECT(CONCATENATE(\"'HP\",RIGHT($H$2,1),\"'!D\",10+ROW(A19)-1))))","v":{"$error":"#N/A"}},{"$f":"IF(INDIRECT(CONCATENATE(\"'Step 5 Identify & Select ASHPs'!$I$\",27+(RIGHT($H$2,1)-1)*19)),NA(),IF(INDIRECT(CONCATENATE(\"'HP\",RIGHT($H$2,1),\"'!E\",10+ROW(A19)-1))=\"\",NA(),INDIRECT(CONCATENATE(\"'HP\",RIGHT($H$2,1),\"'!E\",10+ROW(A19)-1))))","v":{"$error":"#N/A"}},"",{"$f":"IF('Step 6 Control Strategy'!B19=\"Electricity\",1,F9/100*(('Step 6 Control Strategy'!$B$16/100)/$F$4)*IF($G$4=\"cents/m3\",'Economic Cutoff'!$I$4*100,IF($G$4=Dropdown_Menus!$T$17,'Economic Cutoff'!$I$5,IF(AND($G$4=\"$/L\",'Step 6 Control Strategy'!$B$19=Dropdown_Menus!$T$3),'Economic Cutoff'!I$7,IF(AND($G$4=\"$/L\",'Step 6 Control Strategy'!$B$19=Dropdown_Menus!$T$4),'Economic Cutoff'!$I$6,\"\")))))","v":2.8119999999999998}]
[{"$f":"IF(INDIRECT(CONCATENATE(\"'Step 5 Identify & Select ASHPs'!$I$\",27+(RIGHT($H$2,1)-1)*19)),NA(),IF(INDIRECT(CONCATENATE(\"'HP\",RIGHT($H$2,1),\"'!B\",10+ROW(A20)-1))=\"\",NA(),INDIRECT(CONCATENATE(\"'HP\",RIGHT($H$2,1),\"'!B\",10+ROW(A20)-1))))","v":{"$error":"#N/A"}},{"$f":"IF(INDIRECT(CONCATENATE(\"'Step 5 Identify & Select ASHPs'!$I$\",27+(RIGHT($H$2,1)-1)*19)),NA(),IF(INDIRECT(CONCATENATE(\"'HP\",RIGHT($H$2,1),\"'!C\",10+ROW(A20)-1))=\"\",NA(),INDIRECT(CONCATENATE(\"'HP\",RIGHT($H$2,1),\"'!C\",10+ROW(A20)-1))))","v":{"$error":"#N/A"}},{"$f":"IF(INDIRECT(CONCATENATE(\"'Step 5 Identify & Select ASHPs'!$I$\",27+(RIGHT($H$2,1)-1)*19)),NA(),IF(INDIRECT(CONCATENATE(\"'HP\",RIGHT($H$2,1),\"'!D\",10+ROW(A20)-1))=\"\",NA(),INDIRECT(CONCATENATE(\"'HP\",RIGHT($H$2,1),\"'!D\",10+ROW(A20)-1))))","v":{"$error":"#N/A"}},{"$f":"IF(INDIRECT(CONCATENATE(\"'Step 5 Identify & Select ASHPs'!$I$\",27+(RIGHT($H$2,1)-1)*19)),NA(),IF(INDIRECT(CONCATENATE(\"'HP\",RIGHT($H$2,1),\"'!E\",10+ROW(A20)-1))=\"\",NA(),INDIRECT(CONCATENATE(\"'HP\",RIGHT($H$2,1),\"'!E\",10+ROW(A20)-1))))","v":{"$error":"#N/A"}},"",{"$f":"IF('Step 6 Control Strategy'!B19=\"Electricity\",1,F10/100*(('Step 6 Control Strategy'!$B$16/100)/$F$4)*IF($G$4=\"cents/m3\",'Economic Cutoff'!$I$4*100,IF($G$4=Dropdown_Menus!$T$17,'Economic Cutoff'!$I$5,IF(AND($G$4=\"$/L\",'Step 6 Control Strategy'!$B$19=Dropdown_Menus!$T$3),'Economic Cutoff'!I$7,IF(AND($G$4=\"$/L\",'Step 6 Control Strategy'!$B$19=Dropdown_Menus!$T$4),'Economic Cutoff'!$I$6,\"\")))))","v":0}]
[0,0,0,{"$error":"#DIV/0!"},"",{"$f":"IF('Step 6 Control Strategy'!B19=\"Electricity\",1,F11/100*(('Step 6 Control Strategy'!$B$16/100)/$F$4)*IF($G$4=\"cents/m3\",'Economic Cutoff'!$I$4*100,IF($G$4=Dropdown_Menus!$T$17,'Economic Cutoff'!$I$5,IF(AND($G$4=\"$/L\",'Step 6 Control Strategy'!$B$19=Dropdown_Menus!$T$3),'Economic Cutoff'!I$7,IF(AND($G$4=\"$/L\",'Step 6 Control Strategy'!$B$19=Dropdown_Menus!$T$4),'Economic Cutoff'!$I$6,\"\")))))","v":0},null,null,null,null,null,null,{"$f":"IFERROR(('Step 3 Design Loads'!B13-Q29)/2+Q29,IFERROR(('Step 3 Design Loads'!B13-Q33)/2+Q33,IFERROR(('Step 3 Design Loads'!B13-P8)/2+P8,IFERROR(('Step 3 Design Loads'!B13-M8)/2+M8,IFERROR(('Step 3 Design Loads'!B13-J8)/2+J8,IFERROR(('Step 3 Design Loads'!B13-J4)/2+J4,IF(M16=NA(),('Step 3 Design Loads'!B13-T14)/2+T14,NA())))))))","v":0},{"$f":"IFERROR(Q8/2,IFERROR(N8/2,IFERROR(K8/2,IFERROR(K4/2,U14/2))))","v":0}]
[]
[null,null,null,null,null,"Cut-off temp"]
[null,null,null,null,null,{"$f":"IF('Step 6 Control Strategy'!B9=Dropdown_Menus!T7,F35,NA())","v":{"$error":"#N/A"}},"on peak"]
[null,null,null,null,null,{"$f":"IF('Step 6 Control Strategy'!B9=Dropdown_Menus!T7,G35,NA())","v":{"$error":"#N/A"}},"mid peak",null,null,null,null,null,null,null,null,null,{"$f":"IFERROR(IF((60-T14)/3+T14<(60-J8)/3+J8,K8/3,IFERROR(U14/3,IFERROR(K8/3,IFERROR(K4/3,(M13*J14+K14)/3)))),IFERROR(U14/3,IFERROR(K8/3,IFERROR(K4/3,(M13*J14+K14)/3))))","v":0}]
[{"$f":"IFERROR(IF($I$2=FALSE,IF((ROW(A27)-ROW($A$26))>COUNT($B$3:$B$19)+1,\"\",IF((ROW(A27)-ROW($A$26))=COUNT($B$3:$B$19)+1,$A$2,IF(ROW(A2)-ROW($A$2)>COUNT($A$3:$A$19),\"\",SMALL($A$3:$A$19,COUNT($A$3:$A$19)-MATCH(A3,$A$3:$A$19,0)+1)))),IF((ROW(A27)-ROW($A$26))<=COUNT($A$2:$A$21),A2,IF((ROW(A27)-ROW($A$26))=COUNT($A$2:$A$21)+1,$A$22,\"\"))),1)","v":47},{"$f":"IFERROR(IF($I$2=FALSE,IF(ROW(B3)-ROW($B$2)=COUNT($B$3:$B$19)+1,$B$2,IF(ROW(B3)-ROW($B$2)>COUNT($B$3:$B$19),\"\",INDEX($B$3:$B$19,COUNT($B$3:$B$19)+COUNTIF($B$3:$B$19,\"-\")-MATCH(A27,$A$27:$A$47,0)+1))),INDEX($B$2:$B$22,MATCH(A27,$A$2:$A$22,0))),\"\")","v":0},null,null,null,{"$f":"IF(AND('Step 6 Control Strategy'!$B$24>2,OR('Step 6 Control Strategy'!$B$23=\"Time Of Use\",'Step 6 Control Strategy'!$B$23=\"Tiered\")),IF('Step 6 Control Strategy'!B9=Dropdown_Menus!T7,H35,NA()),NA())","v":{"$error":"#N/A"}},"off peak"]
[{"$f":"IFERROR(IF($I$2=FALSE,IF((ROW(A28)-ROW($A$26))>COUNT($B$3:$B$19)+1,\"\",IF((ROW(A28)-ROW($A$26))=COUNT($B$3:$B$19)+1,$A$2,IF(ROW(A3)-ROW($A$2)>COUNT($A$3:$A$19),\"\",SMALL($A$3:$A$19,COUNT($A$3:$A$19)-MATCH(A4,$A$3:$A$19,0)+1)))),IF((ROW(A28)-ROW($A$26))<=COUNT($A$2:$A$21),A3,IF((ROW(A28)-ROW($A$26))=COUNT($A$2:$A$21)+1,$A$22,\"\"))),1)","v":17},{"$f":"IFERROR(IF($I$2=FALSE,IF(ROW(B4)-ROW($B$2)=COUNT($B$3:$B$19)+1,$B$2,IF(ROW(B4)-ROW($B$2)>COUNT($B$3:$B$19),\"\",INDEX($B$3:$B$19,COUNT($B$3:$B$19)+COUNTIF($B$3:$B$19,\"-\")-MATCH(A28,$A$27:$A$47,0)+1))),INDEX($B$2:$B$22,MATCH(A28,$A$2:$A$22,0))),\"\")","v":0},null,null,null,{"$f":"IF(AND('Step 6 Control Strategy'!$B$24>3,OR('Step 6 Control Strategy'!$B$23=\"Time Of Use\",'Step 6 Control Strategy'!$B$23=\"Tiered\")),IF('Step 6 Control Strategy'!B9=Dropdown_Menus!T7,I35,NA()),NA())","v":{"$error":"#N/A"}},null,null,null,null,{"$f":"IF(AND(OR('Step 6 Control Strategy'!$B$9=\"Option A2: Economic Cut-Off Temperature\",'Step 6 Control Strategy'!$B$9=\"Option B2: Economic Cut-Off Temperature\"),'Step 6 Control Strategy'!B23=\"Time of Use\"),\"On-Peak\",\"\")","v":""},null,null,{"$f":"IF(OR('Step 6 Control Strategy'!B9=\"Option B2: Economic Cut-Off Temperature\",'Step 6 Control Strategy'!B9=\"Option A2: Economic Cut-Off Temperature\"),IF('Step 6 Control Strategy'!B24=3,NA(),IF('Step 6 Control Strategy'!B24=2,NA(),IF('Step 6 Control Strategy'!B24=4,IF('Step 6 Control Strategy'!$B$23=\"Time of Use\",\"Off-Peak\",\"Low Tier\"),IF('Step 6 Control Strategy'!$B$23=\"Time of Use\",\"Mid Peak\",\"Mid Tier\")))),NA())","v":{"$error":"#N/A"}},null,null,{"$f":"IF(AND('Step 6 Control Strategy'!B24=4,'Step 6 Control Strategy'!$B$23=\"Time of Use\"),\"Economic Cut Off (Off Peak)\",IF('Step 6 Control Strategy'!$B$23=\"Time of Use\",\"Economic Cut Off (Mid Peak)\",\"\"))&IF(AND('Step 6 Control Strategy'!B24=4,'Step 6 Control Strategy'!$B$23=\"Tiered\"),\"Economic Cut Off (Low Tier)\",IF('Step 6 Control Strategy'!$B$23=\"Tiered\",\"Economic Cut Off (Mid Tier)\",\"\"))","v":"Economic Cut Off (Mid Peak)"}]
[0,0,null,null,null,{"$f":"IF(AND('Step 6 Control Strategy'!$B$24>4,OR('Step 6 Control Strategy'!$B$23=\"Time Of Use\",'Step 6 Control Strategy'!$B$23=\"Tiered\")),IF('Step 6 Control Strategy'!B9=Dropdown_Menus!T7,J35,NA()),NA())","v":{"$error":"#N/A"}},null,null,null,null,{"$f":"IF(OR('Step 6 Control Strategy'!B9=\"Option B2: Economic Cut-Off Temperature\",'Step 6 Control Strategy'!B9=\"Option A2: Economic Cut-Off Temperature\"),F7,NA())/100","v":{"$error":"#N/A"}},0,null,{"$f":"IF(OR('Step 6 Control Strategy'!B9=\"Option B2: Economic Cut-Off Temperature\",'Step 6 Control Strategy'!B9=\"Option A2: Economic Cut-Off Temperature\"),IF(F10=0,NA(),F10),NA())/100","v":{"$error":"#N/A"}},0,null,{"$f":"IFERROR(IF(F28<'Step 3 Design Loads'!B13,NA(),F28),NA())","v":{"$error":"#N/A"}},{"$f":"IF(($J$14*Q29+$K$14)>($J$18*Q29+$K$18),($J$14*Q29+$K$14),IF(OR(I2=\"User Input Curve\",INDEX($B$2:$B$18,I32)<0),($J$18*Q29+$K$18),INDEX($B$2:$B$18,I32)))","v":{"$error":"#N/A"}}]
["","",null,null,null,{"$f":"IF(I2=\"User Input Curve\",MATCH(F18,E2:E31,-1),MATCH(F18,E2:E31,1))","v":{"$error":"#N/A"}},{"$f":"IF(I2=\"User Input Curve\",MATCH(F19,E2:E31,-1),MATCH(F19,E2:E31,1))","v":{"$error":"#N/A"}},{"$f":"IF(I2=\"User Input Curve\",MATCH(F20,E2:E31,-1),MATCH(F20,E2:E31,1))","v":{"$error":"#N/A"}},{"$f":"IF(I2=\"User Input Curve\",MATCH(F21,E2:E31,-1),MATCH(F21,E2:E31,1))","v":{"$error":"#N/A"}},{"$f":"IF(I2=\"User Input Curve\",MATCH(F22,E2:E31,-1),MATCH(F22,E2:E31,1))","v":{"$error":"#N/A"}},{"$f":"K29","v":{"$error":"#N/A"}},{"$f":"IF('Step 6 Control Strategy'!$B$19=\"Electricity\",'Control Strategy Calcs'!F7/100,IF(OR($G$4=\"$/L\",$G$4=\"$/GJ\"),F4,F4/100))","v":0.28000000000000003},null,{"$f":"N29","v":{"$error":"#N/A"}},{"$f":"IF(OR($G$4=\"$/L\",$G$4=\"$/GJ\"),F4,F4/100)","v":0.28000000000000003},null,{"$f":"Q29","v":{"$error":"#N/A"}},0]
["","",null,null,null,{"$f":"IF(INDEX($E$2:$E$18,F30+1)=\"\",IF(INDEX($E$2:$E$18,F30+2)=\"\",IF(INDEX($E$2:$E$18,F30+3)=\"\",IF(INDEX($E$2:$E$18,F30+4)=\"\",F30+4,F30+3),F30+2),F30+1),F30)","v":{"$error":"#N/A"}},{"$f":"IF(INDEX($E$2:$E$18,G30+1)=\"\",IF(INDEX($E$2:$E$18,G30+2)=\"\",IF(INDEX($E$2:$E$18,G30+3)=\"\",IF(INDEX($E$2:$E$18,G30+4)=\"\",G30+4,G30+3),G30+2),G30+1),G30)","v":{"$error":"#N/A"}},{"$f":"IF(INDEX($E$2:$E$18,H30+1)=\"\",IF(INDEX($E$2:$E$18,H30+2)=\"\",IF(INDEX($E$2:$E$18,H30+3)=\"\",IF(INDEX($E$2:$E$18,H30+4)=\"\",H30+4,H30+3),H30+2),H30+1),H30)","v":{"$error":"#N/A"}},{"$f":"IF(INDEX($E$2:$E$18,I30+1)=\"\",IF(INDEX($E$2:$E$18,I30+2)=\"\",IF(INDEX($E$2:$E$18,I30+3)=\"\",IF(INDEX($E$2:$E$18,I30+4)=\"\",I30+4,I30+3),I30+2),I30+1),I30)","v":{"$error":"#N/A"}},{"$f":"IF(INDEX($E$2:$E$18,J30+1)=\"\",IF(INDEX($E$2:$E$18,J30+2)=\"\",IF(INDEX($E$2:$E$18,J30+3)=\"\",IF(INDEX($E$2:$E$18,J30+4)=\"\",J30+4,J30+3),J30+2),J30+1),J30)","v":{"$error":"#N/A"}}]
["","",null,null,null,{"$f":"IFERROR(IF(INDEX(E2:E18,F31+1)=\"\",MATCH(E18,E2:E18,0),F31+1),NA())","v":{"$error":"#N/A"}},{"$f":"IFERROR(IF(INDEX(E2:E18,G31+1)=\"\",MATCH(E18,E2:E18,0),G31+1),NA())","v":{"$error":"#N/A"}},{"$f":"IFERROR(IF(INDEX(E2:E18,H31+1)=\"\",MATCH(E18,E2:E18,0),H31+1),NA())","v":{"$error":"#N/A"}},{"$f":"IFERROR(IF(INDEX(E2:E18,I31+1)=\"\",MATCH(E18,E2:E18,0),I31+1),NA())","v":{"$error":"#N/A"}},{"$f":"IFERROR(IF(INDEX(E2:E18,J31+1)=\"\",MATCH(E18,E2:E18,0),J31+1),NA())","v":{"$error":"#N/A"}},{"$f":"IF(OR('Step 6 Control Strategy'!B9=\"Option B2: Economic Cut-Off Temperature\",'Step 6 Control Strategy'!B9=\"Option A2: Economic Cut-Off Temperature\"),IF('Step 6 Control Strategy'!B24=2,IF('Step 6 Control Strategy'!$B$23=\"Time of Use\",\"Off-Peak\",\"Low Tier\"),IF('Step 6 Control Strategy'!$B$23=\"Time of Use\",\"Mid Peak\",\"Mid Tier\")),NA())","v":{"$error":"#N/A"}},null,null,{"$f":"IF(OR('Step 6 Control Strategy'!B9=\"Option B2: Economic Cut-Off Temperature\",'Step 6 Control Strategy'!B9=\"Option A2: Economic Cut-Off Temperature\"),IF('Step 6 Control Strategy'!B24=5,IF('Step 6 Control Strategy'!$B$23=\"Time of Use\",\"Off Peak\",\"Low Tier\"),NA()),NA())","v":{"$error":"#N/A"}},null,null,{"$f":"IF('Step 6 Control Strategy'!B24=5,IF('Step 6 Control Strategy'!$B$23=\"Time of Use\",\"Economic Cut Off (Off Peak)\",\"Economic Cut Off (Low Tier)\"),\"\")","v":""}]
["","",null,null,null,null,null,null,null,null,{"$f":"IF(OR('Step 6 Control Strategy'!B9=\"Option B2: Economic Cut-Off Temperature\",'Step 6 Control Strategy'!B9=\"Option A2: Economic Cut-Off Temperature\"),IF(F8=0,NA(),F8),NA())/100","v":{"$error":"#N/A"}},0,null,{"$f":"IF(OR('Step 6 Control Strategy'!B9=\"Option B2: Economic Cut-Off Temperature\",'Step 6 Control Strategy'!B9=\"Option A2: Economic Cut-Off Temperature\"),IF(F11=0,NA(),F11),NA())/100","v":{"$error":"#N/A"}},0,null,{"$f":"IFERROR(IF(F29<'Step 3 Design Loads'!B13,NA(),F29),NA())","v":{"$error":"#N/A"}},{"$f":"IF(($J$14*Q33+$K$14)>($J$18*Q33+$K$18),($J$14*Q33+$K$14),IF(OR(I2=\"User Input Curve\",INDEX($B$2:$B$18,J32)<0),($J$18*Q33+$K$18),INDEX($B$2:$B$18,J32)))","v":{"$error":"#N/A"}}]
["","",null,null,null,"Cut-off temp (on peak)","mid peak","off peak",null,null,{"$f":"K33","v":{"$error":"#N/A"}},{"$f":"IF('Step 6 Control Strategy'!$B$19=\"Electricity\",F7/100,IF(OR($G$4=\"$/L\",$G$4=\"$/GJ\"),F4,F4/100))","v":0.28000000000000003},null,{"$f":"N33","v":{"$error":"#N/A"}},{"$f":"O30","v":0.28000000000000003},null,{"$f":"Q33","v":{"$error":"#N/A"}},0]
["","",null,null,null,{"$f":"IF(((F18-INDEX(D2:D31,F31))*(INDEX(A2:A31,F32)-INDEX(A2:A31,F31)))/(INDEX(D2:D31,F32)-INDEX(D2:D31,F31))+INDEX(A2:A31,F31)>MAX(A65:A81),NA(),((F18-INDEX(D2:D31,F31))*(INDEX(A2:A31,F32)-INDEX(A2:A31,F31)))/(INDEX(D2:D31,F32)-INDEX(D2:D31,F31))+INDEX(A2:A31,F31))","v":{"$error":"#N/A"}},{"$f":"IF(((F19-INDEX(D2:D31,G31))*(INDEX(A2:A31,G32)-INDEX(A2:A31,G31)))/(INDEX(D2:D31,G32)-INDEX(D2:D31,G31))+INDEX(A2:A31,G31)>MAX(A65:A81),NA(),((F19-INDEX(D2:D31,G31))*(INDEX(A2:A31,G32)-INDEX(A2:A31,G31)))/(INDEX(D2:D31,G32)-INDEX(D2:D31,G31))+INDEX(A2:A31,G31))","v":{"$error":"#N/A"}},{"$f":"IF(((F20-INDEX(E2:E31,H31))*(INDEX(A2:A31,H32)-INDEX(A2:A31,H31)))/(INDEX(E2:E31,H32)-INDEX(E2:E31,H31))+INDEX(A2:A31,H31)>MAX(A65:A81),NA(),((F20-INDEX(E2:E31,H31))*(INDEX(A2:A31,H32)-INDEX(A2:A31,H31)))/(INDEX(E2:E31,H32)-INDEX(E2:E31,H31))+INDEX(A2:A31,H31))","v":{"$error":"#N/A"}},{"$f":"IF(((F21-INDEX(E2:E31,I31))*(INDEX(A2:A31,I32)-INDEX(A2:A31,I31)))/(INDEX(E2:E31,I32)-INDEX(E2:E31,I31))+INDEX(A2:A31,I31)>MAX(A65:A81),NA(),((F21-INDEX(E2:E31,I31))*(INDEX(A2:A31,I32)-INDEX(A2:A31,I31)))/(INDEX(E2:E31,I32)-INDEX(E2:E31,I31))+INDEX(A2:A31,I31))","v":{"$error":"#N/A"}},{"$f":"IF(((F22-INDEX(E2:E31,J31))*(INDEX(A2:A31,J32)-INDEX(A2:A31,J31)))/(INDEX(E2:E31,J32)-INDEX(E2:E31,J31))+INDEX(A2:A31,J31)>MAX(A65:A81),NA(),((F22-INDEX(E2:E31,J31))*(INDEX(A2:A31,J32)-INDEX(A2:A31,J31)))/(INDEX(E2:E31,J32)-INDEX(E2:E31,J31))+INDEX(A2:A31,J31))","v":{"$error":"#N/A"}}]
["","",null,null,null,null,null,null,null,null,{"$f":"IF(OR('Step 6 Control Strategy'!B9=\"Option B2: Economic Cut-Off Temperature\",'Step 6 Control Strategy'!B9=\"Option A2: Economic Cut-Off Temperature\"),IF('Step 6 Control Strategy'!B24=3,IF('Step 6 Control Strategy'!$B$23=\"Time of Use\",\"Off Peak\",\"Low Tier\"),IF('Step 6 Control Strategy'!B24=2,NA(),IF('Step 6 Control Strategy'!$B$23=\"Time of Use\",\"Mid Peak\",\"Mid Tier\"))),NA())","v":{"$error":"#N/A"}}]
["","",null,null,null,null,null,null,null,null,{"$f":"IF(OR('Step 6 Control Strategy'!B9=\"Option B2: Economic Cut-Off Temperature\",'Step 6 Control Strategy'!B9=\"Option A2: Economic Cut-Off Temperature\"),IF(F9=0,NA(),F9),NA())/100","v":{"$error":"#N/A"}},0]
["","",null,null,null,null,null,null,null,null,{"$f":"K37","v":{"$error":"#N/A"}},{"$f":"IF('Step 6 Control Strategy'!$B$19=\"Electricity\",F7/100,IF(OR($G$4=\"$/L\",$G$4=\"$/GJ\"),F4,F4/100))","v":0.28000000000000003}]
["",""]
["",""]
["","",null,null,null,null,null,null,null,null,"Fuel line"]
["","",null,null,null,null,null,null,null,null,{"$f":"K29","v":{"$error":"#N/A"}},{"$f":"IF('Step 6 Control Strategy'!$B$19=\"Electricity\",'Control Strategy Calcs'!F7/100,IF(OR($G$4=\"$/L\",$G$4=\"$/GJ\"),F4,F4/100))","v":0.28000000000000003}]
["","",null,null,null,null,null,null,null,null,0,{"$f":"L42","v":0.28000000000000003}]
["",""]
["","",null,null,null,null,null,null,null,null,"Fuel line - mid peak"]
["","",null,null,null,null,null,null,null,null,{"$f":"IF(F8=0,NA(),F8)/100","v":0.1},{"$f":"IF('Step 6 Control Strategy'!$B$19=\"Electricity\",F7/100,IF(OR($G$4=\"$/L\",$G$4=\"$/GJ\"),F4,F4/100))","v":0.28000000000000003}]
["","",null,null,null,null,null,null,null,null,0,{"$f":"L46","v":0.28000000000000003}]
[]
[null,null,null,null,null,null,null,null,null,null,"Fuel line - off peak"]
[null,null,null,null,null,null,null,null,null,null,{"$f":"IF(F9=0,NA(),F9)/100","v":0.08},{"$f":"L46","v":0.28000000000000003}]
[null,null,null,null,null,null,null,null,null,null,0,{"$f":"L50","v":0.28000000000000003}]
[]
[]
[null,null,null,null,null,null,null,null,null,null,"Fuel line - off peak"]
[null,null,null,null,null,null,null,null,null,null,{"$f":"IF(F10=0,NA(),F10)/100","v":{"$error":"#N/A"}},{"$f":"L51","v":0.28000000000000003}]
[null,null,null,null,null,null,null,null,null,null,0,{"$f":"L55","v":0.28000000000000003}]
[]
[]
[]
[]
[]
[]
[]
[]
[{"$f":"IFERROR(A2,\"\")","v":47}]
[17]
[""]
[""]
[""]
[""]
[""]
[""]
[""]
[""]
[""]
[""]
[""]
[""]
[""]
[""]
[""]

{"sheet":"Economic Cutoff","index":29,"n_rows":63,"n_cols":10,"rows_kept":63,"cut":false,"hidden":true,"merged":[]}
["Example for NG, with pricing given by user in $/m3",null,null,null,null,null,null,"Back-up Efficiency",{"$f":"'Step 6 Control Strategy'!B16/100","v":0.95}]
[]
["COP=1",1,null,{"$f":"IF('Control Strategy Calcs'!$G$4=\"cents/m3\",'Economic Cutoff'!$I$4,IF('Control Strategy Calcs'!$G$4=Dropdown_Menus!$T$17,'Economic Cutoff'!$I$5,IF(AND('Control Strategy Calcs'!$G$4=Dropdown_Menus!$T$16,'Step 6 Control Strategy'!$B$19=Dropdown_Menus!$T$3),'Economic Cutoff'!I$7,IF(AND('Step 6 Control Strategy'!$C$20=Dropdown_Menus!$T$16,'Step 6 Control Strategy'!$B$19=Dropdown_Menus!$T$4),'Economic Cutoff'!$I$6,IF('Step 6 Control Strategy'!$B$19=\"Electricity\",1,\"\")))))","v":10.36},null,null,null,"Conversions"]
["Pice NG ($/m3)","Price Elec ($/kWh)",null,{"$f":"0.5/IF('Control Strategy Calcs'!$G$4=\"cents/m3\",'Economic Cutoff'!$I$4,IF('Control Strategy Calcs'!$G$4=Dropdown_Menus!$T$17,'Economic Cutoff'!$I$5/100,IF(AND('Control Strategy Calcs'!$G$4=Dropdown_Menus!$T$16,'Step 6 Control Strategy'!$B$19=Dropdown_Menus!$T$3),'Economic Cutoff'!I$7,IF(AND('Step 6 Control Strategy'!$C$20=Dropdown_Menus!$T$16,'Step 6 Control Strategy'!$B$19=Dropdown_Menus!$T$4),'Economic Cutoff'!$I$6,IF('Step 6 Control Strategy'!$B$19=\"Electricity\",10,\"\")))))","v":4.8262548262548263E-2},null,null,null,"Natural Gas",10.36,"kWh/m3"]
[0,0,null,{"$f":"1.5/IF('Control Strategy Calcs'!$G$4=\"cents/m3\",'Economic Cutoff'!$I$4,IF('Control Strategy Calcs'!$G$4=Dropdown_Menus!$T$17,'Economic Cutoff'!$I$5/100,IF(AND('Control Strategy Calcs'!$G$4=Dropdown_Menus!$T$16,'Step 6 Control Strategy'!$B$19=Dropdown_Menus!$T$3),'Economic Cutoff'!I$7,IF(AND('Step 6 Control Strategy'!$C$20=Dropdown_Menus!$T$16,'Step 6 Control Strategy'!$B$19=Dropdown_Menus!$T$4),'Economic Cutoff'!$I$6,IF('Step 6 Control Strategy'!$B$19=\"Electricity\",10,\"\")))))","v":0.1447876447876448},null,null,null,"Natural Gas",277.8,"kWh/GJ"]
[{"$f":"D4*D3","v":0.5},{"$f":"$B$3/($I$1/A6)/(IF(AND('Step 6 Control Strategy'!$B$19=Dropdown_Menus!$T$2,'Control Strategy Calcs'!$G$4=Dropdown_Menus!$T$16),'Economic Cutoff'!$I$4,IF(AND('Step 6 Control Strategy'!$B$19=Dropdown_Menus!$T$2,'Control Strategy Calcs'!$G$4=Dropdown_Menus!$T$17),'Economic Cutoff'!$I$5,IF(AND('Control Strategy Calcs'!$G$4=Dropdown_Menus!$T$16,'Step 6 Control Strategy'!$B$19=Dropdown_Menus!$T$3),'Economic Cutoff'!I$7,IF(AND('Step 6 Control Strategy'!$C$20=Dropdown_Menus!$T$16,'Step 6 Control Strategy'!$B$19=Dropdown_Menus!$T$4),'Economic Cutoff'!$I$6,IF('Step 6 Control Strategy'!$B$19=\"Electricity\",1,\"\"))))))","v":5.080268238162975E-2},null,null,null,null,null,"LPG (Propane)",7.03,"kWh/L"]
[{"$f":"IF('Step 6 Control Strategy'!B19=Dropdown_Menus!T2,0,$D$3*D5)","v":0},{"$f":"$B$3/($I$1/A7)/(IF(AND('Step 6 Control Strategy'!$B$19=Dropdown_Menus!$T$2,'Control Strategy Calcs'!$G$4=Dropdown_Menus!$T$16),'Economic Cutoff'!$I$4,IF(AND('Step 6 Control Strategy'!$B$19=Dropdown_Menus!$T$2,'Control Strategy Calcs'!$G$4=Dropdown_Menus!$T$17),'Economic Cutoff'!$I$5,IF(AND('Control Strategy Calcs'!$G$4=Dropdown_Menus!$T$16,'Step 6 Control Strategy'!$B$19=Dropdown_Menus!$T$3),'Economic Cutoff'!I$7,IF(AND('Step 6 Control Strategy'!$C$20=Dropdown_Menus!$T$16,'Step 6 Control Strategy'!$B$19=Dropdown_Menus!$T$4),'Economic Cutoff'!$I$6,IF('Step 6 Control Strategy'!$B$19=\"Electricity\",1,\"\"))))))","v":{"$error":"#DIV/0!"}},null,null,null,null,null,"Heating Oil",10.61,"kWh/L"]
[]
[]
[]
[]
[]
[]
[]
[]
[]
["COP=2",2]
["Pice NG ($/m3)","Price Elec ($/kWh)"]
[0,0]
[{"$f":"D4*D3","v":0.5},{"$f":"$B$17/($I$1/A20)/(IF(AND('Step 6 Control Strategy'!$B$19=Dropdown_Menus!$T$2,'Control Strategy Calcs'!$G$4=Dropdown_Menus!$T$16),'Economic Cutoff'!$I$4,IF(AND('Step 6 Control Strategy'!$B$19=Dropdown_Menus!$T$2,'Control Strategy Calcs'!$G$4=Dropdown_Menus!$T$17),'Economic Cutoff'!$I$5,IF(AND('Control Strategy Calcs'!$G$4=Dropdown_Menus!$T$16,'Step 6 Control Strategy'!$B$19=Dropdown_Menus!$T$3),'Economic Cutoff'!I$7,IF(AND('Step 6 Control Strategy'!$C$20=Dropdown_Menus!$T$16,'Step 6 Control Strategy'!$B$19=Dropdown_Menus!$T$4),'Economic Cutoff'!$I$6,IF('Step 6 Control Strategy'!$B$19=\"Electricity\",NA(),\"\"))))))","v":0.1016053647632595}]
[{"$f":"IF('Step 6 Control Strategy'!$B$19=Dropdown_Menus!$T$2,0,$D$5*$D$3)","v":0},{"$f":"$B$17/($I$1/A21)/(IF(AND('Step 6 Control Strategy'!$B$19=Dropdown_Menus!$T$2,'Control Strategy Calcs'!$G$4=Dropdown_Menus!$T$16),'Economic Cutoff'!$I$4,IF(AND('Step 6 Control Strategy'!$B$19=Dropdown_Menus!$T$2,'Control Strategy Calcs'!$G$4=Dropdown_Menus!$T$17),'Economic Cutoff'!$I$5,IF(AND('Control Strategy Calcs'!$G$4=Dropdown_Menus!$T$16,'Step 6 Control Strategy'!$B$19=Dropdown_Menus!$T$3),'Economic Cutoff'!I$7,IF(AND('Step 6 Control Strategy'!$C$20=Dropdown_Menus!$T$16,'Step 6 Control Strategy'!$B$19=Dropdown_Menus!$T$4),'Economic Cutoff'!$I$6,IF('Step 6 Control Strategy'!$B$19=\"Electricity\",NA(),\"\"))))))","v":{"$error":"#DIV/0!"}}]
[]
[]
[]
[]
[]
[]
[]
[]
[]
["COP=3",3]
["Pice NG ($/m3)","Price Elec ($/kWh)"]
[0,0]
[{"$f":"D4*D3","v":0.5},{"$f":"$B$31/($I$1/A34)/(IF(AND('Step 6 Control Strategy'!$B$19=Dropdown_Menus!$T$2,'Control Strategy Calcs'!$G$4=Dropdown_Menus!$T$16),'Economic Cutoff'!$I$4,IF(AND('Step 6 Control Strategy'!$B$19=Dropdown_Menus!$T$2,'Control Strategy Calcs'!$G$4=Dropdown_Menus!$T$17),'Economic Cutoff'!$I$5,IF(AND('Control Strategy Calcs'!$G$4=Dropdown_Menus!$T$16,'Step 6 Control Strategy'!$B$19=Dropdown_Menus!$T$3),'Economic Cutoff'!I$7,IF(AND('Step 6 Control Strategy'!$C$20=Dropdown_Menus!$T$16,'Step 6 Control Strategy'!$B$19=Dropdown_Menus!$T$4),'Economic Cutoff'!$I$6,IF('Step 6 Control Strategy'!$B$19=\"Electricity\",NA(),\"\"))))))","v":0.15240804714488926}]
[{"$f":"IF('Step 6 Control Strategy'!$B$19=Dropdown_Menus!$T$2,0,$D$5*$D$3)","v":0},{"$f":"$B$31/($I$1/A35)/(IF(AND('Step 6 Control Strategy'!$B$19=Dropdown_Menus!$T$2,'Control Strategy Calcs'!$G$4=Dropdown_Menus!$T$16),'Economic Cutoff'!$I$4,IF(AND('Step 6 Control Strategy'!$B$19=Dropdown_Menus!$T$2,'Control Strategy Calcs'!$G$4=Dropdown_Menus!$T$17),'Economic Cutoff'!$I$5,IF(AND('Control Strategy Calcs'!$G$4=Dropdown_Menus!$T$16,'Step 6 Control Strategy'!$B$19=Dropdown_Menus!$T$3),'Economic Cutoff'!I$7,IF(AND('Step 6 Control Strategy'!$C$20=Dropdown_Menus!$T$16,'Step 6 Control Strategy'!$B$19=Dropdown_Menus!$T$4),'Economic Cutoff'!$I$6,IF('Step 6 Control Strategy'!$B$19=\"Electricity\",NA(),\"\"))))))","v":{"$error":"#DIV/0!"}}]
[]
[]
[]
[]
[]
[]
[]
[]
[]
["COP=4",4]
["Pice NG ($/m3)","Price Elec ($/kWh)"]
[0,0]
[{"$f":"D4*D3","v":0.5},{"$f":"$B$45/($I$1/A48)/(IF(AND('Step 6 Control Strategy'!$B$19=Dropdown_Menus!$T$2,'Control Strategy Calcs'!$G$4=Dropdown_Menus!$T$16),'Economic Cutoff'!$I$4,IF(AND('Step 6 Control Strategy'!$B$19=Dropdown_Menus!$T$2,'Control Strategy Calcs'!$G$4=Dropdown_Menus!$T$17),'Economic Cutoff'!$I$5,IF(AND('Control Strategy Calcs'!$G$4=Dropdown_Menus!$T$16,'Step 6 Control Strategy'!$B$19=Dropdown_Menus!$T$3),'Economic Cutoff'!I$7,IF(AND('Step 6 Control Strategy'!$C$20=Dropdown_Menus!$T$16,'Step 6 Control Strategy'!$B$19=Dropdown_Menus!$T$4),'Economic Cutoff'!$I$6,IF('Step 6 Control Strategy'!$B$19=\"Electricity\",NA(),\"\"))))))","v":0.203210729526519}]
[{"$f":"IF('Step 6 Control Strategy'!$B$19=Dropdown_Menus!$T$2,0,$D$5*$D$3)","v":0},{"$f":"$B$45/($I$1/A49)/(IF(AND('Step 6 Control Strategy'!$B$19=Dropdown_Menus!$T$2,'Control Strategy Calcs'!$G$4=Dropdown_Menus!$T$16),'Economic Cutoff'!$I$4,IF(AND('Step 6 Control Strategy'!$B$19=Dropdown_Menus!$T$2,'Control Strategy Calcs'!$G$4=Dropdown_Menus!$T$17),'Economic Cutoff'!$I$5,IF(AND('Control Strategy Calcs'!$G$4=Dropdown_Menus!$T$16,'Step 6 Control Strategy'!$B$19=Dropdown_Menus!$T$3),'Economic Cutoff'!I$7,IF(AND('Step 6 Control Strategy'!$C$20=Dropdown_Menus!$T$16,'Step 6 Control Strategy'!$B$19=Dropdown_Menus!$T$4),'Economic Cutoff'!$I$6,IF('Step 6 Control Strategy'!$B$19=\"Electricity\",NA(),\"\"))))))","v":{"$error":"#DIV/0!"}}]
[]
[]
[]
[]
[]
[]
[]
[]
[]
["COP=5",5]
["Pice NG ($/m3)","Price Elec ($/kWh)"]
[0,0]
[{"$f":"D4*D3","v":0.5},{"$f":"$B$59/($I$1/A62)/IF('Control Strategy Calcs'!$G$4=Dropdown_Menus!$T$16,'Economic Cutoff'!$I$4,IF('Control Strategy Calcs'!$G$4=Dropdown_Menus!$T$17,'Economic Cutoff'!$I$5,IF(AND('Control Strategy Calcs'!$G$4=Dropdown_Menus!$T$18,'Step 6 Control Strategy'!$B$19=Dropdown_Menus!$T$3),'Economic Cutoff'!I$7,IF(AND('Step 6 Control Strategy'!$C$20=Dropdown_Menus!$T$18,'Step 6 Control Strategy'!$B$19=Dropdown_Menus!$T$4),'Economic Cutoff'!$I$6,IF('Step 6 Control Strategy'!$B$19=\"Electricity\",NA(),\"\")))))","v":0.2540134119081488}]
[{"$f":"IF('Step 6 Control Strategy'!$B$19=Dropdown_Menus!$T$2,0,$D$5*$D$3)","v":0},{"$f":"IF('Step 6 Control Strategy'!$B$19=Dropdown_Menus!$T$2,0,$B$59/($I$1/A63)/IF('Control Strategy Calcs'!$G$4=Dropdown_Menus!$T$16,'Economic Cutoff'!$I$4,IF('Control Strategy Calcs'!$G$4=Dropdown_Menus!$T$17,'Economic Cutoff'!$I$5,IF(AND('Control Strategy Calcs'!$G$4=Dropdown_Menus!$T$18,'Step 6 Control Strategy'!$B$19=Dropdown_Menus!$T$3),'Economic Cutoff'!I$7,IF(AND('Step 6 Control Strategy'!$C$20=Dropdown_Menus!$T$18,'Step 6 Control Strategy'!$B$19=Dropdown_Menus!$T$4),'Economic Cutoff'!$I$6,IF('Step 6 Control Strategy'!$B$19=\"Electricity\",NA(),\"\"))))))","v":0}]

{"sheet":"CSA Bin Fraction by clim zone","index":30,"n_rows":21,"n_cols":23,"rows_kept":21,"cut":false,"hidden":true,"merged":[[0,0,0,2]]}
["CSA Bin Fractions by climate zone"]
["*Each of these tables have a Name and are refered to in the forecast calculation sheet"]
[]
["Temperature (F)","Hot-Humid",null,"Temperature (F)","Hot-Dry",null,"Temperature (F)","Mixed-Humid",null,"Temperature (F)","Cold-Humid",null,"Temperature (F)","Cold-Dry",null,"Temperature (F)","Very-Cold",null,"Temperature (F)","Subarctic",null,"Temperature (F)","Marine"]
[57,0.105,null,57,0.114,null,57,6.5000000000000002E-2,null,57,4.1000000000000002E-2,null,57,4.7E-2,null,57,3.4000000000000002E-2,null,57,2.1999999999999999E-2,null,57,7.9000000000000001E-2]
[52,0.17100000000000001,null,52,0.17499999999999999,null,52,0.11799999999999999,null,52,7.8E-2,null,52,7.9000000000000001E-2,null,52,7.6999999999999999E-2,null,52,5.5E-2,null,52,0.20499999999999999]
[47,0.217,null,47,0.218,null,47,0.161,null,47,0.114,null,47,0.123,null,47,0.108,null,47,8.2000000000000003E-2,null,47,0.28199999999999997]
[42,0.17299999999999999,null,42,0.161,null,42,0.14699999999999999,null,42,0.104,null,42,0.125,null,42,0.108,null,42,7.5999999999999998E-2,null,42,0.19900000000000001]
[37,0.16500000000000001,null,37,0.14499999999999999,null,37,0.17100000000000001,null,37,0.151,null,37,0.17100000000000001,null,37,0.14499999999999999,null,37,0.114,null,37,0.14699999999999999]
[32,9.8000000000000004E-2,null,32,9.2999999999999999E-2,null,32,0.13700000000000001,null,32,0.15,null,32,0.16200000000000001,null,32,0.13600000000000001,null,32,0.123,null,32,6.0999999999999999E-2]
[27,4.9000000000000002E-2,null,27,5.3999999999999999E-2,null,27,9.4E-2,null,27,0.11600000000000001,null,27,0.12,null,27,0.10199999999999999,null,27,8.8999999999999996E-2,null,27,1.9E-2]
[22,1.4999999999999999E-2,null,22,2.1999999999999999E-2,null,22,4.5999999999999999E-2,null,22,7.0999999999999994E-2,null,22,6.4000000000000001E-2,null,22,6.7000000000000004E-2,null,22,5.7000000000000002E-2,null,22,5.0000000000000001E-3]
[17,5.0000000000000001E-3,null,17,1.0999999999999999E-2,null,17,3.3000000000000002E-2,null,17,6.2E-2,null,17,4.7E-2,null,17,6.0999999999999999E-2,null,17,6.2E-2,null,17,2E-3]
[12,1E-3,null,12,4.0000000000000001E-3,null,12,1E-3,null,12,4.1000000000000002E-2,null,12,2.5000000000000001E-2,null,12,4.4999999999999998E-2,null,12,5.0999999999999997E-2,null,12,0]
[7,0,null,7,2E-3,null,7,0,null,7,2.9000000000000001E-2,null,7,1.4E-2,null,7,3.5000000000000003E-2,null,7,0.05,null,7,0]
[2,0,null,2,1E-3,null,2,0,null,2,0.02,null,2,0.01,null,2,2.8000000000000001E-2,null,2,0.05,null,2,0]
[-3,0,null,-3,0,null,-3,0,null,-3,0.01,null,-3,5.0000000000000001E-3,null,-3,1.9E-2,null,-3,3.7999999999999999E-2,null,-3,0]
[-8,0,null,-8,0,null,-8,0,null,-8,7.0000000000000001E-3,null,-8,4.0000000000000001E-3,null,-8,1.4999999999999999E-2,null,-8,3.5999999999999997E-2,null,-8,0]
[-13,0,null,-13,0,null,-13,0,null,-13,3.0000000000000001E-3,null,-13,2E-3,null,-13,8.9999999999999993E-3,null,-13,2.8000000000000001E-2,null,-13,0]
[-18,0,null,-18,0,null,-18,0,null,-18,2E-3,null,-18,1E-3,null,-18,6.0000000000000001E-3,null,-18,2.4E-2,null,-18,0]
[-23,0,null,-23,0,null,-23,0,null,-23,0,null,-23,0,null,-23,4.0000000000000001E-3,null,-23,4.2999999999999997E-2,null,-23,0]

{"sheet":"HP1 - Forecast calculations","index":31,"n_rows":66,"n_cols":15,"rows_kept":66,"cut":false,"hidden":true,"merged":[[39,11,39,13],[7,0,7,1],[7,5,7,6],[7,10,7,11],[8,1,9,1],[8,2,9,3],[8,7,9,8],[8,12,9,13],[13,0,13,1],[13,6,13,12],[13,13,13,14],[14,4,15,4]]}
[]
[]
[]
[]
[]
[]
[]
["COP calculations",null,null,null,null,"Load Calculations",null,null,null,null,"HP Heating Capacity Calculations"]
["Temperature","COP","y=mx+b",null,null,"Temperature","Load","y=mx+b",null,null,"Temperature","Capacity","y=mx+b"]
["F",null,null,null,null,"F","BTU/h",null,null,null,"F","BTU/h"]
[47,{"$f":"IF('Step 5 Identify & Select ASHPs'!$I$27,'HP1 Calcs'!I31,IF('Intro & Unit Options'!$B$12=Dropdown_Menus!F1,'HP1'!J12/'HP1'!J15,'HP1'!J12*0.00029307/'HP1'!J15))","v":{"$error":"#DIV/0!"}},"m",{"$f":"(B12-B11)/(A12-A11)","v":{"$error":"#DIV/0!"}},null,60,0,"m",{"$f":"(G12-G11)/(F12-F11)","v":-833.33333333333337},null,47,{"$f":"IF('Step 5 Identify & Select ASHPs'!$I$27,'HP1 Calcs'!G31,'HP1'!J12)","v":0},"m",{"$f":"(L12-L11)/(K12-K11)","v":0}]
[17,{"$f":"IF('Step 5 Identify & Select ASHPs'!$I$27,'HP1 Calcs'!I25,IF('Intro & Unit Options'!$B$12=Dropdown_Menus!F1,'HP1'!J13/'HP1'!J16,'HP1'!J13*0.00029307/'HP1'!J16))","v":{"$error":"#DIV/0!"}},"b",{"$f":"B11-D11*A11","v":{"$error":"#DIV/0!"}},null,{"$f":"'Step 3 Design Loads'!B13","v":0},{"$f":"IF('Intro & Unit Options'!B12=\"Metric\",'Step 3 Design Loads'!B12*3412.142,'Step 3 Design Loads'!B12)","v":50000},"b",{"$f":"G11-I11*F11","v":50000},null,17,{"$f":"IF('Step 5 Identify & Select ASHPs'!$I$27,'HP1 Calcs'!G25,'HP1'!J13)","v":0},"b",{"$f":"L11-N11*K11","v":0}]
[]
["Annual Forecast",null,null,{"$f":"SUM(D17:D33)","v":2337.1067076923077},null,null,"HP + Back-up",null,null,null,null,null,null,"Back-up only"]
["Temperature","Temperature","CSA Bin Fraction","Bin Hours","COP","Heating Requirements","Available HP Capacity","HP Required Power","Required Back-up Power","Total Required Power","HP Required Energy","Back-up Required Energy","Total required Energy","Required Back-up Power","Total required Energy"]
["F","C",{"$f":"ClimateZone","v":"Cold-Humid"},{"$f":"'Step 5 Identify & Select ASHPs'!E8","v":0},null,"BTU/h","BTU/h","BTU/h","BTU/h","BTU/h","BTU","BTU","BTU","BTU/h","BTU"]
[57,{"$f":"CONVERT(A17,\"F\",\"C\")","v":13.888888888888889},{"$f":"IF(ClimateZone=\"Cold-Dry\",VLOOKUP(A17,ColdDry,2,FALSE),\nIF(ClimateZone=\"Cold-Humid\",VLOOKUP(A17,ColdHumid,2,FALSE),\nIF(ClimateZone=\"Hot-Dry\",VLOOKUP(A17,HotDry,2,FALSE),\nIF(ClimateZone=\"Hot-Humid\",VLOOKUP(A17,HotHumid,2,FALSE),\nIF(ClimateZone=\"Marine\",VLOOKUP(A17,Marine,2,FALSE),\nIF(ClimateZone=\"Mixed-Humid\",VLOOKUP(A17,MixedHumid,2,FALSE),\nIF(ClimateZone=\"Subarctic\",VLOOKUP(A17,Subarctic,2,FALSE),\nIF(ClimateZone=\"Very-Cold\",VLOOKUP(A17,VeryCold,2,FALSE),\"ERROR\"))))))))","v":4.1000000000000002E-2},{"$f":"'Step 5 Identify & Select ASHPs'!$D$8*9/5*24*C17/(65-'Step 3 Design Loads'!$B$13)","v":95.917292307692321},{"$f":"$D$11*A17+$D$12","v":{"$error":"#DIV/0!"}},{"$f":"$I$11*A17+$I$12","v":2500},{"$f":"IF(AND('Intro & Unit Options'!$B$12=\"Metric\",B17>'Step 5 Identify & Select ASHPs'!$E$31),$N$11*A17+$N$12,IF(AND('Intro & Unit Options'!$B$12=\"Imperial\",A17>'Step 5 Identify & Select ASHPs'!$E$31),$N$11*A17+$N$12,0))","v":0},{"$f":"IF(F17>G17,G17/E17,F17/E17)","v":{"$error":"#DIV/0!"}},{"$f":"IF(G17>F17,0,F17-G17)/('Step 6 Control Strategy'!$B$16/100)","v":2631.5789473684213},{"$f":"H17+I17","v":{"$error":"#DIV/0!"}},{"$f":"H17*D17","v":{"$error":"#DIV/0!"}},{"$f":"I17*D17","v":252413.92712550613},{"$f":"J17*D17","v":{"$error":"#DIV/0!"}},{"$f":"F17/('Step 6 Control Strategy'!$B$16/100)","v":2631.5789473684213},{"$f":"N17*D17","v":252413.92712550613}]
[52,11.111111111111111,{"$f":"IF(ClimateZone=\"Cold-Dry\",VLOOKUP(A18,ColdDry,2,FALSE),\nIF(ClimateZone=\"Cold-Humid\",VLOOKUP(A18,ColdHumid,2,FALSE),\nIF(ClimateZone=\"Hot-Dry\",VLOOKUP(A18,HotDry,2,FALSE),\nIF(ClimateZone=\"Hot-Humid\",VLOOKUP(A18,HotHumid,2,FALSE),\nIF(ClimateZone=\"Marine\",VLOOKUP(A18,Marine,2,FALSE),\nIF(ClimateZone=\"Mixed-Humid\",VLOOKUP(A18,MixedHumid,2,FALSE),\nIF(ClimateZone=\"Subarctic\",VLOOKUP(A18,Subarctic,2,FALSE),\nIF(ClimateZone=\"Very-Cold\",VLOOKUP(A18,VeryCold,2,FALSE),\"ERROR\"))))))))","v":7.8E-2},{"$f":"'Step 5 Identify & Select ASHPs'!$D$8*9/5*24*C18/(65-'Step 3 Design Loads'!$B$13)","v":182.4768},{"$f":"$D$11*A18+$D$12","v":{"$error":"#DIV/0!"}},6666.6666666666642,{"$f":"IF(AND('Intro & Unit Options'!$B$12=\"Metric\",B18>'Step 5 Identify & Select ASHPs'!$E$31),$N$11*A18+$N$12,IF(AND('Intro & Unit Options'!$B$12=\"Imperial\",A18>'Step 5 Identify & Select ASHPs'!$E$31),$N$11*A18+$N$12,0))","v":0},{"$f":"IF(F18>G18,G18/E18,F18/E18)","v":{"$error":"#DIV/0!"}},{"$f":"IF(G18>F18,0,F18-G18)/('Step 6 Control Strategy'!$B$16/100)","v":7017.5438596491203},{"$f":"H18+I18","v":{"$error":"#DIV/0!"}},{"$f":"H18*D18","v":{"$error":"#DIV/0!"}},{"$f":"I18*D18","v":1280538.9473684207},{"$f":"J18*D18","v":{"$error":"#DIV/0!"}},{"$f":"F18/('Step 6 Control Strategy'!$B$16/100)","v":7017.5438596491203},{"$f":"N18*D18","v":1280538.9473684207}]
[47,8.3333333333333339,0.114,{"$f":"'Step 5 Identify & Select ASHPs'!$D$8*9/5*24*C19/(65-'Step 3 Design Loads'!$B$13)","v":266.69686153846158},{"$error":"#DIV/0!"},10833.333333333328,{"$f":"IF(AND('Intro & Unit Options'!$B$12=\"Metric\",B19>'Step 5 Identify & Select ASHPs'!$E$31),$N$11*A19+$N$12,IF(AND('Intro & Unit Options'!$B$12=\"Imperial\",A19>'Step 5 Identify & Select ASHPs'!$E$31),$N$11*A19+$N$12,0))","v":0},{"$error":"#DIV/0!"},{"$f":"IF(G19>F19,0,F19-G19)/('Step 6 Control Strategy'!$B$16/100)","v":11403.508771929821},{"$error":"#DIV/0!"},{"$error":"#DIV/0!"},{"$f":"I19*D19","v":3041279.9999999995},{"$f":"J19*D19","v":{"$error":"#DIV/0!"}},{"$f":"F19/('Step 6 Control Strategy'!$B$16/100)","v":11403.508771929821},{"$f":"N19*D19","v":3041279.9999999995}]
[42,5.5555555555555554,0.104,{"$f":"'Step 5 Identify & Select ASHPs'!$D$8*9/5*24*C20/(65-'Step 3 Design Loads'!$B$13)","v":243.30239999999998},{"$error":"#DIV/0!"},15000,{"$f":"IF(AND('Intro & Unit Options'!$B$12=\"Metric\",B20>'Step 5 Identify & Select ASHPs'!$E$31),$N$11*A20+$N$12,IF(AND('Intro & Unit Options'!$B$12=\"Imperial\",A20>'Step 5 Identify & Select ASHPs'!$E$31),$N$11*A20+$N$12,0))","v":0},{"$error":"#DIV/0!"},{"$f":"IF(G20>F20,0,F20-G20)/('Step 6 Control Strategy'!$B$16/100)","v":15789.473684210527},{"$error":"#DIV/0!"},{"$error":"#DIV/0!"},3841616.8421052629,{"$error":"#DIV/0!"},{"$f":"F20/('Step 6 Control Strategy'!$B$16/100)","v":15789.473684210527},3841616.8421052629]
[37,2.7777777777777777,0.151,{"$f":"'Step 5 Identify & Select ASHPs'!$D$8*9/5*24*C21/(65-'Step 3 Design Loads'!$B$13)","v":353.25636923076922},{"$error":"#DIV/0!"},19166.666666666664,{"$f":"IF(AND('Intro & Unit Options'!$B$12=\"Metric\",B21>'Step 5 Identify & Select ASHPs'!$E$31),$N$11*A21+$N$12,IF(AND('Intro & Unit Options'!$B$12=\"Imperial\",A21>'Step 5 Identify & Select ASHPs'!$E$31),$N$11*A21+$N$12,0))","v":0},{"$error":"#DIV/0!"},{"$f":"IF(G21>F21,0,F21-G21)/('Step 6 Control Strategy'!$B$16/100)","v":20175.438596491225},{"$error":"#DIV/0!"},{"$error":"#DIV/0!"},7127102.1862348169,{"$error":"#DIV/0!"},{"$f":"F21/('Step 6 Control Strategy'!$B$16/100)","v":20175.438596491225},7127102.1862348169]
[32,0,0.15,{"$f":"'Step 5 Identify & Select ASHPs'!$D$8*9/5*24*C22/(65-'Step 3 Design Loads'!$B$13)","v":350.91692307692307},{"$error":"#DIV/0!"},23333.333333333332,{"$f":"IF(AND('Intro & Unit Options'!$B$12=\"Metric\",B22>'Step 5 Identify & Select ASHPs'!$E$31),$N$11*A22+$N$12,IF(AND('Intro & Unit Options'!$B$12=\"Imperial\",A22>'Step 5 Identify & Select ASHPs'!$E$31),$N$11*A22+$N$12,0))","v":0},{"$error":"#DIV/0!"},{"$f":"IF(G22>F22,0,F22-G22)/('Step 6 Control Strategy'!$B$16/100)","v":24561.403508771931},{"$error":"#DIV/0!"},{"$error":"#DIV/0!"},8619012.1457489878,{"$error":"#DIV/0!"},{"$f":"F22/('Step 6 Control Strategy'!$B$16/100)","v":24561.403508771931},8619012.1457489878]
[27,-2.7777777777777777,0.11600000000000001,{"$f":"'Step 5 Identify & Select ASHPs'!$D$8*9/5*24*C23/(65-'Step 3 Design Loads'!$B$13)","v":271.37575384615388},{"$error":"#DIV/0!"},27500,{"$f":"IF(AND('Intro & Unit Options'!$B$12=\"Metric\",B23>'Step 5 Identify & Select ASHPs'!$E$31),$N$11*A23+$N$12,IF(AND('Intro & Unit Options'!$B$12=\"Imperial\",A23>'Step 5 Identify & Select ASHPs'!$E$31),$N$11*A23+$N$12,0))","v":0},{"$f":"IF(F23>G23,G23/E23,F23/E23)","v":{"$error":"#DIV/0!"}},{"$f":"IF(G23>F23,0,F23-G23)/('Step 6 Control Strategy'!$B$16/100)","v":28947.368421052633},{"$error":"#DIV/0!"},{"$error":"#DIV/0!"},7855613.927125508,{"$error":"#DIV/0!"},{"$f":"F23/('Step 6 Control Strategy'!$B$16/100)","v":28947.368421052633},7855613.927125508]
[22,-5.5555555555555554,7.0999999999999994E-2,{"$f":"'Step 5 Identify & Select ASHPs'!$D$8*9/5*24*C24/(65-'Step 3 Design Loads'!$B$13)","v":166.10067692307692},{"$error":"#DIV/0!"},31666.666666666664,{"$f":"IF(AND('Intro & Unit Options'!$B$12=\"Metric\",B24>'Step 5 Identify & Select ASHPs'!$E$31),$N$11*A24+$N$12,IF(AND('Intro & Unit Options'!$B$12=\"Imperial\",A24>'Step 5 Identify & Select ASHPs'!$E$31),$N$11*A24+$N$12,0))","v":0},{"$error":"#DIV/0!"},{"$f":"IF(G24>F24,0,F24-G24)/('Step 6 Control Strategy'!$B$16/100)","v":33333.333333333336},{"$error":"#DIV/0!"},{"$error":"#DIV/0!"},5536689.230769231,{"$error":"#DIV/0!"},{"$f":"F24/('Step 6 Control Strategy'!$B$16/100)","v":33333.333333333336},5536689.230769231]
[17,-8.3333333333333339,6.2E-2,{"$f":"'Step 5 Identify & Select ASHPs'!$D$8*9/5*24*C25/(65-'Step 3 Design Loads'!$B$13)","v":145.04566153846156},{"$error":"#DIV/0!"},35833.333333333328,{"$f":"IF(AND('Intro & Unit Options'!$B$12=\"Metric\",B25>'Step 5 Identify & Select ASHPs'!$E$31),$N$11*A25+$N$12,IF(AND('Intro & Unit Options'!$B$12=\"Imperial\",A25>'Step 5 Identify & Select ASHPs'!$E$31),$N$11*A25+$N$12,0))","v":0},{"$error":"#DIV/0!"},{"$f":"IF(G25>F25,0,F25-G25)/('Step 6 Control Strategy'!$B$16/100)","v":37719.298245614031},{"$error":"#DIV/0!"},{"$error":"#DIV/0!"},5471020.5668016197,{"$error":"#DIV/0!"},{"$f":"F25/('Step 6 Control Strategy'!$B$16/100)","v":37719.298245614031},5471020.5668016197]
[12,-11.111111111111111,4.1000000000000002E-2,{"$f":"'Step 5 Identify & Select ASHPs'!$D$8*9/5*24*C26/(65-'Step 3 Design Loads'!$B$13)","v":95.917292307692321},{"$error":"#DIV/0!"},40000,{"$f":"IF(AND('Intro & Unit Options'!$B$12=\"Metric\",B26>'Step 5 Identify & Select ASHPs'!$E$31),$N$11*A26+$N$12,IF(AND('Intro & Unit Options'!$B$12=\"Imperial\",A26>'Step 5 Identify & Select ASHPs'!$E$31),$N$11*A26+$N$12,0))","v":0},{"$error":"#DIV/0!"},{"$f":"IF(G26>F26,0,F26-G26)/('Step 6 Control Strategy'!$B$16/100)","v":42105.26315789474},{"$error":"#DIV/0!"},{"$error":"#DIV/0!"},4038622.8340080981,{"$error":"#DIV/0!"},{"$f":"F26/('Step 6 Control Strategy'!$B$16/100)","v":42105.26315789474},4038622.8340080981]
[7,-13.888888888888889,2.9000000000000001E-2,{"$f":"'Step 5 Identify & Select ASHPs'!$D$8*9/5*24*C27/(65-'Step 3 Design Loads'!$B$13)","v":67.843938461538471},{"$error":"#DIV/0!"},44166.666666666664,{"$f":"IF(AND('Intro & Unit Options'!$B$12=\"Metric\",B27>'Step 5 Identify & Select ASHPs'!$E$31),$N$11*A27+$N$12,IF(AND('Intro & Unit Options'!$B$12=\"Imperial\",A27>'Step 5 Identify & Select ASHPs'!$E$31),$N$11*A27+$N$12,0))","v":0},{"$error":"#DIV/0!"},{"$f":"IF(G27>F27,0,F27-G27)/('Step 6 Control Strategy'!$B$16/100)","v":46491.228070175435},{"$error":"#DIV/0!"},{"$error":"#DIV/0!"},3154148.0161943324,{"$error":"#DIV/0!"},{"$f":"F27/('Step 6 Control Strategy'!$B$16/100)","v":46491.228070175435},3154148.0161943324]
[2,-16.666666666666668,0.02,{"$f":"'Step 5 Identify & Select ASHPs'!$D$8*9/5*24*C28/(65-'Step 3 Design Loads'!$B$13)","v":46.788923076923083},{"$error":"#DIV/0!"},48333.333333333336,{"$f":"IF(AND('Intro & Unit Options'!$B$12=\"Metric\",B28>'Step 5 Identify & Select ASHPs'!$E$31),$N$11*A28+$N$12,IF(AND('Intro & Unit Options'!$B$12=\"Imperial\",A28>'Step 5 Identify & Select ASHPs'!$E$31),$N$11*A28+$N$12,0))","v":0},{"$error":"#DIV/0!"},{"$f":"IF(G28>F28,0,F28-G28)/('Step 6 Control Strategy'!$B$16/100)","v":50877.192982456145},{"$error":"#DIV/0!"},{"$error":"#DIV/0!"},2380489.0688259113,{"$error":"#DIV/0!"},{"$f":"F28/('Step 6 Control Strategy'!$B$16/100)","v":50877.192982456145},2380489.0688259113]
[-3,-19.444444444444443,0.01,{"$f":"'Step 5 Identify & Select ASHPs'!$D$8*9/5*24*C29/(65-'Step 3 Design Loads'!$B$13)","v":23.394461538461542},{"$error":"#DIV/0!"},52500,{"$f":"IF(AND('Intro & Unit Options'!$B$12=\"Metric\",B29>'Step 5 Identify & Select ASHPs'!$E$31),$N$11*A29+$N$12,IF(AND('Intro & Unit Options'!$B$12=\"Imperial\",A29>'Step 5 Identify & Select ASHPs'!$E$31),$N$11*A29+$N$12,0))","v":0},{"$error":"#DIV/0!"},{"$f":"IF(G29>F29,0,F29-G29)/('Step 6 Control Strategy'!$B$16/100)","v":55263.157894736847},{"$error":"#DIV/0!"},{"$error":"#DIV/0!"},1292851.8218623486,{"$error":"#DIV/0!"},{"$f":"F29/('Step 6 Control Strategy'!$B$16/100)","v":55263.157894736847},1292851.8218623486]
[-8,-22.222222222222221,7.0000000000000001E-3,{"$f":"'Step 5 Identify & Select ASHPs'!$D$8*9/5*24*C30/(65-'Step 3 Design Loads'!$B$13)","v":16.376123076923079},{"$error":"#DIV/0!"},56666.666666666664,{"$f":"IF(AND('Intro & Unit Options'!$B$12=\"Metric\",B30>'Step 5 Identify & Select ASHPs'!$E$31),$N$11*A30+$N$12,IF(AND('Intro & Unit Options'!$B$12=\"Imperial\",A30>'Step 5 Identify & Select ASHPs'!$E$31),$N$11*A30+$N$12,0))","v":0},{"$error":"#DIV/0!"},{"$f":"IF(G30>F30,0,F30-G30)/('Step 6 Control Strategy'!$B$16/100)","v":59649.122807017542},{"$error":"#DIV/0!"},{"$error":"#DIV/0!"},976821.37651821878,{"$error":"#DIV/0!"},{"$f":"F30/('Step 6 Control Strategy'!$B$16/100)","v":59649.122807017542},976821.37651821878]
[-13,-25,3.0000000000000001E-3,{"$f":"'Step 5 Identify & Select ASHPs'!$D$8*9/5*24*C31/(65-'Step 3 Design Loads'!$B$13)","v":7.0183384615384616},{"$error":"#DIV/0!"},60833.333333333336,{"$f":"IF(AND('Intro & Unit Options'!$B$12=\"Metric\",B31>'Step 5 Identify & Select ASHPs'!$E$31),$N$11*A31+$N$12,IF(AND('Intro & Unit Options'!$B$12=\"Imperial\",A31>'Step 5 Identify & Select ASHPs'!$E$31),$N$11*A31+$N$12,0))","v":0},{"$error":"#DIV/0!"},{"$f":"IF(G31>F31,0,F31-G31)/('Step 6 Control Strategy'!$B$16/100)","v":64035.087719298252},{"$error":"#DIV/0!"},{"$error":"#DIV/0!"},449419.91902834014,{"$error":"#DIV/0!"},{"$f":"F31/('Step 6 Control Strategy'!$B$16/100)","v":64035.087719298252},449419.91902834014]
[-18,-27.777777777777779,2E-3,{"$f":"'Step 5 Identify & Select ASHPs'!$D$8*9/5*24*C32/(65-'Step 3 Design Loads'!$B$13)","v":4.6788923076923075},{"$error":"#DIV/0!"},65000,{"$f":"IF(AND('Intro & Unit Options'!$B$12=\"Metric\",B32>'Step 5 Identify & Select ASHPs'!$E$31),$N$11*A32+$N$12,IF(AND('Intro & Unit Options'!$B$12=\"Imperial\",A32>'Step 5 Identify & Select ASHPs'!$E$31),$N$11*A32+$N$12,0))","v":0},{"$error":"#DIV/0!"},{"$f":"IF(G32>F32,0,F32-G32)/('Step 6 Control Strategy'!$B$16/100)","v":68421.052631578947},{"$error":"#DIV/0!"},{"$error":"#DIV/0!"},320134.73684210522,{"$error":"#DIV/0!"},{"$f":"F32/('Step 6 Control Strategy'!$B$16/100)","v":68421.052631578947},320134.73684210522]
[-23,-30.555555555555554,0,{"$f":"'Step 5 Identify & Select ASHPs'!$D$8*9/5*24*C33/(65-'Step 3 Design Loads'!$B$13)","v":0},{"$error":"#DIV/0!"},69166.666666666672,{"$f":"IF(AND('Intro & Unit Options'!$B$12=\"Metric\",B33>'Step 5 Identify & Select ASHPs'!$E$31),$N$11*A33+$N$12,IF(AND('Intro & Unit Options'!$B$12=\"Imperial\",A33>'Step 5 Identify & Select ASHPs'!$E$31),$N$11*A33+$N$12,0))","v":0},{"$error":"#DIV/0!"},{"$f":"IF(G33>F33,0,F33-G33)/('Step 6 Control Strategy'!$B$16/100)","v":72807.017543859663},{"$error":"#DIV/0!"},{"$error":"#DIV/0!"},0,{"$error":"#DIV/0!"},{"$f":"F33/('Step 6 Control Strategy'!$B$16/100)","v":72807.017543859663},0]
[null,null,null,null,null,null,null,null,"TOTAL YEAR (BTU)",{"$f":"SUM(K17:K33)","v":{"$error":"#DIV/0!"}},{"$f":"SUM(L17:L33)","v":55637775.546558701},{"$f":"SUM(M17:M33)","v":{"$error":"#DIV/0!"}},"TOTAL YEAR (BTU)",{"$f":"SUM(O17:O33)","v":55637775.546558701}]
[null,null,null,null,null,null,null,null,"TOTAL YEAR (kWh)",{"$f":"CONVERT(J34,\"BTU\",\"Wh\")/1000","v":{"$error":"#DIV/0!"}},{"$f":"CONVERT(K34,\"BTU\",\"Wh\")/1000","v":16305.822421431854},{"$error":"#DIV/0!"},"TOTAL YEAR (kWh)",{"$f":"CONVERT(N34,\"BTU\",\"Wh\")/1000","v":16305.822421431854}]
[]
[]
[]
[]
[null,null,null,null,null,null,null,null,null,null,null,"Conversions"]
[null,null,null,null,null,null,null,null,null,null,null,"Natural Gas",10.36,"kWh/m3"]
["Utility Costs",null,null,null,null,null,"Scenario","HP Cost","Back-up cost","Total Costs",null,"Natural Gas",277.8,"kWh/GJ"]
["Back-up Cost",{"$f":"IF('Step 6 Control Strategy'!B15=\"Electricity\",B44,'Step 6 Control Strategy'!B20)","v":28},{"$f":"IF('Step 6 Control Strategy'!B15=\"Electricity\",C44,'Step 6 Control Strategy'!C20)","v":"cents/m3"},{"$f":"IF('Step 6 Control Strategy'!B15=\"Natural Gas\",B43/100/M41,IF('Step 6 Control Strategy'!B15=\"Propane\",B43/M43,IF('Step 6 Control Strategy'!B15=\"Oil\",B43/M44,IF('Step 6 Control Strategy'!B15=\"Electricity\",D44))))","v":2.7027027027027032E-2},"$/kWh",null,"HP + back-up",{"$f":"J35*D44","v":{"$error":"#DIV/0!"}},{"$f":"K35*D43","v":440.6979032819421},{"$f":"H43+I43","v":{"$error":"#DIV/0!"}},null,"LPG (Propane)",7.03,"kWh/L"]
["Electricity Average Rate",{"$f":"IF('Step 6 Control Strategy'!B23=\"Time of Use\",('Step 6 Control Strategy'!B25*6+'Step 6 Control Strategy'!B26*6+'Step 6 Control Strategy'!B27*12)/24,\nIF('Step 6 Control Strategy'!B23=\"Single Rate\",'Step 6 Control Strategy'!B25,\nIF('Step 6 Control Strategy'!B23=\"Tiered\",'Step 6 Control Strategy'!B25,\"ERROR\")))","v":10.25},{"$f":"'Step 6 Control Strategy'!C25","v":"cents/kWh"},{"$f":"B44/100","v":0.10249999999999999},"$/kWh",null,"Back-up Only",0,{"$f":"N35*D43","v":440.6979032819421},{"$f":"H44+I44","v":440.6979032819421},null,"Heating Oil",10.61,"kWh/L"]
[]
[]
[]
[]
[]
[]
["HP GHG Emissions",null,null,"Back-up GHG Emissions"]
["Location","Electricity Emissions factors 2015 (gCO2e)",null,"Fuel type","Unit","gCO2e","gCO2e/kWh",null,"Scenario","HP Emissions","Back-up Emissions","Total Emissions"]
["AB",790,null,"Natural Gas","m^3",1903,{"$f":"F53/M41/('Step 6 Control Strategy'!B16/100)","v":193.35500914448284},null,"HP + back-up",{"$f":"VLOOKUP('Step 5 Identify & Select ASHPs'!F6,ProvEmissions,2,FALSE)*J35","v":{"$error":"#DIV/0!"}},{"$f":"VLOOKUP('Step 6 Control Strategy'!B15,FuelEmissions,4,FALSE)*K35","v":3152812.4434042694},{"$f":"SUM(J53:K53)","v":{"$error":"#DIV/0!"}},"gCO2e"]
["BC",12.9,null,"Oil","L",2790,{"$f":"F54/M44/('Step 6 Control Strategy'!B16/100)","v":276.79944441688576},null,"Back-up Only",0,{"$f":"VLOOKUP('Step 6 Control Strategy'!B15,FuelEmissions,4,FALSE)*N35","v":3152812.4434042694},{"$f":"SUM(J54:K54)","v":3152812.4434042694},"gCO2e"]
["MB",3.4,null,"Propane","L",1544,{"$f":"F55/M43/('Step 6 Control Strategy'!B16/100)","v":231.18963839185446}]
["NB",280,null,"Electricity","kWh",{"$f":"VLOOKUP('Step 5 Identify & Select ASHPs'!F6,A53:B65,2,FALSE)","v":40},{"$f":"F56","v":40}]
["NL",32]
["NS",600]
["NT",390]
["NU",750]
["ON",40]
["PE",20]
["QC",1.2]
["SK",660]
["YT",41]
["Canada",140]

{"sheet":"HP2 - Forecast calculations","index":32,"n_rows":66,"n_cols":15,"rows_kept":66,"cut":false,"hidden":true,"merged":[[39,11,39,13],[7,0,7,1],[7,5,7,6],[7,10,7,11],[8,1,9,1],[8,2,9,3],[8,7,9,8],[8,12,9,13],[13,0,13,1],[13,6,13,12],[13,13,13,14],[14,4,15,4]]}
[]
[]
[]
[]
[]
[]
[]
["COP calculations",null,null,null,null,"Load Calculations",null,null,null,null,"HP Heating Capacity Calculations"]
["Temperature","COP","y=mx+b",null,null,"Temperature","Load","y=mx+b",null,null,"Temperature","Capacity","y=mx+b"]
["F",null,null,null,null,"F","BTU/h",null,null,null,"F","BTU/h"]
[47,{"$f":"IF('Step 5 Identify & Select ASHPs'!$I$46,'HP2 Calcs'!I31,IF('Intro & Unit Options'!$B$12=Dropdown_Menus!F1,'HP2'!J12/'HP2'!J15,'HP2'!J12*0.00029307/'HP2'!J15))","v":{"$error":"#DIV/0!"}},"m",{"$f":"(B12-B11)/(A12-A11)","v":{"$error":"#DIV/0!"}},null,60,0,"m",{"$f":"(G12-G11)/(F12-F11)","v":-833.33333333333337},null,47,{"$f":"IF('Step 5 Identify & Select ASHPs'!$I$46,'HP2 Calcs'!G31,'HP2'!J12)","v":0},"m",{"$f":"(L12-L11)/(K12-K11)","v":0}]
[17,{"$f":"IF('Step 5 Identify & Select ASHPs'!$I$46,'HP2 Calcs'!I25,IF('Intro & Unit Options'!$B$12=Dropdown_Menus!F1,'HP2'!J13/'HP2'!J16,'HP2'!J13*0.00029307/'HP2'!J16))","v":{"$error":"#DIV/0!"}},"b",{"$f":"B11-D11*A11","v":{"$error":"#DIV/0!"}},null,{"$f":"'Step 3 Design Loads'!B13","v":0},{"$f":"IF('Intro & Unit Options'!B12=\"Metric\",'Step 3 Design Loads'!B12*3412.142,'Step 3 Design Loads'!B12)","v":50000},"b",{"$f":"G11-I11*F11","v":50000},null,17,{"$f":"IF('Step 5 Identify & Select ASHPs'!$I$46,'HP2 Calcs'!G25,'HP2'!J13)","v":0},"b",{"$f":"L11-N11*K11","v":0}]
[]
["Annual Forecast",null,null,null,null,null,"HP + Back-up",null,null,null,null,null,null,"Back-up only"]
["Temperature","Temperature","CSA Bin Fraction","Bin Hours","COP","Heating Requirements","Available HP Capacity","HP Required Power","Required Back-up Power","Total Required Power","HP Required Energy","Back-up Required Energy","Total required Energy","Required Back-up Power","Total required Energy"]
["F","C",{"$f":"ClimateZone","v":"Cold-Humid"},{"$f":"'Step 5 Identify & Select ASHPs'!E8","v":0},null,"BTU/h","BTU/h","BTU/h","BTU/h","BTU/h","BTU","BTU","BTU","BTU/h","BTU"]
[57,{"$f":"CONVERT(A17,\"F\",\"C\")","v":13.888888888888889},{"$f":"IF(ClimateZone=\"Cold-Dry\",VLOOKUP(A17,ColdDry,2,FALSE),\nIF(ClimateZone=\"Cold-Humid\",VLOOKUP(A17,ColdHumid,2,FALSE),\nIF(ClimateZone=\"Hot-Dry\",VLOOKUP(A17,HotDry,2,FALSE),\nIF(ClimateZone=\"Hot-Humid\",VLOOKUP(A17,HotHumid,2,FALSE),\nIF(ClimateZone=\"Marine\",VLOOKUP(A17,Marine,2,FALSE),\nIF(ClimateZone=\"Mixed-Humid\",VLOOKUP(A17,MixedHumid,2,FALSE),\nIF(ClimateZone=\"Subarctic\",VLOOKUP(A17,Subarctic,2,FALSE),\nIF(ClimateZone=\"Very-Cold\",VLOOKUP(A17,VeryCold,2,FALSE),\"ERROR\"))))))))","v":4.1000000000000002E-2},{"$f":"'Step 5 Identify & Select ASHPs'!$D$8*9/5*24*C17/(65-'Step 3 Design Loads'!$B$13)","v":95.917292307692321},{"$f":"$D$11*A17+$D$12","v":{"$error":"#DIV/0!"}},{"$f":"$I$11*A17+$I$12","v":2500},{"$f":"IF(AND('Intro & Unit Options'!$B$12=\"Metric\",B17>'Step 5 Identify & Select ASHPs'!$E$50),$N$11*A17+$N$12,IF(AND('Intro & Unit Options'!$B$12=\"Imperial\",A17>'Step 5 Identify & Select ASHPs'!$E$50),$N$11*A17+$N$12,0))","v":0},{"$f":"IF(F17>G17,G17/E17,F17/E17)","v":{"$error":"#DIV/0!"}},{"$f":"IF(G17>F17,0,F17-G17)/('Step 6 Control Strategy'!$B$16/100)","v":2631.5789473684213},{"$f":"H17+I17","v":{"$error":"#DIV/0!"}},{"$f":"H17*D17","v":{"$error":"#DIV/0!"}},{"$f":"I17*D17","v":252413.92712550613},{"$f":"J17*D17","v":{"$error":"#DIV/0!"}},{"$f":"F17/('Step 6 Control Strategy'!$B$16/100)","v":2631.5789473684213},{"$f":"N17*D17","v":252413.92712550613}]
[52,11.111111111111111,{"$f":"IF(ClimateZone=\"Cold-Dry\",VLOOKUP(A18,ColdDry,2,FALSE),\nIF(ClimateZone=\"Cold-Humid\",VLOOKUP(A18,ColdHumid,2,FALSE),\nIF(ClimateZone=\"Hot-Dry\",VLOOKUP(A18,HotDry,2,FALSE),\nIF(ClimateZone=\"Hot-Humid\",VLOOKUP(A18,HotHumid,2,FALSE),\nIF(ClimateZone=\"Marine\",VLOOKUP(A18,Marine,2,FALSE),\nIF(ClimateZone=\"Mixed-Humid\",VLOOKUP(A18,MixedHumid,2,FALSE),\nIF(ClimateZone=\"Subarctic\",VLOOKUP(A18,Subarctic,2,FALSE),\nIF(ClimateZone=\"Very-Cold\",VLOOKUP(A18,VeryCold,2,FALSE),\"ERROR\"))))))))","v":7.8E-2},{"$f":"'Step 5 Identify & Select ASHPs'!$D$8*9/5*24*C18/(65-'Step 3 Design Loads'!$B$13)","v":182.4768},{"$error":"#DIV/0!"},6666.6666666666642,{"$f":"IF(AND('Intro & Unit Options'!$B$12=\"Metric\",B18>'Step 5 Identify & Select ASHPs'!$E$50),$N$11*A18+$N$12,IF(AND('Intro & Unit Options'!$B$12=\"Imperial\",A18>'Step 5 Identify & Select ASHPs'!$E$50),$N$11*A18+$N$12,0))","v":0},{"$error":"#DIV/0!"},{"$f":"IF(G18>F18,0,F18-G18)/('Step 6 Control Strategy'!$B$16/100)","v":7017.5438596491203},{"$f":"H18+I18","v":{"$error":"#DIV/0!"}},{"$f":"H18*D18","v":{"$error":"#DIV/0!"}},{"$f":"I18*D18","v":1280538.9473684207},{"$f":"J18*D18","v":{"$error":"#DIV/0!"}},{"$f":"F18/('Step 6 Control Strategy'!$B$16/100)","v":7017.5438596491203},{"$f":"N18*D18","v":1280538.9473684207}]
[47,8.3333333333333339,0.114,{"$f":"'Step 5 Identify & Select ASHPs'!$D$8*9/5*24*C19/(65-'Step 3 Design Loads'!$B$13)","v":266.69686153846158},{"$error":"#DIV/0!"},10833.333333333328,{"$f":"IF(AND('Intro & Unit Options'!$B$12=\"Metric\",B19>'Step 5 Identify & Select ASHPs'!$E$50),$N$11*A19+$N$12,IF(AND('Intro & Unit Options'!$B$12=\"Imperial\",A19>'Step 5 Identify & Select ASHPs'!$E$50),$N$11*A19+$N$12,0))","v":0},{"$error":"#DIV/0!"},{"$f":"IF(G19>F19,0,F19-G19)/('Step 6 Control Strategy'!$B$16/100)","v":11403.508771929821},{"$error":"#DIV/0!"},{"$error":"#DIV/0!"},{"$f":"I19*D19","v":3041279.9999999995},{"$f":"J19*D19","v":{"$error":"#DIV/0!"}},{"$f":"F19/('Step 6 Control Strategy'!$B$16/100)","v":11403.508771929821},{"$f":"N19*D19","v":3041279.9999999995}]
[42,5.5555555555555554,0.104,{"$f":"'Step 5 Identify & Select ASHPs'!$D$8*9/5*24*C20/(65-'Step 3 Design Loads'!$B$13)","v":243.30239999999998},{"$error":"#DIV/0!"},15000,{"$f":"IF(AND('Intro & Unit Options'!$B$12=\"Metric\",B20>'Step 5 Identify & Select ASHPs'!$E$50),$N$11*A20+$N$12,IF(AND('Intro & Unit Options'!$B$12=\"Imperial\",A20>'Step 5 Identify & Select ASHPs'!$E$50),$N$11*A20+$N$12,0))","v":0},{"$error":"#DIV/0!"},{"$f":"IF(G20>F20,0,F20-G20)/('Step 6 Control Strategy'!$B$16/100)","v":15789.473684210527},{"$error":"#DIV/0!"},{"$error":"#DIV/0!"},3841616.8421052629,{"$error":"#DIV/0!"},{"$f":"F20/('Step 6 Control Strategy'!$B$16/100)","v":15789.473684210527},3841616.8421052629]
[37,2.7777777777777777,0.151,{"$f":"'Step 5 Identify & Select ASHPs'!$D$8*9/5*24*C21/(65-'Step 3 Design Loads'!$B$13)","v":353.25636923076922},{"$error":"#DIV/0!"},19166.666666666664,{"$f":"IF(AND('Intro & Unit Options'!$B$12=\"Metric\",B21>'Step 5 Identify & Select ASHPs'!$E$50),$N$11*A21+$N$12,IF(AND('Intro & Unit Options'!$B$12=\"Imperial\",A21>'Step 5 Identify & Select ASHPs'!$E$50),$N$11*A21+$N$12,0))","v":0},{"$error":"#DIV/0!"},{"$f":"IF(G21>F21,0,F21-G21)/('Step 6 Control Strategy'!$B$16/100)","v":20175.438596491225},{"$error":"#DIV/0!"},{"$error":"#DIV/0!"},7127102.1862348169,{"$error":"#DIV/0!"},{"$f":"F21/('Step 6 Control Strategy'!$B$16/100)","v":20175.438596491225},7127102.1862348169]
[32,0,0.15,{"$f":"'Step 5 Identify & Select ASHPs'!$D$8*9/5*24*C22/(65-'Step 3 Design Loads'!$B$13)","v":350.91692307692307},{"$error":"#DIV/0!"},23333.333333333332,{"$f":"IF(AND('Intro & Unit Options'!$B$12=\"Metric\",B22>'Step 5 Identify & Select ASHPs'!$E$50),$N$11*A22+$N$12,IF(AND('Intro & Unit Options'!$B$12=\"Imperial\",A22>'Step 5 Identify & Select ASHPs'!$E$50),$N$11*A22+$N$12,0))","v":0},{"$error":"#DIV/0!"},{"$f":"IF(G22>F22,0,F22-G22)/('Step 6 Control Strategy'!$B$16/100)","v":24561.403508771931},{"$error":"#DIV/0!"},{"$error":"#DIV/0!"},8619012.1457489878,{"$error":"#DIV/0!"},{"$f":"F22/('Step 6 Control Strategy'!$B$16/100)","v":24561.403508771931},8619012.1457489878]
[27,-2.7777777777777777,0.11600000000000001,{"$f":"'Step 5 Identify & Select ASHPs'!$D$8*9/5*24*C23/(65-'Step 3 Design Loads'!$B$13)","v":271.37575384615388},{"$error":"#DIV/0!"},27500,{"$f":"IF(AND('Intro & Unit Options'!$B$12=\"Metric\",B23>'Step 5 Identify & Select ASHPs'!$E$50),$N$11*A23+$N$12,IF(AND('Intro & Unit Options'!$B$12=\"Imperial\",A23>'Step 5 Identify & Select ASHPs'!$E$50),$N$11*A23+$N$12,0))","v":0},{"$f":"IF(F23>G23,G23/E23,F23/E23)","v":{"$error":"#DIV/0!"}},{"$f":"IF(G23>F23,0,F23-G23)/('Step 6 Control Strategy'!$B$16/100)","v":28947.368421052633},{"$error":"#DIV/0!"},{"$error":"#DIV/0!"},7855613.927125508,{"$error":"#DIV/0!"},{"$f":"F23/('Step 6 Control Strategy'!$B$16/100)","v":28947.368421052633},7855613.927125508]
[22,-5.5555555555555554,7.0999999999999994E-2,{"$f":"'Step 5 Identify & Select ASHPs'!$D$8*9/5*24*C24/(65-'Step 3 Design Loads'!$B$13)","v":166.10067692307692},{"$error":"#DIV/0!"},31666.666666666664,{"$f":"IF(AND('Intro & Unit Options'!$B$12=\"Metric\",B24>'Step 5 Identify & Select ASHPs'!$E$50),$N$11*A24+$N$12,IF(AND('Intro & Unit Options'!$B$12=\"Imperial\",A24>'Step 5 Identify & Select ASHPs'!$E$50),$N$11*A24+$N$12,0))","v":0},{"$error":"#DIV/0!"},{"$f":"IF(G24>F24,0,F24-G24)/('Step 6 Control Strategy'!$B$16/100)","v":33333.333333333336},{"$error":"#DIV/0!"},{"$error":"#DIV/0!"},5536689.230769231,{"$error":"#DIV/0!"},{"$f":"F24/('Step 6 Control Strategy'!$B$16/100)","v":33333.333333333336},5536689.230769231]
[17,-8.3333333333333339,6.2E-2,{"$f":"'Step 5 Identify & Select ASHPs'!$D$8*9/5*24*C25/(65-'Step 3 Design Loads'!$B$13)","v":145.04566153846156},{"$error":"#DIV/0!"},35833.333333333328,{"$f":"IF(AND('Intro & Unit Options'!$B$12=\"Metric\",B25>'Step 5 Identify & Select ASHPs'!$E$50),$N$11*A25+$N$12,IF(AND('Intro & Unit Options'!$B$12=\"Imperial\",A25>'Step 5 Identify & Select ASHPs'!$E$50),$N$11*A25+$N$12,0))","v":0},{"$error":"#DIV/0!"},{"$f":"IF(G25>F25,0,F25-G25)/('Step 6 Control Strategy'!$B$16/100)","v":37719.298245614031},{"$error":"#DIV/0!"},{"$error":"#DIV/0!"},5471020.5668016197,{"$error":"#DIV/0!"},{"$f":"F25/('Step 6 Control Strategy'!$B$16/100)","v":37719.298245614031},5471020.5668016197]
[12,-11.111111111111111,4.1000000000000002E-2,{"$f":"'Step 5 Identify & Select ASHPs'!$D$8*9/5*24*C26/(65-'Step 3 Design Loads'!$B$13)","v":95.917292307692321},{"$error":"#DIV/0!"},40000,{"$f":"IF(AND('Intro & Unit Options'!$B$12=\"Metric\",B26>'Step 5 Identify & Select ASHPs'!$E$50),$N$11*A26+$N$12,IF(AND('Intro & Unit Options'!$B$12=\"Imperial\",A26>'Step 5 Identify & Select ASHPs'!$E$50),$N$11*A26+$N$12,0))","v":0},{"$error":"#DIV/0!"},{"$f":"IF(G26>F26,0,F26-G26)/('Step 6 Control Strategy'!$B$16/100)","v":42105.26315789474},{"$error":"#DIV/0!"},{"$error":"#DIV/0!"},4038622.8340080981,{"$error":"#DIV/0!"},{"$f":"F26/('Step 6 Control Strategy'!$B$16/100)","v":42105.26315789474},4038622.8340080981]
[7,-13.888888888888889,2.9000000000000001E-2,{"$f":"'Step 5 Identify & Select ASHPs'!$D$8*9/5*24*C27/(65-'Step 3 Design Loads'!$B$13)","v":67.843938461538471},{"$error":"#DIV/0!"},44166.666666666664,{"$f":"IF(AND('Intro & Unit Options'!$B$12=\"Metric\",B27>'Step 5 Identify & Select ASHPs'!$E$50),$N$11*A27+$N$12,IF(AND('Intro & Unit Options'!$B$12=\"Imperial\",A27>'Step 5 Identify & Select ASHPs'!$E$50),$N$11*A27+$N$12,0))","v":0},{"$error":"#DIV/0!"},{"$f":"IF(G27>F27,0,F27-G27)/('Step 6 Control Strategy'!$B$16/100)","v":46491.228070175435},{"$error":"#DIV/0!"},{"$error":"#DIV/0!"},3154148.0161943324,{"$error":"#DIV/0!"},{"$f":"F27/('Step 6 Control Strategy'!$B$16/100)","v":46491.228070175435},3154148.0161943324]
[2,-16.666666666666668,0.02,{"$f":"'Step 5 Identify & Select ASHPs'!$D$8*9/5*24*C28/(65-'Step 3 Design Loads'!$B$13)","v":46.788923076923083},{"$error":"#DIV/0!"},48333.333333333336,{"$f":"IF(AND('Intro & Unit Options'!$B$12=\"Metric\",B28>'Step 5 Identify & Select ASHPs'!$E$50),$N$11*A28+$N$12,IF(AND('Intro & Unit Options'!$B$12=\"Imperial\",A28>'Step 5 Identify & Select ASHPs'!$E$50),$N$11*A28+$N$12,0))","v":0},{"$error":"#DIV/0!"},{"$f":"IF(G28>F28,0,F28-G28)/('Step 6 Control Strategy'!$B$16/100)","v":50877.192982456145},{"$error":"#DIV/0!"},{"$error":"#DIV/0!"},2380489.0688259113,{"$error":"#DIV/0!"},{"$f":"F28/('Step 6 Control Strategy'!$B$16/100)","v":50877.192982456145},2380489.0688259113]
[-3,-19.444444444444443,0.01,{"$f":"'Step 5 Identify & Select ASHPs'!$D$8*9/5*24*C29/(65-'Step 3 Design Loads'!$B$13)","v":23.394461538461542},{"$error":"#DIV/0!"},52500,{"$f":"IF(AND('Intro & Unit Options'!$B$12=\"Metric\",B29>'Step 5 Identify & Select ASHPs'!$E$50),$N$11*A29+$N$12,IF(AND('Intro & Unit Options'!$B$12=\"Imperial\",A29>'Step 5 Identify & Select ASHPs'!$E$50),$N$11*A29+$N$12,0))","v":0},{"$error":"#DIV/0!"},{"$f":"IF(G29>F29,0,F29-G29)/('Step 6 Control Strategy'!$B$16/100)","v":55263.157894736847},{"$error":"#DIV/0!"},{"$error":"#DIV/0!"},1292851.8218623486,{"$error":"#DIV/0!"},{"$f":"F29/('Step 6 Control Strategy'!$B$16/100)","v":55263.157894736847},1292851.8218623486]
[-8,-22.222222222222221,7.0000000000000001E-3,{"$f":"'Step 5 Identify & Select ASHPs'!$D$8*9/5*24*C30/(65-'Step 3 Design Loads'!$B$13)","v":16.376123076923079},{"$error":"#DIV/0!"},56666.666666666664,{"$f":"IF(AND('Intro & Unit Options'!$B$12=\"Metric\",B30>'Step 5 Identify & Select ASHPs'!$E$50),$N$11*A30+$N$12,IF(AND('Intro & Unit Options'!$B$12=\"Imperial\",A30>'Step 5 Identify & Select ASHPs'!$E$50),$N$11*A30+$N$12,0))","v":0},{"$error":"#DIV/0!"},{"$f":"IF(G30>F30,0,F30-G30)/('Step 6 Control Strategy'!$B$16/100)","v":59649.122807017542},{"$error":"#DIV/0!"},{"$error":"#DIV/0!"},976821.37651821878,{"$error":"#DIV/0!"},{"$f":"F30/('Step 6 Control Strategy'!$B$16/100)","v":59649.122807017542},976821.37651821878]
[-13,-25,3.0000000000000001E-3,{"$f":"'Step 5 Identify & Select ASHPs'!$D$8*9/5*24*C31/(65-'Step 3 Design Loads'!$B$13)","v":7.0183384615384616},{"$error":"#DIV/0!"},60833.333333333336,{"$f":"IF(AND('Intro & Unit Options'!$B$12=\"Metric\",B31>'Step 5 Identify & Select ASHPs'!$E$50),$N$11*A31+$N$12,IF(AND('Intro & Unit Options'!$B$12=\"Imperial\",A31>'Step 5 Identify & Select ASHPs'!$E$50),$N$11*A31+$N$12,0))","v":0},{"$error":"#DIV/0!"},{"$f":"IF(G31>F31,0,F31-G31)/('Step 6 Control Strategy'!$B$16/100)","v":64035.087719298252},{"$error":"#DIV/0!"},{"$error":"#DIV/0!"},449419.91902834014,{"$error":"#DIV/0!"},{"$f":"F31/('Step 6 Control Strategy'!$B$16/100)","v":64035.087719298252},449419.91902834014]
[-18,-27.777777777777779,2E-3,{"$f":"'Step 5 Identify & Select ASHPs'!$D$8*9/5*24*C32/(65-'Step 3 Design Loads'!$B$13)","v":4.6788923076923075},{"$error":"#DIV/0!"},65000,{"$f":"IF(AND('Intro & Unit Options'!$B$12=\"Metric\",B32>'Step 5 Identify & Select ASHPs'!$E$50),$N$11*A32+$N$12,IF(AND('Intro & Unit Options'!$B$12=\"Imperial\",A32>'Step 5 Identify & Select ASHPs'!$E$50),$N$11*A32+$N$12,0))","v":0},{"$error":"#DIV/0!"},{"$f":"IF(G32>F32,0,F32-G32)/('Step 6 Control Strategy'!$B$16/100)","v":68421.052631578947},{"$error":"#DIV/0!"},{"$error":"#DIV/0!"},320134.73684210522,{"$error":"#DIV/0!"},{"$f":"F32/('Step 6 Control Strategy'!$B$16/100)","v":68421.052631578947},320134.73684210522]
[-23,-30.555555555555554,0,{"$f":"'Step 5 Identify & Select ASHPs'!$D$8*9/5*24*C33/(65-'Step 3 Design Loads'!$B$13)","v":0},{"$error":"#DIV/0!"},69166.666666666672,{"$f":"IF(AND('Intro & Unit Options'!$B$12=\"Metric\",B33>'Step 5 Identify & Select ASHPs'!$E$50),$N$11*A33+$N$12,IF(AND('Intro & Unit Options'!$B$12=\"Imperial\",A33>'Step 5 Identify & Select ASHPs'!$E$50),$N$11*A33+$N$12,0))","v":0},{"$error":"#DIV/0!"},{"$f":"IF(G33>F33,0,F33-G33)/('Step 6 Control Strategy'!$B$16/100)","v":72807.017543859663},{"$error":"#DIV/0!"},{"$error":"#DIV/0!"},0,{"$error":"#DIV/0!"},{"$f":"F33/('Step 6 Control Strategy'!$B$16/100)","v":72807.017543859663},0]
[null,null,null,null,null,null,null,null,"TOTAL YEAR (BTU)",{"$f":"SUM(K17:K33)","v":{"$error":"#DIV/0!"}},{"$f":"SUM(L17:L33)","v":55637775.546558701},{"$f":"SUM(M17:M33)","v":{"$error":"#DIV/0!"}},"TOTAL YEAR (BTU)",{"$f":"SUM(O17:O33)","v":55637775.546558701}]
[null,null,null,null,null,null,null,null,"TOTAL YEAR (kWh)",{"$f":"CONVERT(J34,\"BTU\",\"Wh\")/1000","v":{"$error":"#DIV/0!"}},{"$f":"CONVERT(K34,\"BTU\",\"Wh\")/1000","v":16305.822421431854},{"$f":"IF('Step 5 Identify & Select ASHPs'!D11<2,0,1)*CONVERT(L34,\"BTU\",\"Wh\")/1000","v":{"$error":"#DIV/0!"}},"TOTAL YEAR (kWh)",{"$f":"CONVERT(N34,\"BTU\",\"Wh\")/1000","v":16305.822421431854}]
[]
[]
[]
[]
[null,null,null,null,null,null,null,null,null,null,null,"Conversions"]
[null,null,null,null,null,null,null,null,null,null,null,"Natural Gas",10.36,"kWh/m3"]
["Utility Costs",null,null,null,null,null,"Scenario","HP Cost","Back-up cost","Total Costs",null,"Natural Gas",277.8,"kWh/GJ"]
["Back-up Cost",{"$f":"IF('Step 6 Control Strategy'!B15=\"Electricity\",B44,'Step 6 Control Strategy'!B20)","v":28},{"$f":"IF('Step 6 Control Strategy'!B15=\"Electricity\",C44,'Step 6 Control Strategy'!C20)","v":"cents/m3"},{"$f":"IF('Step 6 Control Strategy'!B15=\"Natural Gas\",B43/100/M41,IF('Step 6 Control Strategy'!B15=\"Propane\",B43/M43,IF('Step 6 Control Strategy'!B15=\"Oil\",B43/M44,IF('Step 6 Control Strategy'!B15=\"Electricity\",D44))))","v":2.7027027027027032E-2},"$/kWh",null,"HP + back-up",{"$f":"J35*D44","v":{"$error":"#DIV/0!"}},{"$f":"K35*D43","v":440.6979032819421},{"$f":"(H43+I43)*IF('Step 5 Identify & Select ASHPs'!D11<2,0,1)","v":{"$error":"#DIV/0!"}},null,"LPG (Propane)",7.03,"kWh/L"]
["Electricity Average Rate",{"$f":"IF('Step 6 Control Strategy'!B23=\"Time of Use\",('Step 6 Control Strategy'!B25*6+'Step 6 Control Strategy'!B26*6+'Step 6 Control Strategy'!B27*12)/24,\nIF('Step 6 Control Strategy'!B23=\"Single Rate\",'Step 6 Control Strategy'!B25,\nIF('Step 6 Control Strategy'!B23=\"Tiered\",'Step 6 Control Strategy'!B25,\"ERROR\")))","v":10.25},{"$f":"'Step 6 Control Strategy'!C25","v":"cents/kWh"},{"$f":"B44/100","v":0.10249999999999999},"$/kWh",null,"Back-up Only",0,{"$f":"N35*D43","v":440.6979032819421},{"$f":"H44+I44","v":440.6979032819421},null,"Heating Oil",10.61,"kWh/L"]
[]
[]
[]
[]
[]
[]
["HP GHG Emissions",null,null,"Back-up GHG Emissions"]
["Location","Electricity Emissions factors 2015 (gCO2e)",null,"Fuel type","Unit","gCO2e","gCO2e/kWh",null,"Scenario","HP Emissions","Back-up Emissions","Total Emissions"]
["AB",790,null,"Natural Gas","m^3",1903,{"$f":"F53/39/0.2777/('Step 6 Control Strategy'!B16/100)","v":184.95867101897846},null,"HP + back-up",{"$f":"VLOOKUP('Step 5 Identify & Select ASHPs'!F6,ProvEmissions,2,FALSE)*J35","v":{"$error":"#DIV/0!"}},{"$f":"VLOOKUP('Step 6 Control Strategy'!B15,FuelEmissions,4,FALSE)*K35","v":3152812.4434042694},{"$f":"SUM(J53:K53)*IF('Step 5 Identify & Select ASHPs'!D11<2,0,1)","v":{"$error":"#DIV/0!"}},"gCO2e"]
["BC",12.9,null,"Oil","L",2790,{"$f":"F54/10.72192/('Step 6 Control Strategy'!B16/100)","v":273.91009308623433},null,"Back-up Only",0,{"$f":"VLOOKUP('Step 6 Control Strategy'!B15,FuelEmissions,4,FALSE)*N35","v":3152812.4434042694},{"$f":"SUM(J54:K54)","v":3152812.4434042694},"gCO2e"]
["MB",3.4,null,"Propane","L",1544,{"$f":"F55/7.03/('Step 6 Control Strategy'!B16/100)","v":231.18963839185446}]
["NB",280,null,"Electricity","kWh",{"$f":"VLOOKUP('Step 5 Identify & Select ASHPs'!F6,A53:B65,2,FALSE)","v":40},{"$f":"F56","v":40}]
["NL",32]
["NS",600]
["NT",390]
["NU",750]
["ON",40]
["PE",20]
["QC",1.2]
["SK",660]
["YT",41]
["Canada",140]

{"sheet":"HP3 - Forecast calculations","index":33,"n_rows":66,"n_cols":15,"rows_kept":66,"cut":false,"hidden":true,"merged":[[39,11,39,13],[7,0,7,1],[7,5,7,6],[7,10,7,11],[8,1,9,1],[8,2,9,3],[8,7,9,8],[8,12,9,13],[13,0,13,1],[13,6,13,12],[13,13,13,14],[14,4,15,4]]}
[]
[]
[]
[]
[]
[]
[]
["COP calculations",null,null,null,null,"Load Calculations",null,null,null,null,"HP Heating Capacity Calculations"]
["Temperature","COP","y=mx+b",null,null,"Temperature","Load","y=mx+b",null,null,"Temperature","Capacity","y=mx+b"]
["F",null,null,null,null,"F","BTU/h",null,null,null,"F","BTU/h"]
[47,{"$f":"IF('Step 5 Identify & Select ASHPs'!$I$65,'HP3 Calcs'!I31,IF('Intro & Unit Options'!$B$12=Dropdown_Menus!F1,'HP3'!J12/'HP3'!J15,'HP3'!J12*0.00029307/'HP3'!J15))","v":{"$error":"#DIV/0!"}},"m",{"$f":"(B12-B11)/(A12-A11)","v":{"$error":"#DIV/0!"}},null,60,0,"m",{"$f":"(G12-G11)/(F12-F11)","v":-833.33333333333337},null,47,{"$f":"IF('Step 5 Identify & Select ASHPs'!$I$65,'HP3 Calcs'!G31,'HP3'!J12)","v":0},"m",{"$f":"(L12-L11)/(K12-K11)","v":0}]
[17,{"$f":"IF('Step 5 Identify & Select ASHPs'!$I$65,'HP3 Calcs'!I25,IF('Intro & Unit Options'!$B$12=Dropdown_Menus!F1,'HP3'!J13/'HP3'!J16,'HP3'!J13*0.00029307/'HP3'!J16))","v":{"$error":"#DIV/0!"}},"b",{"$f":"B11-D11*A11","v":{"$error":"#DIV/0!"}},null,{"$f":"'Step 3 Design Loads'!B13","v":0},{"$f":"IF('Intro & Unit Options'!B12=\"Metric\",'Step 3 Design Loads'!B12*3412.142,'Step 3 Design Loads'!B12)","v":50000},"b",{"$f":"G11-I11*F11","v":50000},null,17,{"$f":"IF('Step 5 Identify & Select ASHPs'!$I$65,'HP3 Calcs'!G25,'HP3'!J13)","v":0},"b",{"$f":"L11-N11*K11","v":0}]
[]
["Annual Forecast",null,null,null,null,null,"HP + Back-up",null,null,null,null,null,null,"Back-up only"]
["Temperature","Temperature","CSA Bin Fraction","Bin Hours","COP","Heating Requirements","Available HP Capacity","HP Required Power","Required Back-up Power","Total Required Power","HP Required Energy","Back-up Required Energy","Total required Energy","Required Back-up Power","Total required Energy"]
["F","C",{"$f":"ClimateZone","v":"Cold-Humid"},{"$f":"'Step 5 Identify & Select ASHPs'!E8","v":0},null,"BTU/h","BTU/h","BTU/h","BTU/h","BTU/h","BTU","BTU","BTU","BTU/h","BTU"]
[57,{"$f":"CONVERT(A17,\"F\",\"C\")","v":13.888888888888889},{"$f":"IF(ClimateZone=\"Cold-Dry\",VLOOKUP(A17,ColdDry,2,FALSE),\nIF(ClimateZone=\"Cold-Humid\",VLOOKUP(A17,ColdHumid,2,FALSE),\nIF(ClimateZone=\"Hot-Dry\",VLOOKUP(A17,HotDry,2,FALSE),\nIF(ClimateZone=\"Hot-Humid\",VLOOKUP(A17,HotHumid,2,FALSE),\nIF(ClimateZone=\"Marine\",VLOOKUP(A17,Marine,2,FALSE),\nIF(ClimateZone=\"Mixed-Humid\",VLOOKUP(A17,MixedHumid,2,FALSE),\nIF(ClimateZone=\"Subarctic\",VLOOKUP(A17,Subarctic,2,FALSE),\nIF(ClimateZone=\"Very-Cold\",VLOOKUP(A17,VeryCold,2,FALSE),\"ERROR\"))))))))","v":4.1000000000000002E-2},{"$f":"'Step 5 Identify & Select ASHPs'!$D$8*9/5*24*C17/(65-'Step 3 Design Loads'!$B$13)","v":95.917292307692321},{"$f":"$D$11*A17+$D$12","v":{"$error":"#DIV/0!"}},{"$f":"$I$11*A17+$I$12","v":2500},{"$f":"IF(AND('Intro & Unit Options'!$B$12=\"Metric\",B17>'Step 5 Identify & Select ASHPs'!$E$69),$N$11*A17+$N$12,IF(AND('Intro & Unit Options'!$B$12=\"Imperial\",A17>'Step 5 Identify & Select ASHPs'!$E$69),$N$11*A17+$N$12,0))","v":0},{"$f":"IF(F17>G17,G17/E17,F17/E17)","v":{"$error":"#DIV/0!"}},{"$f":"IF(G17>F17,0,F17-G17)/('Step 6 Control Strategy'!$B$16/100)","v":2631.5789473684213},{"$f":"H17+I17","v":{"$error":"#DIV/0!"}},{"$f":"H17*D17","v":{"$error":"#DIV/0!"}},{"$f":"I17*D17","v":252413.92712550613},{"$f":"J17*D17","v":{"$error":"#DIV/0!"}},{"$f":"F17/('Step 6 Control Strategy'!$B$16/100)","v":2631.5789473684213},{"$f":"N17*D17","v":252413.92712550613}]
[52,11.111111111111111,{"$f":"IF(ClimateZone=\"Cold-Dry\",VLOOKUP(A18,ColdDry,2,FALSE),\nIF(ClimateZone=\"Cold-Humid\",VLOOKUP(A18,ColdHumid,2,FALSE),\nIF(ClimateZone=\"Hot-Dry\",VLOOKUP(A18,HotDry,2,FALSE),\nIF(ClimateZone=\"Hot-Humid\",VLOOKUP(A18,HotHumid,2,FALSE),\nIF(ClimateZone=\"Marine\",VLOOKUP(A18,Marine,2,FALSE),\nIF(ClimateZone=\"Mixed-Humid\",VLOOKUP(A18,MixedHumid,2,FALSE),\nIF(ClimateZone=\"Subarctic\",VLOOKUP(A18,Subarctic,2,FALSE),\nIF(ClimateZone=\"Very-Cold\",VLOOKUP(A18,VeryCold,2,FALSE),\"ERROR\"))))))))","v":7.8E-2},{"$f":"'Step 5 Identify & Select ASHPs'!$D$8*9/5*24*C18/(65-'Step 3 Design Loads'!$B$13)","v":182.4768},{"$error":"#DIV/0!"},6666.6666666666642,{"$f":"IF(AND('Intro & Unit Options'!$B$12=\"Metric\",B18>'Step 5 Identify & Select ASHPs'!$E$69),$N$11*A18+$N$12,IF(AND('Intro & Unit Options'!$B$12=\"Imperial\",A18>'Step 5 Identify & Select ASHPs'!$E$69),$N$11*A18+$N$12,0))","v":0},{"$error":"#DIV/0!"},{"$f":"IF(G18>F18,0,F18-G18)/('Step 6 Control Strategy'!$B$16/100)","v":7017.5438596491203},{"$f":"H18+I18","v":{"$error":"#DIV/0!"}},{"$f":"H18*D18","v":{"$error":"#DIV/0!"}},{"$f":"I18*D18","v":1280538.9473684207},{"$f":"J18*D18","v":{"$error":"#DIV/0!"}},{"$f":"F18/('Step 6 Control Strategy'!$B$16/100)","v":7017.5438596491203},{"$f":"N18*D18","v":1280538.9473684207}]
[47,8.3333333333333339,0.114,{"$f":"'Step 5 Identify & Select ASHPs'!$D$8*9/5*24*C19/(65-'Step 3 Design Loads'!$B$13)","v":266.69686153846158},{"$error":"#DIV/0!"},10833.333333333328,{"$f":"IF(AND('Intro & Unit Options'!$B$12=\"Metric\",B19>'Step 5 Identify & Select ASHPs'!$E$69),$N$11*A19+$N$12,IF(AND('Intro & Unit Options'!$B$12=\"Imperial\",A19>'Step 5 Identify & Select ASHPs'!$E$69),$N$11*A19+$N$12,0))","v":0},{"$error":"#DIV/0!"},{"$f":"IF(G19>F19,0,F19-G19)/('Step 6 Control Strategy'!$B$16/100)","v":11403.508771929821},{"$error":"#DIV/0!"},{"$error":"#DIV/0!"},{"$f":"I19*D19","v":3041279.9999999995},{"$f":"J19*D19","v":{"$error":"#DIV/0!"}},{"$f":"F19/('Step 6 Control Strategy'!$B$16/100)","v":11403.508771929821},{"$f":"N19*D19","v":3041279.9999999995}]
[42,5.5555555555555554,0.104,{"$f":"'Step 5 Identify & Select ASHPs'!$D$8*9/5*24*C20/(65-'Step 3 Design Loads'!$B$13)","v":243.30239999999998},{"$error":"#DIV/0!"},15000,{"$f":"IF(AND('Intro & Unit Options'!$B$12=\"Metric\",B20>'Step 5 Identify & Select ASHPs'!$E$69),$N$11*A20+$N$12,IF(AND('Intro & Unit Options'!$B$12=\"Imperial\",A20>'Step 5 Identify & Select ASHPs'!$E$69),$N$11*A20+$N$12,0))","v":0},{"$error":"#DIV/0!"},{"$f":"IF(G20>F20,0,F20-G20)/('Step 6 Control Strategy'!$B$16/100)","v":15789.473684210527},{"$error":"#DIV/0!"},{"$error":"#DIV/0!"},3841616.8421052629,{"$error":"#DIV/0!"},{"$f":"F20/('Step 6 Control Strategy'!$B$16/100)","v":15789.473684210527},3841616.8421052629]
[37,2.7777777777777777,0.151,{"$f":"'Step 5 Identify & Select ASHPs'!$D$8*9/5*24*C21/(65-'Step 3 Design Loads'!$B$13)","v":353.25636923076922},{"$error":"#DIV/0!"},19166.666666666664,{"$f":"IF(AND('Intro & Unit Options'!$B$12=\"Metric\",B21>'Step 5 Identify & Select ASHPs'!$E$69),$N$11*A21+$N$12,IF(AND('Intro & Unit Options'!$B$12=\"Imperial\",A21>'Step 5 Identify & Select ASHPs'!$E$69),$N$11*A21+$N$12,0))","v":0},{"$error":"#DIV/0!"},{"$f":"IF(G21>F21,0,F21-G21)/('Step 6 Control Strategy'!$B$16/100)","v":20175.438596491225},{"$error":"#DIV/0!"},{"$error":"#DIV/0!"},7127102.1862348169,{"$error":"#DIV/0!"},{"$f":"F21/('Step 6 Control Strategy'!$B$16/100)","v":20175.438596491225},7127102.1862348169]
[32,0,0.15,{"$f":"'Step 5 Identify & Select ASHPs'!$D$8*9/5*24*C22/(65-'Step 3 Design Loads'!$B$13)","v":350.91692307692307},{"$error":"#DIV/0!"},23333.333333333332,{"$f":"IF(AND('Intro & Unit Options'!$B$12=\"Metric\",B22>'Step 5 Identify & Select ASHPs'!$E$69),$N$11*A22+$N$12,IF(AND('Intro & Unit Options'!$B$12=\"Imperial\",A22>'Step 5 Identify & Select ASHPs'!$E$69),$N$11*A22+$N$12,0))","v":0},{"$error":"#DIV/0!"},{"$f":"IF(G22>F22,0,F22-G22)/('Step 6 Control Strategy'!$B$16/100)","v":24561.403508771931},{"$error":"#DIV/0!"},{"$error":"#DIV/0!"},8619012.1457489878,{"$error":"#DIV/0!"},{"$f":"F22/('Step 6 Control Strategy'!$B$16/100)","v":24561.403508771931},8619012.1457489878]
[27,-2.7777777777777777,0.11600000000000001,{"$f":"'Step 5 Identify & Select ASHPs'!$D$8*9/5*24*C23/(65-'Step 3 Design Loads'!$B$13)","v":271.37575384615388},{"$error":"#DIV/0!"},27500,{"$f":"IF(AND('Intro & Unit Options'!$B$12=\"Metric\",B23>'Step 5 Identify & Select ASHPs'!$E$69),$N$11*A23+$N$12,IF(AND('Intro & Unit Options'!$B$12=\"Imperial\",A23>'Step 5 Identify & Select ASHPs'!$E$69),$N$11*A23+$N$12,0))","v":0},{"$f":"IF(F23>G23,G23/E23,F23/E23)","v":{"$error":"#DIV/0!"}},{"$f":"IF(G23>F23,0,F23-G23)/('Step 6 Control Strategy'!$B$16/100)","v":28947.368421052633},{"$error":"#DIV/0!"},{"$error":"#DIV/0!"},7855613.927125508,{"$error":"#DIV/0!"},{"$f":"F23/('Step 6 Control Strategy'!$B$16/100)","v":28947.368421052633},7855613.927125508]
[22,-5.5555555555555554,7.0999999999999994E-2,{"$f":"'Step 5 Identify & Select ASHPs'!$D$8*9/5*24*C24/(65-'Step 3 Design Loads'!$B$13)","v":166.10067692307692},{"$error":"#DIV/0!"},31666.666666666664,{"$f":"IF(AND('Intro & Unit Options'!$B$12=\"Metric\",B24>'Step 5 Identify & Select ASHPs'!$E$69),$N$11*A24+$N$12,IF(AND('Intro & Unit Options'!$B$12=\"Imperial\",A24>'Step 5 Identify & Select ASHPs'!$E$69),$N$11*A24+$N$12,0))","v":0},{"$error":"#DIV/0!"},{"$f":"IF(G24>F24,0,F24-G24)/('Step 6 Control Strategy'!$B$16/100)","v":33333.333333333336},{"$error":"#DIV/0!"},{"$error":"#DIV/0!"},5536689.230769231,{"$error":"#DIV/0!"},{"$f":"F24/('Step 6 Control Strategy'!$B$16/100)","v":33333.333333333336},5536689.230769231]
[17,-8.3333333333333339,6.2E-2,{"$f":"'Step 5 Identify & Select ASHPs'!$D$8*9/5*24*C25/(65-'Step 3 Design Loads'!$B$13)","v":145.04566153846156},{"$error":"#DIV/0!"},35833.333333333328,{"$f":"IF(AND('Intro & Unit Options'!$B$12=\"Metric\",B25>'Step 5 Identify & Select ASHPs'!$E$69),$N$11*A25+$N$12,IF(AND('Intro & Unit Options'!$B$12=\"Imperial\",A25>'Step 5 Identify & Select ASHPs'!$E$69),$N$11*A25+$N$12,0))","v":0},{"$error":"#DIV/0!"},{"$f":"IF(G25>F25,0,F25-G25)/('Step 6 Control Strategy'!$B$16/100)","v":37719.298245614031},{"$error":"#DIV/0!"},{"$error":"#DIV/0!"},5471020.5668016197,{"$error":"#DIV/0!"},{"$f":"F25/('Step 6 Control Strategy'!$B$16/100)","v":37719.298245614031},5471020.5668016197]
[12,-11.111111111111111,4.1000000000000002E-2,{"$f":"'Step 5 Identify & Select ASHPs'!$D$8*9/5*24*C26/(65-'Step 3 Design Loads'!$B$13)","v":95.917292307692321},{"$error":"#DIV/0!"},40000,{"$f":"IF(AND('Intro & Unit Options'!$B$12=\"Metric\",B26>'Step 5 Identify & Select ASHPs'!$E$69),$N$11*A26+$N$12,IF(AND('Intro & Unit Options'!$B$12=\"Imperial\",A26>'Step 5 Identify & Select ASHPs'!$E$69),$N$11*A26+$N$12,0))","v":0},{"$error":"#DIV/0!"},{"$f":"IF(G26>F26,0,F26-G26)/('Step 6 Control Strategy'!$B$16/100)","v":42105.26315789474},{"$error":"#DIV/0!"},{"$error":"#DIV/0!"},4038622.8340080981,{"$error":"#DIV/0!"},{"$f":"F26/('Step 6 Control Strategy'!$B$16/100)","v":42105.26315789474},4038622.8340080981]
[7,-13.888888888888889,2.9000000000000001E-2,{"$f":"'Step 5 Identify & Select ASHPs'!$D$8*9/5*24*C27/(65-'Step 3 Design Loads'!$B$13)","v":67.843938461538471},{"$error":"#DIV/0!"},44166.666666666664,{"$f":"IF(AND('Intro & Unit Options'!$B$12=\"Metric\",B27>'Step 5 Identify & Select ASHPs'!$E$69),$N$11*A27+$N$12,IF(AND('Intro & Unit Options'!$B$12=\"Imperial\",A27>'Step 5 Identify & Select ASHPs'!$E$69),$N$11*A27+$N$12,0))","v":0},{"$error":"#DIV/0!"},{"$f":"IF(G27>F27,0,F27-G27)/('Step 6 Control Strategy'!$B$16/100)","v":46491.228070175435},{"$error":"#DIV/0!"},{"$error":"#DIV/0!"},3154148.0161943324,{"$error":"#DIV/0!"},{"$f":"F27/('Step 6 Control Strategy'!$B$16/100)","v":46491.228070175435},3154148.0161943324]
[2,-16.666666666666668,0.02,{"$f":"'Step 5 Identify & Select ASHPs'!$D$8*9/5*24*C28/(65-'Step 3 Design Loads'!$B$13)","v":46.788923076923083},{"$error":"#DIV/0!"},48333.333333333336,{"$f":"IF(AND('Intro & Unit Options'!$B$12=\"Metric\",B28>'Step 5 Identify & Select ASHPs'!$E$69),$N$11*A28+$N$12,IF(AND('Intro & Unit Options'!$B$12=\"Imperial\",A28>'Step 5 Identify & Select ASHPs'!$E$69),$N$11*A28+$N$12,0))","v":0},{"$error":"#DIV/0!"},{"$f":"IF(G28>F28,0,F28-G28)/('Step 6 Control Strategy'!$B$16/100)","v":50877.192982456145},{"$error":"#DIV/0!"},{"$error":"#DIV/0!"},2380489.0688259113,{"$error":"#DIV/0!"},{"$f":"F28/('Step 6 Control Strategy'!$B$16/100)","v":50877.192982456145},2380489.0688259113]
[-3,-19.444444444444443,0.01,{"$f":"'Step 5 Identify & Select ASHPs'!$D$8*9/5*24*C29/(65-'Step 3 Design Loads'!$B$13)","v":23.394461538461542},{"$error":"#DIV/0!"},52500,{"$f":"IF(AND('Intro & Unit Options'!$B$12=\"Metric\",B29>'Step 5 Identify & Select ASHPs'!$E$69),$N$11*A29+$N$12,IF(AND('Intro & Unit Options'!$B$12=\"Imperial\",A29>'Step 5 Identify & Select ASHPs'!$E$69),$N$11*A29+$N$12,0))","v":0},{"$error":"#DIV/0!"},{"$f":"IF(G29>F29,0,F29-G29)/('Step 6 Control Strategy'!$B$16/100)","v":55263.157894736847},{"$error":"#DIV/0!"},{"$error":"#DIV/0!"},1292851.8218623486,{"$error":"#DIV/0!"},{"$f":"F29/('Step 6 Control Strategy'!$B$16/100)","v":55263.157894736847},1292851.8218623486]
[-8,-22.222222222222221,7.0000000000000001E-3,{"$f":"'Step 5 Identify & Select ASHPs'!$D$8*9/5*24*C30/(65-'Step 3 Design Loads'!$B$13)","v":16.376123076923079},{"$error":"#DIV/0!"},56666.666666666664,{"$f":"IF(AND('Intro & Unit Options'!$B$12=\"Metric\",B30>'Step 5 Identify & Select ASHPs'!$E$69),$N$11*A30+$N$12,IF(AND('Intro & Unit Options'!$B$12=\"Imperial\",A30>'Step 5 Identify & Select ASHPs'!$E$69),$N$11*A30+$N$12,0))","v":0},{"$error":"#DIV/0!"},{"$f":"IF(G30>F30,0,F30-G30)/('Step 6 Control Strategy'!$B$16/100)","v":59649.122807017542},{"$error":"#DIV/0!"},{"$error":"#DIV/0!"},976821.37651821878,{"$error":"#DIV/0!"},{"$f":"F30/('Step 6 Control Strategy'!$B$16/100)","v":59649.122807017542},976821.37651821878]
[-13,-25,3.0000000000000001E-3,{"$f":"'Step 5 Identify & Select ASHPs'!$D$8*9/5*24*C31/(65-'Step 3 Design Loads'!$B$13)","v":7.0183384615384616},{"$error":"#DIV/0!"},60833.333333333336,{"$f":"IF(AND('Intro & Unit Options'!$B$12=\"Metric\",B31>'Step 5 Identify & Select ASHPs'!$E$69),$N$11*A31+$N$12,IF(AND('Intro & Unit Options'!$B$12=\"Imperial\",A31>'Step 5 Identify & Select ASHPs'!$E$69),$N$11*A31+$N$12,0))","v":0},{"$error":"#DIV/0!"},{"$f":"IF(G31>F31,0,F31-G31)/('Step 6 Control Strategy'!$B$16/100)","v":64035.087719298252},{"$error":"#DIV/0!"},{"$error":"#DIV/0!"},449419.91902834014,{"$error":"#DIV/0!"},{"$f":"F31/('Step 6 Control Strategy'!$B$16/100)","v":64035.087719298252},449419.91902834014]
[-18,-27.777777777777779,2E-3,{"$f":"'Step 5 Identify & Select ASHPs'!$D$8*9/5*24*C32/(65-'Step 3 Design Loads'!$B$13)","v":4.6788923076923075},{"$error":"#DIV/0!"},65000,{"$f":"IF(AND('Intro & Unit Options'!$B$12=\"Metric\",B32>'Step 5 Identify & Select ASHPs'!$E$69),$N$11*A32+$N$12,IF(AND('Intro & Unit Options'!$B$12=\"Imperial\",A32>'Step 5 Identify & Select ASHPs'!$E$69),$N$11*A32+$N$12,0))","v":0},{"$error":"#DIV/0!"},{"$f":"IF(G32>F32,0,F32-G32)/('Step 6 Control Strategy'!$B$16/100)","v":68421.052631578947},{"$error":"#DIV/0!"},{"$error":"#DIV/0!"},320134.73684210522,{"$error":"#DIV/0!"},{"$f":"F32/('Step 6 Control Strategy'!$B$16/100)","v":68421.052631578947},320134.73684210522]
[-23,-30.555555555555554,0,{"$f":"'Step 5 Identify & Select ASHPs'!$D$8*9/5*24*C33/(65-'Step 3 Design Loads'!$B$13)","v":0},{"$error":"#DIV/0!"},69166.666666666672,{"$f":"IF(AND('Intro & Unit Options'!$B$12=\"Metric\",B33>'Step 5 Identify & Select ASHPs'!$E$69),$N$11*A33+$N$12,IF(AND('Intro & Unit Options'!$B$12=\"Imperial\",A33>'Step 5 Identify & Select ASHPs'!$E$69),$N$11*A33+$N$12,0))","v":0},{"$error":"#DIV/0!"},{"$f":"IF(G33>F33,0,F33-G33)/('Step 6 Control Strategy'!$B$16/100)","v":72807.017543859663},{"$error":"#DIV/0!"},{"$error":"#DIV/0!"},0,{"$error":"#DIV/0!"},{"$f":"F33/('Step 6 Control Strategy'!$B$16/100)","v":72807.017543859663},0]
[null,null,null,null,null,null,null,null,"TOTAL YEAR (BTU)",{"$f":"SUM(K17:K33)","v":{"$error":"#DIV/0!"}},{"$f":"SUM(L17:L33)","v":55637775.546558701},{"$f":"SUM(M17:M33)","v":{"$error":"#DIV/0!"}},"TOTAL YEAR (BTU)",{"$f":"SUM(O17:O33)","v":55637775.546558701}]
[null,null,null,null,null,null,null,null,"TOTAL YEAR (kWh)",{"$f":"CONVERT(J34,\"BTU\",\"Wh\")/1000","v":{"$error":"#DIV/0!"}},{"$f":"CONVERT(K34,\"BTU\",\"Wh\")/1000","v":16305.822421431854},{"$f":"IF('Step 5 Identify & Select ASHPs'!D11<3,0,1)*CONVERT(L34,\"BTU\",\"Wh\")/1000","v":{"$error":"#DIV/0!"}},"TOTAL YEAR (kWh)",{"$f":"CONVERT(N34,\"BTU\",\"Wh\")/1000","v":16305.822421431854}]
[]
[]
[]
[]
[null,null,null,null,null,null,null,null,null,null,null,"Conversions"]
[null,null,null,null,null,null,null,null,null,null,null,"Natural Gas",10.36,"kWh/m3"]
["Utility Costs",null,null,null,null,null,"Scenario","HP Cost","Back-up cost","Total Costs",null,"Natural Gas",277.8,"kWh/GJ"]
["Back-up Cost",{"$f":"IF('Step 6 Control Strategy'!B15=\"Electricity\",B44,'Step 6 Control Strategy'!B20)","v":28},{"$f":"IF('Step 6 Control Strategy'!B15=\"Electricity\",C44,'Step 6 Control Strategy'!C20)","v":"cents/m3"},{"$f":"IF('Step 6 Control Strategy'!B15=\"Natural Gas\",B43/100/M41,IF('Step 6 Control Strategy'!B15=\"Propane\",B43/M43,IF('Step 6 Control Strategy'!B15=\"Oil\",B43/M44,IF('Step 6 Control Strategy'!B15=\"Electricity\",D44))))","v":2.7027027027027032E-2},"$/kWh",null,"HP + back-up",{"$f":"J35*D44","v":{"$error":"#DIV/0!"}},{"$f":"K35*D43","v":440.6979032819421},{"$f":"(H43+I43)*IF('Step 5 Identify & Select ASHPs'!D11<3,0,1)","v":{"$error":"#DIV/0!"}},null,"LPG (Propane)",7.03,"kWh/L"]
["Electricity Average Rate",{"$f":"IF('Step 6 Control Strategy'!B23=\"Time of Use\",('Step 6 Control Strategy'!B25*6+'Step 6 Control Strategy'!B26*6+'Step 6 Control Strategy'!B27*12)/24,\nIF('Step 6 Control Strategy'!B23=\"Single Rate\",'Step 6 Control Strategy'!B25,\nIF('Step 6 Control Strategy'!B23=\"Tiered\",'Step 6 Control Strategy'!B25,\"ERROR\")))","v":10.25},{"$f":"'Step 6 Control Strategy'!C25","v":"cents/kWh"},{"$f":"B44/100","v":0.10249999999999999},"$/kWh",null,"Back-up Only",0,{"$f":"N35*D43","v":440.6979032819421},{"$f":"H44+I44","v":440.6979032819421},null,"Heating Oil",10.61,"kWh/L"]
[]
[]
[]
[]
[]
[]
["HP GHG Emissions",null,null,"Back-up GHG Emissions"]
["Location","Electricity Emissions factors 2015 (gCO2e)",null,"Fuel type","Unit","gCO2e","gCO2e/kWh",null,"Scenario","HP Emissions","Back-up Emissions","Total Emissions"]
["AB",790,null,"Natural Gas","m^3",1903,{"$f":"F53/39/0.2777/('Step 6 Control Strategy'!B16/100)","v":184.95867101897846},null,"HP + back-up",{"$f":"VLOOKUP('Step 5 Identify & Select ASHPs'!F6,ProvEmissions,2,FALSE)*J35","v":{"$error":"#DIV/0!"}},{"$f":"VLOOKUP('Step 6 Control Strategy'!B15,FuelEmissions,4,FALSE)*K35","v":3152812.4434042694},{"$f":"SUM(J53:K53)*IF('Step 5 Identify & Select ASHPs'!D11<3,0,1)","v":{"$error":"#DIV/0!"}},"gCO2e"]
["BC",12.9,null,"Oil","L",2790,{"$f":"F54/10.72192/('Step 6 Control Strategy'!B16/100)","v":273.91009308623433},null,"Back-up Only",0,{"$f":"VLOOKUP('Step 6 Control Strategy'!B15,FuelEmissions,4,FALSE)*N35","v":3152812.4434042694},{"$f":"SUM(J54:K54)","v":3152812.4434042694},"gCO2e"]
["MB",3.4,null,"Propane","L",1544,{"$f":"F55/7.03/('Step 6 Control Strategy'!B16/100)","v":231.18963839185446}]
["NB",280,null,"Electricity","kWh",{"$f":"VLOOKUP('Step 5 Identify & Select ASHPs'!F6,A53:B65,2,FALSE)","v":40},{"$f":"F56","v":40}]
["NL",32]
["NS",600]
["NT",390]
["NU",750]
["ON",40]
["PE",20]
["QC",1.2]
["SK",660]
["YT",41]
["Canada",140]

{"sheet":"HP4 - Forecast calculations","index":34,"n_rows":66,"n_cols":15,"rows_kept":66,"cut":false,"hidden":true,"merged":[[39,11,39,13],[7,0,7,1],[7,5,7,6],[7,10,7,11],[8,1,9,1],[8,2,9,3],[8,7,9,8],[8,12,9,13],[13,0,13,1],[13,6,13,12],[13,13,13,14],[14,4,15,4]]}
[]
[]
[]
[]
[]
[]
[]
["COP calculations",null,null,null,null,"Load Calculations",null,null,null,null,"HP Heating Capacity Calculations"]
["Temperature","COP","y=mx+b",null,null,"Temperature","Load","y=mx+b",null,null,"Temperature","Capacity","y=mx+b"]
["F",null,null,null,null,"F","BTU/h",null,null,null,"F","BTU/h"]
[47,{"$f":"IF('Step 5 Identify & Select ASHPs'!$I$84,'HP4 Calcs'!I31,IF('Intro & Unit Options'!$B$12=Dropdown_Menus!F1,'HP4'!J12/'HP4'!J15,'HP4'!J12*0.00029307/'HP4'!J15))","v":{"$error":"#DIV/0!"}},"m",{"$f":"(B12-B11)/(A12-A11)","v":{"$error":"#DIV/0!"}},null,60,0,"m",{"$f":"(G12-G11)/(F12-F11)","v":-833.33333333333337},null,47,{"$f":"IF('Step 5 Identify & Select ASHPs'!$I$84,'HP4 Calcs'!G31,'HP4'!J12)","v":0},"m",{"$f":"(L12-L11)/(K12-K11)","v":0}]
[17,{"$f":"IF('Step 5 Identify & Select ASHPs'!$I$84,'HP4 Calcs'!I25,IF('Intro & Unit Options'!$B$12=Dropdown_Menus!F1,'HP4'!J13/'HP4'!J16,'HP4'!J13*0.00029307/'HP4'!J16))","v":{"$error":"#DIV/0!"}},"b",{"$f":"B11-D11*A11","v":{"$error":"#DIV/0!"}},null,{"$f":"'Step 3 Design Loads'!B13","v":0},{"$f":"IF('Intro & Unit Options'!B12=\"Metric\",'Step 3 Design Loads'!B12*3412.142,'Step 3 Design Loads'!B12)","v":50000},"b",{"$f":"G11-I11*F11","v":50000},null,17,{"$f":"IF('Step 5 Identify & Select ASHPs'!$I$84,'HP4 Calcs'!G25,'HP4'!J13)","v":0},"b",{"$f":"L11-N11*K11","v":0}]
[]
["Annual Forecast",null,null,null,null,null,"HP + Back-up",null,null,null,null,null,null,"Back-up only"]
["Temperature","Temperature","CSA Bin Fraction","Bin Hours","COP","Heating Requirements","Available HP Capacity","HP Required Power","Required Back-up Power","Total Required Power","HP Required Energy","Back-up Required Energy","Total required Energy","Required Back-up Power","Total required Energy"]
["F","C",{"$f":"ClimateZone","v":"Cold-Humid"},{"$f":"'Step 5 Identify & Select ASHPs'!E8","v":0},null,"BTU/h","BTU/h","BTU/h","BTU/h","BTU/h","BTU","BTU","BTU","BTU/h","BTU"]
[57,{"$f":"CONVERT(A17,\"F\",\"C\")","v":13.888888888888889},{"$f":"IF(ClimateZone=\"Cold-Dry\",VLOOKUP(A17,ColdDry,2,FALSE),\nIF(ClimateZone=\"Cold-Humid\",VLOOKUP(A17,ColdHumid,2,FALSE),\nIF(ClimateZone=\"Hot-Dry\",VLOOKUP(A17,HotDry,2,FALSE),\nIF(ClimateZone=\"Hot-Humid\",VLOOKUP(A17,HotHumid,2,FALSE),\nIF(ClimateZone=\"Marine\",VLOOKUP(A17,Marine,2,FALSE),\nIF(ClimateZone=\"Mixed-Humid\",VLOOKUP(A17,MixedHumid,2,FALSE),\nIF(ClimateZone=\"Subarctic\",VLOOKUP(A17,Subarctic,2,FALSE),\nIF(ClimateZone=\"Very-Cold\",VLOOKUP(A17,VeryCold,2,FALSE),\"ERROR\"))))))))","v":4.1000000000000002E-2},{"$f":"'Step 5 Identify & Select ASHPs'!$D$8*9/5*24*C17/(65-'Step 3 Design Loads'!$B$13)","v":95.917292307692321},{"$f":"$D$11*A17+$D$12","v":{"$error":"#DIV/0!"}},{"$f":"$I$11*A17+$I$12","v":2500},{"$f":"IF(AND('Intro & Unit Options'!$B$12=\"Metric\",B17>'Step 5 Identify & Select ASHPs'!$E$88),$N$11*A17+$N$12,IF(AND('Intro & Unit Options'!$B$12=\"Imperial\",A17>'Step 5 Identify & Select ASHPs'!$E$88),$N$11*A17+$N$12,0))","v":0},{"$f":"IF(F17>G17,G17/E17,F17/E17)","v":{"$error":"#DIV/0!"}},{"$f":"IF(G17>F17,0,F17-G17)/('Step 6 Control Strategy'!$B$16/100)","v":2631.5789473684213},{"$f":"H17+I17","v":{"$error":"#DIV/0!"}},{"$f":"H17*D17","v":{"$error":"#DIV/0!"}},{"$f":"I17*D17","v":252413.92712550613},{"$f":"J17*D17","v":{"$error":"#DIV/0!"}},{"$f":"F17/('Step 6 Control Strategy'!$B$16/100)","v":2631.5789473684213},{"$f":"N17*D17","v":252413.92712550613}]
[52,11.111111111111111,{"$f":"IF(ClimateZone=\"Cold-Dry\",VLOOKUP(A18,ColdDry,2,FALSE),\nIF(ClimateZone=\"Cold-Humid\",VLOOKUP(A18,ColdHumid,2,FALSE),\nIF(ClimateZone=\"Hot-Dry\",VLOOKUP(A18,HotDry,2,FALSE),\nIF(ClimateZone=\"Hot-Humid\",VLOOKUP(A18,HotHumid,2,FALSE),\nIF(ClimateZone=\"Marine\",VLOOKUP(A18,Marine,2,FALSE),\nIF(ClimateZone=\"Mixed-Humid\",VLOOKUP(A18,MixedHumid,2,FALSE),\nIF(ClimateZone=\"Subarctic\",VLOOKUP(A18,Subarctic,2,FALSE),\nIF(ClimateZone=\"Very-Cold\",VLOOKUP(A18,VeryCold,2,FALSE),\"ERROR\"))))))))","v":7.8E-2},{"$f":"'Step 5 Identify & Select ASHPs'!$D$8*9/5*24*C18/(65-'Step 3 Design Loads'!$B$13)","v":182.4768},{"$error":"#DIV/0!"},6666.6666666666642,{"$f":"IF(AND('Intro & Unit Options'!$B$12=\"Metric\",B18>'Step 5 Identify & Select ASHPs'!$E$88),$N$11*A18+$N$12,IF(AND('Intro & Unit Options'!$B$12=\"Imperial\",A18>'Step 5 Identify & Select ASHPs'!$E$88),$N$11*A18+$N$12,0))","v":0},{"$error":"#DIV/0!"},{"$f":"IF(G18>F18,0,F18-G18)/('Step 6 Control Strategy'!$B$16/100)","v":7017.5438596491203},{"$f":"H18+I18","v":{"$error":"#DIV/0!"}},{"$f":"H18*D18","v":{"$error":"#DIV/0!"}},{"$f":"I18*D18","v":1280538.9473684207},{"$f":"J18*D18","v":{"$error":"#DIV/0!"}},{"$f":"F18/('Step 6 Control Strategy'!$B$16/100)","v":7017.5438596491203},{"$f":"N18*D18","v":1280538.9473684207}]
[47,8.3333333333333339,0.114,{"$f":"'Step 5 Identify & Select ASHPs'!$D$8*9/5*24*C19/(65-'Step 3 Design Loads'!$B$13)","v":266.69686153846158},{"$error":"#DIV/0!"},10833.333333333328,{"$f":"IF(AND('Intro & Unit Options'!$B$12=\"Metric\",B19>'Step 5 Identify & Select ASHPs'!$E$88),$N$11*A19+$N$12,IF(AND('Intro & Unit Options'!$B$12=\"Imperial\",A19>'Step 5 Identify & Select ASHPs'!$E$88),$N$11*A19+$N$12,0))","v":0},{"$error":"#DIV/0!"},{"$f":"IF(G19>F19,0,F19-G19)/('Step 6 Control Strategy'!$B$16/100)","v":11403.508771929821},{"$error":"#DIV/0!"},{"$error":"#DIV/0!"},{"$f":"I19*D19","v":3041279.9999999995},{"$f":"J19*D19","v":{"$error":"#DIV/0!"}},{"$f":"F19/('Step 6 Control Strategy'!$B$16/100)","v":11403.508771929821},{"$f":"N19*D19","v":3041279.9999999995}]
[42,5.5555555555555554,0.104,{"$f":"'Step 5 Identify & Select ASHPs'!$D$8*9/5*24*C20/(65-'Step 3 Design Loads'!$B$13)","v":243.30239999999998},{"$error":"#DIV/0!"},15000,{"$f":"IF(AND('Intro & Unit Options'!$B$12=\"Metric\",B20>'Step 5 Identify & Select ASHPs'!$E$88),$N$11*A20+$N$12,IF(AND('Intro & Unit Options'!$B$12=\"Imperial\",A20>'Step 5 Identify & Select ASHPs'!$E$88),$N$11*A20+$N$12,0))","v":0},{"$error":"#DIV/0!"},{"$f":"IF(G20>F20,0,F20-G20)/('Step 6 Control Strategy'!$B$16/100)","v":15789.473684210527},{"$error":"#DIV/0!"},{"$error":"#DIV/0!"},3841616.8421052629,{"$error":"#DIV/0!"},{"$f":"F20/('Step 6 Control Strategy'!$B$16/100)","v":15789.473684210527},3841616.8421052629]
[37,2.7777777777777777,0.151,{"$f":"'Step 5 Identify & Select ASHPs'!$D$8*9/5*24*C21/(65-'Step 3 Design Loads'!$B$13)","v":353.25636923076922},{"$error":"#DIV/0!"},19166.666666666664,{"$f":"IF(AND('Intro & Unit Options'!$B$12=\"Metric\",B21>'Step 5 Identify & Select ASHPs'!$E$88),$N$11*A21+$N$12,IF(AND('Intro & Unit Options'!$B$12=\"Imperial\",A21>'Step 5 Identify & Select ASHPs'!$E$88),$N$11*A21+$N$12,0))","v":0},{"$error":"#DIV/0!"},{"$f":"IF(G21>F21,0,F21-G21)/('Step 6 Control Strategy'!$B$16/100)","v":20175.438596491225},{"$error":"#DIV/0!"},{"$error":"#DIV/0!"},7127102.1862348169,{"$error":"#DIV/0!"},{"$f":"F21/('Step 6 Control Strategy'!$B$16/100)","v":20175.438596491225},7127102.1862348169]
[32,0,0.15,{"$f":"'Step 5 Identify & Select ASHPs'!$D$8*9/5*24*C22/(65-'Step 3 Design Loads'!$B$13)","v":350.91692307692307},{"$error":"#DIV/0!"},23333.333333333332,{"$f":"IF(AND('Intro & Unit Options'!$B$12=\"Metric\",B22>'Step 5 Identify & Select ASHPs'!$E$88),$N$11*A22+$N$12,IF(AND('Intro & Unit Options'!$B$12=\"Imperial\",A22>'Step 5 Identify & Select ASHPs'!$E$88),$N$11*A22+$N$12,0))","v":0},{"$error":"#DIV/0!"},{"$f":"IF(G22>F22,0,F22-G22)/('Step 6 Control Strategy'!$B$16/100)","v":24561.403508771931},{"$error":"#DIV/0!"},{"$error":"#DIV/0!"},8619012.1457489878,{"$error":"#DIV/0!"},{"$f":"F22/('Step 6 Control Strategy'!$B$16/100)","v":24561.403508771931},8619012.1457489878]
[27,-2.7777777777777777,0.11600000000000001,{"$f":"'Step 5 Identify & Select ASHPs'!$D$8*9/5*24*C23/(65-'Step 3 Design Loads'!$B$13)","v":271.37575384615388},{"$error":"#DIV/0!"},27500,{"$f":"IF(AND('Intro & Unit Options'!$B$12=\"Metric\",B23>'Step 5 Identify & Select ASHPs'!$E$88),$N$11*A23+$N$12,IF(AND('Intro & Unit Options'!$B$12=\"Imperial\",A23>'Step 5 Identify & Select ASHPs'!$E$88),$N$11*A23+$N$12,0))","v":0},{"$f":"IF(F23>G23,G23/E23,F23/E23)","v":{"$error":"#DIV/0!"}},{"$f":"IF(G23>F23,0,F23-G23)/('Step 6 Control Strategy'!$B$16/100)","v":28947.368421052633},{"$error":"#DIV/0!"},{"$error":"#DIV/0!"},7855613.927125508,{"$error":"#DIV/0!"},{"$f":"F23/('Step 6 Control Strategy'!$B$16/100)","v":28947.368421052633},7855613.927125508]
[22,-5.5555555555555554,7.0999999999999994E-2,{"$f":"'Step 5 Identify & Select ASHPs'!$D$8*9/5*24*C24/(65-'Step 3 Design Loads'!$B$13)","v":166.10067692307692},{"$error":"#DIV/0!"},31666.666666666664,{"$f":"IF(AND('Intro & Unit Options'!$B$12=\"Metric\",B24>'Step 5 Identify & Select ASHPs'!$E$88),$N$11*A24+$N$12,IF(AND('Intro & Unit Options'!$B$12=\"Imperial\",A24>'Step 5 Identify & Select ASHPs'!$E$88),$N$11*A24+$N$12,0))","v":0},{"$error":"#DIV/0!"},{"$f":"IF(G24>F24,0,F24-G24)/('Step 6 Control Strategy'!$B$16/100)","v":33333.333333333336},{"$error":"#DIV/0!"},{"$error":"#DIV/0!"},5536689.230769231,{"$error":"#DIV/0!"},{"$f":"F24/('Step 6 Control Strategy'!$B$16/100)","v":33333.333333333336},5536689.230769231]
[17,-8.3333333333333339,6.2E-2,{"$f":"'Step 5 Identify & Select ASHPs'!$D$8*9/5*24*C25/(65-'Step 3 Design Loads'!$B$13)","v":145.04566153846156},{"$error":"#DIV/0!"},35833.333333333328,{"$f":"IF(AND('Intro & Unit Options'!$B$12=\"Metric\",B25>'Step 5 Identify & Select ASHPs'!$E$88),$N$11*A25+$N$12,IF(AND('Intro & Unit Options'!$B$12=\"Imperial\",A25>'Step 5 Identify & Select ASHPs'!$E$88),$N$11*A25+$N$12,0))","v":0},{"$error":"#DIV/0!"},{"$f":"IF(G25>F25,0,F25-G25)/('Step 6 Control Strategy'!$B$16/100)","v":37719.298245614031},{"$error":"#DIV/0!"},{"$error":"#DIV/0!"},5471020.5668016197,{"$error":"#DIV/0!"},{"$f":"F25/('Step 6 Control Strategy'!$B$16/100)","v":37719.298245614031},5471020.5668016197]
[12,-11.111111111111111,4.1000000000000002E-2,{"$f":"'Step 5 Identify & Select ASHPs'!$D$8*9/5*24*C26/(65-'Step 3 Design Loads'!$B$13)","v":95.917292307692321},{"$error":"#DIV/0!"},40000,{"$f":"IF(AND('Intro & Unit Options'!$B$12=\"Metric\",B26>'Step 5 Identify & Select ASHPs'!$E$88),$N$11*A26+$N$12,IF(AND('Intro & Unit Options'!$B$12=\"Imperial\",A26>'Step 5 Identify & Select ASHPs'!$E$88),$N$11*A26+$N$12,0))","v":0},{"$error":"#DIV/0!"},{"$f":"IF(G26>F26,0,F26-G26)/('Step 6 Control Strategy'!$B$16/100)","v":42105.26315789474},{"$error":"#DIV/0!"},{"$error":"#DIV/0!"},4038622.8340080981,{"$error":"#DIV/0!"},{"$f":"F26/('Step 6 Control Strategy'!$B$16/100)","v":42105.26315789474},4038622.8340080981]
[7,-13.888888888888889,2.9000000000000001E-2,{"$f":"'Step 5 Identify & Select ASHPs'!$D$8*9/5*24*C27/(65-'Step 3 Design Loads'!$B$13)","v":67.843938461538471},{"$error":"#DIV/0!"},44166.666666666664,{"$f":"IF(AND('Intro & Unit Options'!$B$12=\"Metric\",B27>'Step 5 Identify & Select ASHPs'!$E$88),$N$11*A27+$N$12,IF(AND('Intro & Unit Options'!$B$12=\"Imperial\",A27>'Step 5 Identify & Select ASHPs'!$E$88),$N$11*A27+$N$12,0))","v":0},{"$error":"#DIV/0!"},{"$f":"IF(G27>F27,0,F27-G27)/('Step 6 Control Strategy'!$B$16/100)","v":46491.228070175435},{"$error":"#DIV/0!"},{"$error":"#DIV/0!"},3154148.0161943324,{"$error":"#DIV/0!"},{"$f":"F27/('Step 6 Control Strategy'!$B$16/100)","v":46491.228070175435},3154148.0161943324]
[2,-16.666666666666668,0.02,{"$f":"'Step 5 Identify & Select ASHPs'!$D$8*9/5*24*C28/(65-'Step 3 Design Loads'!$B$13)","v":46.788923076923083},{"$error":"#DIV/0!"},48333.333333333336,{"$f":"IF(AND('Intro & Unit Options'!$B$12=\"Metric\",B28>'Step 5 Identify & Select ASHPs'!$E$88),$N$11*A28+$N$12,IF(AND('Intro & Unit Options'!$B$12=\"Imperial\",A28>'Step 5 Identify & Select ASHPs'!$E$88),$N$11*A28+$N$12,0))","v":0},{"$error":"#DIV/0!"},{"$f":"IF(G28>F28,0,F28-G28)/('Step 6 Control Strategy'!$B$16/100)","v":50877.192982456145},{"$error":"#DIV/0!"},{"$error":"#DIV/0!"},2380489.0688259113,{"$error":"#DIV/0!"},{"$f":"F28/('Step 6 Control Strategy'!$B$16/100)","v":50877.192982456145},2380489.0688259113]
[-3,-19.444444444444443,0.01,{"$f":"'Step 5 Identify & Select ASHPs'!$D$8*9/5*24*C29/(65-'Step 3 Design Loads'!$B$13)","v":23.394461538461542},{"$error":"#DIV/0!"},52500,{"$f":"IF(AND('Intro & Unit Options'!$B$12=\"Metric\",B29>'Step 5 Identify & Select ASHPs'!$E$88),$N$11*A29+$N$12,IF(AND('Intro & Unit Options'!$B$12=\"Imperial\",A29>'Step 5 Identify & Select ASHPs'!$E$88),$N$11*A29+$N$12,0))","v":0},{"$error":"#DIV/0!"},{"$f":"IF(G29>F29,0,F29-G29)/('Step 6 Control Strategy'!$B$16/100)","v":55263.157894736847},{"$error":"#DIV/0!"},{"$error":"#DIV/0!"},1292851.8218623486,{"$error":"#DIV/0!"},{"$f":"F29/('Step 6 Control Strategy'!$B$16/100)","v":55263.157894736847},1292851.8218623486]
[-8,-22.222222222222221,7.0000000000000001E-3,{"$f":"'Step 5 Identify & Select ASHPs'!$D$8*9/5*24*C30/(65-'Step 3 Design Loads'!$B$13)","v":16.376123076923079},{"$error":"#DIV/0!"},56666.666666666664,{"$f":"IF(AND('Intro & Unit Options'!$B$12=\"Metric\",B30>'Step 5 Identify & Select ASHPs'!$E$88),$N$11*A30+$N$12,IF(AND('Intro & Unit Options'!$B$12=\"Imperial\",A30>'Step 5 Identify & Select ASHPs'!$E$88),$N$11*A30+$N$12,0))","v":0},{"$error":"#DIV/0!"},{"$f":"IF(G30>F30,0,F30-G30)/('Step 6 Control Strategy'!$B$16/100)","v":59649.122807017542},{"$error":"#DIV/0!"},{"$error":"#DIV/0!"},976821.37651821878,{"$error":"#DIV/0!"},{"$f":"F30/('Step 6 Control Strategy'!$B$16/100)","v":59649.122807017542},976821.37651821878]
[-13,-25,3.0000000000000001E-3,{"$f":"'Step 5 Identify & Select ASHPs'!$D$8*9/5*24*C31/(65-'Step 3 Design Loads'!$B$13)","v":7.0183384615384616},{"$error":"#DIV/0!"},60833.333333333336,{"$f":"IF(AND('Intro & Unit Options'!$B$12=\"Metric\",B31>'Step 5 Identify & Select ASHPs'!$E$88),$N$11*A31+$N$12,IF(AND('Intro & Unit Options'!$B$12=\"Imperial\",A31>'Step 5 Identify & Select ASHPs'!$E$88),$N$11*A31+$N$12,0))","v":0},{"$error":"#DIV/0!"},{"$f":"IF(G31>F31,0,F31-G31)/('Step 6 Control Strategy'!$B$16/100)","v":64035.087719298252},{"$error":"#DIV/0!"},{"$error":"#DIV/0!"},449419.91902834014,{"$error":"#DIV/0!"},{"$f":"F31/('Step 6 Control Strategy'!$B$16/100)","v":64035.087719298252},449419.91902834014]
[-18,-27.777777777777779,2E-3,{"$f":"'Step 5 Identify & Select ASHPs'!$D$8*9/5*24*C32/(65-'Step 3 Design Loads'!$B$13)","v":4.6788923076923075},{"$error":"#DIV/0!"},65000,{"$f":"IF(AND('Intro & Unit Options'!$B$12=\"Metric\",B32>'Step 5 Identify & Select ASHPs'!$E$88),$N$11*A32+$N$12,IF(AND('Intro & Unit Options'!$B$12=\"Imperial\",A32>'Step 5 Identify & Select ASHPs'!$E$88),$N$11*A32+$N$12,0))","v":0},{"$error":"#DIV/0!"},{"$f":"IF(G32>F32,0,F32-G32)/('Step 6 Control Strategy'!$B$16/100)","v":68421.052631578947},{"$error":"#DIV/0!"},{"$error":"#DIV/0!"},320134.73684210522,{"$error":"#DIV/0!"},{"$f":"F32/('Step 6 Control Strategy'!$B$16/100)","v":68421.052631578947},320134.73684210522]
[-23,-30.555555555555554,0,{"$f":"'Step 5 Identify & Select ASHPs'!$D$8*9/5*24*C33/(65-'Step 3 Design Loads'!$B$13)","v":0},{"$error":"#DIV/0!"},69166.666666666672,{"$f":"IF(AND('Intro & Unit Options'!$B$12=\"Metric\",B33>'Step 5 Identify & Select ASHPs'!$E$88),$N$11*A33+$N$12,IF(AND('Intro & Unit Options'!$B$12=\"Imperial\",A33>'Step 5 Identify & Select ASHPs'!$E$88),$N$11*A33+$N$12,0))","v":0},{"$error":"#DIV/0!"},{"$f":"IF(G33>F33,0,F33-G33)/('Step 6 Control Strategy'!$B$16/100)","v":72807.017543859663},{"$error":"#DIV/0!"},{"$error":"#DIV/0!"},0,{"$error":"#DIV/0!"},{"$f":"F33/('Step 6 Control Strategy'!$B$16/100)","v":72807.017543859663},0]
[null,null,null,null,null,null,null,null,"TOTAL YEAR (BTU)",{"$f":"SUM(K17:K33)","v":{"$error":"#DIV/0!"}},{"$f":"SUM(L17:L33)","v":55637775.546558701},{"$f":"SUM(M17:M33)","v":{"$error":"#DIV/0!"}},"TOTAL YEAR (BTU)",{"$f":"SUM(O17:O33)","v":55637775.546558701}]
[null,null,null,null,null,null,null,null,"TOTAL YEAR (kWh)",{"$f":"CONVERT(J34,\"BTU\",\"Wh\")/1000","v":{"$error":"#DIV/0!"}},{"$f":"CONVERT(K34,\"BTU\",\"Wh\")/1000","v":16305.822421431854},{"$f":"IF('Step 5 Identify & Select ASHPs'!D11<4,0,1)*CONVERT(L34,\"BTU\",\"Wh\")/1000","v":{"$error":"#DIV/0!"}},"TOTAL YEAR (kWh)",{"$f":"CONVERT(N34,\"BTU\",\"Wh\")/1000","v":16305.822421431854}]
[]
[]
[]
[]
[null,null,null,null,null,null,null,null,null,null,null,"Conversions"]
[null,null,null,null,null,null,null,null,null,null,null,"Natural Gas",10.36,"kWh/m3"]
["Utility Costs",null,null,null,null,null,"Scenario","HP Cost","Back-up cost","Total Costs",null,"Natural Gas",277.8,"kWh/GJ"]
["Back-up Cost",{"$f":"IF('Step 6 Control Strategy'!B15=\"Electricity\",B44,'Step 6 Control Strategy'!B20)","v":28},{"$f":"IF('Step 6 Control Strategy'!B15=\"Electricity\",C44,'Step 6 Control Strategy'!C20)","v":"cents/m3"},{"$f":"IF('Step 6 Control Strategy'!B15=\"Natural Gas\",B43/100/M41,IF('Step 6 Control Strategy'!B15=\"Propane\",B43/M43,IF('Step 6 Control Strategy'!B15=\"Oil\",B43/M44,IF('Step 6 Control Strategy'!B15=\"Electricity\",D44))))","v":2.7027027027027032E-2},"$/kWh",null,"HP + back-up",{"$f":"J35*D44","v":{"$error":"#DIV/0!"}},{"$f":"K35*D43","v":440.6979032819421},{"$f":"(H43+I43)*IF('Step 5 Identify & Select ASHPs'!D11<4,0,1)","v":{"$error":"#DIV/0!"}},null,"LPG (Propane)",7.03,"kWh/L"]
["Electricity Average Rate",{"$f":"IF('Step 6 Control Strategy'!B23=\"Time of Use\",('Step 6 Control Strategy'!B25*6+'Step 6 Control Strategy'!B26*6+'Step 6 Control Strategy'!B27*12)/24,\nIF('Step 6 Control Strategy'!B23=\"Single Rate\",'Step 6 Control Strategy'!B25,\nIF('Step 6 Control Strategy'!B23=\"Tiered\",'Step 6 Control Strategy'!B25,\"ERROR\")))","v":10.25},{"$f":"'Step 6 Control Strategy'!C25","v":"cents/kWh"},{"$f":"B44/100","v":0.10249999999999999},"$/kWh",null,"Back-up Only",0,{"$f":"N35*D43","v":440.6979032819421},{"$f":"H44+I44","v":440.6979032819421},null,"Heating Oil",10.61,"kWh/L"]
[]
[]
[]
[]
[]
[]
["HP GHG Emissions",null,null,"Back-up GHG Emissions"]
["Location","Electricity Emissions factors 2015 (gCO2e)",null,"Fuel type","Unit","gCO2e","gCO2e/kWh",null,"Scenario","HP Emissions","Back-up Emissions","Total Emissions"]
["AB",790,null,"Natural Gas","m^3",1903,{"$f":"F53/39/0.2777/('Step 6 Control Strategy'!B16/100)","v":184.95867101897846},null,"HP + back-up",{"$f":"VLOOKUP('Step 5 Identify & Select ASHPs'!F6,ProvEmissions,2,FALSE)*J35","v":{"$error":"#DIV/0!"}},{"$f":"VLOOKUP('Step 6 Control Strategy'!B15,FuelEmissions,4,FALSE)*K35","v":3152812.4434042694},{"$f":"SUM(J53:K53)*IF('Step 5 Identify & Select ASHPs'!D11<4,0,1)","v":{"$error":"#DIV/0!"}},"gCO2e"]
["BC",12.9,null,"Oil","L",2790,{"$f":"F54/10.72192/('Step 6 Control Strategy'!B16/100)","v":273.91009308623433},null,"Back-up Only",0,{"$f":"VLOOKUP('Step 6 Control Strategy'!B15,FuelEmissions,4,FALSE)*N35","v":3152812.4434042694},{"$f":"SUM(J54:K54)","v":3152812.4434042694},"gCO2e"]
["MB",3.4,null,"Propane","L",1544,{"$f":"F55/7.03/('Step 6 Control Strategy'!B16/100)","v":231.18963839185446}]
["NB",280,null,"Electricity","kWh",{"$f":"VLOOKUP('Step 5 Identify & Select ASHPs'!F6,A53:B65,2,FALSE)","v":40},{"$f":"F56","v":40}]
["NL",32]
["NS",600]
["NT",390]
["NU",750]
["ON",40]
["PE",20]
["QC",1.2]
["SK",660]
["YT",41]
["Canada",140]

{"sheet":"Dropdown_Menus","index":35,"n_rows":38,"n_cols":25,"rows_kept":38,"cut":false,"hidden":true,"merged":[]}
["Centrally_Ducted","Single_Split_Ductless","Multi-split_Ductless","Ducted_Mini-split",null,"Metric",null,null,null,null,null,null,null,null,null,null,null,null,"DO NOT TOUCH THESE CELLS"]
["Single Speed","Regular Variable","Regular Variable","Cold Climate Variable",null,{"$f":"IF('Intro & Unit Options'!$B$12=F1,\"kW\",\"BTU/h\")","v":"BTU/h"},null,null,null,null,null,null,null,null,null,null,null,null,null,"Natural Gas"]
["Two-Stage","Cold Climate Variable","Cold Climate Variable",null,null,{"$f":"IF('Intro & Unit Options'!$B$12=F1,\"C\",\"F\")","v":"F"},null,null,null,null,null,null,null,null,null,null,null,null,null,"Oil"]
["Variable",null,null,null,null,{"$f":"IF('Intro & Unit Options'!B12=Dropdown_Menus!F1,CONVERT(47,\"F\",\"C\"),47)","v":47},null,null,null,null,null,null,null,null,null,null,null,null,null,"Propane"]
[null,null,null,null,null,null,null,null,null,null,null,null,null,null,null,null,null,null,null,"Electricity"]
[null,null,null,null,null,null,null,null,null,null,null,null,null,null,null,null,null,null,null,{"$f":"IF('Step 4 Sizing Approach'!$B$6='Step 4 Sizing Approach'!$T$5,\"Option C: No Backup Heating Required\",IF('Step 3 Design Loads'!B13<'Control Strategy Calcs'!H4,\"Option A1: ASHP Cut-Off Temperature\",IF('Step 3 Design Loads'!B13>='Control Strategy Calcs'!H4,\"Option B1: ASHP Cut-Off Temperature\",\"\")))","v":"Option B1: ASHP Cut-Off Temperature"},null,"Option C: No Backup Heating Required"]
[null,null,null,null,null,null,null,null,null,null,null,null,null,null,null,null,null,null,null,{"$f":"IF('Step 4 Sizing Approach'!B6='Step 4 Sizing Approach'!$T$5,\"\",IF('Step 3 Design Loads'!B13<'Control Strategy Calcs'!H4,\"Option A2: Economic Cut-Off Temperature\",IF('Step 3 Design Loads'!B13>='Control Strategy Calcs'!H4,\"Option B2: Economic Cut-Off Temperature\",\"\")))","v":"Option B2: Economic Cut-Off Temperature"},null,"Option A1: ASHP Cut-Off Temperature"]
[null,null,null,null,null,null,null,null,null,null,null,null,null,null,null,null,null,null,null,null,null,"Option B1: ASHP Cut-Off Temperature"]
[]
[null,null,null,null,null,null,null,null,null,null,null,null,null,null,null,null,null,null,null,null,null,"Option A2: Economic Cut-Off Temperature"]
[null,null,null,null,null,null,null,null,null,null,null,null,null,null,null,null,null,null,null,null,null,"Option B2: Economic Cut-Off Temperature"]
[null,null,null,null,null,null,null,null,null,null,null,null,null,null,null,null,null,null,null,"Single Rate"]
[null,null,null,null,null,null,null,null,null,null,null,null,null,null,null,null,null,null,null,"Tiered"]
[null,null,null,null,null,null,null,null,null,null,null,null,null,null,null,null,null,null,null,"Time of Use"]
[]
[null,null,null,null,null,null,null,null,null,null,null,null,null,null,null,null,null,null,null,{"$f":"IF('Step 6 Control Strategy'!B19=T2,\"cents/m3\",IF(OR('Step 6 Control Strategy'!B19=T3,'Step 6 Control Strategy'!B19=T4),\"$/L\",\"\"))","v":"cents/m3"}]
[null,null,null,null,null,null,null,null,null,null,null,null,null,null,null,null,null,null,null,{"$f":"IF('Step 6 Control Strategy'!B19=T2,\"$/GJ\",\"\")","v":"$/GJ"}]
[]
[]
[null,null,null,null,null,null,null,null,null,null,null,null,null,null,null,null,null,null,null,"HP#1"]
[null,null,null,null,null,null,null,null,null,null,null,null,null,null,null,null,null,null,null,{"$f":"IF(('Step 5 Identify & Select ASHPs'!D11>=2),\"HP#2\",\"\")","v":"HP#2"}]
[null,null,null,null,null,null,null,null,null,null,null,null,null,null,null,null,null,null,null,{"$f":"IF(('Step 5 Identify & Select ASHPs'!D11>=3),\"HP#3\",\"\")","v":"HP#3"}]
[null,null,null,null,null,null,null,null,null,null,null,null,null,null,null,null,null,null,null,{"$f":"IF(('Step 5 Identify & Select ASHPs'!D11>=4),\"HP#4\",\"\")","v":"HP#4"}]
[]
[]
[]
[]
[]
[]
[]
[null,null,null,null,null,null,null,null,null,null,null,null,null,null,null,null,null,null,null,null,null,null,null,"X-axis","Y-axis"]
[null,null,null,null,null,null,null,null,null,null,null,null,null,null,null,null,null,null,null,null,null,null,"Max",{"$f":"IF('Intro & Unit Options'!B12=\"Metric\",(60-32)*5/9,60)","v":60},{"$f":"CEILING(MAX('Step 3 Design Loads'!B12,_xlfn.AGGREGATE(4,6,'Control Strategy Calcs'!B2:B22)),IF('Intro & Unit Options'!$B$12=Dropdown_Menus!$F$1,2,10000))","v":50000}]
[null,null,null,null,null,null,null,null,null,null,null,null,null,null,null,null,null,null,null,null,null,null,"Min",{"$f":"'Design Load Calcs'!O6","v":-10},0]
[null,null,null,null,null,null,null,null,null,null,null,null,null,null,null,null,null,null,null,null,null,null,"MajorUnit",10,{"$f":"IF('Intro & Unit Options'!$B$12=Dropdown_Menus!$F$1,2,10000)","v":10000}]
[]
[]
[]
[null,null,null,null,null,null,null,null,null,null,null,null,null,null,null,null,null,null,null,"Chart title",{"$f":"\"Backup Fuel Type = \"&'Step 6 Control Strategy'!B19&\", System Efficiency =\"&'Step 6 Control Strategy'!B16&'Step 6 Control Strategy'!C16","v":"Backup Fuel Type = Natural Gas, System Efficiency =95%"}]